{"text_format":"1","workbook":"xlsx","n_sheets":11,"sheets":["Capa","Mapa","Despesas","Financiamento","Postos Trabalho","Criterios_Selecao_Autoaval","SIT ECO-FIN E FONTES FINANCIAM","Balanço da empresa","D. Result da empresa","Metas","Folha2"],"not_rendered":{"charts":0,"images":20,"macros":0,"external_links":1,"defined_names":67,"comments":0,"pivot_tables":0},"unopened":[],"bounds":{"document_bytes":16777216,"sheet_cells":100000,"rows_first":2000,"rows_last":500,"rows_between":2000,"halvings":0,"cell_chars":16384,"cell_head_chars":4096},"cells_cut":0,"cells_raw":0,"read":"whole","date_system":"1900"}

{"sheet":"Capa","index":0,"n_rows":16,"n_cols":16,"rows_kept":16,"cut":false,"hidden":false,"merged":[[8,2,8,17],[11,2,11,5],[0,17,0,19]]}
[]
[]
[]
[]
[]
[]
[null,null,"BENEFICIÁRIO:"]
[]
[]
[]
[null,null,"NIF:"]
[]
[]
[null,null,"Sistema de Incentivos à Digitalização das Pequenas e Médias empresas (PME) da Região Autónoma da Madeira"]
[]
[null,null,"+ DIGITAL",null,null,null,null,null,null,null,null,null,null,null,null,"Portaria n.º 824/2024"]

{"sheet":"Mapa","index":1,"n_rows":5005,"n_cols":10,"rows_kept":5005,"cut":false,"hidden":false,"merged":[[0,1,0,8],[1,1,1,8]]}
[null,"MAPA DE CLASSIFICAÇÃO DAS COMPONENTES DO PROJETO"]
[null,"+DIGITAL "]
[]
[null,null,null,null,{"$f":"SUM(E6:E65536)","v":0},null,null,null,null,"V1.0 - 25-01-2016 14:23"]
[null,"Id","Designação - Descrição do Bem/Serviço","Id","Total da despesa","Id","Componentes de Despesa","Id","Rúbricas SNC"]
[0,{"$f":"IF(C6<>\"\",+$A$6+1,\"\")","v":""},null,{"$f":"IF(ISERROR(VLOOKUP(#REF!,localizacao,2,FALSE)),\"\",VLOOKUP(#REF!,localizacao,2,FALSE))","v":""},null,{"$f":"IF(ISERROR(VLOOKUP(G6,componentes,2,FALSE)),\"\",VLOOKUP(G6,componentes,2,FALSE))","v":""},null,{"$f":"IF(ISERROR(VLOOKUP(I6,rubricas,2,FALSE)),\"\",VLOOKUP(I6,rubricas,2,FALSE))","v":""}]
[null,{"$f":"IF(C7<>\"\",+B6+1,\"\")","v":""},null,{"$f":"IF(ISERROR(VLOOKUP(#REF!,localizacao,2,FALSE)),\"\",VLOOKUP(#REF!,localizacao,2,FALSE))","v":""},null,"",null,""]
[null,"",null,{"$f":"IF(ISERROR(VLOOKUP(#REF!,localizacao,2,FALSE)),\"\",VLOOKUP(#REF!,localizacao,2,FALSE))","v":""},null,"",null,""]
[null,"",null,{"$f":"IF(ISERROR(VLOOKUP(#REF!,localizacao,2,FALSE)),\"\",VLOOKUP(#REF!,localizacao,2,FALSE))","v":""},null,"",null,""]
[null,"",null,{"$f":"IF(ISERROR(VLOOKUP(#REF!,localizacao,2,FALSE)),\"\",VLOOKUP(#REF!,localizacao,2,FALSE))","v":""},null,"",null,""]
[null,"",null,{"$f":"IF(ISERROR(VLOOKUP(#REF!,localizacao,2,FALSE)),\"\",VLOOKUP(#REF!,localizacao,2,FALSE))","v":""},null,"",null,""]
[null,"",null,{"$f":"IF(ISERROR(VLOOKUP(#REF!,localizacao,2,FALSE)),\"\",VLOOKUP(#REF!,localizacao,2,FALSE))","v":""},null,"",null,""]
[null,"",null,{"$f":"IF(ISERROR(VLOOKUP(#REF!,localizacao,2,FALSE)),\"\",VLOOKUP(#REF!,localizacao,2,FALSE))","v":""},null,"",null,""]
[null,"",null,{"$f":"IF(ISERROR(VLOOKUP(#REF!,localizacao,2,FALSE)),\"\",VLOOKUP(#REF!,localizacao,2,FALSE))","v":""},null,"",null,""]
[null,"",null,{"$f":"IF(ISERROR(VLOOKUP(#REF!,localizacao,2,FALSE)),\"\",VLOOKUP(#REF!,localizacao,2,FALSE))","v":""},null,"",null,""]
[null,"",null,{"$f":"IF(ISERROR(VLOOKUP(#REF!,localizacao,2,FALSE)),\"\",VLOOKUP(#REF!,localizacao,2,FALSE))","v":""},null,"",null,""]
[null,"",null,{"$f":"IF(ISERROR(VLOOKUP(#REF!,localizacao,2,FALSE)),\"\",VLOOKUP(#REF!,localizacao,2,FALSE))","v":""},null,"",null,""]
[null,"",null,{"$f":"IF(ISERROR(VLOOKUP(#REF!,localizacao,2,FALSE)),\"\",VLOOKUP(#REF!,localizacao,2,FALSE))","v":""},null,"",null,""]
[null,"",null,{"$f":"IF(ISERROR(VLOOKUP(#REF!,localizacao,2,FALSE)),\"\",VLOOKUP(#REF!,localizacao,2,FALSE))","v":""},null,"",null,""]
[null,"",null,{"$f":"IF(ISERROR(VLOOKUP(#REF!,localizacao,2,FALSE)),\"\",VLOOKUP(#REF!,localizacao,2,FALSE))","v":""},null,"",null,""]
[null,"",null,{"$f":"IF(ISERROR(VLOOKUP(#REF!,localizacao,2,FALSE)),\"\",VLOOKUP(#REF!,localizacao,2,FALSE))","v":""},null,"",null,""]
[null,"",null,{"$f":"IF(ISERROR(VLOOKUP(#REF!,localizacao,2,FALSE)),\"\",VLOOKUP(#REF!,localizacao,2,FALSE))","v":""},null,"",null,""]
[null,"",null,{"$f":"IF(ISERROR(VLOOKUP(#REF!,localizacao,2,FALSE)),\"\",VLOOKUP(#REF!,localizacao,2,FALSE))","v":""},null,"",null,""]
[null,"",null,{"$f":"IF(ISERROR(VLOOKUP(#REF!,localizacao,2,FALSE)),\"\",VLOOKUP(#REF!,localizacao,2,FALSE))","v":""},null,"",null,""]
[null,"",null,{"$f":"IF(ISERROR(VLOOKUP(#REF!,localizacao,2,FALSE)),\"\",VLOOKUP(#REF!,localizacao,2,FALSE))","v":""},null,"",null,""]
[null,"",null,{"$f":"IF(ISERROR(VLOOKUP(#REF!,localizacao,2,FALSE)),\"\",VLOOKUP(#REF!,localizacao,2,FALSE))","v":""},null,"",null,""]
[null,"",null,{"$f":"IF(ISERROR(VLOOKUP(#REF!,localizacao,2,FALSE)),\"\",VLOOKUP(#REF!,localizacao,2,FALSE))","v":""},null,"",null,""]
[null,"",null,{"$f":"IF(ISERROR(VLOOKUP(#REF!,localizacao,2,FALSE)),\"\",VLOOKUP(#REF!,localizacao,2,FALSE))","v":""},null,"",null,""]
[null,"",null,{"$f":"IF(ISERROR(VLOOKUP(#REF!,localizacao,2,FALSE)),\"\",VLOOKUP(#REF!,localizacao,2,FALSE))","v":""},null,"",null,""]
[null,"",null,{"$f":"IF(ISERROR(VLOOKUP(#REF!,localizacao,2,FALSE)),\"\",VLOOKUP(#REF!,localizacao,2,FALSE))","v":""},null,"",null,""]
[null,"",null,{"$f":"IF(ISERROR(VLOOKUP(#REF!,localizacao,2,FALSE)),\"\",VLOOKUP(#REF!,localizacao,2,FALSE))","v":""},null,"",null,""]
[null,"",null,{"$f":"IF(ISERROR(VLOOKUP(#REF!,localizacao,2,FALSE)),\"\",VLOOKUP(#REF!,localizacao,2,FALSE))","v":""},null,"",null,""]
[null,"",null,{"$f":"IF(ISERROR(VLOOKUP(#REF!,localizacao,2,FALSE)),\"\",VLOOKUP(#REF!,localizacao,2,FALSE))","v":""},null,"",null,""]
[null,"",null,{"$f":"IF(ISERROR(VLOOKUP(#REF!,localizacao,2,FALSE)),\"\",VLOOKUP(#REF!,localizacao,2,FALSE))","v":""},null,"",null,""]
[null,"",null,{"$f":"IF(ISERROR(VLOOKUP(#REF!,localizacao,2,FALSE)),\"\",VLOOKUP(#REF!,localizacao,2,FALSE))","v":""},null,"",null,""]
[null,"",null,{"$f":"IF(ISERROR(VLOOKUP(#REF!,localizacao,2,FALSE)),\"\",VLOOKUP(#REF!,localizacao,2,FALSE))","v":""},null,"",null,""]
[null,"",null,{"$f":"IF(ISERROR(VLOOKUP(#REF!,localizacao,2,FALSE)),\"\",VLOOKUP(#REF!,localizacao,2,FALSE))","v":""},null,"",null,""]
[null,"",null,{"$f":"IF(ISERROR(VLOOKUP(#REF!,localizacao,2,FALSE)),\"\",VLOOKUP(#REF!,localizacao,2,FALSE))","v":""},null,"",null,""]
[null,"",null,{"$f":"IF(ISERROR(VLOOKUP(#REF!,localizacao,2,FALSE)),\"\",VLOOKUP(#REF!,localizacao,2,FALSE))","v":""},null,"",null,""]
[null,"",null,{"$f":"IF(ISERROR(VLOOKUP(#REF!,localizacao,2,FALSE)),\"\",VLOOKUP(#REF!,localizacao,2,FALSE))","v":""},null,"",null,""]
[null,"",null,{"$f":"IF(ISERROR(VLOOKUP(#REF!,localizacao,2,FALSE)),\"\",VLOOKUP(#REF!,localizacao,2,FALSE))","v":""},null,"",null,""]
[null,"",null,{"$f":"IF(ISERROR(VLOOKUP(#REF!,localizacao,2,FALSE)),\"\",VLOOKUP(#REF!,localizacao,2,FALSE))","v":""},null,"",null,""]
[null,"",null,{"$f":"IF(ISERROR(VLOOKUP(#REF!,localizacao,2,FALSE)),\"\",VLOOKUP(#REF!,localizacao,2,FALSE))","v":""},null,"",null,""]
[null,"",null,{"$f":"IF(ISERROR(VLOOKUP(#REF!,localizacao,2,FALSE)),\"\",VLOOKUP(#REF!,localizacao,2,FALSE))","v":""},null,"",null,""]
[null,"",null,{"$f":"IF(ISERROR(VLOOKUP(#REF!,localizacao,2,FALSE)),\"\",VLOOKUP(#REF!,localizacao,2,FALSE))","v":""},null,"",null,""]
[null,"",null,{"$f":"IF(ISERROR(VLOOKUP(#REF!,localizacao,2,FALSE)),\"\",VLOOKUP(#REF!,localizacao,2,FALSE))","v":""},null,"",null,""]
[null,"",null,{"$f":"IF(ISERROR(VLOOKUP(#REF!,localizacao,2,FALSE)),\"\",VLOOKUP(#REF!,localizacao,2,FALSE))","v":""},null,"",null,""]
[null,"",null,{"$f":"IF(ISERROR(VLOOKUP(#REF!,localizacao,2,FALSE)),\"\",VLOOKUP(#REF!,localizacao,2,FALSE))","v":""},null,"",null,""]
[null,"",null,{"$f":"IF(ISERROR(VLOOKUP(#REF!,localizacao,2,FALSE)),\"\",VLOOKUP(#REF!,localizacao,2,FALSE))","v":""},null,"",null,""]
[null,"",null,{"$f":"IF(ISERROR(VLOOKUP(#REF!,localizacao,2,FALSE)),\"\",VLOOKUP(#REF!,localizacao,2,FALSE))","v":""},null,"",null,""]
[null,"",null,{"$f":"IF(ISERROR(VLOOKUP(#REF!,localizacao,2,FALSE)),\"\",VLOOKUP(#REF!,localizacao,2,FALSE))","v":""},null,"",null,""]
[null,"",null,{"$f":"IF(ISERROR(VLOOKUP(#REF!,localizacao,2,FALSE)),\"\",VLOOKUP(#REF!,localizacao,2,FALSE))","v":""},null,"",null,""]
[null,"",null,{"$f":"IF(ISERROR(VLOOKUP(#REF!,localizacao,2,FALSE)),\"\",VLOOKUP(#REF!,localizacao,2,FALSE))","v":""},null,"",null,""]
[null,"",null,{"$f":"IF(ISERROR(VLOOKUP(#REF!,localizacao,2,FALSE)),\"\",VLOOKUP(#REF!,localizacao,2,FALSE))","v":""},null,"",null,""]
[null,"",null,{"$f":"IF(ISERROR(VLOOKUP(#REF!,localizacao,2,FALSE)),\"\",VLOOKUP(#REF!,localizacao,2,FALSE))","v":""},null,"",null,""]
[null,"",null,{"$f":"IF(ISERROR(VLOOKUP(#REF!,localizacao,2,FALSE)),\"\",VLOOKUP(#REF!,localizacao,2,FALSE))","v":""},null,"",null,""]
[null,"",null,{"$f":"IF(ISERROR(VLOOKUP(#REF!,localizacao,2,FALSE)),\"\",VLOOKUP(#REF!,localizacao,2,FALSE))","v":""},null,"",null,""]
[null,"",null,{"$f":"IF(ISERROR(VLOOKUP(#REF!,localizacao,2,FALSE)),\"\",VLOOKUP(#REF!,localizacao,2,FALSE))","v":""},null,"",null,""]
[null,"",null,{"$f":"IF(ISERROR(VLOOKUP(#REF!,localizacao,2,FALSE)),\"\",VLOOKUP(#REF!,localizacao,2,FALSE))","v":""},null,"",null,""]
[null,"",null,{"$f":"IF(ISERROR(VLOOKUP(#REF!,localizacao,2,FALSE)),\"\",VLOOKUP(#REF!,localizacao,2,FALSE))","v":""},null,"",null,""]
[null,"",null,{"$f":"IF(ISERROR(VLOOKUP(#REF!,localizacao,2,FALSE)),\"\",VLOOKUP(#REF!,localizacao,2,FALSE))","v":""},null,"",null,""]
[null,"",null,{"$f":"IF(ISERROR(VLOOKUP(#REF!,localizacao,2,FALSE)),\"\",VLOOKUP(#REF!,localizacao,2,FALSE))","v":""},null,"",null,""]
[null,"",null,{"$f":"IF(ISERROR(VLOOKUP(#REF!,localizacao,2,FALSE)),\"\",VLOOKUP(#REF!,localizacao,2,FALSE))","v":""},null,"",null,""]
[null,"",null,{"$f":"IF(ISERROR(VLOOKUP(#REF!,localizacao,2,FALSE)),\"\",VLOOKUP(#REF!,localizacao,2,FALSE))","v":""},null,"",null,""]
[null,"",null,{"$f":"IF(ISERROR(VLOOKUP(#REF!,localizacao,2,FALSE)),\"\",VLOOKUP(#REF!,localizacao,2,FALSE))","v":""},null,"",null,""]
[null,"",null,{"$f":"IF(ISERROR(VLOOKUP(#REF!,localizacao,2,FALSE)),\"\",VLOOKUP(#REF!,localizacao,2,FALSE))","v":""},null,"",null,""]
[null,"",null,{"$f":"IF(ISERROR(VLOOKUP(#REF!,localizacao,2,FALSE)),\"\",VLOOKUP(#REF!,localizacao,2,FALSE))","v":""},null,"",null,""]
[null,"",null,{"$f":"IF(ISERROR(VLOOKUP(#REF!,localizacao,2,FALSE)),\"\",VLOOKUP(#REF!,localizacao,2,FALSE))","v":""},null,"",null,""]
[null,"",null,{"$f":"IF(ISERROR(VLOOKUP(#REF!,localizacao,2,FALSE)),\"\",VLOOKUP(#REF!,localizacao,2,FALSE))","v":""},null,"",null,""]
[null,"",null,{"$f":"IF(ISERROR(VLOOKUP(#REF!,localizacao,2,FALSE)),\"\",VLOOKUP(#REF!,localizacao,2,FALSE))","v":""},null,{"$f":"IF(ISERROR(VLOOKUP(G70,componentes,2,FALSE)),\"\",VLOOKUP(G70,componentes,2,FALSE))","v":""},null,{"$f":"IF(ISERROR(VLOOKUP(I70,rubricas,2,FALSE)),\"\",VLOOKUP(I70,rubricas,2,FALSE))","v":""}]
[null,{"$f":"IF(C71<>\"\",+B70+1,\"\")","v":""},null,{"$f":"IF(ISERROR(VLOOKUP(#REF!,localizacao,2,FALSE)),\"\",VLOOKUP(#REF!,localizacao,2,FALSE))","v":""},null,"",null,""]
[null,"",null,{"$f":"IF(ISERROR(VLOOKUP(#REF!,localizacao,2,FALSE)),\"\",VLOOKUP(#REF!,localizacao,2,FALSE))","v":""},null,"",null,""]
[null,"",null,{"$f":"IF(ISERROR(VLOOKUP(#REF!,localizacao,2,FALSE)),\"\",VLOOKUP(#REF!,localizacao,2,FALSE))","v":""},null,"",null,""]
[null,"",null,{"$f":"IF(ISERROR(VLOOKUP(#REF!,localizacao,2,FALSE)),\"\",VLOOKUP(#REF!,localizacao,2,FALSE))","v":""},null,"",null,""]
[null,"",null,{"$f":"IF(ISERROR(VLOOKUP(#REF!,localizacao,2,FALSE)),\"\",VLOOKUP(#REF!,localizacao,2,FALSE))","v":""},null,"",null,""]
[null,"",null,{"$f":"IF(ISERROR(VLOOKUP(#REF!,localizacao,2,FALSE)),\"\",VLOOKUP(#REF!,localizacao,2,FALSE))","v":""},null,"",null,""]
[null,"",null,{"$f":"IF(ISERROR(VLOOKUP(#REF!,localizacao,2,FALSE)),\"\",VLOOKUP(#REF!,localizacao,2,FALSE))","v":""},null,"",null,""]
[null,"",null,{"$f":"IF(ISERROR(VLOOKUP(#REF!,localizacao,2,FALSE)),\"\",VLOOKUP(#REF!,localizacao,2,FALSE))","v":""},null,"",null,""]
[null,"",null,{"$f":"IF(ISERROR(VLOOKUP(#REF!,localizacao,2,FALSE)),\"\",VLOOKUP(#REF!,localizacao,2,FALSE))","v":""},null,"",null,""]
[null,"",null,{"$f":"IF(ISERROR(VLOOKUP(#REF!,localizacao,2,FALSE)),\"\",VLOOKUP(#REF!,localizacao,2,FALSE))","v":""},null,"",null,""]
[null,"",null,{"$f":"IF(ISERROR(VLOOKUP(#REF!,localizacao,2,FALSE)),\"\",VLOOKUP(#REF!,localizacao,2,FALSE))","v":""},null,"",null,""]
[null,"",null,{"$f":"IF(ISERROR(VLOOKUP(#REF!,localizacao,2,FALSE)),\"\",VLOOKUP(#REF!,localizacao,2,FALSE))","v":""},null,"",null,""]
[null,"",null,{"$f":"IF(ISERROR(VLOOKUP(#REF!,localizacao,2,FALSE)),\"\",VLOOKUP(#REF!,localizacao,2,FALSE))","v":""},null,"",null,""]
[null,"",null,{"$f":"IF(ISERROR(VLOOKUP(#REF!,localizacao,2,FALSE)),\"\",VLOOKUP(#REF!,localizacao,2,FALSE))","v":""},null,"",null,""]
[null,"",null,{"$f":"IF(ISERROR(VLOOKUP(#REF!,localizacao,2,FALSE)),\"\",VLOOKUP(#REF!,localizacao,2,FALSE))","v":""},null,"",null,""]
[null,"",null,{"$f":"IF(ISERROR(VLOOKUP(#REF!,localizacao,2,FALSE)),\"\",VLOOKUP(#REF!,localizacao,2,FALSE))","v":""},null,"",null,""]
[null,"",null,{"$f":"IF(ISERROR(VLOOKUP(#REF!,localizacao,2,FALSE)),\"\",VLOOKUP(#REF!,localizacao,2,FALSE))","v":""},null,"",null,""]
[null,"",null,{"$f":"IF(ISERROR(VLOOKUP(#REF!,localizacao,2,FALSE)),\"\",VLOOKUP(#REF!,localizacao,2,FALSE))","v":""},null,"",null,""]
[null,"",null,{"$f":"IF(ISERROR(VLOOKUP(#REF!,localizacao,2,FALSE)),\"\",VLOOKUP(#REF!,localizacao,2,FALSE))","v":""},null,"",null,""]
[null,"",null,{"$f":"IF(ISERROR(VLOOKUP(#REF!,localizacao,2,FALSE)),\"\",VLOOKUP(#REF!,localizacao,2,FALSE))","v":""},null,"",null,""]
[null,"",null,{"$f":"IF(ISERROR(VLOOKUP(#REF!,localizacao,2,FALSE)),\"\",VLOOKUP(#REF!,localizacao,2,FALSE))","v":""},null,"",null,""]
[null,"",null,{"$f":"IF(ISERROR(VLOOKUP(#REF!,localizacao,2,FALSE)),\"\",VLOOKUP(#REF!,localizacao,2,FALSE))","v":""},null,"",null,""]
[null,"",null,{"$f":"IF(ISERROR(VLOOKUP(#REF!,localizacao,2,FALSE)),\"\",VLOOKUP(#REF!,localizacao,2,FALSE))","v":""},null,"",null,""]
[null,"",null,{"$f":"IF(ISERROR(VLOOKUP(#REF!,localizacao,2,FALSE)),\"\",VLOOKUP(#REF!,localizacao,2,FALSE))","v":""},null,"",null,""]
[null,"",null,{"$f":"IF(ISERROR(VLOOKUP(#REF!,localizacao,2,FALSE)),\"\",VLOOKUP(#REF!,localizacao,2,FALSE))","v":""},null,"",null,""]
[null,"",null,{"$f":"IF(ISERROR(VLOOKUP(#REF!,localizacao,2,FALSE)),\"\",VLOOKUP(#REF!,localizacao,2,FALSE))","v":""},null,"",null,""]
[null,"",null,{"$f":"IF(ISERROR(VLOOKUP(#REF!,localizacao,2,FALSE)),\"\",VLOOKUP(#REF!,localizacao,2,FALSE))","v":""},null,"",null,""]
[null,"",null,{"$f":"IF(ISERROR(VLOOKUP(#REF!,localizacao,2,FALSE)),\"\",VLOOKUP(#REF!,localizacao,2,FALSE))","v":""},null,"",null,""]
[null,"",null,{"$f":"IF(ISERROR(VLOOKUP(#REF!,localizacao,2,FALSE)),\"\",VLOOKUP(#REF!,localizacao,2,FALSE))","v":""},null,"",null,""]
[null,"",null,{"$f":"IF(ISERROR(VLOOKUP(#REF!,localizacao,2,FALSE)),\"\",VLOOKUP(#REF!,localizacao,2,FALSE))","v":""},null,"",null,""]
[null,"",null,{"$f":"IF(ISERROR(VLOOKUP(#REF!,localizacao,2,FALSE)),\"\",VLOOKUP(#REF!,localizacao,2,FALSE))","v":""},null,"",null,""]
[null,"",null,{"$f":"IF(ISERROR(VLOOKUP(#REF!,localizacao,2,FALSE)),\"\",VLOOKUP(#REF!,localizacao,2,FALSE))","v":""},null,"",null,""]
[null,"",null,{"$f":"IF(ISERROR(VLOOKUP(#REF!,localizacao,2,FALSE)),\"\",VLOOKUP(#REF!,localizacao,2,FALSE))","v":""},null,"",null,""]
[null,"",null,{"$f":"IF(ISERROR(VLOOKUP(#REF!,localizacao,2,FALSE)),\"\",VLOOKUP(#REF!,localizacao,2,FALSE))","v":""},null,"",null,""]
[null,"",null,{"$f":"IF(ISERROR(VLOOKUP(#REF!,localizacao,2,FALSE)),\"\",VLOOKUP(#REF!,localizacao,2,FALSE))","v":""},null,"",null,""]
[null,"",null,{"$f":"IF(ISERROR(VLOOKUP(#REF!,localizacao,2,FALSE)),\"\",VLOOKUP(#REF!,localizacao,2,FALSE))","v":""},null,"",null,""]
[null,"",null,{"$f":"IF(ISERROR(VLOOKUP(#REF!,localizacao,2,FALSE)),\"\",VLOOKUP(#REF!,localizacao,2,FALSE))","v":""},null,"",null,""]
[null,"",null,{"$f":"IF(ISERROR(VLOOKUP(#REF!,localizacao,2,FALSE)),\"\",VLOOKUP(#REF!,localizacao,2,FALSE))","v":""},null,"",null,""]
[null,"",null,{"$f":"IF(ISERROR(VLOOKUP(#REF!,localizacao,2,FALSE)),\"\",VLOOKUP(#REF!,localizacao,2,FALSE))","v":""},null,"",null,""]
[null,"",null,{"$f":"IF(ISERROR(VLOOKUP(#REF!,localizacao,2,FALSE)),\"\",VLOOKUP(#REF!,localizacao,2,FALSE))","v":""},null,"",null,""]
[null,"",null,{"$f":"IF(ISERROR(VLOOKUP(#REF!,localizacao,2,FALSE)),\"\",VLOOKUP(#REF!,localizacao,2,FALSE))","v":""},null,"",null,""]
[null,"",null,{"$f":"IF(ISERROR(VLOOKUP(#REF!,localizacao,2,FALSE)),\"\",VLOOKUP(#REF!,localizacao,2,FALSE))","v":""},null,"",null,""]
[null,"",null,{"$f":"IF(ISERROR(VLOOKUP(#REF!,localizacao,2,FALSE)),\"\",VLOOKUP(#REF!,localizacao,2,FALSE))","v":""},null,"",null,""]
[null,"",null,{"$f":"IF(ISERROR(VLOOKUP(#REF!,localizacao,2,FALSE)),\"\",VLOOKUP(#REF!,localizacao,2,FALSE))","v":""},null,"",null,""]
[null,"",null,{"$f":"IF(ISERROR(VLOOKUP(#REF!,localizacao,2,FALSE)),\"\",VLOOKUP(#REF!,localizacao,2,FALSE))","v":""},null,"",null,""]
[null,"",null,{"$f":"IF(ISERROR(VLOOKUP(#REF!,localizacao,2,FALSE)),\"\",VLOOKUP(#REF!,localizacao,2,FALSE))","v":""},null,"",null,""]
[null,"",null,{"$f":"IF(ISERROR(VLOOKUP(#REF!,localizacao,2,FALSE)),\"\",VLOOKUP(#REF!,localizacao,2,FALSE))","v":""},null,"",null,""]
[null,"",null,{"$f":"IF(ISERROR(VLOOKUP(#REF!,localizacao,2,FALSE)),\"\",VLOOKUP(#REF!,localizacao,2,FALSE))","v":""},null,"",null,""]
[null,"",null,{"$f":"IF(ISERROR(VLOOKUP(#REF!,localizacao,2,FALSE)),\"\",VLOOKUP(#REF!,localizacao,2,FALSE))","v":""},null,"",null,""]
[null,"",null,{"$f":"IF(ISERROR(VLOOKUP(#REF!,localizacao,2,FALSE)),\"\",VLOOKUP(#REF!,localizacao,2,FALSE))","v":""},null,"",null,""]
[null,"",null,{"$f":"IF(ISERROR(VLOOKUP(#REF!,localizacao,2,FALSE)),\"\",VLOOKUP(#REF!,localizacao,2,FALSE))","v":""},null,"",null,""]
[null,"",null,{"$f":"IF(ISERROR(VLOOKUP(#REF!,localizacao,2,FALSE)),\"\",VLOOKUP(#REF!,localizacao,2,FALSE))","v":""},null,"",null,""]
[null,"",null,{"$f":"IF(ISERROR(VLOOKUP(#REF!,localizacao,2,FALSE)),\"\",VLOOKUP(#REF!,localizacao,2,FALSE))","v":""},null,"",null,""]
[null,"",null,{"$f":"IF(ISERROR(VLOOKUP(#REF!,localizacao,2,FALSE)),\"\",VLOOKUP(#REF!,localizacao,2,FALSE))","v":""},null,"",null,""]
[null,"",null,{"$f":"IF(ISERROR(VLOOKUP(#REF!,localizacao,2,FALSE)),\"\",VLOOKUP(#REF!,localizacao,2,FALSE))","v":""},null,"",null,""]
[null,"",null,{"$f":"IF(ISERROR(VLOOKUP(#REF!,localizacao,2,FALSE)),\"\",VLOOKUP(#REF!,localizacao,2,FALSE))","v":""},null,"",null,""]
[null,"",null,{"$f":"IF(ISERROR(VLOOKUP(#REF!,localizacao,2,FALSE)),\"\",VLOOKUP(#REF!,localizacao,2,FALSE))","v":""},null,"",null,""]
[null,"",null,{"$f":"IF(ISERROR(VLOOKUP(#REF!,localizacao,2,FALSE)),\"\",VLOOKUP(#REF!,localizacao,2,FALSE))","v":""},null,"",null,""]
[null,"",null,{"$f":"IF(ISERROR(VLOOKUP(#REF!,localizacao,2,FALSE)),\"\",VLOOKUP(#REF!,localizacao,2,FALSE))","v":""},null,"",null,""]
[null,"",null,{"$f":"IF(ISERROR(VLOOKUP(#REF!,localizacao,2,FALSE)),\"\",VLOOKUP(#REF!,localizacao,2,FALSE))","v":""},null,"",null,""]
[null,"",null,{"$f":"IF(ISERROR(VLOOKUP(#REF!,localizacao,2,FALSE)),\"\",VLOOKUP(#REF!,localizacao,2,FALSE))","v":""},null,"",null,""]
[null,"",null,{"$f":"IF(ISERROR(VLOOKUP(#REF!,localizacao,2,FALSE)),\"\",VLOOKUP(#REF!,localizacao,2,FALSE))","v":""},null,"",null,""]
[null,"",null,{"$f":"IF(ISERROR(VLOOKUP(#REF!,localizacao,2,FALSE)),\"\",VLOOKUP(#REF!,localizacao,2,FALSE))","v":""},null,"",null,""]
[null,"",null,{"$f":"IF(ISERROR(VLOOKUP(#REF!,localizacao,2,FALSE)),\"\",VLOOKUP(#REF!,localizacao,2,FALSE))","v":""},null,{"$f":"IF(ISERROR(VLOOKUP(G134,componentes,2,FALSE)),\"\",VLOOKUP(G134,componentes,2,FALSE))","v":""},null,{"$f":"IF(ISERROR(VLOOKUP(I134,rubricas,2,FALSE)),\"\",VLOOKUP(I134,rubricas,2,FALSE))","v":""}]
[null,{"$f":"IF(C135<>\"\",+B134+1,\"\")","v":""},null,{"$f":"IF(ISERROR(VLOOKUP(#REF!,localizacao,2,FALSE)),\"\",VLOOKUP(#REF!,localizacao,2,FALSE))","v":""},null,"",null,""]
[null,"",null,{"$f":"IF(ISERROR(VLOOKUP(#REF!,localizacao,2,FALSE)),\"\",VLOOKUP(#REF!,localizacao,2,FALSE))","v":""},null,"",null,""]
[null,"",null,{"$f":"IF(ISERROR(VLOOKUP(#REF!,localizacao,2,FALSE)),\"\",VLOOKUP(#REF!,localizacao,2,FALSE))","v":""},null,"",null,""]
[null,"",null,{"$f":"IF(ISERROR(VLOOKUP(#REF!,localizacao,2,FALSE)),\"\",VLOOKUP(#REF!,localizacao,2,FALSE))","v":""},null,"",null,""]
[null,"",null,{"$f":"IF(ISERROR(VLOOKUP(#REF!,localizacao,2,FALSE)),\"\",VLOOKUP(#REF!,localizacao,2,FALSE))","v":""},null,"",null,""]
[null,"",null,{"$f":"IF(ISERROR(VLOOKUP(#REF!,localizacao,2,FALSE)),\"\",VLOOKUP(#REF!,localizacao,2,FALSE))","v":""},null,"",null,""]
[null,"",null,{"$f":"IF(ISERROR(VLOOKUP(#REF!,localizacao,2,FALSE)),\"\",VLOOKUP(#REF!,localizacao,2,FALSE))","v":""},null,"",null,""]
[null,"",null,{"$f":"IF(ISERROR(VLOOKUP(#REF!,localizacao,2,FALSE)),\"\",VLOOKUP(#REF!,localizacao,2,FALSE))","v":""},null,"",null,""]
[null,"",null,{"$f":"IF(ISERROR(VLOOKUP(#REF!,localizacao,2,FALSE)),\"\",VLOOKUP(#REF!,localizacao,2,FALSE))","v":""},null,"",null,""]
[null,"",null,{"$f":"IF(ISERROR(VLOOKUP(#REF!,localizacao,2,FALSE)),\"\",VLOOKUP(#REF!,localizacao,2,FALSE))","v":""},null,"",null,""]
[null,"",null,{"$f":"IF(ISERROR(VLOOKUP(#REF!,localizacao,2,FALSE)),\"\",VLOOKUP(#REF!,localizacao,2,FALSE))","v":""},null,"",null,""]
[null,"",null,{"$f":"IF(ISERROR(VLOOKUP(#REF!,localizacao,2,FALSE)),\"\",VLOOKUP(#REF!,localizacao,2,FALSE))","v":""},null,"",null,""]
[null,"",null,{"$f":"IF(ISERROR(VLOOKUP(#REF!,localizacao,2,FALSE)),\"\",VLOOKUP(#REF!,localizacao,2,FALSE))","v":""},null,"",null,""]
[null,"",null,{"$f":"IF(ISERROR(VLOOKUP(#REF!,localizacao,2,FALSE)),\"\",VLOOKUP(#REF!,localizacao,2,FALSE))","v":""},null,"",null,""]
[null,"",null,{"$f":"IF(ISERROR(VLOOKUP(#REF!,localizacao,2,FALSE)),\"\",VLOOKUP(#REF!,localizacao,2,FALSE))","v":""},null,"",null,""]
[null,"",null,{"$f":"IF(ISERROR(VLOOKUP(#REF!,localizacao,2,FALSE)),\"\",VLOOKUP(#REF!,localizacao,2,FALSE))","v":""},null,"",null,""]
[null,"",null,{"$f":"IF(ISERROR(VLOOKUP(#REF!,localizacao,2,FALSE)),\"\",VLOOKUP(#REF!,localizacao,2,FALSE))","v":""},null,"",null,""]
[null,"",null,{"$f":"IF(ISERROR(VLOOKUP(#REF!,localizacao,2,FALSE)),\"\",VLOOKUP(#REF!,localizacao,2,FALSE))","v":""},null,"",null,""]
[null,"",null,{"$f":"IF(ISERROR(VLOOKUP(#REF!,localizacao,2,FALSE)),\"\",VLOOKUP(#REF!,localizacao,2,FALSE))","v":""},null,"",null,""]
[null,"",null,{"$f":"IF(ISERROR(VLOOKUP(#REF!,localizacao,2,FALSE)),\"\",VLOOKUP(#REF!,localizacao,2,FALSE))","v":""},null,"",null,""]
[null,"",null,{"$f":"IF(ISERROR(VLOOKUP(#REF!,localizacao,2,FALSE)),\"\",VLOOKUP(#REF!,localizacao,2,FALSE))","v":""},null,"",null,""]
[null,"",null,{"$f":"IF(ISERROR(VLOOKUP(#REF!,localizacao,2,FALSE)),\"\",VLOOKUP(#REF!,localizacao,2,FALSE))","v":""},null,"",null,""]
[null,"",null,{"$f":"IF(ISERROR(VLOOKUP(#REF!,localizacao,2,FALSE)),\"\",VLOOKUP(#REF!,localizacao,2,FALSE))","v":""},null,"",null,""]
[null,"",null,{"$f":"IF(ISERROR(VLOOKUP(#REF!,localizacao,2,FALSE)),\"\",VLOOKUP(#REF!,localizacao,2,FALSE))","v":""},null,"",null,""]
[null,"",null,{"$f":"IF(ISERROR(VLOOKUP(#REF!,localizacao,2,FALSE)),\"\",VLOOKUP(#REF!,localizacao,2,FALSE))","v":""},null,"",null,""]
[null,"",null,{"$f":"IF(ISERROR(VLOOKUP(#REF!,localizacao,2,FALSE)),\"\",VLOOKUP(#REF!,localizacao,2,FALSE))","v":""},null,"",null,""]
[null,"",null,{"$f":"IF(ISERROR(VLOOKUP(#REF!,localizacao,2,FALSE)),\"\",VLOOKUP(#REF!,localizacao,2,FALSE))","v":""},null,"",null,""]
[null,"",null,{"$f":"IF(ISERROR(VLOOKUP(#REF!,localizacao,2,FALSE)),\"\",VLOOKUP(#REF!,localizacao,2,FALSE))","v":""},null,"",null,""]
[null,"",null,{"$f":"IF(ISERROR(VLOOKUP(#REF!,localizacao,2,FALSE)),\"\",VLOOKUP(#REF!,localizacao,2,FALSE))","v":""},null,"",null,""]
[null,"",null,{"$f":"IF(ISERROR(VLOOKUP(#REF!,localizacao,2,FALSE)),\"\",VLOOKUP(#REF!,localizacao,2,FALSE))","v":""},null,"",null,""]
[null,"",null,{"$f":"IF(ISERROR(VLOOKUP(#REF!,localizacao,2,FALSE)),\"\",VLOOKUP(#REF!,localizacao,2,FALSE))","v":""},null,"",null,""]
[null,"",null,{"$f":"IF(ISERROR(VLOOKUP(#REF!,localizacao,2,FALSE)),\"\",VLOOKUP(#REF!,localizacao,2,FALSE))","v":""},null,"",null,""]
[null,"",null,{"$f":"IF(ISERROR(VLOOKUP(#REF!,localizacao,2,FALSE)),\"\",VLOOKUP(#REF!,localizacao,2,FALSE))","v":""},null,"",null,""]
[null,"",null,{"$f":"IF(ISERROR(VLOOKUP(#REF!,localizacao,2,FALSE)),\"\",VLOOKUP(#REF!,localizacao,2,FALSE))","v":""},null,"",null,""]
[null,"",null,{"$f":"IF(ISERROR(VLOOKUP(#REF!,localizacao,2,FALSE)),\"\",VLOOKUP(#REF!,localizacao,2,FALSE))","v":""},null,"",null,""]
[null,"",null,{"$f":"IF(ISERROR(VLOOKUP(#REF!,localizacao,2,FALSE)),\"\",VLOOKUP(#REF!,localizacao,2,FALSE))","v":""},null,"",null,""]
[null,"",null,{"$f":"IF(ISERROR(VLOOKUP(#REF!,localizacao,2,FALSE)),\"\",VLOOKUP(#REF!,localizacao,2,FALSE))","v":""},null,"",null,""]
[null,"",null,{"$f":"IF(ISERROR(VLOOKUP(#REF!,localizacao,2,FALSE)),\"\",VLOOKUP(#REF!,localizacao,2,FALSE))","v":""},null,"",null,""]
[null,"",null,{"$f":"IF(ISERROR(VLOOKUP(#REF!,localizacao,2,FALSE)),\"\",VLOOKUP(#REF!,localizacao,2,FALSE))","v":""},null,"",null,""]
[null,"",null,{"$f":"IF(ISERROR(VLOOKUP(#REF!,localizacao,2,FALSE)),\"\",VLOOKUP(#REF!,localizacao,2,FALSE))","v":""},null,"",null,""]
[null,"",null,{"$f":"IF(ISERROR(VLOOKUP(#REF!,localizacao,2,FALSE)),\"\",VLOOKUP(#REF!,localizacao,2,FALSE))","v":""},null,"",null,""]
[null,"",null,{"$f":"IF(ISERROR(VLOOKUP(#REF!,localizacao,2,FALSE)),\"\",VLOOKUP(#REF!,localizacao,2,FALSE))","v":""},null,"",null,""]
[null,"",null,{"$f":"IF(ISERROR(VLOOKUP(#REF!,localizacao,2,FALSE)),\"\",VLOOKUP(#REF!,localizacao,2,FALSE))","v":""},null,"",null,""]
[null,"",null,{"$f":"IF(ISERROR(VLOOKUP(#REF!,localizacao,2,FALSE)),\"\",VLOOKUP(#REF!,localizacao,2,FALSE))","v":""},null,"",null,""]
[null,"",null,{"$f":"IF(ISERROR(VLOOKUP(#REF!,localizacao,2,FALSE)),\"\",VLOOKUP(#REF!,localizacao,2,FALSE))","v":""},null,"",null,""]
[null,"",null,{"$f":"IF(ISERROR(VLOOKUP(#REF!,localizacao,2,FALSE)),\"\",VLOOKUP(#REF!,localizacao,2,FALSE))","v":""},null,"",null,""]
[null,"",null,{"$f":"IF(ISERROR(VLOOKUP(#REF!,localizacao,2,FALSE)),\"\",VLOOKUP(#REF!,localizacao,2,FALSE))","v":""},null,"",null,""]
[null,"",null,{"$f":"IF(ISERROR(VLOOKUP(#REF!,localizacao,2,FALSE)),\"\",VLOOKUP(#REF!,localizacao,2,FALSE))","v":""},null,"",null,""]
[null,"",null,{"$f":"IF(ISERROR(VLOOKUP(#REF!,localizacao,2,FALSE)),\"\",VLOOKUP(#REF!,localizacao,2,FALSE))","v":""},null,"",null,""]
[null,"",null,{"$f":"IF(ISERROR(VLOOKUP(#REF!,localizacao,2,FALSE)),\"\",VLOOKUP(#REF!,localizacao,2,FALSE))","v":""},null,"",null,""]
[null,"",null,{"$f":"IF(ISERROR(VLOOKUP(#REF!,localizacao,2,FALSE)),\"\",VLOOKUP(#REF!,localizacao,2,FALSE))","v":""},null,"",null,""]
[null,"",null,{"$f":"IF(ISERROR(VLOOKUP(#REF!,localizacao,2,FALSE)),\"\",VLOOKUP(#REF!,localizacao,2,FALSE))","v":""},null,"",null,""]
[null,"",null,{"$f":"IF(ISERROR(VLOOKUP(#REF!,localizacao,2,FALSE)),\"\",VLOOKUP(#REF!,localizacao,2,FALSE))","v":""},null,"",null,""]
[null,"",null,{"$f":"IF(ISERROR(VLOOKUP(#REF!,localizacao,2,FALSE)),\"\",VLOOKUP(#REF!,localizacao,2,FALSE))","v":""},null,"",null,""]
[null,"",null,{"$f":"IF(ISERROR(VLOOKUP(#REF!,localizacao,2,FALSE)),\"\",VLOOKUP(#REF!,localizacao,2,FALSE))","v":""},null,"",null,""]
[null,"",null,{"$f":"IF(ISERROR(VLOOKUP(#REF!,localizacao,2,FALSE)),\"\",VLOOKUP(#REF!,localizacao,2,FALSE))","v":""},null,"",null,""]
[null,"",null,{"$f":"IF(ISERROR(VLOOKUP(#REF!,localizacao,2,FALSE)),\"\",VLOOKUP(#REF!,localizacao,2,FALSE))","v":""},null,"",null,""]
[null,"",null,{"$f":"IF(ISERROR(VLOOKUP(#REF!,localizacao,2,FALSE)),\"\",VLOOKUP(#REF!,localizacao,2,FALSE))","v":""},null,"",null,""]
[null,"",null,{"$f":"IF(ISERROR(VLOOKUP(#REF!,localizacao,2,FALSE)),\"\",VLOOKUP(#REF!,localizacao,2,FALSE))","v":""},null,"",null,""]
[null,"",null,{"$f":"IF(ISERROR(VLOOKUP(#REF!,localizacao,2,FALSE)),\"\",VLOOKUP(#REF!,localizacao,2,FALSE))","v":""},null,"",null,""]
[null,"",null,{"$f":"IF(ISERROR(VLOOKUP(#REF!,localizacao,2,FALSE)),\"\",VLOOKUP(#REF!,localizacao,2,FALSE))","v":""},null,"",null,""]
[null,"",null,{"$f":"IF(ISERROR(VLOOKUP(#REF!,localizacao,2,FALSE)),\"\",VLOOKUP(#REF!,localizacao,2,FALSE))","v":""},null,"",null,""]
[null,"",null,{"$f":"IF(ISERROR(VLOOKUP(#REF!,localizacao,2,FALSE)),\"\",VLOOKUP(#REF!,localizacao,2,FALSE))","v":""},null,"",null,""]
[null,"",null,{"$f":"IF(ISERROR(VLOOKUP(#REF!,localizacao,2,FALSE)),\"\",VLOOKUP(#REF!,localizacao,2,FALSE))","v":""},null,{"$f":"IF(ISERROR(VLOOKUP(G198,componentes,2,FALSE)),\"\",VLOOKUP(G198,componentes,2,FALSE))","v":""},null,{"$f":"IF(ISERROR(VLOOKUP(I198,rubricas,2,FALSE)),\"\",VLOOKUP(I198,rubricas,2,FALSE))","v":""}]
[null,{"$f":"IF(C199<>\"\",+B198+1,\"\")","v":""},null,{"$f":"IF(ISERROR(VLOOKUP(#REF!,localizacao,2,FALSE)),\"\",VLOOKUP(#REF!,localizacao,2,FALSE))","v":""},null,"",null,""]
[null,"",null,{"$f":"IF(ISERROR(VLOOKUP(#REF!,localizacao,2,FALSE)),\"\",VLOOKUP(#REF!,localizacao,2,FALSE))","v":""},null,"",null,""]
[null,"",null,{"$f":"IF(ISERROR(VLOOKUP(#REF!,localizacao,2,FALSE)),\"\",VLOOKUP(#REF!,localizacao,2,FALSE))","v":""},null,"",null,""]
[null,"",null,{"$f":"IF(ISERROR(VLOOKUP(#REF!,localizacao,2,FALSE)),\"\",VLOOKUP(#REF!,localizacao,2,FALSE))","v":""},null,"",null,""]
[null,"",null,{"$f":"IF(ISERROR(VLOOKUP(#REF!,localizacao,2,FALSE)),\"\",VLOOKUP(#REF!,localizacao,2,FALSE))","v":""},null,"",null,""]
[null,"",null,{"$f":"IF(ISERROR(VLOOKUP(#REF!,localizacao,2,FALSE)),\"\",VLOOKUP(#REF!,localizacao,2,FALSE))","v":""},null,"",null,""]
[null,"",null,{"$f":"IF(ISERROR(VLOOKUP(#REF!,localizacao,2,FALSE)),\"\",VLOOKUP(#REF!,localizacao,2,FALSE))","v":""},null,"",null,""]
[null,"",null,{"$f":"IF(ISERROR(VLOOKUP(#REF!,localizacao,2,FALSE)),\"\",VLOOKUP(#REF!,localizacao,2,FALSE))","v":""},null,"",null,""]
[null,"",null,{"$f":"IF(ISERROR(VLOOKUP(#REF!,localizacao,2,FALSE)),\"\",VLOOKUP(#REF!,localizacao,2,FALSE))","v":""},null,"",null,""]
[null,"",null,{"$f":"IF(ISERROR(VLOOKUP(#REF!,localizacao,2,FALSE)),\"\",VLOOKUP(#REF!,localizacao,2,FALSE))","v":""},null,"",null,""]
[null,"",null,{"$f":"IF(ISERROR(VLOOKUP(#REF!,localizacao,2,FALSE)),\"\",VLOOKUP(#REF!,localizacao,2,FALSE))","v":""},null,"",null,""]
[null,"",null,{"$f":"IF(ISERROR(VLOOKUP(#REF!,localizacao,2,FALSE)),\"\",VLOOKUP(#REF!,localizacao,2,FALSE))","v":""},null,"",null,""]
[null,"",null,{"$f":"IF(ISERROR(VLOOKUP(#REF!,localizacao,2,FALSE)),\"\",VLOOKUP(#REF!,localizacao,2,FALSE))","v":""},null,"",null,""]
[null,"",null,{"$f":"IF(ISERROR(VLOOKUP(#REF!,localizacao,2,FALSE)),\"\",VLOOKUP(#REF!,localizacao,2,FALSE))","v":""},null,"",null,""]
[null,"",null,{"$f":"IF(ISERROR(VLOOKUP(#REF!,localizacao,2,FALSE)),\"\",VLOOKUP(#REF!,localizacao,2,FALSE))","v":""},null,"",null,""]
[null,"",null,{"$f":"IF(ISERROR(VLOOKUP(#REF!,localizacao,2,FALSE)),\"\",VLOOKUP(#REF!,localizacao,2,FALSE))","v":""},null,"",null,""]
[null,"",null,{"$f":"IF(ISERROR(VLOOKUP(#REF!,localizacao,2,FALSE)),\"\",VLOOKUP(#REF!,localizacao,2,FALSE))","v":""},null,"",null,""]
[null,"",null,{"$f":"IF(ISERROR(VLOOKUP(#REF!,localizacao,2,FALSE)),\"\",VLOOKUP(#REF!,localizacao,2,FALSE))","v":""},null,"",null,""]
[null,"",null,{"$f":"IF(ISERROR(VLOOKUP(#REF!,localizacao,2,FALSE)),\"\",VLOOKUP(#REF!,localizacao,2,FALSE))","v":""},null,"",null,""]
[null,"",null,{"$f":"IF(ISERROR(VLOOKUP(#REF!,localizacao,2,FALSE)),\"\",VLOOKUP(#REF!,localizacao,2,FALSE))","v":""},null,"",null,""]
[null,"",null,{"$f":"IF(ISERROR(VLOOKUP(#REF!,localizacao,2,FALSE)),\"\",VLOOKUP(#REF!,localizacao,2,FALSE))","v":""},null,"",null,""]
[null,"",null,{"$f":"IF(ISERROR(VLOOKUP(#REF!,localizacao,2,FALSE)),\"\",VLOOKUP(#REF!,localizacao,2,FALSE))","v":""},null,"",null,""]
[null,"",null,{"$f":"IF(ISERROR(VLOOKUP(#REF!,localizacao,2,FALSE)),\"\",VLOOKUP(#REF!,localizacao,2,FALSE))","v":""},null,"",null,""]
[null,"",null,{"$f":"IF(ISERROR(VLOOKUP(#REF!,localizacao,2,FALSE)),\"\",VLOOKUP(#REF!,localizacao,2,FALSE))","v":""},null,"",null,""]
[null,"",null,{"$f":"IF(ISERROR(VLOOKUP(#REF!,localizacao,2,FALSE)),\"\",VLOOKUP(#REF!,localizacao,2,FALSE))","v":""},null,"",null,""]
[null,"",null,{"$f":"IF(ISERROR(VLOOKUP(#REF!,localizacao,2,FALSE)),\"\",VLOOKUP(#REF!,localizacao,2,FALSE))","v":""},null,"",null,""]
[null,"",null,{"$f":"IF(ISERROR(VLOOKUP(#REF!,localizacao,2,FALSE)),\"\",VLOOKUP(#REF!,localizacao,2,FALSE))","v":""},null,"",null,""]
[null,"",null,{"$f":"IF(ISERROR(VLOOKUP(#REF!,localizacao,2,FALSE)),\"\",VLOOKUP(#REF!,localizacao,2,FALSE))","v":""},null,"",null,""]
[null,"",null,{"$f":"IF(ISERROR(VLOOKUP(#REF!,localizacao,2,FALSE)),\"\",VLOOKUP(#REF!,localizacao,2,FALSE))","v":""},null,"",null,""]
[null,"",null,{"$f":"IF(ISERROR(VLOOKUP(#REF!,localizacao,2,FALSE)),\"\",VLOOKUP(#REF!,localizacao,2,FALSE))","v":""},null,"",null,""]
[null,"",null,{"$f":"IF(ISERROR(VLOOKUP(#REF!,localizacao,2,FALSE)),\"\",VLOOKUP(#REF!,localizacao,2,FALSE))","v":""},null,"",null,""]
[null,"",null,{"$f":"IF(ISERROR(VLOOKUP(#REF!,localizacao,2,FALSE)),\"\",VLOOKUP(#REF!,localizacao,2,FALSE))","v":""},null,"",null,""]
[null,"",null,{"$f":"IF(ISERROR(VLOOKUP(#REF!,localizacao,2,FALSE)),\"\",VLOOKUP(#REF!,localizacao,2,FALSE))","v":""},null,"",null,""]
[null,"",null,{"$f":"IF(ISERROR(VLOOKUP(#REF!,localizacao,2,FALSE)),\"\",VLOOKUP(#REF!,localizacao,2,FALSE))","v":""},null,"",null,""]
[null,"",null,{"$f":"IF(ISERROR(VLOOKUP(#REF!,localizacao,2,FALSE)),\"\",VLOOKUP(#REF!,localizacao,2,FALSE))","v":""},null,"",null,""]
[null,"",null,{"$f":"IF(ISERROR(VLOOKUP(#REF!,localizacao,2,FALSE)),\"\",VLOOKUP(#REF!,localizacao,2,FALSE))","v":""},null,"",null,""]
[null,"",null,{"$f":"IF(ISERROR(VLOOKUP(#REF!,localizacao,2,FALSE)),\"\",VLOOKUP(#REF!,localizacao,2,FALSE))","v":""},null,"",null,""]
[null,"",null,{"$f":"IF(ISERROR(VLOOKUP(#REF!,localizacao,2,FALSE)),\"\",VLOOKUP(#REF!,localizacao,2,FALSE))","v":""},null,"",null,""]
[null,"",null,{"$f":"IF(ISERROR(VLOOKUP(#REF!,localizacao,2,FALSE)),\"\",VLOOKUP(#REF!,localizacao,2,FALSE))","v":""},null,"",null,""]
[null,"",null,{"$f":"IF(ISERROR(VLOOKUP(#REF!,localizacao,2,FALSE)),\"\",VLOOKUP(#REF!,localizacao,2,FALSE))","v":""},null,"",null,""]
[null,"",null,{"$f":"IF(ISERROR(VLOOKUP(#REF!,localizacao,2,FALSE)),\"\",VLOOKUP(#REF!,localizacao,2,FALSE))","v":""},null,"",null,""]
[null,"",null,{"$f":"IF(ISERROR(VLOOKUP(#REF!,localizacao,2,FALSE)),\"\",VLOOKUP(#REF!,localizacao,2,FALSE))","v":""},null,"",null,""]
[null,"",null,{"$f":"IF(ISERROR(VLOOKUP(#REF!,localizacao,2,FALSE)),\"\",VLOOKUP(#REF!,localizacao,2,FALSE))","v":""},null,"",null,""]
[null,"",null,{"$f":"IF(ISERROR(VLOOKUP(#REF!,localizacao,2,FALSE)),\"\",VLOOKUP(#REF!,localizacao,2,FALSE))","v":""},null,"",null,""]
[null,"",null,{"$f":"IF(ISERROR(VLOOKUP(#REF!,localizacao,2,FALSE)),\"\",VLOOKUP(#REF!,localizacao,2,FALSE))","v":""},null,"",null,""]
[null,"",null,{"$f":"IF(ISERROR(VLOOKUP(#REF!,localizacao,2,FALSE)),\"\",VLOOKUP(#REF!,localizacao,2,FALSE))","v":""},null,"",null,""]
[null,"",null,{"$f":"IF(ISERROR(VLOOKUP(#REF!,localizacao,2,FALSE)),\"\",VLOOKUP(#REF!,localizacao,2,FALSE))","v":""},null,"",null,""]
[null,"",null,{"$f":"IF(ISERROR(VLOOKUP(#REF!,localizacao,2,FALSE)),\"\",VLOOKUP(#REF!,localizacao,2,FALSE))","v":""},null,"",null,""]
[null,"",null,{"$f":"IF(ISERROR(VLOOKUP(#REF!,localizacao,2,FALSE)),\"\",VLOOKUP(#REF!,localizacao,2,FALSE))","v":""},null,"",null,""]
[null,"",null,{"$f":"IF(ISERROR(VLOOKUP(#REF!,localizacao,2,FALSE)),\"\",VLOOKUP(#REF!,localizacao,2,FALSE))","v":""},null,"",null,""]
[null,"",null,{"$f":"IF(ISERROR(VLOOKUP(#REF!,localizacao,2,FALSE)),\"\",VLOOKUP(#REF!,localizacao,2,FALSE))","v":""},null,"",null,""]
[null,"",null,{"$f":"IF(ISERROR(VLOOKUP(#REF!,localizacao,2,FALSE)),\"\",VLOOKUP(#REF!,localizacao,2,FALSE))","v":""},null,"",null,""]
[null,"",null,{"$f":"IF(ISERROR(VLOOKUP(#REF!,localizacao,2,FALSE)),\"\",VLOOKUP(#REF!,localizacao,2,FALSE))","v":""},null,"",null,""]
[null,"",null,{"$f":"IF(ISERROR(VLOOKUP(#REF!,localizacao,2,FALSE)),\"\",VLOOKUP(#REF!,localizacao,2,FALSE))","v":""},null,"",null,""]
[null,"",null,{"$f":"IF(ISERROR(VLOOKUP(#REF!,localizacao,2,FALSE)),\"\",VLOOKUP(#REF!,localizacao,2,FALSE))","v":""},null,"",null,""]
[null,"",null,{"$f":"IF(ISERROR(VLOOKUP(#REF!,localizacao,2,FALSE)),\"\",VLOOKUP(#REF!,localizacao,2,FALSE))","v":""},null,"",null,""]
[null,"",null,{"$f":"IF(ISERROR(VLOOKUP(#REF!,localizacao,2,FALSE)),\"\",VLOOKUP(#REF!,localizacao,2,FALSE))","v":""},null,"",null,""]
[null,"",null,{"$f":"IF(ISERROR(VLOOKUP(#REF!,localizacao,2,FALSE)),\"\",VLOOKUP(#REF!,localizacao,2,FALSE))","v":""},null,"",null,""]
[null,"",null,{"$f":"IF(ISERROR(VLOOKUP(#REF!,localizacao,2,FALSE)),\"\",VLOOKUP(#REF!,localizacao,2,FALSE))","v":""},null,"",null,""]
[null,"",null,{"$f":"IF(ISERROR(VLOOKUP(#REF!,localizacao,2,FALSE)),\"\",VLOOKUP(#REF!,localizacao,2,FALSE))","v":""},null,"",null,""]
[null,"",null,{"$f":"IF(ISERROR(VLOOKUP(#REF!,localizacao,2,FALSE)),\"\",VLOOKUP(#REF!,localizacao,2,FALSE))","v":""},null,"",null,""]
[null,"",null,{"$f":"IF(ISERROR(VLOOKUP(#REF!,localizacao,2,FALSE)),\"\",VLOOKUP(#REF!,localizacao,2,FALSE))","v":""},null,"",null,""]
[null,"",null,{"$f":"IF(ISERROR(VLOOKUP(#REF!,localizacao,2,FALSE)),\"\",VLOOKUP(#REF!,localizacao,2,FALSE))","v":""},null,"",null,""]
[null,"",null,{"$f":"IF(ISERROR(VLOOKUP(#REF!,localizacao,2,FALSE)),\"\",VLOOKUP(#REF!,localizacao,2,FALSE))","v":""},null,{"$f":"IF(ISERROR(VLOOKUP(G262,componentes,2,FALSE)),\"\",VLOOKUP(G262,componentes,2,FALSE))","v":""},null,{"$f":"IF(ISERROR(VLOOKUP(I262,rubricas,2,FALSE)),\"\",VLOOKUP(I262,rubricas,2,FALSE))","v":""}]
[null,{"$f":"IF(C263<>\"\",+B262+1,\"\")","v":""},null,{"$f":"IF(ISERROR(VLOOKUP(#REF!,localizacao,2,FALSE)),\"\",VLOOKUP(#REF!,localizacao,2,FALSE))","v":""},null,"",null,""]
[null,"",null,{"$f":"IF(ISERROR(VLOOKUP(#REF!,localizacao,2,FALSE)),\"\",VLOOKUP(#REF!,localizacao,2,FALSE))","v":""},null,"",null,""]
[null,"",null,{"$f":"IF(ISERROR(VLOOKUP(#REF!,localizacao,2,FALSE)),\"\",VLOOKUP(#REF!,localizacao,2,FALSE))","v":""},null,"",null,""]
[null,"",null,{"$f":"IF(ISERROR(VLOOKUP(#REF!,localizacao,2,FALSE)),\"\",VLOOKUP(#REF!,localizacao,2,FALSE))","v":""},null,"",null,""]
[null,"",null,{"$f":"IF(ISERROR(VLOOKUP(#REF!,localizacao,2,FALSE)),\"\",VLOOKUP(#REF!,localizacao,2,FALSE))","v":""},null,"",null,""]
[null,"",null,{"$f":"IF(ISERROR(VLOOKUP(#REF!,localizacao,2,FALSE)),\"\",VLOOKUP(#REF!,localizacao,2,FALSE))","v":""},null,"",null,""]
[null,"",null,{"$f":"IF(ISERROR(VLOOKUP(#REF!,localizacao,2,FALSE)),\"\",VLOOKUP(#REF!,localizacao,2,FALSE))","v":""},null,"",null,""]
[null,"",null,{"$f":"IF(ISERROR(VLOOKUP(#REF!,localizacao,2,FALSE)),\"\",VLOOKUP(#REF!,localizacao,2,FALSE))","v":""},null,"",null,""]
[null,"",null,{"$f":"IF(ISERROR(VLOOKUP(#REF!,localizacao,2,FALSE)),\"\",VLOOKUP(#REF!,localizacao,2,FALSE))","v":""},null,"",null,""]
[null,"",null,{"$f":"IF(ISERROR(VLOOKUP(#REF!,localizacao,2,FALSE)),\"\",VLOOKUP(#REF!,localizacao,2,FALSE))","v":""},null,"",null,""]
[null,"",null,{"$f":"IF(ISERROR(VLOOKUP(#REF!,localizacao,2,FALSE)),\"\",VLOOKUP(#REF!,localizacao,2,FALSE))","v":""},null,"",null,""]
[null,"",null,{"$f":"IF(ISERROR(VLOOKUP(#REF!,localizacao,2,FALSE)),\"\",VLOOKUP(#REF!,localizacao,2,FALSE))","v":""},null,"",null,""]
[null,"",null,{"$f":"IF(ISERROR(VLOOKUP(#REF!,localizacao,2,FALSE)),\"\",VLOOKUP(#REF!,localizacao,2,FALSE))","v":""},null,"",null,""]
[null,"",null,{"$f":"IF(ISERROR(VLOOKUP(#REF!,localizacao,2,FALSE)),\"\",VLOOKUP(#REF!,localizacao,2,FALSE))","v":""},null,"",null,""]
[null,"",null,{"$f":"IF(ISERROR(VLOOKUP(#REF!,localizacao,2,FALSE)),\"\",VLOOKUP(#REF!,localizacao,2,FALSE))","v":""},null,"",null,""]
[null,"",null,{"$f":"IF(ISERROR(VLOOKUP(#REF!,localizacao,2,FALSE)),\"\",VLOOKUP(#REF!,localizacao,2,FALSE))","v":""},null,"",null,""]
[null,"",null,{"$f":"IF(ISERROR(VLOOKUP(#REF!,localizacao,2,FALSE)),\"\",VLOOKUP(#REF!,localizacao,2,FALSE))","v":""},null,"",null,""]
[null,"",null,{"$f":"IF(ISERROR(VLOOKUP(#REF!,localizacao,2,FALSE)),\"\",VLOOKUP(#REF!,localizacao,2,FALSE))","v":""},null,"",null,""]
[null,"",null,{"$f":"IF(ISERROR(VLOOKUP(#REF!,localizacao,2,FALSE)),\"\",VLOOKUP(#REF!,localizacao,2,FALSE))","v":""},null,"",null,""]
[null,"",null,{"$f":"IF(ISERROR(VLOOKUP(#REF!,localizacao,2,FALSE)),\"\",VLOOKUP(#REF!,localizacao,2,FALSE))","v":""},null,"",null,""]
[null,"",null,{"$f":"IF(ISERROR(VLOOKUP(#REF!,localizacao,2,FALSE)),\"\",VLOOKUP(#REF!,localizacao,2,FALSE))","v":""},null,"",null,""]
[null,"",null,{"$f":"IF(ISERROR(VLOOKUP(#REF!,localizacao,2,FALSE)),\"\",VLOOKUP(#REF!,localizacao,2,FALSE))","v":""},null,"",null,""]
[null,"",null,{"$f":"IF(ISERROR(VLOOKUP(#REF!,localizacao,2,FALSE)),\"\",VLOOKUP(#REF!,localizacao,2,FALSE))","v":""},null,"",null,""]
[null,"",null,{"$f":"IF(ISERROR(VLOOKUP(#REF!,localizacao,2,FALSE)),\"\",VLOOKUP(#REF!,localizacao,2,FALSE))","v":""},null,"",null,""]
[null,"",null,{"$f":"IF(ISERROR(VLOOKUP(#REF!,localizacao,2,FALSE)),\"\",VLOOKUP(#REF!,localizacao,2,FALSE))","v":""},null,"",null,""]
[null,"",null,{"$f":"IF(ISERROR(VLOOKUP(#REF!,localizacao,2,FALSE)),\"\",VLOOKUP(#REF!,localizacao,2,FALSE))","v":""},null,"",null,""]
[null,"",null,{"$f":"IF(ISERROR(VLOOKUP(#REF!,localizacao,2,FALSE)),\"\",VLOOKUP(#REF!,localizacao,2,FALSE))","v":""},null,"",null,""]
[null,"",null,{"$f":"IF(ISERROR(VLOOKUP(#REF!,localizacao,2,FALSE)),\"\",VLOOKUP(#REF!,localizacao,2,FALSE))","v":""},null,"",null,""]
[null,"",null,{"$f":"IF(ISERROR(VLOOKUP(#REF!,localizacao,2,FALSE)),\"\",VLOOKUP(#REF!,localizacao,2,FALSE))","v":""},null,"",null,""]
[null,"",null,{"$f":"IF(ISERROR(VLOOKUP(#REF!,localizacao,2,FALSE)),\"\",VLOOKUP(#REF!,localizacao,2,FALSE))","v":""},null,"",null,""]
[null,"",null,{"$f":"IF(ISERROR(VLOOKUP(#REF!,localizacao,2,FALSE)),\"\",VLOOKUP(#REF!,localizacao,2,FALSE))","v":""},null,"",null,""]
[null,"",null,{"$f":"IF(ISERROR(VLOOKUP(#REF!,localizacao,2,FALSE)),\"\",VLOOKUP(#REF!,localizacao,2,FALSE))","v":""},null,"",null,""]
[null,"",null,{"$f":"IF(ISERROR(VLOOKUP(#REF!,localizacao,2,FALSE)),\"\",VLOOKUP(#REF!,localizacao,2,FALSE))","v":""},null,"",null,""]
[null,"",null,{"$f":"IF(ISERROR(VLOOKUP(#REF!,localizacao,2,FALSE)),\"\",VLOOKUP(#REF!,localizacao,2,FALSE))","v":""},null,"",null,""]
[null,"",null,{"$f":"IF(ISERROR(VLOOKUP(#REF!,localizacao,2,FALSE)),\"\",VLOOKUP(#REF!,localizacao,2,FALSE))","v":""},null,"",null,""]
[null,"",null,{"$f":"IF(ISERROR(VLOOKUP(#REF!,localizacao,2,FALSE)),\"\",VLOOKUP(#REF!,localizacao,2,FALSE))","v":""},null,"",null,""]
[null,"",null,{"$f":"IF(ISERROR(VLOOKUP(#REF!,localizacao,2,FALSE)),\"\",VLOOKUP(#REF!,localizacao,2,FALSE))","v":""},null,"",null,""]
[null,"",null,{"$f":"IF(ISERROR(VLOOKUP(#REF!,localizacao,2,FALSE)),\"\",VLOOKUP(#REF!,localizacao,2,FALSE))","v":""},null,"",null,""]
[null,"",null,{"$f":"IF(ISERROR(VLOOKUP(#REF!,localizacao,2,FALSE)),\"\",VLOOKUP(#REF!,localizacao,2,FALSE))","v":""},null,"",null,""]
[null,"",null,{"$f":"IF(ISERROR(VLOOKUP(#REF!,localizacao,2,FALSE)),\"\",VLOOKUP(#REF!,localizacao,2,FALSE))","v":""},null,"",null,""]
[null,"",null,{"$f":"IF(ISERROR(VLOOKUP(#REF!,localizacao,2,FALSE)),\"\",VLOOKUP(#REF!,localizacao,2,FALSE))","v":""},null,"",null,""]
[null,"",null,{"$f":"IF(ISERROR(VLOOKUP(#REF!,localizacao,2,FALSE)),\"\",VLOOKUP(#REF!,localizacao,2,FALSE))","v":""},null,"",null,""]
[null,"",null,{"$f":"IF(ISERROR(VLOOKUP(#REF!,localizacao,2,FALSE)),\"\",VLOOKUP(#REF!,localizacao,2,FALSE))","v":""},null,"",null,""]
[null,"",null,{"$f":"IF(ISERROR(VLOOKUP(#REF!,localizacao,2,FALSE)),\"\",VLOOKUP(#REF!,localizacao,2,FALSE))","v":""},null,"",null,""]
[null,"",null,{"$f":"IF(ISERROR(VLOOKUP(#REF!,localizacao,2,FALSE)),\"\",VLOOKUP(#REF!,localizacao,2,FALSE))","v":""},null,"",null,""]
[null,"",null,{"$f":"IF(ISERROR(VLOOKUP(#REF!,localizacao,2,FALSE)),\"\",VLOOKUP(#REF!,localizacao,2,FALSE))","v":""},null,"",null,""]
[null,"",null,{"$f":"IF(ISERROR(VLOOKUP(#REF!,localizacao,2,FALSE)),\"\",VLOOKUP(#REF!,localizacao,2,FALSE))","v":""},null,"",null,""]
[null,"",null,{"$f":"IF(ISERROR(VLOOKUP(#REF!,localizacao,2,FALSE)),\"\",VLOOKUP(#REF!,localizacao,2,FALSE))","v":""},null,"",null,""]
[null,"",null,{"$f":"IF(ISERROR(VLOOKUP(#REF!,localizacao,2,FALSE)),\"\",VLOOKUP(#REF!,localizacao,2,FALSE))","v":""},null,"",null,""]
[null,"",null,{"$f":"IF(ISERROR(VLOOKUP(#REF!,localizacao,2,FALSE)),\"\",VLOOKUP(#REF!,localizacao,2,FALSE))","v":""},null,"",null,""]
[null,"",null,{"$f":"IF(ISERROR(VLOOKUP(#REF!,localizacao,2,FALSE)),\"\",VLOOKUP(#REF!,localizacao,2,FALSE))","v":""},null,"",null,""]
[null,"",null,{"$f":"IF(ISERROR(VLOOKUP(#REF!,localizacao,2,FALSE)),\"\",VLOOKUP(#REF!,localizacao,2,FALSE))","v":""},null,"",null,""]
[null,"",null,{"$f":"IF(ISERROR(VLOOKUP(#REF!,localizacao,2,FALSE)),\"\",VLOOKUP(#REF!,localizacao,2,FALSE))","v":""},null,"",null,""]
[null,"",null,{"$f":"IF(ISERROR(VLOOKUP(#REF!,localizacao,2,FALSE)),\"\",VLOOKUP(#REF!,localizacao,2,FALSE))","v":""},null,"",null,""]
[null,"",null,{"$f":"IF(ISERROR(VLOOKUP(#REF!,localizacao,2,FALSE)),\"\",VLOOKUP(#REF!,localizacao,2,FALSE))","v":""},null,"",null,""]
[null,"",null,{"$f":"IF(ISERROR(VLOOKUP(#REF!,localizacao,2,FALSE)),\"\",VLOOKUP(#REF!,localizacao,2,FALSE))","v":""},null,"",null,""]
[null,"",null,{"$f":"IF(ISERROR(VLOOKUP(#REF!,localizacao,2,FALSE)),\"\",VLOOKUP(#REF!,localizacao,2,FALSE))","v":""},null,"",null,""]
[null,"",null,{"$f":"IF(ISERROR(VLOOKUP(#REF!,localizacao,2,FALSE)),\"\",VLOOKUP(#REF!,localizacao,2,FALSE))","v":""},null,"",null,""]
[null,"",null,{"$f":"IF(ISERROR(VLOOKUP(#REF!,localizacao,2,FALSE)),\"\",VLOOKUP(#REF!,localizacao,2,FALSE))","v":""},null,"",null,""]
[null,"",null,{"$f":"IF(ISERROR(VLOOKUP(#REF!,localizacao,2,FALSE)),\"\",VLOOKUP(#REF!,localizacao,2,FALSE))","v":""},null,"",null,""]
[null,"",null,{"$f":"IF(ISERROR(VLOOKUP(#REF!,localizacao,2,FALSE)),\"\",VLOOKUP(#REF!,localizacao,2,FALSE))","v":""},null,"",null,""]
[null,"",null,{"$f":"IF(ISERROR(VLOOKUP(#REF!,localizacao,2,FALSE)),\"\",VLOOKUP(#REF!,localizacao,2,FALSE))","v":""},null,"",null,""]
[null,"",null,{"$f":"IF(ISERROR(VLOOKUP(#REF!,localizacao,2,FALSE)),\"\",VLOOKUP(#REF!,localizacao,2,FALSE))","v":""},null,"",null,""]
[null,"",null,{"$f":"IF(ISERROR(VLOOKUP(#REF!,localizacao,2,FALSE)),\"\",VLOOKUP(#REF!,localizacao,2,FALSE))","v":""},null,{"$f":"IF(ISERROR(VLOOKUP(G326,componentes,2,FALSE)),\"\",VLOOKUP(G326,componentes,2,FALSE))","v":""},null,{"$f":"IF(ISERROR(VLOOKUP(I326,rubricas,2,FALSE)),\"\",VLOOKUP(I326,rubricas,2,FALSE))","v":""}]
[null,{"$f":"IF(C327<>\"\",+B326+1,\"\")","v":""},null,{"$f":"IF(ISERROR(VLOOKUP(#REF!,localizacao,2,FALSE)),\"\",VLOOKUP(#REF!,localizacao,2,FALSE))","v":""},null,"",null,""]
[null,"",null,{"$f":"IF(ISERROR(VLOOKUP(#REF!,localizacao,2,FALSE)),\"\",VLOOKUP(#REF!,localizacao,2,FALSE))","v":""},null,"",null,""]
[null,"",null,{"$f":"IF(ISERROR(VLOOKUP(#REF!,localizacao,2,FALSE)),\"\",VLOOKUP(#REF!,localizacao,2,FALSE))","v":""},null,"",null,""]
[null,"",null,{"$f":"IF(ISERROR(VLOOKUP(#REF!,localizacao,2,FALSE)),\"\",VLOOKUP(#REF!,localizacao,2,FALSE))","v":""},null,"",null,""]
[null,"",null,{"$f":"IF(ISERROR(VLOOKUP(#REF!,localizacao,2,FALSE)),\"\",VLOOKUP(#REF!,localizacao,2,FALSE))","v":""},null,"",null,""]
[null,"",null,{"$f":"IF(ISERROR(VLOOKUP(#REF!,localizacao,2,FALSE)),\"\",VLOOKUP(#REF!,localizacao,2,FALSE))","v":""},null,"",null,""]
[null,"",null,{"$f":"IF(ISERROR(VLOOKUP(#REF!,localizacao,2,FALSE)),\"\",VLOOKUP(#REF!,localizacao,2,FALSE))","v":""},null,"",null,""]
[null,"",null,{"$f":"IF(ISERROR(VLOOKUP(#REF!,localizacao,2,FALSE)),\"\",VLOOKUP(#REF!,localizacao,2,FALSE))","v":""},null,"",null,""]
[null,"",null,{"$f":"IF(ISERROR(VLOOKUP(#REF!,localizacao,2,FALSE)),\"\",VLOOKUP(#REF!,localizacao,2,FALSE))","v":""},null,"",null,""]
[null,"",null,{"$f":"IF(ISERROR(VLOOKUP(#REF!,localizacao,2,FALSE)),\"\",VLOOKUP(#REF!,localizacao,2,FALSE))","v":""},null,"",null,""]
[null,"",null,{"$f":"IF(ISERROR(VLOOKUP(#REF!,localizacao,2,FALSE)),\"\",VLOOKUP(#REF!,localizacao,2,FALSE))","v":""},null,"",null,""]
[null,"",null,{"$f":"IF(ISERROR(VLOOKUP(#REF!,localizacao,2,FALSE)),\"\",VLOOKUP(#REF!,localizacao,2,FALSE))","v":""},null,"",null,""]
[null,"",null,{"$f":"IF(ISERROR(VLOOKUP(#REF!,localizacao,2,FALSE)),\"\",VLOOKUP(#REF!,localizacao,2,FALSE))","v":""},null,"",null,""]
[null,"",null,{"$f":"IF(ISERROR(VLOOKUP(#REF!,localizacao,2,FALSE)),\"\",VLOOKUP(#REF!,localizacao,2,FALSE))","v":""},null,"",null,""]
[null,"",null,{"$f":"IF(ISERROR(VLOOKUP(#REF!,localizacao,2,FALSE)),\"\",VLOOKUP(#REF!,localizacao,2,FALSE))","v":""},null,"",null,""]
[null,"",null,{"$f":"IF(ISERROR(VLOOKUP(#REF!,localizacao,2,FALSE)),\"\",VLOOKUP(#REF!,localizacao,2,FALSE))","v":""},null,"",null,""]
[null,"",null,{"$f":"IF(ISERROR(VLOOKUP(#REF!,localizacao,2,FALSE)),\"\",VLOOKUP(#REF!,localizacao,2,FALSE))","v":""},null,"",null,""]
[null,"",null,{"$f":"IF(ISERROR(VLOOKUP(#REF!,localizacao,2,FALSE)),\"\",VLOOKUP(#REF!,localizacao,2,FALSE))","v":""},null,"",null,""]
[null,"",null,{"$f":"IF(ISERROR(VLOOKUP(#REF!,localizacao,2,FALSE)),\"\",VLOOKUP(#REF!,localizacao,2,FALSE))","v":""},null,"",null,""]
[null,"",null,{"$f":"IF(ISERROR(VLOOKUP(#REF!,localizacao,2,FALSE)),\"\",VLOOKUP(#REF!,localizacao,2,FALSE))","v":""},null,"",null,""]
[null,"",null,{"$f":"IF(ISERROR(VLOOKUP(#REF!,localizacao,2,FALSE)),\"\",VLOOKUP(#REF!,localizacao,2,FALSE))","v":""},null,"",null,""]
[null,"",null,{"$f":"IF(ISERROR(VLOOKUP(#REF!,localizacao,2,FALSE)),\"\",VLOOKUP(#REF!,localizacao,2,FALSE))","v":""},null,"",null,""]
[null,"",null,{"$f":"IF(ISERROR(VLOOKUP(#REF!,localizacao,2,FALSE)),\"\",VLOOKUP(#REF!,localizacao,2,FALSE))","v":""},null,"",null,""]
[null,"",null,{"$f":"IF(ISERROR(VLOOKUP(#REF!,localizacao,2,FALSE)),\"\",VLOOKUP(#REF!,localizacao,2,FALSE))","v":""},null,"",null,""]
[null,"",null,{"$f":"IF(ISERROR(VLOOKUP(#REF!,localizacao,2,FALSE)),\"\",VLOOKUP(#REF!,localizacao,2,FALSE))","v":""},null,"",null,""]
[null,"",null,{"$f":"IF(ISERROR(VLOOKUP(#REF!,localizacao,2,FALSE)),\"\",VLOOKUP(#REF!,localizacao,2,FALSE))","v":""},null,"",null,""]
[null,"",null,{"$f":"IF(ISERROR(VLOOKUP(#REF!,localizacao,2,FALSE)),\"\",VLOOKUP(#REF!,localizacao,2,FALSE))","v":""},null,"",null,""]
[null,"",null,{"$f":"IF(ISERROR(VLOOKUP(#REF!,localizacao,2,FALSE)),\"\",VLOOKUP(#REF!,localizacao,2,FALSE))","v":""},null,"",null,""]
[null,"",null,{"$f":"IF(ISERROR(VLOOKUP(#REF!,localizacao,2,FALSE)),\"\",VLOOKUP(#REF!,localizacao,2,FALSE))","v":""},null,"",null,""]
[null,"",null,{"$f":"IF(ISERROR(VLOOKUP(#REF!,localizacao,2,FALSE)),\"\",VLOOKUP(#REF!,localizacao,2,FALSE))","v":""},null,"",null,""]
[null,"",null,{"$f":"IF(ISERROR(VLOOKUP(#REF!,localizacao,2,FALSE)),\"\",VLOOKUP(#REF!,localizacao,2,FALSE))","v":""},null,"",null,""]
[null,"",null,{"$f":"IF(ISERROR(VLOOKUP(#REF!,localizacao,2,FALSE)),\"\",VLOOKUP(#REF!,localizacao,2,FALSE))","v":""},null,"",null,""]
[null,"",null,{"$f":"IF(ISERROR(VLOOKUP(#REF!,localizacao,2,FALSE)),\"\",VLOOKUP(#REF!,localizacao,2,FALSE))","v":""},null,"",null,""]
[null,"",null,{"$f":"IF(ISERROR(VLOOKUP(#REF!,localizacao,2,FALSE)),\"\",VLOOKUP(#REF!,localizacao,2,FALSE))","v":""},null,"",null,""]
[null,"",null,{"$f":"IF(ISERROR(VLOOKUP(#REF!,localizacao,2,FALSE)),\"\",VLOOKUP(#REF!,localizacao,2,FALSE))","v":""},null,"",null,""]
[null,"",null,{"$f":"IF(ISERROR(VLOOKUP(#REF!,localizacao,2,FALSE)),\"\",VLOOKUP(#REF!,localizacao,2,FALSE))","v":""},null,"",null,""]
[null,"",null,{"$f":"IF(ISERROR(VLOOKUP(#REF!,localizacao,2,FALSE)),\"\",VLOOKUP(#REF!,localizacao,2,FALSE))","v":""},null,"",null,""]
[null,"",null,{"$f":"IF(ISERROR(VLOOKUP(#REF!,localizacao,2,FALSE)),\"\",VLOOKUP(#REF!,localizacao,2,FALSE))","v":""},null,"",null,""]
[null,"",null,{"$f":"IF(ISERROR(VLOOKUP(#REF!,localizacao,2,FALSE)),\"\",VLOOKUP(#REF!,localizacao,2,FALSE))","v":""},null,"",null,""]
[null,"",null,{"$f":"IF(ISERROR(VLOOKUP(#REF!,localizacao,2,FALSE)),\"\",VLOOKUP(#REF!,localizacao,2,FALSE))","v":""},null,"",null,""]
[null,"",null,{"$f":"IF(ISERROR(VLOOKUP(#REF!,localizacao,2,FALSE)),\"\",VLOOKUP(#REF!,localizacao,2,FALSE))","v":""},null,"",null,""]
[null,"",null,{"$f":"IF(ISERROR(VLOOKUP(#REF!,localizacao,2,FALSE)),\"\",VLOOKUP(#REF!,localizacao,2,FALSE))","v":""},null,"",null,""]
[null,"",null,{"$f":"IF(ISERROR(VLOOKUP(#REF!,localizacao,2,FALSE)),\"\",VLOOKUP(#REF!,localizacao,2,FALSE))","v":""},null,"",null,""]
[null,"",null,{"$f":"IF(ISERROR(VLOOKUP(#REF!,localizacao,2,FALSE)),\"\",VLOOKUP(#REF!,localizacao,2,FALSE))","v":""},null,"",null,""]
[null,"",null,{"$f":"IF(ISERROR(VLOOKUP(#REF!,localizacao,2,FALSE)),\"\",VLOOKUP(#REF!,localizacao,2,FALSE))","v":""},null,"",null,""]
[null,"",null,{"$f":"IF(ISERROR(VLOOKUP(#REF!,localizacao,2,FALSE)),\"\",VLOOKUP(#REF!,localizacao,2,FALSE))","v":""},null,"",null,""]
[null,"",null,{"$f":"IF(ISERROR(VLOOKUP(#REF!,localizacao,2,FALSE)),\"\",VLOOKUP(#REF!,localizacao,2,FALSE))","v":""},null,"",null,""]
[null,"",null,{"$f":"IF(ISERROR(VLOOKUP(#REF!,localizacao,2,FALSE)),\"\",VLOOKUP(#REF!,localizacao,2,FALSE))","v":""},null,"",null,""]
[null,"",null,{"$f":"IF(ISERROR(VLOOKUP(#REF!,localizacao,2,FALSE)),\"\",VLOOKUP(#REF!,localizacao,2,FALSE))","v":""},null,"",null,""]
[null,"",null,{"$f":"IF(ISERROR(VLOOKUP(#REF!,localizacao,2,FALSE)),\"\",VLOOKUP(#REF!,localizacao,2,FALSE))","v":""},null,"",null,""]
[null,"",null,{"$f":"IF(ISERROR(VLOOKUP(#REF!,localizacao,2,FALSE)),\"\",VLOOKUP(#REF!,localizacao,2,FALSE))","v":""},null,"",null,""]
[null,"",null,{"$f":"IF(ISERROR(VLOOKUP(#REF!,localizacao,2,FALSE)),\"\",VLOOKUP(#REF!,localizacao,2,FALSE))","v":""},null,"",null,""]
[null,"",null,{"$f":"IF(ISERROR(VLOOKUP(#REF!,localizacao,2,FALSE)),\"\",VLOOKUP(#REF!,localizacao,2,FALSE))","v":""},null,"",null,""]
[null,"",null,{"$f":"IF(ISERROR(VLOOKUP(#REF!,localizacao,2,FALSE)),\"\",VLOOKUP(#REF!,localizacao,2,FALSE))","v":""},null,"",null,""]
[null,"",null,{"$f":"IF(ISERROR(VLOOKUP(#REF!,localizacao,2,FALSE)),\"\",VLOOKUP(#REF!,localizacao,2,FALSE))","v":""},null,"",null,""]
[null,"",null,{"$f":"IF(ISERROR(VLOOKUP(#REF!,localizacao,2,FALSE)),\"\",VLOOKUP(#REF!,localizacao,2,FALSE))","v":""},null,"",null,""]
[null,"",null,{"$f":"IF(ISERROR(VLOOKUP(#REF!,localizacao,2,FALSE)),\"\",VLOOKUP(#REF!,localizacao,2,FALSE))","v":""},null,"",null,""]
[null,"",null,{"$f":"IF(ISERROR(VLOOKUP(#REF!,localizacao,2,FALSE)),\"\",VLOOKUP(#REF!,localizacao,2,FALSE))","v":""},null,"",null,""]
[null,"",null,{"$f":"IF(ISERROR(VLOOKUP(#REF!,localizacao,2,FALSE)),\"\",VLOOKUP(#REF!,localizacao,2,FALSE))","v":""},null,"",null,""]
[null,"",null,{"$f":"IF(ISERROR(VLOOKUP(#REF!,localizacao,2,FALSE)),\"\",VLOOKUP(#REF!,localizacao,2,FALSE))","v":""},null,"",null,""]
[null,"",null,{"$f":"IF(ISERROR(VLOOKUP(#REF!,localizacao,2,FALSE)),\"\",VLOOKUP(#REF!,localizacao,2,FALSE))","v":""},null,"",null,""]
[null,"",null,{"$f":"IF(ISERROR(VLOOKUP(#REF!,localizacao,2,FALSE)),\"\",VLOOKUP(#REF!,localizacao,2,FALSE))","v":""},null,"",null,""]
[null,"",null,{"$f":"IF(ISERROR(VLOOKUP(#REF!,localizacao,2,FALSE)),\"\",VLOOKUP(#REF!,localizacao,2,FALSE))","v":""},null,"",null,""]
[null,"",null,{"$f":"IF(ISERROR(VLOOKUP(#REF!,localizacao,2,FALSE)),\"\",VLOOKUP(#REF!,localizacao,2,FALSE))","v":""},null,{"$f":"IF(ISERROR(VLOOKUP(G390,componentes,2,FALSE)),\"\",VLOOKUP(G390,componentes,2,FALSE))","v":""},null,{"$f":"IF(ISERROR(VLOOKUP(I390,rubricas,2,FALSE)),\"\",VLOOKUP(I390,rubricas,2,FALSE))","v":""}]
[null,{"$f":"IF(C391<>\"\",+B390+1,\"\")","v":""},null,{"$f":"IF(ISERROR(VLOOKUP(#REF!,localizacao,2,FALSE)),\"\",VLOOKUP(#REF!,localizacao,2,FALSE))","v":""},null,"",null,""]
[null,"",null,{"$f":"IF(ISERROR(VLOOKUP(#REF!,localizacao,2,FALSE)),\"\",VLOOKUP(#REF!,localizacao,2,FALSE))","v":""},null,"",null,""]
[null,"",null,{"$f":"IF(ISERROR(VLOOKUP(#REF!,localizacao,2,FALSE)),\"\",VLOOKUP(#REF!,localizacao,2,FALSE))","v":""},null,"",null,""]
[null,"",null,{"$f":"IF(ISERROR(VLOOKUP(#REF!,localizacao,2,FALSE)),\"\",VLOOKUP(#REF!,localizacao,2,FALSE))","v":""},null,"",null,""]
[null,"",null,{"$f":"IF(ISERROR(VLOOKUP(#REF!,localizacao,2,FALSE)),\"\",VLOOKUP(#REF!,localizacao,2,FALSE))","v":""},null,"",null,""]
[null,"",null,{"$f":"IF(ISERROR(VLOOKUP(#REF!,localizacao,2,FALSE)),\"\",VLOOKUP(#REF!,localizacao,2,FALSE))","v":""},null,"",null,""]
[null,"",null,{"$f":"IF(ISERROR(VLOOKUP(#REF!,localizacao,2,FALSE)),\"\",VLOOKUP(#REF!,localizacao,2,FALSE))","v":""},null,"",null,""]
[null,"",null,{"$f":"IF(ISERROR(VLOOKUP(#REF!,localizacao,2,FALSE)),\"\",VLOOKUP(#REF!,localizacao,2,FALSE))","v":""},null,"",null,""]
[null,"",null,{"$f":"IF(ISERROR(VLOOKUP(#REF!,localizacao,2,FALSE)),\"\",VLOOKUP(#REF!,localizacao,2,FALSE))","v":""},null,"",null,""]
[null,"",null,{"$f":"IF(ISERROR(VLOOKUP(#REF!,localizacao,2,FALSE)),\"\",VLOOKUP(#REF!,localizacao,2,FALSE))","v":""},null,"",null,""]
[null,"",null,{"$f":"IF(ISERROR(VLOOKUP(#REF!,localizacao,2,FALSE)),\"\",VLOOKUP(#REF!,localizacao,2,FALSE))","v":""},null,"",null,""]
[null,"",null,{"$f":"IF(ISERROR(VLOOKUP(#REF!,localizacao,2,FALSE)),\"\",VLOOKUP(#REF!,localizacao,2,FALSE))","v":""},null,"",null,""]
[null,"",null,{"$f":"IF(ISERROR(VLOOKUP(#REF!,localizacao,2,FALSE)),\"\",VLOOKUP(#REF!,localizacao,2,FALSE))","v":""},null,"",null,""]
[null,"",null,{"$f":"IF(ISERROR(VLOOKUP(#REF!,localizacao,2,FALSE)),\"\",VLOOKUP(#REF!,localizacao,2,FALSE))","v":""},null,"",null,""]
[null,"",null,{"$f":"IF(ISERROR(VLOOKUP(#REF!,localizacao,2,FALSE)),\"\",VLOOKUP(#REF!,localizacao,2,FALSE))","v":""},null,"",null,""]
[null,"",null,{"$f":"IF(ISERROR(VLOOKUP(#REF!,localizacao,2,FALSE)),\"\",VLOOKUP(#REF!,localizacao,2,FALSE))","v":""},null,"",null,""]
[null,"",null,{"$f":"IF(ISERROR(VLOOKUP(#REF!,localizacao,2,FALSE)),\"\",VLOOKUP(#REF!,localizacao,2,FALSE))","v":""},null,"",null,""]
[null,"",null,{"$f":"IF(ISERROR(VLOOKUP(#REF!,localizacao,2,FALSE)),\"\",VLOOKUP(#REF!,localizacao,2,FALSE))","v":""},null,"",null,""]
[null,"",null,{"$f":"IF(ISERROR(VLOOKUP(#REF!,localizacao,2,FALSE)),\"\",VLOOKUP(#REF!,localizacao,2,FALSE))","v":""},null,"",null,""]
[null,"",null,{"$f":"IF(ISERROR(VLOOKUP(#REF!,localizacao,2,FALSE)),\"\",VLOOKUP(#REF!,localizacao,2,FALSE))","v":""},null,"",null,""]
[null,"",null,{"$f":"IF(ISERROR(VLOOKUP(#REF!,localizacao,2,FALSE)),\"\",VLOOKUP(#REF!,localizacao,2,FALSE))","v":""},null,"",null,""]
[null,"",null,{"$f":"IF(ISERROR(VLOOKUP(#REF!,localizacao,2,FALSE)),\"\",VLOOKUP(#REF!,localizacao,2,FALSE))","v":""},null,"",null,""]
[null,"",null,{"$f":"IF(ISERROR(VLOOKUP(#REF!,localizacao,2,FALSE)),\"\",VLOOKUP(#REF!,localizacao,2,FALSE))","v":""},null,"",null,""]
[null,"",null,{"$f":"IF(ISERROR(VLOOKUP(#REF!,localizacao,2,FALSE)),\"\",VLOOKUP(#REF!,localizacao,2,FALSE))","v":""},null,"",null,""]
[null,"",null,{"$f":"IF(ISERROR(VLOOKUP(#REF!,localizacao,2,FALSE)),\"\",VLOOKUP(#REF!,localizacao,2,FALSE))","v":""},null,"",null,""]
[null,"",null,{"$f":"IF(ISERROR(VLOOKUP(#REF!,localizacao,2,FALSE)),\"\",VLOOKUP(#REF!,localizacao,2,FALSE))","v":""},null,"",null,""]
[null,"",null,{"$f":"IF(ISERROR(VLOOKUP(#REF!,localizacao,2,FALSE)),\"\",VLOOKUP(#REF!,localizacao,2,FALSE))","v":""},null,"",null,""]
[null,"",null,{"$f":"IF(ISERROR(VLOOKUP(#REF!,localizacao,2,FALSE)),\"\",VLOOKUP(#REF!,localizacao,2,FALSE))","v":""},null,"",null,""]
[null,"",null,{"$f":"IF(ISERROR(VLOOKUP(#REF!,localizacao,2,FALSE)),\"\",VLOOKUP(#REF!,localizacao,2,FALSE))","v":""},null,"",null,""]
[null,"",null,{"$f":"IF(ISERROR(VLOOKUP(#REF!,localizacao,2,FALSE)),\"\",VLOOKUP(#REF!,localizacao,2,FALSE))","v":""},null,"",null,""]
[null,"",null,{"$f":"IF(ISERROR(VLOOKUP(#REF!,localizacao,2,FALSE)),\"\",VLOOKUP(#REF!,localizacao,2,FALSE))","v":""},null,"",null,""]
[null,"",null,{"$f":"IF(ISERROR(VLOOKUP(#REF!,localizacao,2,FALSE)),\"\",VLOOKUP(#REF!,localizacao,2,FALSE))","v":""},null,"",null,""]
[null,"",null,{"$f":"IF(ISERROR(VLOOKUP(#REF!,localizacao,2,FALSE)),\"\",VLOOKUP(#REF!,localizacao,2,FALSE))","v":""},null,"",null,""]
[null,"",null,{"$f":"IF(ISERROR(VLOOKUP(#REF!,localizacao,2,FALSE)),\"\",VLOOKUP(#REF!,localizacao,2,FALSE))","v":""},null,"",null,""]
[null,"",null,{"$f":"IF(ISERROR(VLOOKUP(#REF!,localizacao,2,FALSE)),\"\",VLOOKUP(#REF!,localizacao,2,FALSE))","v":""},null,"",null,""]
[null,"",null,{"$f":"IF(ISERROR(VLOOKUP(#REF!,localizacao,2,FALSE)),\"\",VLOOKUP(#REF!,localizacao,2,FALSE))","v":""},null,"",null,""]
[null,"",null,{"$f":"IF(ISERROR(VLOOKUP(#REF!,localizacao,2,FALSE)),\"\",VLOOKUP(#REF!,localizacao,2,FALSE))","v":""},null,"",null,""]
[null,"",null,{"$f":"IF(ISERROR(VLOOKUP(#REF!,localizacao,2,FALSE)),\"\",VLOOKUP(#REF!,localizacao,2,FALSE))","v":""},null,"",null,""]
[null,"",null,{"$f":"IF(ISERROR(VLOOKUP(#REF!,localizacao,2,FALSE)),\"\",VLOOKUP(#REF!,localizacao,2,FALSE))","v":""},null,"",null,""]
[null,"",null,{"$f":"IF(ISERROR(VLOOKUP(#REF!,localizacao,2,FALSE)),\"\",VLOOKUP(#REF!,localizacao,2,FALSE))","v":""},null,"",null,""]
[null,"",null,{"$f":"IF(ISERROR(VLOOKUP(#REF!,localizacao,2,FALSE)),\"\",VLOOKUP(#REF!,localizacao,2,FALSE))","v":""},null,"",null,""]
[null,"",null,{"$f":"IF(ISERROR(VLOOKUP(#REF!,localizacao,2,FALSE)),\"\",VLOOKUP(#REF!,localizacao,2,FALSE))","v":""},null,"",null,""]
[null,"",null,{"$f":"IF(ISERROR(VLOOKUP(#REF!,localizacao,2,FALSE)),\"\",VLOOKUP(#REF!,localizacao,2,FALSE))","v":""},null,"",null,""]
[null,"",null,{"$f":"IF(ISERROR(VLOOKUP(#REF!,localizacao,2,FALSE)),\"\",VLOOKUP(#REF!,localizacao,2,FALSE))","v":""},null,"",null,""]
[null,"",null,{"$f":"IF(ISERROR(VLOOKUP(#REF!,localizacao,2,FALSE)),\"\",VLOOKUP(#REF!,localizacao,2,FALSE))","v":""},null,"",null,""]
[null,"",null,{"$f":"IF(ISERROR(VLOOKUP(#REF!,localizacao,2,FALSE)),\"\",VLOOKUP(#REF!,localizacao,2,FALSE))","v":""},null,"",null,""]
[null,"",null,{"$f":"IF(ISERROR(VLOOKUP(#REF!,localizacao,2,FALSE)),\"\",VLOOKUP(#REF!,localizacao,2,FALSE))","v":""},null,"",null,""]
[null,"",null,{"$f":"IF(ISERROR(VLOOKUP(#REF!,localizacao,2,FALSE)),\"\",VLOOKUP(#REF!,localizacao,2,FALSE))","v":""},null,"",null,""]
[null,"",null,{"$f":"IF(ISERROR(VLOOKUP(#REF!,localizacao,2,FALSE)),\"\",VLOOKUP(#REF!,localizacao,2,FALSE))","v":""},null,"",null,""]
[null,"",null,{"$f":"IF(ISERROR(VLOOKUP(#REF!,localizacao,2,FALSE)),\"\",VLOOKUP(#REF!,localizacao,2,FALSE))","v":""},null,"",null,""]
[null,"",null,{"$f":"IF(ISERROR(VLOOKUP(#REF!,localizacao,2,FALSE)),\"\",VLOOKUP(#REF!,localizacao,2,FALSE))","v":""},null,"",null,""]
[null,"",null,{"$f":"IF(ISERROR(VLOOKUP(#REF!,localizacao,2,FALSE)),\"\",VLOOKUP(#REF!,localizacao,2,FALSE))","v":""},null,"",null,""]
[null,"",null,{"$f":"IF(ISERROR(VLOOKUP(#REF!,localizacao,2,FALSE)),\"\",VLOOKUP(#REF!,localizacao,2,FALSE))","v":""},null,"",null,""]
[null,"",null,{"$f":"IF(ISERROR(VLOOKUP(#REF!,localizacao,2,FALSE)),\"\",VLOOKUP(#REF!,localizacao,2,FALSE))","v":""},null,"",null,""]
[null,"",null,{"$f":"IF(ISERROR(VLOOKUP(#REF!,localizacao,2,FALSE)),\"\",VLOOKUP(#REF!,localizacao,2,FALSE))","v":""},null,"",null,""]
[null,"",null,{"$f":"IF(ISERROR(VLOOKUP(#REF!,localizacao,2,FALSE)),\"\",VLOOKUP(#REF!,localizacao,2,FALSE))","v":""},null,"",null,""]
[null,"",null,{"$f":"IF(ISERROR(VLOOKUP(#REF!,localizacao,2,FALSE)),\"\",VLOOKUP(#REF!,localizacao,2,FALSE))","v":""},null,"",null,""]
[null,"",null,{"$f":"IF(ISERROR(VLOOKUP(#REF!,localizacao,2,FALSE)),\"\",VLOOKUP(#REF!,localizacao,2,FALSE))","v":""},null,"",null,""]
[null,"",null,{"$f":"IF(ISERROR(VLOOKUP(#REF!,localizacao,2,FALSE)),\"\",VLOOKUP(#REF!,localizacao,2,FALSE))","v":""},null,"",null,""]
[null,"",null,{"$f":"IF(ISERROR(VLOOKUP(#REF!,localizacao,2,FALSE)),\"\",VLOOKUP(#REF!,localizacao,2,FALSE))","v":""},null,"",null,""]
[null,"",null,{"$f":"IF(ISERROR(VLOOKUP(#REF!,localizacao,2,FALSE)),\"\",VLOOKUP(#REF!,localizacao,2,FALSE))","v":""},null,"",null,""]
[null,"",null,{"$f":"IF(ISERROR(VLOOKUP(#REF!,localizacao,2,FALSE)),\"\",VLOOKUP(#REF!,localizacao,2,FALSE))","v":""},null,"",null,""]
[null,"",null,{"$f":"IF(ISERROR(VLOOKUP(#REF!,localizacao,2,FALSE)),\"\",VLOOKUP(#REF!,localizacao,2,FALSE))","v":""},null,"",null,""]
[null,"",null,{"$f":"IF(ISERROR(VLOOKUP(#REF!,localizacao,2,FALSE)),\"\",VLOOKUP(#REF!,localizacao,2,FALSE))","v":""},null,{"$f":"IF(ISERROR(VLOOKUP(G454,componentes,2,FALSE)),\"\",VLOOKUP(G454,componentes,2,FALSE))","v":""},null,{"$f":"IF(ISERROR(VLOOKUP(I454,rubricas,2,FALSE)),\"\",VLOOKUP(I454,rubricas,2,FALSE))","v":""}]
[null,{"$f":"IF(C455<>\"\",+B454+1,\"\")","v":""},null,{"$f":"IF(ISERROR(VLOOKUP(#REF!,localizacao,2,FALSE)),\"\",VLOOKUP(#REF!,localizacao,2,FALSE))","v":""},null,"",null,""]
[null,"",null,{"$f":"IF(ISERROR(VLOOKUP(#REF!,localizacao,2,FALSE)),\"\",VLOOKUP(#REF!,localizacao,2,FALSE))","v":""},null,"",null,""]
[null,"",null,{"$f":"IF(ISERROR(VLOOKUP(#REF!,localizacao,2,FALSE)),\"\",VLOOKUP(#REF!,localizacao,2,FALSE))","v":""},null,"",null,""]
[null,"",null,{"$f":"IF(ISERROR(VLOOKUP(#REF!,localizacao,2,FALSE)),\"\",VLOOKUP(#REF!,localizacao,2,FALSE))","v":""},null,"",null,""]
[null,"",null,{"$f":"IF(ISERROR(VLOOKUP(#REF!,localizacao,2,FALSE)),\"\",VLOOKUP(#REF!,localizacao,2,FALSE))","v":""},null,"",null,""]
[null,"",null,{"$f":"IF(ISERROR(VLOOKUP(#REF!,localizacao,2,FALSE)),\"\",VLOOKUP(#REF!,localizacao,2,FALSE))","v":""},null,"",null,""]
[null,"",null,{"$f":"IF(ISERROR(VLOOKUP(#REF!,localizacao,2,FALSE)),\"\",VLOOKUP(#REF!,localizacao,2,FALSE))","v":""},null,"",null,""]
[null,"",null,{"$f":"IF(ISERROR(VLOOKUP(#REF!,localizacao,2,FALSE)),\"\",VLOOKUP(#REF!,localizacao,2,FALSE))","v":""},null,"",null,""]
[null,"",null,{"$f":"IF(ISERROR(VLOOKUP(#REF!,localizacao,2,FALSE)),\"\",VLOOKUP(#REF!,localizacao,2,FALSE))","v":""},null,"",null,""]
[null,"",null,{"$f":"IF(ISERROR(VLOOKUP(#REF!,localizacao,2,FALSE)),\"\",VLOOKUP(#REF!,localizacao,2,FALSE))","v":""},null,"",null,""]
[null,"",null,{"$f":"IF(ISERROR(VLOOKUP(#REF!,localizacao,2,FALSE)),\"\",VLOOKUP(#REF!,localizacao,2,FALSE))","v":""},null,"",null,""]
[null,"",null,{"$f":"IF(ISERROR(VLOOKUP(#REF!,localizacao,2,FALSE)),\"\",VLOOKUP(#REF!,localizacao,2,FALSE))","v":""},null,"",null,""]
[null,"",null,{"$f":"IF(ISERROR(VLOOKUP(#REF!,localizacao,2,FALSE)),\"\",VLOOKUP(#REF!,localizacao,2,FALSE))","v":""},null,"",null,""]
[null,"",null,{"$f":"IF(ISERROR(VLOOKUP(#REF!,localizacao,2,FALSE)),\"\",VLOOKUP(#REF!,localizacao,2,FALSE))","v":""},null,"",null,""]
[null,"",null,{"$f":"IF(ISERROR(VLOOKUP(#REF!,localizacao,2,FALSE)),\"\",VLOOKUP(#REF!,localizacao,2,FALSE))","v":""},null,"",null,""]
[null,"",null,{"$f":"IF(ISERROR(VLOOKUP(#REF!,localizacao,2,FALSE)),\"\",VLOOKUP(#REF!,localizacao,2,FALSE))","v":""},null,"",null,""]
[null,"",null,{"$f":"IF(ISERROR(VLOOKUP(#REF!,localizacao,2,FALSE)),\"\",VLOOKUP(#REF!,localizacao,2,FALSE))","v":""},null,"",null,""]
[null,"",null,{"$f":"IF(ISERROR(VLOOKUP(#REF!,localizacao,2,FALSE)),\"\",VLOOKUP(#REF!,localizacao,2,FALSE))","v":""},null,"",null,""]
[null,"",null,{"$f":"IF(ISERROR(VLOOKUP(#REF!,localizacao,2,FALSE)),\"\",VLOOKUP(#REF!,localizacao,2,FALSE))","v":""},null,"",null,""]
[null,"",null,{"$f":"IF(ISERROR(VLOOKUP(#REF!,localizacao,2,FALSE)),\"\",VLOOKUP(#REF!,localizacao,2,FALSE))","v":""},null,"",null,""]
[null,"",null,{"$f":"IF(ISERROR(VLOOKUP(#REF!,localizacao,2,FALSE)),\"\",VLOOKUP(#REF!,localizacao,2,FALSE))","v":""},null,"",null,""]
[null,"",null,{"$f":"IF(ISERROR(VLOOKUP(#REF!,localizacao,2,FALSE)),\"\",VLOOKUP(#REF!,localizacao,2,FALSE))","v":""},null,"",null,""]
[null,"",null,{"$f":"IF(ISERROR(VLOOKUP(#REF!,localizacao,2,FALSE)),\"\",VLOOKUP(#REF!,localizacao,2,FALSE))","v":""},null,"",null,""]
[null,"",null,{"$f":"IF(ISERROR(VLOOKUP(#REF!,localizacao,2,FALSE)),\"\",VLOOKUP(#REF!,localizacao,2,FALSE))","v":""},null,"",null,""]
[null,"",null,{"$f":"IF(ISERROR(VLOOKUP(#REF!,localizacao,2,FALSE)),\"\",VLOOKUP(#REF!,localizacao,2,FALSE))","v":""},null,"",null,""]
[null,"",null,{"$f":"IF(ISERROR(VLOOKUP(#REF!,localizacao,2,FALSE)),\"\",VLOOKUP(#REF!,localizacao,2,FALSE))","v":""},null,"",null,""]
[null,"",null,{"$f":"IF(ISERROR(VLOOKUP(#REF!,localizacao,2,FALSE)),\"\",VLOOKUP(#REF!,localizacao,2,FALSE))","v":""},null,"",null,""]
[null,"",null,{"$f":"IF(ISERROR(VLOOKUP(#REF!,localizacao,2,FALSE)),\"\",VLOOKUP(#REF!,localizacao,2,FALSE))","v":""},null,"",null,""]
[null,"",null,{"$f":"IF(ISERROR(VLOOKUP(#REF!,localizacao,2,FALSE)),\"\",VLOOKUP(#REF!,localizacao,2,FALSE))","v":""},null,"",null,""]
[null,"",null,{"$f":"IF(ISERROR(VLOOKUP(#REF!,localizacao,2,FALSE)),\"\",VLOOKUP(#REF!,localizacao,2,FALSE))","v":""},null,"",null,""]
[null,"",null,{"$f":"IF(ISERROR(VLOOKUP(#REF!,localizacao,2,FALSE)),\"\",VLOOKUP(#REF!,localizacao,2,FALSE))","v":""},null,"",null,""]
[null,"",null,{"$f":"IF(ISERROR(VLOOKUP(#REF!,localizacao,2,FALSE)),\"\",VLOOKUP(#REF!,localizacao,2,FALSE))","v":""},null,"",null,""]
[null,"",null,{"$f":"IF(ISERROR(VLOOKUP(#REF!,localizacao,2,FALSE)),\"\",VLOOKUP(#REF!,localizacao,2,FALSE))","v":""},null,"",null,""]
[null,"",null,{"$f":"IF(ISERROR(VLOOKUP(#REF!,localizacao,2,FALSE)),\"\",VLOOKUP(#REF!,localizacao,2,FALSE))","v":""},null,"",null,""]
[null,"",null,{"$f":"IF(ISERROR(VLOOKUP(#REF!,localizacao,2,FALSE)),\"\",VLOOKUP(#REF!,localizacao,2,FALSE))","v":""},null,"",null,""]
[null,"",null,{"$f":"IF(ISERROR(VLOOKUP(#REF!,localizacao,2,FALSE)),\"\",VLOOKUP(#REF!,localizacao,2,FALSE))","v":""},null,"",null,""]
[null,"",null,{"$f":"IF(ISERROR(VLOOKUP(#REF!,localizacao,2,FALSE)),\"\",VLOOKUP(#REF!,localizacao,2,FALSE))","v":""},null,"",null,""]
[null,"",null,{"$f":"IF(ISERROR(VLOOKUP(#REF!,localizacao,2,FALSE)),\"\",VLOOKUP(#REF!,localizacao,2,FALSE))","v":""},null,"",null,""]
[null,"",null,{"$f":"IF(ISERROR(VLOOKUP(#REF!,localizacao,2,FALSE)),\"\",VLOOKUP(#REF!,localizacao,2,FALSE))","v":""},null,"",null,""]
[null,"",null,{"$f":"IF(ISERROR(VLOOKUP(#REF!,localizacao,2,FALSE)),\"\",VLOOKUP(#REF!,localizacao,2,FALSE))","v":""},null,"",null,""]
[null,"",null,{"$f":"IF(ISERROR(VLOOKUP(#REF!,localizacao,2,FALSE)),\"\",VLOOKUP(#REF!,localizacao,2,FALSE))","v":""},null,"",null,""]
[null,"",null,{"$f":"IF(ISERROR(VLOOKUP(#REF!,localizacao,2,FALSE)),\"\",VLOOKUP(#REF!,localizacao,2,FALSE))","v":""},null,"",null,""]
[null,"",null,{"$f":"IF(ISERROR(VLOOKUP(#REF!,localizacao,2,FALSE)),\"\",VLOOKUP(#REF!,localizacao,2,FALSE))","v":""},null,"",null,""]
[null,"",null,{"$f":"IF(ISERROR(VLOOKUP(#REF!,localizacao,2,FALSE)),\"\",VLOOKUP(#REF!,localizacao,2,FALSE))","v":""},null,"",null,""]
[null,"",null,{"$f":"IF(ISERROR(VLOOKUP(#REF!,localizacao,2,FALSE)),\"\",VLOOKUP(#REF!,localizacao,2,FALSE))","v":""},null,"",null,""]
[null,"",null,{"$f":"IF(ISERROR(VLOOKUP(#REF!,localizacao,2,FALSE)),\"\",VLOOKUP(#REF!,localizacao,2,FALSE))","v":""},null,"",null,""]
[null,"",null,{"$f":"IF(ISERROR(VLOOKUP(#REF!,localizacao,2,FALSE)),\"\",VLOOKUP(#REF!,localizacao,2,FALSE))","v":""},null,"",null,""]
[null,"",null,{"$f":"IF(ISERROR(VLOOKUP(#REF!,localizacao,2,FALSE)),\"\",VLOOKUP(#REF!,localizacao,2,FALSE))","v":""},null,"",null,""]
[null,"",null,{"$f":"IF(ISERROR(VLOOKUP(#REF!,localizacao,2,FALSE)),\"\",VLOOKUP(#REF!,localizacao,2,FALSE))","v":""},null,"",null,""]
[null,"",null,{"$f":"IF(ISERROR(VLOOKUP(#REF!,localizacao,2,FALSE)),\"\",VLOOKUP(#REF!,localizacao,2,FALSE))","v":""},null,"",null,""]
[null,"",null,{"$f":"IF(ISERROR(VLOOKUP(#REF!,localizacao,2,FALSE)),\"\",VLOOKUP(#REF!,localizacao,2,FALSE))","v":""},null,"",null,""]
[null,"",null,{"$f":"IF(ISERROR(VLOOKUP(#REF!,localizacao,2,FALSE)),\"\",VLOOKUP(#REF!,localizacao,2,FALSE))","v":""},null,"",null,""]
[null,"",null,{"$f":"IF(ISERROR(VLOOKUP(#REF!,localizacao,2,FALSE)),\"\",VLOOKUP(#REF!,localizacao,2,FALSE))","v":""},null,"",null,""]
[null,"",null,{"$f":"IF(ISERROR(VLOOKUP(#REF!,localizacao,2,FALSE)),\"\",VLOOKUP(#REF!,localizacao,2,FALSE))","v":""},null,"",null,""]
[null,"",null,{"$f":"IF(ISERROR(VLOOKUP(#REF!,localizacao,2,FALSE)),\"\",VLOOKUP(#REF!,localizacao,2,FALSE))","v":""},null,"",null,""]
[null,"",null,{"$f":"IF(ISERROR(VLOOKUP(#REF!,localizacao,2,FALSE)),\"\",VLOOKUP(#REF!,localizacao,2,FALSE))","v":""},null,"",null,""]
[null,"",null,{"$f":"IF(ISERROR(VLOOKUP(#REF!,localizacao,2,FALSE)),\"\",VLOOKUP(#REF!,localizacao,2,FALSE))","v":""},null,"",null,""]
[null,"",null,{"$f":"IF(ISERROR(VLOOKUP(#REF!,localizacao,2,FALSE)),\"\",VLOOKUP(#REF!,localizacao,2,FALSE))","v":""},null,"",null,""]
[null,"",null,{"$f":"IF(ISERROR(VLOOKUP(#REF!,localizacao,2,FALSE)),\"\",VLOOKUP(#REF!,localizacao,2,FALSE))","v":""},null,"",null,""]
[null,"",null,{"$f":"IF(ISERROR(VLOOKUP(#REF!,localizacao,2,FALSE)),\"\",VLOOKUP(#REF!,localizacao,2,FALSE))","v":""},null,"",null,""]
[null,"",null,{"$f":"IF(ISERROR(VLOOKUP(#REF!,localizacao,2,FALSE)),\"\",VLOOKUP(#REF!,localizacao,2,FALSE))","v":""},null,"",null,""]
[null,"",null,{"$f":"IF(ISERROR(VLOOKUP(#REF!,localizacao,2,FALSE)),\"\",VLOOKUP(#REF!,localizacao,2,FALSE))","v":""},null,"",null,""]
[null,"",null,{"$f":"IF(ISERROR(VLOOKUP(#REF!,localizacao,2,FALSE)),\"\",VLOOKUP(#REF!,localizacao,2,FALSE))","v":""},null,"",null,""]
[null,"",null,{"$f":"IF(ISERROR(VLOOKUP(#REF!,localizacao,2,FALSE)),\"\",VLOOKUP(#REF!,localizacao,2,FALSE))","v":""},null,{"$f":"IF(ISERROR(VLOOKUP(G518,componentes,2,FALSE)),\"\",VLOOKUP(G518,componentes,2,FALSE))","v":""},null,{"$f":"IF(ISERROR(VLOOKUP(I518,rubricas,2,FALSE)),\"\",VLOOKUP(I518,rubricas,2,FALSE))","v":""}]
[null,{"$f":"IF(C519<>\"\",+B518+1,\"\")","v":""},null,{"$f":"IF(ISERROR(VLOOKUP(#REF!,localizacao,2,FALSE)),\"\",VLOOKUP(#REF!,localizacao,2,FALSE))","v":""},null,"",null,""]
[null,"",null,{"$f":"IF(ISERROR(VLOOKUP(#REF!,localizacao,2,FALSE)),\"\",VLOOKUP(#REF!,localizacao,2,FALSE))","v":""},null,"",null,""]
[null,"",null,{"$f":"IF(ISERROR(VLOOKUP(#REF!,localizacao,2,FALSE)),\"\",VLOOKUP(#REF!,localizacao,2,FALSE))","v":""},null,"",null,""]
[null,"",null,{"$f":"IF(ISERROR(VLOOKUP(#REF!,localizacao,2,FALSE)),\"\",VLOOKUP(#REF!,localizacao,2,FALSE))","v":""},null,"",null,""]
[null,"",null,{"$f":"IF(ISERROR(VLOOKUP(#REF!,localizacao,2,FALSE)),\"\",VLOOKUP(#REF!,localizacao,2,FALSE))","v":""},null,"",null,""]
[null,"",null,{"$f":"IF(ISERROR(VLOOKUP(#REF!,localizacao,2,FALSE)),\"\",VLOOKUP(#REF!,localizacao,2,FALSE))","v":""},null,"",null,""]
[null,"",null,{"$f":"IF(ISERROR(VLOOKUP(#REF!,localizacao,2,FALSE)),\"\",VLOOKUP(#REF!,localizacao,2,FALSE))","v":""},null,"",null,""]
[null,"",null,{"$f":"IF(ISERROR(VLOOKUP(#REF!,localizacao,2,FALSE)),\"\",VLOOKUP(#REF!,localizacao,2,FALSE))","v":""},null,"",null,""]
[null,"",null,{"$f":"IF(ISERROR(VLOOKUP(#REF!,localizacao,2,FALSE)),\"\",VLOOKUP(#REF!,localizacao,2,FALSE))","v":""},null,"",null,""]
[null,"",null,{"$f":"IF(ISERROR(VLOOKUP(#REF!,localizacao,2,FALSE)),\"\",VLOOKUP(#REF!,localizacao,2,FALSE))","v":""},null,"",null,""]
[null,"",null,{"$f":"IF(ISERROR(VLOOKUP(#REF!,localizacao,2,FALSE)),\"\",VLOOKUP(#REF!,localizacao,2,FALSE))","v":""},null,"",null,""]
[null,"",null,{"$f":"IF(ISERROR(VLOOKUP(#REF!,localizacao,2,FALSE)),\"\",VLOOKUP(#REF!,localizacao,2,FALSE))","v":""},null,"",null,""]
[null,"",null,{"$f":"IF(ISERROR(VLOOKUP(#REF!,localizacao,2,FALSE)),\"\",VLOOKUP(#REF!,localizacao,2,FALSE))","v":""},null,"",null,""]
[null,"",null,{"$f":"IF(ISERROR(VLOOKUP(#REF!,localizacao,2,FALSE)),\"\",VLOOKUP(#REF!,localizacao,2,FALSE))","v":""},null,"",null,""]
[null,"",null,{"$f":"IF(ISERROR(VLOOKUP(#REF!,localizacao,2,FALSE)),\"\",VLOOKUP(#REF!,localizacao,2,FALSE))","v":""},null,"",null,""]
[null,"",null,{"$f":"IF(ISERROR(VLOOKUP(#REF!,localizacao,2,FALSE)),\"\",VLOOKUP(#REF!,localizacao,2,FALSE))","v":""},null,"",null,""]
[null,"",null,{"$f":"IF(ISERROR(VLOOKUP(#REF!,localizacao,2,FALSE)),\"\",VLOOKUP(#REF!,localizacao,2,FALSE))","v":""},null,"",null,""]
[null,"",null,{"$f":"IF(ISERROR(VLOOKUP(#REF!,localizacao,2,FALSE)),\"\",VLOOKUP(#REF!,localizacao,2,FALSE))","v":""},null,"",null,""]
[null,"",null,{"$f":"IF(ISERROR(VLOOKUP(#REF!,localizacao,2,FALSE)),\"\",VLOOKUP(#REF!,localizacao,2,FALSE))","v":""},null,"",null,""]
[null,"",null,{"$f":"IF(ISERROR(VLOOKUP(#REF!,localizacao,2,FALSE)),\"\",VLOOKUP(#REF!,localizacao,2,FALSE))","v":""},null,"",null,""]
[null,"",null,{"$f":"IF(ISERROR(VLOOKUP(#REF!,localizacao,2,FALSE)),\"\",VLOOKUP(#REF!,localizacao,2,FALSE))","v":""},null,"",null,""]
[null,"",null,{"$f":"IF(ISERROR(VLOOKUP(#REF!,localizacao,2,FALSE)),\"\",VLOOKUP(#REF!,localizacao,2,FALSE))","v":""},null,"",null,""]
[null,"",null,{"$f":"IF(ISERROR(VLOOKUP(#REF!,localizacao,2,FALSE)),\"\",VLOOKUP(#REF!,localizacao,2,FALSE))","v":""},null,"",null,""]
[null,"",null,{"$f":"IF(ISERROR(VLOOKUP(#REF!,localizacao,2,FALSE)),\"\",VLOOKUP(#REF!,localizacao,2,FALSE))","v":""},null,"",null,""]
[null,"",null,{"$f":"IF(ISERROR(VLOOKUP(#REF!,localizacao,2,FALSE)),\"\",VLOOKUP(#REF!,localizacao,2,FALSE))","v":""},null,"",null,""]
[null,"",null,{"$f":"IF(ISERROR(VLOOKUP(#REF!,localizacao,2,FALSE)),\"\",VLOOKUP(#REF!,localizacao,2,FALSE))","v":""},null,"",null,""]
[null,"",null,{"$f":"IF(ISERROR(VLOOKUP(#REF!,localizacao,2,FALSE)),\"\",VLOOKUP(#REF!,localizacao,2,FALSE))","v":""},null,"",null,""]
[null,"",null,{"$f":"IF(ISERROR(VLOOKUP(#REF!,localizacao,2,FALSE)),\"\",VLOOKUP(#REF!,localizacao,2,FALSE))","v":""},null,"",null,""]
[null,"",null,{"$f":"IF(ISERROR(VLOOKUP(#REF!,localizacao,2,FALSE)),\"\",VLOOKUP(#REF!,localizacao,2,FALSE))","v":""},null,"",null,""]
[null,"",null,{"$f":"IF(ISERROR(VLOOKUP(#REF!,localizacao,2,FALSE)),\"\",VLOOKUP(#REF!,localizacao,2,FALSE))","v":""},null,"",null,""]
[null,"",null,{"$f":"IF(ISERROR(VLOOKUP(#REF!,localizacao,2,FALSE)),\"\",VLOOKUP(#REF!,localizacao,2,FALSE))","v":""},null,"",null,""]
[null,"",null,{"$f":"IF(ISERROR(VLOOKUP(#REF!,localizacao,2,FALSE)),\"\",VLOOKUP(#REF!,localizacao,2,FALSE))","v":""},null,"",null,""]
[null,"",null,{"$f":"IF(ISERROR(VLOOKUP(#REF!,localizacao,2,FALSE)),\"\",VLOOKUP(#REF!,localizacao,2,FALSE))","v":""},null,"",null,""]
[null,"",null,{"$f":"IF(ISERROR(VLOOKUP(#REF!,localizacao,2,FALSE)),\"\",VLOOKUP(#REF!,localizacao,2,FALSE))","v":""},null,"",null,""]
[null,"",null,{"$f":"IF(ISERROR(VLOOKUP(#REF!,localizacao,2,FALSE)),\"\",VLOOKUP(#REF!,localizacao,2,FALSE))","v":""},null,"",null,""]
[null,"",null,{"$f":"IF(ISERROR(VLOOKUP(#REF!,localizacao,2,FALSE)),\"\",VLOOKUP(#REF!,localizacao,2,FALSE))","v":""},null,"",null,""]
[null,"",null,{"$f":"IF(ISERROR(VLOOKUP(#REF!,localizacao,2,FALSE)),\"\",VLOOKUP(#REF!,localizacao,2,FALSE))","v":""},null,"",null,""]
[null,"",null,{"$f":"IF(ISERROR(VLOOKUP(#REF!,localizacao,2,FALSE)),\"\",VLOOKUP(#REF!,localizacao,2,FALSE))","v":""},null,"",null,""]
[null,"",null,{"$f":"IF(ISERROR(VLOOKUP(#REF!,localizacao,2,FALSE)),\"\",VLOOKUP(#REF!,localizacao,2,FALSE))","v":""},null,"",null,""]
[null,"",null,{"$f":"IF(ISERROR(VLOOKUP(#REF!,localizacao,2,FALSE)),\"\",VLOOKUP(#REF!,localizacao,2,FALSE))","v":""},null,"",null,""]
[null,"",null,{"$f":"IF(ISERROR(VLOOKUP(#REF!,localizacao,2,FALSE)),\"\",VLOOKUP(#REF!,localizacao,2,FALSE))","v":""},null,"",null,""]
[null,"",null,{"$f":"IF(ISERROR(VLOOKUP(#REF!,localizacao,2,FALSE)),\"\",VLOOKUP(#REF!,localizacao,2,FALSE))","v":""},null,"",null,""]
[null,"",null,{"$f":"IF(ISERROR(VLOOKUP(#REF!,localizacao,2,FALSE)),\"\",VLOOKUP(#REF!,localizacao,2,FALSE))","v":""},null,"",null,""]
[null,"",null,{"$f":"IF(ISERROR(VLOOKUP(#REF!,localizacao,2,FALSE)),\"\",VLOOKUP(#REF!,localizacao,2,FALSE))","v":""},null,"",null,""]
[null,"",null,{"$f":"IF(ISERROR(VLOOKUP(#REF!,localizacao,2,FALSE)),\"\",VLOOKUP(#REF!,localizacao,2,FALSE))","v":""},null,"",null,""]
[null,"",null,{"$f":"IF(ISERROR(VLOOKUP(#REF!,localizacao,2,FALSE)),\"\",VLOOKUP(#REF!,localizacao,2,FALSE))","v":""},null,"",null,""]
[null,"",null,{"$f":"IF(ISERROR(VLOOKUP(#REF!,localizacao,2,FALSE)),\"\",VLOOKUP(#REF!,localizacao,2,FALSE))","v":""},null,"",null,""]
[null,"",null,{"$f":"IF(ISERROR(VLOOKUP(#REF!,localizacao,2,FALSE)),\"\",VLOOKUP(#REF!,localizacao,2,FALSE))","v":""},null,"",null,""]
[null,"",null,{"$f":"IF(ISERROR(VLOOKUP(#REF!,localizacao,2,FALSE)),\"\",VLOOKUP(#REF!,localizacao,2,FALSE))","v":""},null,"",null,""]
[null,"",null,{"$f":"IF(ISERROR(VLOOKUP(#REF!,localizacao,2,FALSE)),\"\",VLOOKUP(#REF!,localizacao,2,FALSE))","v":""},null,"",null,""]
[null,"",null,{"$f":"IF(ISERROR(VLOOKUP(#REF!,localizacao,2,FALSE)),\"\",VLOOKUP(#REF!,localizacao,2,FALSE))","v":""},null,"",null,""]
[null,"",null,{"$f":"IF(ISERROR(VLOOKUP(#REF!,localizacao,2,FALSE)),\"\",VLOOKUP(#REF!,localizacao,2,FALSE))","v":""},null,"",null,""]
[null,"",null,{"$f":"IF(ISERROR(VLOOKUP(#REF!,localizacao,2,FALSE)),\"\",VLOOKUP(#REF!,localizacao,2,FALSE))","v":""},null,"",null,""]
[null,"",null,{"$f":"IF(ISERROR(VLOOKUP(#REF!,localizacao,2,FALSE)),\"\",VLOOKUP(#REF!,localizacao,2,FALSE))","v":""},null,"",null,""]
[null,"",null,{"$f":"IF(ISERROR(VLOOKUP(#REF!,localizacao,2,FALSE)),\"\",VLOOKUP(#REF!,localizacao,2,FALSE))","v":""},null,"",null,""]
[null,"",null,{"$f":"IF(ISERROR(VLOOKUP(#REF!,localizacao,2,FALSE)),\"\",VLOOKUP(#REF!,localizacao,2,FALSE))","v":""},null,"",null,""]
[null,"",null,{"$f":"IF(ISERROR(VLOOKUP(#REF!,localizacao,2,FALSE)),\"\",VLOOKUP(#REF!,localizacao,2,FALSE))","v":""},null,"",null,""]
[null,"",null,{"$f":"IF(ISERROR(VLOOKUP(#REF!,localizacao,2,FALSE)),\"\",VLOOKUP(#REF!,localizacao,2,FALSE))","v":""},null,"",null,""]
[null,"",null,{"$f":"IF(ISERROR(VLOOKUP(#REF!,localizacao,2,FALSE)),\"\",VLOOKUP(#REF!,localizacao,2,FALSE))","v":""},null,"",null,""]
[null,"",null,{"$f":"IF(ISERROR(VLOOKUP(#REF!,localizacao,2,FALSE)),\"\",VLOOKUP(#REF!,localizacao,2,FALSE))","v":""},null,"",null,""]
[null,"",null,{"$f":"IF(ISERROR(VLOOKUP(#REF!,localizacao,2,FALSE)),\"\",VLOOKUP(#REF!,localizacao,2,FALSE))","v":""},null,"",null,""]
[null,"",null,{"$f":"IF(ISERROR(VLOOKUP(#REF!,localizacao,2,FALSE)),\"\",VLOOKUP(#REF!,localizacao,2,FALSE))","v":""},null,"",null,""]
[null,"",null,{"$f":"IF(ISERROR(VLOOKUP(#REF!,localizacao,2,FALSE)),\"\",VLOOKUP(#REF!,localizacao,2,FALSE))","v":""},null,"",null,""]
[null,"",null,{"$f":"IF(ISERROR(VLOOKUP(#REF!,localizacao,2,FALSE)),\"\",VLOOKUP(#REF!,localizacao,2,FALSE))","v":""},null,{"$f":"IF(ISERROR(VLOOKUP(G582,componentes,2,FALSE)),\"\",VLOOKUP(G582,componentes,2,FALSE))","v":""},null,{"$f":"IF(ISERROR(VLOOKUP(I582,rubricas,2,FALSE)),\"\",VLOOKUP(I582,rubricas,2,FALSE))","v":""}]
[null,{"$f":"IF(C583<>\"\",+B582+1,\"\")","v":""},null,{"$f":"IF(ISERROR(VLOOKUP(#REF!,localizacao,2,FALSE)),\"\",VLOOKUP(#REF!,localizacao,2,FALSE))","v":""},null,"",null,""]
[null,"",null,{"$f":"IF(ISERROR(VLOOKUP(#REF!,localizacao,2,FALSE)),\"\",VLOOKUP(#REF!,localizacao,2,FALSE))","v":""},null,"",null,""]
[null,"",null,{"$f":"IF(ISERROR(VLOOKUP(#REF!,localizacao,2,FALSE)),\"\",VLOOKUP(#REF!,localizacao,2,FALSE))","v":""},null,"",null,""]
[null,"",null,{"$f":"IF(ISERROR(VLOOKUP(#REF!,localizacao,2,FALSE)),\"\",VLOOKUP(#REF!,localizacao,2,FALSE))","v":""},null,"",null,""]
[null,"",null,{"$f":"IF(ISERROR(VLOOKUP(#REF!,localizacao,2,FALSE)),\"\",VLOOKUP(#REF!,localizacao,2,FALSE))","v":""},null,"",null,""]
[null,"",null,{"$f":"IF(ISERROR(VLOOKUP(#REF!,localizacao,2,FALSE)),\"\",VLOOKUP(#REF!,localizacao,2,FALSE))","v":""},null,"",null,""]
[null,"",null,{"$f":"IF(ISERROR(VLOOKUP(#REF!,localizacao,2,FALSE)),\"\",VLOOKUP(#REF!,localizacao,2,FALSE))","v":""},null,"",null,""]
[null,"",null,{"$f":"IF(ISERROR(VLOOKUP(#REF!,localizacao,2,FALSE)),\"\",VLOOKUP(#REF!,localizacao,2,FALSE))","v":""},null,"",null,""]
[null,"",null,{"$f":"IF(ISERROR(VLOOKUP(#REF!,localizacao,2,FALSE)),\"\",VLOOKUP(#REF!,localizacao,2,FALSE))","v":""},null,"",null,""]
[null,"",null,{"$f":"IF(ISERROR(VLOOKUP(#REF!,localizacao,2,FALSE)),\"\",VLOOKUP(#REF!,localizacao,2,FALSE))","v":""},null,"",null,""]
[null,"",null,{"$f":"IF(ISERROR(VLOOKUP(#REF!,localizacao,2,FALSE)),\"\",VLOOKUP(#REF!,localizacao,2,FALSE))","v":""},null,"",null,""]
[null,"",null,{"$f":"IF(ISERROR(VLOOKUP(#REF!,localizacao,2,FALSE)),\"\",VLOOKUP(#REF!,localizacao,2,FALSE))","v":""},null,"",null,""]
[null,"",null,{"$f":"IF(ISERROR(VLOOKUP(#REF!,localizacao,2,FALSE)),\"\",VLOOKUP(#REF!,localizacao,2,FALSE))","v":""},null,"",null,""]
[null,"",null,{"$f":"IF(ISERROR(VLOOKUP(#REF!,localizacao,2,FALSE)),\"\",VLOOKUP(#REF!,localizacao,2,FALSE))","v":""},null,"",null,""]
[null,"",null,{"$f":"IF(ISERROR(VLOOKUP(#REF!,localizacao,2,FALSE)),\"\",VLOOKUP(#REF!,localizacao,2,FALSE))","v":""},null,"",null,""]
[null,"",null,{"$f":"IF(ISERROR(VLOOKUP(#REF!,localizacao,2,FALSE)),\"\",VLOOKUP(#REF!,localizacao,2,FALSE))","v":""},null,"",null,""]
[null,"",null,{"$f":"IF(ISERROR(VLOOKUP(#REF!,localizacao,2,FALSE)),\"\",VLOOKUP(#REF!,localizacao,2,FALSE))","v":""},null,"",null,""]
[null,"",null,{"$f":"IF(ISERROR(VLOOKUP(#REF!,localizacao,2,FALSE)),\"\",VLOOKUP(#REF!,localizacao,2,FALSE))","v":""},null,"",null,""]
[null,"",null,{"$f":"IF(ISERROR(VLOOKUP(#REF!,localizacao,2,FALSE)),\"\",VLOOKUP(#REF!,localizacao,2,FALSE))","v":""},null,"",null,""]
[null,"",null,{"$f":"IF(ISERROR(VLOOKUP(#REF!,localizacao,2,FALSE)),\"\",VLOOKUP(#REF!,localizacao,2,FALSE))","v":""},null,"",null,""]
[null,"",null,{"$f":"IF(ISERROR(VLOOKUP(#REF!,localizacao,2,FALSE)),\"\",VLOOKUP(#REF!,localizacao,2,FALSE))","v":""},null,"",null,""]
[null,"",null,{"$f":"IF(ISERROR(VLOOKUP(#REF!,localizacao,2,FALSE)),\"\",VLOOKUP(#REF!,localizacao,2,FALSE))","v":""},null,"",null,""]
[null,"",null,{"$f":"IF(ISERROR(VLOOKUP(#REF!,localizacao,2,FALSE)),\"\",VLOOKUP(#REF!,localizacao,2,FALSE))","v":""},null,"",null,""]
[null,"",null,{"$f":"IF(ISERROR(VLOOKUP(#REF!,localizacao,2,FALSE)),\"\",VLOOKUP(#REF!,localizacao,2,FALSE))","v":""},null,"",null,""]
[null,"",null,{"$f":"IF(ISERROR(VLOOKUP(#REF!,localizacao,2,FALSE)),\"\",VLOOKUP(#REF!,localizacao,2,FALSE))","v":""},null,"",null,""]
[null,"",null,{"$f":"IF(ISERROR(VLOOKUP(#REF!,localizacao,2,FALSE)),\"\",VLOOKUP(#REF!,localizacao,2,FALSE))","v":""},null,"",null,""]
[null,"",null,{"$f":"IF(ISERROR(VLOOKUP(#REF!,localizacao,2,FALSE)),\"\",VLOOKUP(#REF!,localizacao,2,FALSE))","v":""},null,"",null,""]
[null,"",null,{"$f":"IF(ISERROR(VLOOKUP(#REF!,localizacao,2,FALSE)),\"\",VLOOKUP(#REF!,localizacao,2,FALSE))","v":""},null,"",null,""]
[null,"",null,{"$f":"IF(ISERROR(VLOOKUP(#REF!,localizacao,2,FALSE)),\"\",VLOOKUP(#REF!,localizacao,2,FALSE))","v":""},null,"",null,""]
[null,"",null,{"$f":"IF(ISERROR(VLOOKUP(#REF!,localizacao,2,FALSE)),\"\",VLOOKUP(#REF!,localizacao,2,FALSE))","v":""},null,"",null,""]
[null,"",null,{"$f":"IF(ISERROR(VLOOKUP(#REF!,localizacao,2,FALSE)),\"\",VLOOKUP(#REF!,localizacao,2,FALSE))","v":""},null,"",null,""]
[null,"",null,{"$f":"IF(ISERROR(VLOOKUP(#REF!,localizacao,2,FALSE)),\"\",VLOOKUP(#REF!,localizacao,2,FALSE))","v":""},null,"",null,""]
[null,"",null,{"$f":"IF(ISERROR(VLOOKUP(#REF!,localizacao,2,FALSE)),\"\",VLOOKUP(#REF!,localizacao,2,FALSE))","v":""},null,"",null,""]
[null,"",null,{"$f":"IF(ISERROR(VLOOKUP(#REF!,localizacao,2,FALSE)),\"\",VLOOKUP(#REF!,localizacao,2,FALSE))","v":""},null,"",null,""]
[null,"",null,{"$f":"IF(ISERROR(VLOOKUP(#REF!,localizacao,2,FALSE)),\"\",VLOOKUP(#REF!,localizacao,2,FALSE))","v":""},null,"",null,""]
[null,"",null,{"$f":"IF(ISERROR(VLOOKUP(#REF!,localizacao,2,FALSE)),\"\",VLOOKUP(#REF!,localizacao,2,FALSE))","v":""},null,"",null,""]
[null,"",null,{"$f":"IF(ISERROR(VLOOKUP(#REF!,localizacao,2,FALSE)),\"\",VLOOKUP(#REF!,localizacao,2,FALSE))","v":""},null,"",null,""]
[null,"",null,{"$f":"IF(ISERROR(VLOOKUP(#REF!,localizacao,2,FALSE)),\"\",VLOOKUP(#REF!,localizacao,2,FALSE))","v":""},null,"",null,""]
[null,"",null,{"$f":"IF(ISERROR(VLOOKUP(#REF!,localizacao,2,FALSE)),\"\",VLOOKUP(#REF!,localizacao,2,FALSE))","v":""},null,"",null,""]
[null,"",null,{"$f":"IF(ISERROR(VLOOKUP(#REF!,localizacao,2,FALSE)),\"\",VLOOKUP(#REF!,localizacao,2,FALSE))","v":""},null,"",null,""]
[null,"",null,{"$f":"IF(ISERROR(VLOOKUP(#REF!,localizacao,2,FALSE)),\"\",VLOOKUP(#REF!,localizacao,2,FALSE))","v":""},null,"",null,""]
[null,"",null,{"$f":"IF(ISERROR(VLOOKUP(#REF!,localizacao,2,FALSE)),\"\",VLOOKUP(#REF!,localizacao,2,FALSE))","v":""},null,"",null,""]
[null,"",null,{"$f":"IF(ISERROR(VLOOKUP(#REF!,localizacao,2,FALSE)),\"\",VLOOKUP(#REF!,localizacao,2,FALSE))","v":""},null,"",null,""]
[null,"",null,{"$f":"IF(ISERROR(VLOOKUP(#REF!,localizacao,2,FALSE)),\"\",VLOOKUP(#REF!,localizacao,2,FALSE))","v":""},null,"",null,""]
[null,"",null,{"$f":"IF(ISERROR(VLOOKUP(#REF!,localizacao,2,FALSE)),\"\",VLOOKUP(#REF!,localizacao,2,FALSE))","v":""},null,"",null,""]
[null,"",null,{"$f":"IF(ISERROR(VLOOKUP(#REF!,localizacao,2,FALSE)),\"\",VLOOKUP(#REF!,localizacao,2,FALSE))","v":""},null,"",null,""]
[null,"",null,{"$f":"IF(ISERROR(VLOOKUP(#REF!,localizacao,2,FALSE)),\"\",VLOOKUP(#REF!,localizacao,2,FALSE))","v":""},null,"",null,""]
[null,"",null,{"$f":"IF(ISERROR(VLOOKUP(#REF!,localizacao,2,FALSE)),\"\",VLOOKUP(#REF!,localizacao,2,FALSE))","v":""},null,"",null,""]
[null,"",null,{"$f":"IF(ISERROR(VLOOKUP(#REF!,localizacao,2,FALSE)),\"\",VLOOKUP(#REF!,localizacao,2,FALSE))","v":""},null,"",null,""]
[null,"",null,{"$f":"IF(ISERROR(VLOOKUP(#REF!,localizacao,2,FALSE)),\"\",VLOOKUP(#REF!,localizacao,2,FALSE))","v":""},null,"",null,""]
[null,"",null,{"$f":"IF(ISERROR(VLOOKUP(#REF!,localizacao,2,FALSE)),\"\",VLOOKUP(#REF!,localizacao,2,FALSE))","v":""},null,"",null,""]
[null,"",null,{"$f":"IF(ISERROR(VLOOKUP(#REF!,localizacao,2,FALSE)),\"\",VLOOKUP(#REF!,localizacao,2,FALSE))","v":""},null,"",null,""]
[null,"",null,{"$f":"IF(ISERROR(VLOOKUP(#REF!,localizacao,2,FALSE)),\"\",VLOOKUP(#REF!,localizacao,2,FALSE))","v":""},null,"",null,""]
[null,"",null,{"$f":"IF(ISERROR(VLOOKUP(#REF!,localizacao,2,FALSE)),\"\",VLOOKUP(#REF!,localizacao,2,FALSE))","v":""},null,"",null,""]
[null,"",null,{"$f":"IF(ISERROR(VLOOKUP(#REF!,localizacao,2,FALSE)),\"\",VLOOKUP(#REF!,localizacao,2,FALSE))","v":""},null,"",null,""]
[null,"",null,{"$f":"IF(ISERROR(VLOOKUP(#REF!,localizacao,2,FALSE)),\"\",VLOOKUP(#REF!,localizacao,2,FALSE))","v":""},null,"",null,""]
[null,"",null,{"$f":"IF(ISERROR(VLOOKUP(#REF!,localizacao,2,FALSE)),\"\",VLOOKUP(#REF!,localizacao,2,FALSE))","v":""},null,"",null,""]
[null,"",null,{"$f":"IF(ISERROR(VLOOKUP(#REF!,localizacao,2,FALSE)),\"\",VLOOKUP(#REF!,localizacao,2,FALSE))","v":""},null,"",null,""]
[null,"",null,{"$f":"IF(ISERROR(VLOOKUP(#REF!,localizacao,2,FALSE)),\"\",VLOOKUP(#REF!,localizacao,2,FALSE))","v":""},null,"",null,""]
[null,"",null,{"$f":"IF(ISERROR(VLOOKUP(#REF!,localizacao,2,FALSE)),\"\",VLOOKUP(#REF!,localizacao,2,FALSE))","v":""},null,"",null,""]
[null,"",null,{"$f":"IF(ISERROR(VLOOKUP(#REF!,localizacao,2,FALSE)),\"\",VLOOKUP(#REF!,localizacao,2,FALSE))","v":""},null,"",null,""]
[null,"",null,{"$f":"IF(ISERROR(VLOOKUP(#REF!,localizacao,2,FALSE)),\"\",VLOOKUP(#REF!,localizacao,2,FALSE))","v":""},null,"",null,""]
[null,"",null,{"$f":"IF(ISERROR(VLOOKUP(#REF!,localizacao,2,FALSE)),\"\",VLOOKUP(#REF!,localizacao,2,FALSE))","v":""},null,"",null,""]
[null,"",null,{"$f":"IF(ISERROR(VLOOKUP(#REF!,localizacao,2,FALSE)),\"\",VLOOKUP(#REF!,localizacao,2,FALSE))","v":""},null,{"$f":"IF(ISERROR(VLOOKUP(G646,componentes,2,FALSE)),\"\",VLOOKUP(G646,componentes,2,FALSE))","v":""},null,{"$f":"IF(ISERROR(VLOOKUP(I646,rubricas,2,FALSE)),\"\",VLOOKUP(I646,rubricas,2,FALSE))","v":""}]
[null,{"$f":"IF(C647<>\"\",+B646+1,\"\")","v":""},null,{"$f":"IF(ISERROR(VLOOKUP(#REF!,localizacao,2,FALSE)),\"\",VLOOKUP(#REF!,localizacao,2,FALSE))","v":""},null,"",null,""]
[null,"",null,{"$f":"IF(ISERROR(VLOOKUP(#REF!,localizacao,2,FALSE)),\"\",VLOOKUP(#REF!,localizacao,2,FALSE))","v":""},null,"",null,""]
[null,"",null,{"$f":"IF(ISERROR(VLOOKUP(#REF!,localizacao,2,FALSE)),\"\",VLOOKUP(#REF!,localizacao,2,FALSE))","v":""},null,"",null,""]
[null,"",null,{"$f":"IF(ISERROR(VLOOKUP(#REF!,localizacao,2,FALSE)),\"\",VLOOKUP(#REF!,localizacao,2,FALSE))","v":""},null,"",null,""]
[null,"",null,{"$f":"IF(ISERROR(VLOOKUP(#REF!,localizacao,2,FALSE)),\"\",VLOOKUP(#REF!,localizacao,2,FALSE))","v":""},null,"",null,""]
[null,"",null,{"$f":"IF(ISERROR(VLOOKUP(#REF!,localizacao,2,FALSE)),\"\",VLOOKUP(#REF!,localizacao,2,FALSE))","v":""},null,"",null,""]
[null,"",null,{"$f":"IF(ISERROR(VLOOKUP(#REF!,localizacao,2,FALSE)),\"\",VLOOKUP(#REF!,localizacao,2,FALSE))","v":""},null,"",null,""]
[null,"",null,{"$f":"IF(ISERROR(VLOOKUP(#REF!,localizacao,2,FALSE)),\"\",VLOOKUP(#REF!,localizacao,2,FALSE))","v":""},null,"",null,""]
[null,"",null,{"$f":"IF(ISERROR(VLOOKUP(#REF!,localizacao,2,FALSE)),\"\",VLOOKUP(#REF!,localizacao,2,FALSE))","v":""},null,"",null,""]
[null,"",null,{"$f":"IF(ISERROR(VLOOKUP(#REF!,localizacao,2,FALSE)),\"\",VLOOKUP(#REF!,localizacao,2,FALSE))","v":""},null,"",null,""]
[null,"",null,{"$f":"IF(ISERROR(VLOOKUP(#REF!,localizacao,2,FALSE)),\"\",VLOOKUP(#REF!,localizacao,2,FALSE))","v":""},null,"",null,""]
[null,"",null,{"$f":"IF(ISERROR(VLOOKUP(#REF!,localizacao,2,FALSE)),\"\",VLOOKUP(#REF!,localizacao,2,FALSE))","v":""},null,"",null,""]
[null,"",null,{"$f":"IF(ISERROR(VLOOKUP(#REF!,localizacao,2,FALSE)),\"\",VLOOKUP(#REF!,localizacao,2,FALSE))","v":""},null,"",null,""]
[null,"",null,{"$f":"IF(ISERROR(VLOOKUP(#REF!,localizacao,2,FALSE)),\"\",VLOOKUP(#REF!,localizacao,2,FALSE))","v":""},null,"",null,""]
[null,"",null,{"$f":"IF(ISERROR(VLOOKUP(#REF!,localizacao,2,FALSE)),\"\",VLOOKUP(#REF!,localizacao,2,FALSE))","v":""},null,"",null,""]
[null,"",null,{"$f":"IF(ISERROR(VLOOKUP(#REF!,localizacao,2,FALSE)),\"\",VLOOKUP(#REF!,localizacao,2,FALSE))","v":""},null,"",null,""]
[null,"",null,{"$f":"IF(ISERROR(VLOOKUP(#REF!,localizacao,2,FALSE)),\"\",VLOOKUP(#REF!,localizacao,2,FALSE))","v":""},null,"",null,""]
[null,"",null,{"$f":"IF(ISERROR(VLOOKUP(#REF!,localizacao,2,FALSE)),\"\",VLOOKUP(#REF!,localizacao,2,FALSE))","v":""},null,"",null,""]
[null,"",null,{"$f":"IF(ISERROR(VLOOKUP(#REF!,localizacao,2,FALSE)),\"\",VLOOKUP(#REF!,localizacao,2,FALSE))","v":""},null,"",null,""]
[null,"",null,{"$f":"IF(ISERROR(VLOOKUP(#REF!,localizacao,2,FALSE)),\"\",VLOOKUP(#REF!,localizacao,2,FALSE))","v":""},null,"",null,""]
[null,"",null,{"$f":"IF(ISERROR(VLOOKUP(#REF!,localizacao,2,FALSE)),\"\",VLOOKUP(#REF!,localizacao,2,FALSE))","v":""},null,"",null,""]
[null,"",null,{"$f":"IF(ISERROR(VLOOKUP(#REF!,localizacao,2,FALSE)),\"\",VLOOKUP(#REF!,localizacao,2,FALSE))","v":""},null,"",null,""]
[null,"",null,{"$f":"IF(ISERROR(VLOOKUP(#REF!,localizacao,2,FALSE)),\"\",VLOOKUP(#REF!,localizacao,2,FALSE))","v":""},null,"",null,""]
[null,"",null,{"$f":"IF(ISERROR(VLOOKUP(#REF!,localizacao,2,FALSE)),\"\",VLOOKUP(#REF!,localizacao,2,FALSE))","v":""},null,"",null,""]
[null,"",null,{"$f":"IF(ISERROR(VLOOKUP(#REF!,localizacao,2,FALSE)),\"\",VLOOKUP(#REF!,localizacao,2,FALSE))","v":""},null,"",null,""]
[null,"",null,{"$f":"IF(ISERROR(VLOOKUP(#REF!,localizacao,2,FALSE)),\"\",VLOOKUP(#REF!,localizacao,2,FALSE))","v":""},null,"",null,""]
[null,"",null,{"$f":"IF(ISERROR(VLOOKUP(#REF!,localizacao,2,FALSE)),\"\",VLOOKUP(#REF!,localizacao,2,FALSE))","v":""},null,"",null,""]
[null,"",null,{"$f":"IF(ISERROR(VLOOKUP(#REF!,localizacao,2,FALSE)),\"\",VLOOKUP(#REF!,localizacao,2,FALSE))","v":""},null,"",null,""]
[null,"",null,{"$f":"IF(ISERROR(VLOOKUP(#REF!,localizacao,2,FALSE)),\"\",VLOOKUP(#REF!,localizacao,2,FALSE))","v":""},null,"",null,""]
[null,"",null,{"$f":"IF(ISERROR(VLOOKUP(#REF!,localizacao,2,FALSE)),\"\",VLOOKUP(#REF!,localizacao,2,FALSE))","v":""},null,"",null,""]
[null,"",null,{"$f":"IF(ISERROR(VLOOKUP(#REF!,localizacao,2,FALSE)),\"\",VLOOKUP(#REF!,localizacao,2,FALSE))","v":""},null,"",null,""]
[null,"",null,{"$f":"IF(ISERROR(VLOOKUP(#REF!,localizacao,2,FALSE)),\"\",VLOOKUP(#REF!,localizacao,2,FALSE))","v":""},null,"",null,""]
[null,"",null,{"$f":"IF(ISERROR(VLOOKUP(#REF!,localizacao,2,FALSE)),\"\",VLOOKUP(#REF!,localizacao,2,FALSE))","v":""},null,"",null,""]
[null,"",null,{"$f":"IF(ISERROR(VLOOKUP(#REF!,localizacao,2,FALSE)),\"\",VLOOKUP(#REF!,localizacao,2,FALSE))","v":""},null,"",null,""]
[null,"",null,{"$f":"IF(ISERROR(VLOOKUP(#REF!,localizacao,2,FALSE)),\"\",VLOOKUP(#REF!,localizacao,2,FALSE))","v":""},null,"",null,""]
[null,"",null,{"$f":"IF(ISERROR(VLOOKUP(#REF!,localizacao,2,FALSE)),\"\",VLOOKUP(#REF!,localizacao,2,FALSE))","v":""},null,"",null,""]
[null,"",null,{"$f":"IF(ISERROR(VLOOKUP(#REF!,localizacao,2,FALSE)),\"\",VLOOKUP(#REF!,localizacao,2,FALSE))","v":""},null,"",null,""]
[null,"",null,{"$f":"IF(ISERROR(VLOOKUP(#REF!,localizacao,2,FALSE)),\"\",VLOOKUP(#REF!,localizacao,2,FALSE))","v":""},null,"",null,""]
[null,"",null,{"$f":"IF(ISERROR(VLOOKUP(#REF!,localizacao,2,FALSE)),\"\",VLOOKUP(#REF!,localizacao,2,FALSE))","v":""},null,"",null,""]
[null,"",null,{"$f":"IF(ISERROR(VLOOKUP(#REF!,localizacao,2,FALSE)),\"\",VLOOKUP(#REF!,localizacao,2,FALSE))","v":""},null,"",null,""]
[null,"",null,{"$f":"IF(ISERROR(VLOOKUP(#REF!,localizacao,2,FALSE)),\"\",VLOOKUP(#REF!,localizacao,2,FALSE))","v":""},null,"",null,""]
[null,"",null,{"$f":"IF(ISERROR(VLOOKUP(#REF!,localizacao,2,FALSE)),\"\",VLOOKUP(#REF!,localizacao,2,FALSE))","v":""},null,"",null,""]
[null,"",null,{"$f":"IF(ISERROR(VLOOKUP(#REF!,localizacao,2,FALSE)),\"\",VLOOKUP(#REF!,localizacao,2,FALSE))","v":""},null,"",null,""]
[null,"",null,{"$f":"IF(ISERROR(VLOOKUP(#REF!,localizacao,2,FALSE)),\"\",VLOOKUP(#REF!,localizacao,2,FALSE))","v":""},null,"",null,""]
[null,"",null,{"$f":"IF(ISERROR(VLOOKUP(#REF!,localizacao,2,FALSE)),\"\",VLOOKUP(#REF!,localizacao,2,FALSE))","v":""},null,"",null,""]
[null,"",null,{"$f":"IF(ISERROR(VLOOKUP(#REF!,localizacao,2,FALSE)),\"\",VLOOKUP(#REF!,localizacao,2,FALSE))","v":""},null,"",null,""]
[null,"",null,{"$f":"IF(ISERROR(VLOOKUP(#REF!,localizacao,2,FALSE)),\"\",VLOOKUP(#REF!,localizacao,2,FALSE))","v":""},null,"",null,""]
[null,"",null,{"$f":"IF(ISERROR(VLOOKUP(#REF!,localizacao,2,FALSE)),\"\",VLOOKUP(#REF!,localizacao,2,FALSE))","v":""},null,"",null,""]
[null,"",null,{"$f":"IF(ISERROR(VLOOKUP(#REF!,localizacao,2,FALSE)),\"\",VLOOKUP(#REF!,localizacao,2,FALSE))","v":""},null,"",null,""]
[null,"",null,{"$f":"IF(ISERROR(VLOOKUP(#REF!,localizacao,2,FALSE)),\"\",VLOOKUP(#REF!,localizacao,2,FALSE))","v":""},null,"",null,""]
[null,"",null,{"$f":"IF(ISERROR(VLOOKUP(#REF!,localizacao,2,FALSE)),\"\",VLOOKUP(#REF!,localizacao,2,FALSE))","v":""},null,"",null,""]
[null,"",null,{"$f":"IF(ISERROR(VLOOKUP(#REF!,localizacao,2,FALSE)),\"\",VLOOKUP(#REF!,localizacao,2,FALSE))","v":""},null,"",null,""]
[null,"",null,{"$f":"IF(ISERROR(VLOOKUP(#REF!,localizacao,2,FALSE)),\"\",VLOOKUP(#REF!,localizacao,2,FALSE))","v":""},null,"",null,""]
[null,"",null,{"$f":"IF(ISERROR(VLOOKUP(#REF!,localizacao,2,FALSE)),\"\",VLOOKUP(#REF!,localizacao,2,FALSE))","v":""},null,"",null,""]
[null,"",null,{"$f":"IF(ISERROR(VLOOKUP(#REF!,localizacao,2,FALSE)),\"\",VLOOKUP(#REF!,localizacao,2,FALSE))","v":""},null,"",null,""]
[null,"",null,{"$f":"IF(ISERROR(VLOOKUP(#REF!,localizacao,2,FALSE)),\"\",VLOOKUP(#REF!,localizacao,2,FALSE))","v":""},null,"",null,""]
[null,"",null,{"$f":"IF(ISERROR(VLOOKUP(#REF!,localizacao,2,FALSE)),\"\",VLOOKUP(#REF!,localizacao,2,FALSE))","v":""},null,"",null,""]
[null,"",null,{"$f":"IF(ISERROR(VLOOKUP(#REF!,localizacao,2,FALSE)),\"\",VLOOKUP(#REF!,localizacao,2,FALSE))","v":""},null,"",null,""]
[null,"",null,{"$f":"IF(ISERROR(VLOOKUP(#REF!,localizacao,2,FALSE)),\"\",VLOOKUP(#REF!,localizacao,2,FALSE))","v":""},null,"",null,""]
[null,"",null,{"$f":"IF(ISERROR(VLOOKUP(#REF!,localizacao,2,FALSE)),\"\",VLOOKUP(#REF!,localizacao,2,FALSE))","v":""},null,"",null,""]
[null,"",null,{"$f":"IF(ISERROR(VLOOKUP(#REF!,localizacao,2,FALSE)),\"\",VLOOKUP(#REF!,localizacao,2,FALSE))","v":""},null,"",null,""]
[null,"",null,{"$f":"IF(ISERROR(VLOOKUP(#REF!,localizacao,2,FALSE)),\"\",VLOOKUP(#REF!,localizacao,2,FALSE))","v":""},null,"",null,""]
[null,"",null,{"$f":"IF(ISERROR(VLOOKUP(#REF!,localizacao,2,FALSE)),\"\",VLOOKUP(#REF!,localizacao,2,FALSE))","v":""},null,"",null,""]
[null,"",null,{"$f":"IF(ISERROR(VLOOKUP(#REF!,localizacao,2,FALSE)),\"\",VLOOKUP(#REF!,localizacao,2,FALSE))","v":""},null,{"$f":"IF(ISERROR(VLOOKUP(G710,componentes,2,FALSE)),\"\",VLOOKUP(G710,componentes,2,FALSE))","v":""},null,{"$f":"IF(ISERROR(VLOOKUP(I710,rubricas,2,FALSE)),\"\",VLOOKUP(I710,rubricas,2,FALSE))","v":""}]
[null,{"$f":"IF(C711<>\"\",+B710+1,\"\")","v":""},null,{"$f":"IF(ISERROR(VLOOKUP(#REF!,localizacao,2,FALSE)),\"\",VLOOKUP(#REF!,localizacao,2,FALSE))","v":""},null,"",null,""]
[null,"",null,{"$f":"IF(ISERROR(VLOOKUP(#REF!,localizacao,2,FALSE)),\"\",VLOOKUP(#REF!,localizacao,2,FALSE))","v":""},null,"",null,""]
[null,"",null,{"$f":"IF(ISERROR(VLOOKUP(#REF!,localizacao,2,FALSE)),\"\",VLOOKUP(#REF!,localizacao,2,FALSE))","v":""},null,"",null,""]
[null,"",null,{"$f":"IF(ISERROR(VLOOKUP(#REF!,localizacao,2,FALSE)),\"\",VLOOKUP(#REF!,localizacao,2,FALSE))","v":""},null,"",null,""]
[null,"",null,{"$f":"IF(ISERROR(VLOOKUP(#REF!,localizacao,2,FALSE)),\"\",VLOOKUP(#REF!,localizacao,2,FALSE))","v":""},null,"",null,""]
[null,"",null,{"$f":"IF(ISERROR(VLOOKUP(#REF!,localizacao,2,FALSE)),\"\",VLOOKUP(#REF!,localizacao,2,FALSE))","v":""},null,"",null,""]
[null,"",null,{"$f":"IF(ISERROR(VLOOKUP(#REF!,localizacao,2,FALSE)),\"\",VLOOKUP(#REF!,localizacao,2,FALSE))","v":""},null,"",null,""]
[null,"",null,{"$f":"IF(ISERROR(VLOOKUP(#REF!,localizacao,2,FALSE)),\"\",VLOOKUP(#REF!,localizacao,2,FALSE))","v":""},null,"",null,""]
[null,"",null,{"$f":"IF(ISERROR(VLOOKUP(#REF!,localizacao,2,FALSE)),\"\",VLOOKUP(#REF!,localizacao,2,FALSE))","v":""},null,"",null,""]
[null,"",null,{"$f":"IF(ISERROR(VLOOKUP(#REF!,localizacao,2,FALSE)),\"\",VLOOKUP(#REF!,localizacao,2,FALSE))","v":""},null,"",null,""]
[null,"",null,{"$f":"IF(ISERROR(VLOOKUP(#REF!,localizacao,2,FALSE)),\"\",VLOOKUP(#REF!,localizacao,2,FALSE))","v":""},null,"",null,""]
[null,"",null,{"$f":"IF(ISERROR(VLOOKUP(#REF!,localizacao,2,FALSE)),\"\",VLOOKUP(#REF!,localizacao,2,FALSE))","v":""},null,"",null,""]
[null,"",null,{"$f":"IF(ISERROR(VLOOKUP(#REF!,localizacao,2,FALSE)),\"\",VLOOKUP(#REF!,localizacao,2,FALSE))","v":""},null,"",null,""]
[null,"",null,{"$f":"IF(ISERROR(VLOOKUP(#REF!,localizacao,2,FALSE)),\"\",VLOOKUP(#REF!,localizacao,2,FALSE))","v":""},null,"",null,""]
[null,"",null,{"$f":"IF(ISERROR(VLOOKUP(#REF!,localizacao,2,FALSE)),\"\",VLOOKUP(#REF!,localizacao,2,FALSE))","v":""},null,"",null,""]
[null,"",null,{"$f":"IF(ISERROR(VLOOKUP(#REF!,localizacao,2,FALSE)),\"\",VLOOKUP(#REF!,localizacao,2,FALSE))","v":""},null,"",null,""]
[null,"",null,{"$f":"IF(ISERROR(VLOOKUP(#REF!,localizacao,2,FALSE)),\"\",VLOOKUP(#REF!,localizacao,2,FALSE))","v":""},null,"",null,""]
[null,"",null,{"$f":"IF(ISERROR(VLOOKUP(#REF!,localizacao,2,FALSE)),\"\",VLOOKUP(#REF!,localizacao,2,FALSE))","v":""},null,"",null,""]
[null,"",null,{"$f":"IF(ISERROR(VLOOKUP(#REF!,localizacao,2,FALSE)),\"\",VLOOKUP(#REF!,localizacao,2,FALSE))","v":""},null,"",null,""]
[null,"",null,{"$f":"IF(ISERROR(VLOOKUP(#REF!,localizacao,2,FALSE)),\"\",VLOOKUP(#REF!,localizacao,2,FALSE))","v":""},null,"",null,""]
[null,"",null,{"$f":"IF(ISERROR(VLOOKUP(#REF!,localizacao,2,FALSE)),\"\",VLOOKUP(#REF!,localizacao,2,FALSE))","v":""},null,"",null,""]
[null,"",null,{"$f":"IF(ISERROR(VLOOKUP(#REF!,localizacao,2,FALSE)),\"\",VLOOKUP(#REF!,localizacao,2,FALSE))","v":""},null,"",null,""]
[null,"",null,{"$f":"IF(ISERROR(VLOOKUP(#REF!,localizacao,2,FALSE)),\"\",VLOOKUP(#REF!,localizacao,2,FALSE))","v":""},null,"",null,""]
[null,"",null,{"$f":"IF(ISERROR(VLOOKUP(#REF!,localizacao,2,FALSE)),\"\",VLOOKUP(#REF!,localizacao,2,FALSE))","v":""},null,"",null,""]
[null,"",null,{"$f":"IF(ISERROR(VLOOKUP(#REF!,localizacao,2,FALSE)),\"\",VLOOKUP(#REF!,localizacao,2,FALSE))","v":""},null,"",null,""]
[null,"",null,{"$f":"IF(ISERROR(VLOOKUP(#REF!,localizacao,2,FALSE)),\"\",VLOOKUP(#REF!,localizacao,2,FALSE))","v":""},null,"",null,""]
[null,"",null,{"$f":"IF(ISERROR(VLOOKUP(#REF!,localizacao,2,FALSE)),\"\",VLOOKUP(#REF!,localizacao,2,FALSE))","v":""},null,"",null,""]
[null,"",null,{"$f":"IF(ISERROR(VLOOKUP(#REF!,localizacao,2,FALSE)),\"\",VLOOKUP(#REF!,localizacao,2,FALSE))","v":""},null,"",null,""]
[null,"",null,{"$f":"IF(ISERROR(VLOOKUP(#REF!,localizacao,2,FALSE)),\"\",VLOOKUP(#REF!,localizacao,2,FALSE))","v":""},null,"",null,""]
[null,"",null,{"$f":"IF(ISERROR(VLOOKUP(#REF!,localizacao,2,FALSE)),\"\",VLOOKUP(#REF!,localizacao,2,FALSE))","v":""},null,"",null,""]
[null,"",null,{"$f":"IF(ISERROR(VLOOKUP(#REF!,localizacao,2,FALSE)),\"\",VLOOKUP(#REF!,localizacao,2,FALSE))","v":""},null,"",null,""]
[null,"",null,{"$f":"IF(ISERROR(VLOOKUP(#REF!,localizacao,2,FALSE)),\"\",VLOOKUP(#REF!,localizacao,2,FALSE))","v":""},null,"",null,""]
[null,"",null,{"$f":"IF(ISERROR(VLOOKUP(#REF!,localizacao,2,FALSE)),\"\",VLOOKUP(#REF!,localizacao,2,FALSE))","v":""},null,"",null,""]
[null,"",null,{"$f":"IF(ISERROR(VLOOKUP(#REF!,localizacao,2,FALSE)),\"\",VLOOKUP(#REF!,localizacao,2,FALSE))","v":""},null,"",null,""]
[null,"",null,{"$f":"IF(ISERROR(VLOOKUP(#REF!,localizacao,2,FALSE)),\"\",VLOOKUP(#REF!,localizacao,2,FALSE))","v":""},null,"",null,""]
[null,"",null,{"$f":"IF(ISERROR(VLOOKUP(#REF!,localizacao,2,FALSE)),\"\",VLOOKUP(#REF!,localizacao,2,FALSE))","v":""},null,"",null,""]
[null,"",null,{"$f":"IF(ISERROR(VLOOKUP(#REF!,localizacao,2,FALSE)),\"\",VLOOKUP(#REF!,localizacao,2,FALSE))","v":""},null,"",null,""]
[null,"",null,{"$f":"IF(ISERROR(VLOOKUP(#REF!,localizacao,2,FALSE)),\"\",VLOOKUP(#REF!,localizacao,2,FALSE))","v":""},null,"",null,""]
[null,"",null,{"$f":"IF(ISERROR(VLOOKUP(#REF!,localizacao,2,FALSE)),\"\",VLOOKUP(#REF!,localizacao,2,FALSE))","v":""},null,"",null,""]
[null,"",null,{"$f":"IF(ISERROR(VLOOKUP(#REF!,localizacao,2,FALSE)),\"\",VLOOKUP(#REF!,localizacao,2,FALSE))","v":""},null,"",null,""]
[null,"",null,{"$f":"IF(ISERROR(VLOOKUP(#REF!,localizacao,2,FALSE)),\"\",VLOOKUP(#REF!,localizacao,2,FALSE))","v":""},null,"",null,""]
[null,"",null,{"$f":"IF(ISERROR(VLOOKUP(#REF!,localizacao,2,FALSE)),\"\",VLOOKUP(#REF!,localizacao,2,FALSE))","v":""},null,"",null,""]
[null,"",null,{"$f":"IF(ISERROR(VLOOKUP(#REF!,localizacao,2,FALSE)),\"\",VLOOKUP(#REF!,localizacao,2,FALSE))","v":""},null,"",null,""]
[null,"",null,{"$f":"IF(ISERROR(VLOOKUP(#REF!,localizacao,2,FALSE)),\"\",VLOOKUP(#REF!,localizacao,2,FALSE))","v":""},null,"",null,""]
[null,"",null,{"$f":"IF(ISERROR(VLOOKUP(#REF!,localizacao,2,FALSE)),\"\",VLOOKUP(#REF!,localizacao,2,FALSE))","v":""},null,"",null,""]
[null,"",null,{"$f":"IF(ISERROR(VLOOKUP(#REF!,localizacao,2,FALSE)),\"\",VLOOKUP(#REF!,localizacao,2,FALSE))","v":""},null,"",null,""]
[null,"",null,{"$f":"IF(ISERROR(VLOOKUP(#REF!,localizacao,2,FALSE)),\"\",VLOOKUP(#REF!,localizacao,2,FALSE))","v":""},null,"",null,""]
[null,"",null,{"$f":"IF(ISERROR(VLOOKUP(#REF!,localizacao,2,FALSE)),\"\",VLOOKUP(#REF!,localizacao,2,FALSE))","v":""},null,"",null,""]
[null,"",null,{"$f":"IF(ISERROR(VLOOKUP(#REF!,localizacao,2,FALSE)),\"\",VLOOKUP(#REF!,localizacao,2,FALSE))","v":""},null,"",null,""]
[null,"",null,{"$f":"IF(ISERROR(VLOOKUP(#REF!,localizacao,2,FALSE)),\"\",VLOOKUP(#REF!,localizacao,2,FALSE))","v":""},null,"",null,""]
[null,"",null,{"$f":"IF(ISERROR(VLOOKUP(#REF!,localizacao,2,FALSE)),\"\",VLOOKUP(#REF!,localizacao,2,FALSE))","v":""},null,"",null,""]
[null,"",null,{"$f":"IF(ISERROR(VLOOKUP(#REF!,localizacao,2,FALSE)),\"\",VLOOKUP(#REF!,localizacao,2,FALSE))","v":""},null,"",null,""]
[null,"",null,{"$f":"IF(ISERROR(VLOOKUP(#REF!,localizacao,2,FALSE)),\"\",VLOOKUP(#REF!,localizacao,2,FALSE))","v":""},null,"",null,""]
[null,"",null,{"$f":"IF(ISERROR(VLOOKUP(#REF!,localizacao,2,FALSE)),\"\",VLOOKUP(#REF!,localizacao,2,FALSE))","v":""},null,"",null,""]
[null,"",null,{"$f":"IF(ISERROR(VLOOKUP(#REF!,localizacao,2,FALSE)),\"\",VLOOKUP(#REF!,localizacao,2,FALSE))","v":""},null,"",null,""]
[null,"",null,{"$f":"IF(ISERROR(VLOOKUP(#REF!,localizacao,2,FALSE)),\"\",VLOOKUP(#REF!,localizacao,2,FALSE))","v":""},null,"",null,""]
[null,"",null,{"$f":"IF(ISERROR(VLOOKUP(#REF!,localizacao,2,FALSE)),\"\",VLOOKUP(#REF!,localizacao,2,FALSE))","v":""},null,"",null,""]
[null,"",null,{"$f":"IF(ISERROR(VLOOKUP(#REF!,localizacao,2,FALSE)),\"\",VLOOKUP(#REF!,localizacao,2,FALSE))","v":""},null,"",null,""]
[null,"",null,{"$f":"IF(ISERROR(VLOOKUP(#REF!,localizacao,2,FALSE)),\"\",VLOOKUP(#REF!,localizacao,2,FALSE))","v":""},null,"",null,""]
[null,"",null,{"$f":"IF(ISERROR(VLOOKUP(#REF!,localizacao,2,FALSE)),\"\",VLOOKUP(#REF!,localizacao,2,FALSE))","v":""},null,"",null,""]
[null,"",null,{"$f":"IF(ISERROR(VLOOKUP(#REF!,localizacao,2,FALSE)),\"\",VLOOKUP(#REF!,localizacao,2,FALSE))","v":""},null,"",null,""]
[null,"",null,{"$f":"IF(ISERROR(VLOOKUP(#REF!,localizacao,2,FALSE)),\"\",VLOOKUP(#REF!,localizacao,2,FALSE))","v":""},null,"",null,""]
[null,"",null,{"$f":"IF(ISERROR(VLOOKUP(#REF!,localizacao,2,FALSE)),\"\",VLOOKUP(#REF!,localizacao,2,FALSE))","v":""},null,"",null,""]
[null,"",null,{"$f":"IF(ISERROR(VLOOKUP(#REF!,localizacao,2,FALSE)),\"\",VLOOKUP(#REF!,localizacao,2,FALSE))","v":""},null,{"$f":"IF(ISERROR(VLOOKUP(G774,componentes,2,FALSE)),\"\",VLOOKUP(G774,componentes,2,FALSE))","v":""},null,{"$f":"IF(ISERROR(VLOOKUP(I774,rubricas,2,FALSE)),\"\",VLOOKUP(I774,rubricas,2,FALSE))","v":""}]
[null,{"$f":"IF(C775<>\"\",+B774+1,\"\")","v":""},null,{"$f":"IF(ISERROR(VLOOKUP(#REF!,localizacao,2,FALSE)),\"\",VLOOKUP(#REF!,localizacao,2,FALSE))","v":""},null,"",null,""]
[null,"",null,{"$f":"IF(ISERROR(VLOOKUP(#REF!,localizacao,2,FALSE)),\"\",VLOOKUP(#REF!,localizacao,2,FALSE))","v":""},null,"",null,""]
[null,"",null,{"$f":"IF(ISERROR(VLOOKUP(#REF!,localizacao,2,FALSE)),\"\",VLOOKUP(#REF!,localizacao,2,FALSE))","v":""},null,"",null,""]
[null,"",null,{"$f":"IF(ISERROR(VLOOKUP(#REF!,localizacao,2,FALSE)),\"\",VLOOKUP(#REF!,localizacao,2,FALSE))","v":""},null,"",null,""]
[null,"",null,{"$f":"IF(ISERROR(VLOOKUP(#REF!,localizacao,2,FALSE)),\"\",VLOOKUP(#REF!,localizacao,2,FALSE))","v":""},null,"",null,""]
[null,"",null,{"$f":"IF(ISERROR(VLOOKUP(#REF!,localizacao,2,FALSE)),\"\",VLOOKUP(#REF!,localizacao,2,FALSE))","v":""},null,"",null,""]
[null,"",null,{"$f":"IF(ISERROR(VLOOKUP(#REF!,localizacao,2,FALSE)),\"\",VLOOKUP(#REF!,localizacao,2,FALSE))","v":""},null,"",null,""]
[null,"",null,{"$f":"IF(ISERROR(VLOOKUP(#REF!,localizacao,2,FALSE)),\"\",VLOOKUP(#REF!,localizacao,2,FALSE))","v":""},null,"",null,""]
[null,"",null,{"$f":"IF(ISERROR(VLOOKUP(#REF!,localizacao,2,FALSE)),\"\",VLOOKUP(#REF!,localizacao,2,FALSE))","v":""},null,"",null,""]
[null,"",null,{"$f":"IF(ISERROR(VLOOKUP(#REF!,localizacao,2,FALSE)),\"\",VLOOKUP(#REF!,localizacao,2,FALSE))","v":""},null,"",null,""]
[null,"",null,{"$f":"IF(ISERROR(VLOOKUP(#REF!,localizacao,2,FALSE)),\"\",VLOOKUP(#REF!,localizacao,2,FALSE))","v":""},null,"",null,""]
[null,"",null,{"$f":"IF(ISERROR(VLOOKUP(#REF!,localizacao,2,FALSE)),\"\",VLOOKUP(#REF!,localizacao,2,FALSE))","v":""},null,"",null,""]
[null,"",null,{"$f":"IF(ISERROR(VLOOKUP(#REF!,localizacao,2,FALSE)),\"\",VLOOKUP(#REF!,localizacao,2,FALSE))","v":""},null,"",null,""]
[null,"",null,{"$f":"IF(ISERROR(VLOOKUP(#REF!,localizacao,2,FALSE)),\"\",VLOOKUP(#REF!,localizacao,2,FALSE))","v":""},null,"",null,""]
[null,"",null,{"$f":"IF(ISERROR(VLOOKUP(#REF!,localizacao,2,FALSE)),\"\",VLOOKUP(#REF!,localizacao,2,FALSE))","v":""},null,"",null,""]
[null,"",null,{"$f":"IF(ISERROR(VLOOKUP(#REF!,localizacao,2,FALSE)),\"\",VLOOKUP(#REF!,localizacao,2,FALSE))","v":""},null,"",null,""]
[null,"",null,{"$f":"IF(ISERROR(VLOOKUP(#REF!,localizacao,2,FALSE)),\"\",VLOOKUP(#REF!,localizacao,2,FALSE))","v":""},null,"",null,""]
[null,"",null,{"$f":"IF(ISERROR(VLOOKUP(#REF!,localizacao,2,FALSE)),\"\",VLOOKUP(#REF!,localizacao,2,FALSE))","v":""},null,"",null,""]
[null,"",null,{"$f":"IF(ISERROR(VLOOKUP(#REF!,localizacao,2,FALSE)),\"\",VLOOKUP(#REF!,localizacao,2,FALSE))","v":""},null,"",null,""]
[null,"",null,{"$f":"IF(ISERROR(VLOOKUP(#REF!,localizacao,2,FALSE)),\"\",VLOOKUP(#REF!,localizacao,2,FALSE))","v":""},null,"",null,""]
[null,"",null,{"$f":"IF(ISERROR(VLOOKUP(#REF!,localizacao,2,FALSE)),\"\",VLOOKUP(#REF!,localizacao,2,FALSE))","v":""},null,"",null,""]
[null,"",null,{"$f":"IF(ISERROR(VLOOKUP(#REF!,localizacao,2,FALSE)),\"\",VLOOKUP(#REF!,localizacao,2,FALSE))","v":""},null,"",null,""]
[null,"",null,{"$f":"IF(ISERROR(VLOOKUP(#REF!,localizacao,2,FALSE)),\"\",VLOOKUP(#REF!,localizacao,2,FALSE))","v":""},null,"",null,""]
[null,"",null,{"$f":"IF(ISERROR(VLOOKUP(#REF!,localizacao,2,FALSE)),\"\",VLOOKUP(#REF!,localizacao,2,FALSE))","v":""},null,"",null,""]
[null,"",null,{"$f":"IF(ISERROR(VLOOKUP(#REF!,localizacao,2,FALSE)),\"\",VLOOKUP(#REF!,localizacao,2,FALSE))","v":""},null,"",null,""]
[null,"",null,{"$f":"IF(ISERROR(VLOOKUP(#REF!,localizacao,2,FALSE)),\"\",VLOOKUP(#REF!,localizacao,2,FALSE))","v":""},null,"",null,""]
[null,"",null,{"$f":"IF(ISERROR(VLOOKUP(#REF!,localizacao,2,FALSE)),\"\",VLOOKUP(#REF!,localizacao,2,FALSE))","v":""},null,"",null,""]
[null,"",null,{"$f":"IF(ISERROR(VLOOKUP(#REF!,localizacao,2,FALSE)),\"\",VLOOKUP(#REF!,localizacao,2,FALSE))","v":""},null,"",null,""]
[null,"",null,{"$f":"IF(ISERROR(VLOOKUP(#REF!,localizacao,2,FALSE)),\"\",VLOOKUP(#REF!,localizacao,2,FALSE))","v":""},null,"",null,""]
[null,"",null,{"$f":"IF(ISERROR(VLOOKUP(#REF!,localizacao,2,FALSE)),\"\",VLOOKUP(#REF!,localizacao,2,FALSE))","v":""},null,"",null,""]
[null,"",null,{"$f":"IF(ISERROR(VLOOKUP(#REF!,localizacao,2,FALSE)),\"\",VLOOKUP(#REF!,localizacao,2,FALSE))","v":""},null,"",null,""]
[null,"",null,{"$f":"IF(ISERROR(VLOOKUP(#REF!,localizacao,2,FALSE)),\"\",VLOOKUP(#REF!,localizacao,2,FALSE))","v":""},null,"",null,""]
[null,"",null,{"$f":"IF(ISERROR(VLOOKUP(#REF!,localizacao,2,FALSE)),\"\",VLOOKUP(#REF!,localizacao,2,FALSE))","v":""},null,"",null,""]
[null,"",null,{"$f":"IF(ISERROR(VLOOKUP(#REF!,localizacao,2,FALSE)),\"\",VLOOKUP(#REF!,localizacao,2,FALSE))","v":""},null,"",null,""]
[null,"",null,{"$f":"IF(ISERROR(VLOOKUP(#REF!,localizacao,2,FALSE)),\"\",VLOOKUP(#REF!,localizacao,2,FALSE))","v":""},null,"",null,""]
[null,"",null,{"$f":"IF(ISERROR(VLOOKUP(#REF!,localizacao,2,FALSE)),\"\",VLOOKUP(#REF!,localizacao,2,FALSE))","v":""},null,"",null,""]
[null,"",null,{"$f":"IF(ISERROR(VLOOKUP(#REF!,localizacao,2,FALSE)),\"\",VLOOKUP(#REF!,localizacao,2,FALSE))","v":""},null,"",null,""]
[null,"",null,{"$f":"IF(ISERROR(VLOOKUP(#REF!,localizacao,2,FALSE)),\"\",VLOOKUP(#REF!,localizacao,2,FALSE))","v":""},null,"",null,""]
[null,"",null,{"$f":"IF(ISERROR(VLOOKUP(#REF!,localizacao,2,FALSE)),\"\",VLOOKUP(#REF!,localizacao,2,FALSE))","v":""},null,"",null,""]
[null,"",null,{"$f":"IF(ISERROR(VLOOKUP(#REF!,localizacao,2,FALSE)),\"\",VLOOKUP(#REF!,localizacao,2,FALSE))","v":""},null,"",null,""]
[null,"",null,{"$f":"IF(ISERROR(VLOOKUP(#REF!,localizacao,2,FALSE)),\"\",VLOOKUP(#REF!,localizacao,2,FALSE))","v":""},null,"",null,""]
[null,"",null,{"$f":"IF(ISERROR(VLOOKUP(#REF!,localizacao,2,FALSE)),\"\",VLOOKUP(#REF!,localizacao,2,FALSE))","v":""},null,"",null,""]
[null,"",null,{"$f":"IF(ISERROR(VLOOKUP(#REF!,localizacao,2,FALSE)),\"\",VLOOKUP(#REF!,localizacao,2,FALSE))","v":""},null,"",null,""]
[null,"",null,{"$f":"IF(ISERROR(VLOOKUP(#REF!,localizacao,2,FALSE)),\"\",VLOOKUP(#REF!,localizacao,2,FALSE))","v":""},null,"",null,""]
[null,"",null,{"$f":"IF(ISERROR(VLOOKUP(#REF!,localizacao,2,FALSE)),\"\",VLOOKUP(#REF!,localizacao,2,FALSE))","v":""},null,"",null,""]
[null,"",null,{"$f":"IF(ISERROR(VLOOKUP(#REF!,localizacao,2,FALSE)),\"\",VLOOKUP(#REF!,localizacao,2,FALSE))","v":""},null,"",null,""]
[null,"",null,{"$f":"IF(ISERROR(VLOOKUP(#REF!,localizacao,2,FALSE)),\"\",VLOOKUP(#REF!,localizacao,2,FALSE))","v":""},null,"",null,""]
[null,"",null,{"$f":"IF(ISERROR(VLOOKUP(#REF!,localizacao,2,FALSE)),\"\",VLOOKUP(#REF!,localizacao,2,FALSE))","v":""},null,"",null,""]
[null,"",null,{"$f":"IF(ISERROR(VLOOKUP(#REF!,localizacao,2,FALSE)),\"\",VLOOKUP(#REF!,localizacao,2,FALSE))","v":""},null,"",null,""]
[null,"",null,{"$f":"IF(ISERROR(VLOOKUP(#REF!,localizacao,2,FALSE)),\"\",VLOOKUP(#REF!,localizacao,2,FALSE))","v":""},null,"",null,""]
[null,"",null,{"$f":"IF(ISERROR(VLOOKUP(#REF!,localizacao,2,FALSE)),\"\",VLOOKUP(#REF!,localizacao,2,FALSE))","v":""},null,"",null,""]
[null,"",null,{"$f":"IF(ISERROR(VLOOKUP(#REF!,localizacao,2,FALSE)),\"\",VLOOKUP(#REF!,localizacao,2,FALSE))","v":""},null,"",null,""]
[null,"",null,{"$f":"IF(ISERROR(VLOOKUP(#REF!,localizacao,2,FALSE)),\"\",VLOOKUP(#REF!,localizacao,2,FALSE))","v":""},null,"",null,""]
[null,"",null,{"$f":"IF(ISERROR(VLOOKUP(#REF!,localizacao,2,FALSE)),\"\",VLOOKUP(#REF!,localizacao,2,FALSE))","v":""},null,"",null,""]
[null,"",null,{"$f":"IF(ISERROR(VLOOKUP(#REF!,localizacao,2,FALSE)),\"\",VLOOKUP(#REF!,localizacao,2,FALSE))","v":""},null,"",null,""]
[null,"",null,{"$f":"IF(ISERROR(VLOOKUP(#REF!,localizacao,2,FALSE)),\"\",VLOOKUP(#REF!,localizacao,2,FALSE))","v":""},null,"",null,""]
[null,"",null,{"$f":"IF(ISERROR(VLOOKUP(#REF!,localizacao,2,FALSE)),\"\",VLOOKUP(#REF!,localizacao,2,FALSE))","v":""},null,"",null,""]
[null,"",null,{"$f":"IF(ISERROR(VLOOKUP(#REF!,localizacao,2,FALSE)),\"\",VLOOKUP(#REF!,localizacao,2,FALSE))","v":""},null,"",null,""]
[null,"",null,{"$f":"IF(ISERROR(VLOOKUP(#REF!,localizacao,2,FALSE)),\"\",VLOOKUP(#REF!,localizacao,2,FALSE))","v":""},null,"",null,""]
[null,"",null,{"$f":"IF(ISERROR(VLOOKUP(#REF!,localizacao,2,FALSE)),\"\",VLOOKUP(#REF!,localizacao,2,FALSE))","v":""},null,"",null,""]
[null,"",null,{"$f":"IF(ISERROR(VLOOKUP(#REF!,localizacao,2,FALSE)),\"\",VLOOKUP(#REF!,localizacao,2,FALSE))","v":""},null,"",null,""]
[null,"",null,{"$f":"IF(ISERROR(VLOOKUP(#REF!,localizacao,2,FALSE)),\"\",VLOOKUP(#REF!,localizacao,2,FALSE))","v":""},null,"",null,""]
[null,"",null,{"$f":"IF(ISERROR(VLOOKUP(#REF!,localizacao,2,FALSE)),\"\",VLOOKUP(#REF!,localizacao,2,FALSE))","v":""},null,"",null,""]
[null,"",null,{"$f":"IF(ISERROR(VLOOKUP(#REF!,localizacao,2,FALSE)),\"\",VLOOKUP(#REF!,localizacao,2,FALSE))","v":""},null,{"$f":"IF(ISERROR(VLOOKUP(G838,componentes,2,FALSE)),\"\",VLOOKUP(G838,componentes,2,FALSE))","v":""},null,{"$f":"IF(ISERROR(VLOOKUP(I838,rubricas,2,FALSE)),\"\",VLOOKUP(I838,rubricas,2,FALSE))","v":""}]
[null,{"$f":"IF(C839<>\"\",+B838+1,\"\")","v":""},null,{"$f":"IF(ISERROR(VLOOKUP(#REF!,localizacao,2,FALSE)),\"\",VLOOKUP(#REF!,localizacao,2,FALSE))","v":""},null,"",null,""]
[null,"",null,{"$f":"IF(ISERROR(VLOOKUP(#REF!,localizacao,2,FALSE)),\"\",VLOOKUP(#REF!,localizacao,2,FALSE))","v":""},null,"",null,""]
[null,"",null,{"$f":"IF(ISERROR(VLOOKUP(#REF!,localizacao,2,FALSE)),\"\",VLOOKUP(#REF!,localizacao,2,FALSE))","v":""},null,"",null,""]
[null,"",null,{"$f":"IF(ISERROR(VLOOKUP(#REF!,localizacao,2,FALSE)),\"\",VLOOKUP(#REF!,localizacao,2,FALSE))","v":""},null,"",null,""]
[null,"",null,{"$f":"IF(ISERROR(VLOOKUP(#REF!,localizacao,2,FALSE)),\"\",VLOOKUP(#REF!,localizacao,2,FALSE))","v":""},null,"",null,""]
[null,"",null,{"$f":"IF(ISERROR(VLOOKUP(#REF!,localizacao,2,FALSE)),\"\",VLOOKUP(#REF!,localizacao,2,FALSE))","v":""},null,"",null,""]
[null,"",null,{"$f":"IF(ISERROR(VLOOKUP(#REF!,localizacao,2,FALSE)),\"\",VLOOKUP(#REF!,localizacao,2,FALSE))","v":""},null,"",null,""]
[null,"",null,{"$f":"IF(ISERROR(VLOOKUP(#REF!,localizacao,2,FALSE)),\"\",VLOOKUP(#REF!,localizacao,2,FALSE))","v":""},null,"",null,""]
[null,"",null,{"$f":"IF(ISERROR(VLOOKUP(#REF!,localizacao,2,FALSE)),\"\",VLOOKUP(#REF!,localizacao,2,FALSE))","v":""},null,"",null,""]
[null,"",null,{"$f":"IF(ISERROR(VLOOKUP(#REF!,localizacao,2,FALSE)),\"\",VLOOKUP(#REF!,localizacao,2,FALSE))","v":""},null,"",null,""]
[null,"",null,{"$f":"IF(ISERROR(VLOOKUP(#REF!,localizacao,2,FALSE)),\"\",VLOOKUP(#REF!,localizacao,2,FALSE))","v":""},null,"",null,""]
[null,"",null,{"$f":"IF(ISERROR(VLOOKUP(#REF!,localizacao,2,FALSE)),\"\",VLOOKUP(#REF!,localizacao,2,FALSE))","v":""},null,"",null,""]
[null,"",null,{"$f":"IF(ISERROR(VLOOKUP(#REF!,localizacao,2,FALSE)),\"\",VLOOKUP(#REF!,localizacao,2,FALSE))","v":""},null,"",null,""]
[null,"",null,{"$f":"IF(ISERROR(VLOOKUP(#REF!,localizacao,2,FALSE)),\"\",VLOOKUP(#REF!,localizacao,2,FALSE))","v":""},null,"",null,""]
[null,"",null,{"$f":"IF(ISERROR(VLOOKUP(#REF!,localizacao,2,FALSE)),\"\",VLOOKUP(#REF!,localizacao,2,FALSE))","v":""},null,"",null,""]
[null,"",null,{"$f":"IF(ISERROR(VLOOKUP(#REF!,localizacao,2,FALSE)),\"\",VLOOKUP(#REF!,localizacao,2,FALSE))","v":""},null,"",null,""]
[null,"",null,{"$f":"IF(ISERROR(VLOOKUP(#REF!,localizacao,2,FALSE)),\"\",VLOOKUP(#REF!,localizacao,2,FALSE))","v":""},null,"",null,""]
[null,"",null,{"$f":"IF(ISERROR(VLOOKUP(#REF!,localizacao,2,FALSE)),\"\",VLOOKUP(#REF!,localizacao,2,FALSE))","v":""},null,"",null,""]
[null,"",null,{"$f":"IF(ISERROR(VLOOKUP(#REF!,localizacao,2,FALSE)),\"\",VLOOKUP(#REF!,localizacao,2,FALSE))","v":""},null,"",null,""]
[null,"",null,{"$f":"IF(ISERROR(VLOOKUP(#REF!,localizacao,2,FALSE)),\"\",VLOOKUP(#REF!,localizacao,2,FALSE))","v":""},null,"",null,""]
[null,"",null,{"$f":"IF(ISERROR(VLOOKUP(#REF!,localizacao,2,FALSE)),\"\",VLOOKUP(#REF!,localizacao,2,FALSE))","v":""},null,"",null,""]
[null,"",null,{"$f":"IF(ISERROR(VLOOKUP(#REF!,localizacao,2,FALSE)),\"\",VLOOKUP(#REF!,localizacao,2,FALSE))","v":""},null,"",null,""]
[null,"",null,{"$f":"IF(ISERROR(VLOOKUP(#REF!,localizacao,2,FALSE)),\"\",VLOOKUP(#REF!,localizacao,2,FALSE))","v":""},null,"",null,""]
[null,"",null,{"$f":"IF(ISERROR(VLOOKUP(#REF!,localizacao,2,FALSE)),\"\",VLOOKUP(#REF!,localizacao,2,FALSE))","v":""},null,"",null,""]
[null,"",null,{"$f":"IF(ISERROR(VLOOKUP(#REF!,localizacao,2,FALSE)),\"\",VLOOKUP(#REF!,localizacao,2,FALSE))","v":""},null,"",null,""]
[null,"",null,{"$f":"IF(ISERROR(VLOOKUP(#REF!,localizacao,2,FALSE)),\"\",VLOOKUP(#REF!,localizacao,2,FALSE))","v":""},null,"",null,""]
[null,"",null,{"$f":"IF(ISERROR(VLOOKUP(#REF!,localizacao,2,FALSE)),\"\",VLOOKUP(#REF!,localizacao,2,FALSE))","v":""},null,"",null,""]
[null,"",null,{"$f":"IF(ISERROR(VLOOKUP(#REF!,localizacao,2,FALSE)),\"\",VLOOKUP(#REF!,localizacao,2,FALSE))","v":""},null,"",null,""]
[null,"",null,{"$f":"IF(ISERROR(VLOOKUP(#REF!,localizacao,2,FALSE)),\"\",VLOOKUP(#REF!,localizacao,2,FALSE))","v":""},null,"",null,""]
[null,"",null,{"$f":"IF(ISERROR(VLOOKUP(#REF!,localizacao,2,FALSE)),\"\",VLOOKUP(#REF!,localizacao,2,FALSE))","v":""},null,"",null,""]
[null,"",null,{"$f":"IF(ISERROR(VLOOKUP(#REF!,localizacao,2,FALSE)),\"\",VLOOKUP(#REF!,localizacao,2,FALSE))","v":""},null,"",null,""]
[null,"",null,{"$f":"IF(ISERROR(VLOOKUP(#REF!,localizacao,2,FALSE)),\"\",VLOOKUP(#REF!,localizacao,2,FALSE))","v":""},null,"",null,""]
[null,"",null,{"$f":"IF(ISERROR(VLOOKUP(#REF!,localizacao,2,FALSE)),\"\",VLOOKUP(#REF!,localizacao,2,FALSE))","v":""},null,"",null,""]
[null,"",null,{"$f":"IF(ISERROR(VLOOKUP(#REF!,localizacao,2,FALSE)),\"\",VLOOKUP(#REF!,localizacao,2,FALSE))","v":""},null,"",null,""]
[null,"",null,{"$f":"IF(ISERROR(VLOOKUP(#REF!,localizacao,2,FALSE)),\"\",VLOOKUP(#REF!,localizacao,2,FALSE))","v":""},null,"",null,""]
[null,"",null,{"$f":"IF(ISERROR(VLOOKUP(#REF!,localizacao,2,FALSE)),\"\",VLOOKUP(#REF!,localizacao,2,FALSE))","v":""},null,"",null,""]
[null,"",null,{"$f":"IF(ISERROR(VLOOKUP(#REF!,localizacao,2,FALSE)),\"\",VLOOKUP(#REF!,localizacao,2,FALSE))","v":""},null,"",null,""]
[null,"",null,{"$f":"IF(ISERROR(VLOOKUP(#REF!,localizacao,2,FALSE)),\"\",VLOOKUP(#REF!,localizacao,2,FALSE))","v":""},null,"",null,""]
[null,"",null,{"$f":"IF(ISERROR(VLOOKUP(#REF!,localizacao,2,FALSE)),\"\",VLOOKUP(#REF!,localizacao,2,FALSE))","v":""},null,"",null,""]
[null,"",null,{"$f":"IF(ISERROR(VLOOKUP(#REF!,localizacao,2,FALSE)),\"\",VLOOKUP(#REF!,localizacao,2,FALSE))","v":""},null,"",null,""]
[null,"",null,{"$f":"IF(ISERROR(VLOOKUP(#REF!,localizacao,2,FALSE)),\"\",VLOOKUP(#REF!,localizacao,2,FALSE))","v":""},null,"",null,""]
[null,"",null,{"$f":"IF(ISERROR(VLOOKUP(#REF!,localizacao,2,FALSE)),\"\",VLOOKUP(#REF!,localizacao,2,FALSE))","v":""},null,"",null,""]
[null,"",null,{"$f":"IF(ISERROR(VLOOKUP(#REF!,localizacao,2,FALSE)),\"\",VLOOKUP(#REF!,localizacao,2,FALSE))","v":""},null,"",null,""]
[null,"",null,{"$f":"IF(ISERROR(VLOOKUP(#REF!,localizacao,2,FALSE)),\"\",VLOOKUP(#REF!,localizacao,2,FALSE))","v":""},null,"",null,""]
[null,"",null,{"$f":"IF(ISERROR(VLOOKUP(#REF!,localizacao,2,FALSE)),\"\",VLOOKUP(#REF!,localizacao,2,FALSE))","v":""},null,"",null,""]
[null,"",null,{"$f":"IF(ISERROR(VLOOKUP(#REF!,localizacao,2,FALSE)),\"\",VLOOKUP(#REF!,localizacao,2,FALSE))","v":""},null,"",null,""]
[null,"",null,{"$f":"IF(ISERROR(VLOOKUP(#REF!,localizacao,2,FALSE)),\"\",VLOOKUP(#REF!,localizacao,2,FALSE))","v":""},null,"",null,""]
[null,"",null,{"$f":"IF(ISERROR(VLOOKUP(#REF!,localizacao,2,FALSE)),\"\",VLOOKUP(#REF!,localizacao,2,FALSE))","v":""},null,"",null,""]
[null,"",null,{"$f":"IF(ISERROR(VLOOKUP(#REF!,localizacao,2,FALSE)),\"\",VLOOKUP(#REF!,localizacao,2,FALSE))","v":""},null,"",null,""]
[null,"",null,{"$f":"IF(ISERROR(VLOOKUP(#REF!,localizacao,2,FALSE)),\"\",VLOOKUP(#REF!,localizacao,2,FALSE))","v":""},null,"",null,""]
[null,"",null,{"$f":"IF(ISERROR(VLOOKUP(#REF!,localizacao,2,FALSE)),\"\",VLOOKUP(#REF!,localizacao,2,FALSE))","v":""},null,"",null,""]
[null,"",null,{"$f":"IF(ISERROR(VLOOKUP(#REF!,localizacao,2,FALSE)),\"\",VLOOKUP(#REF!,localizacao,2,FALSE))","v":""},null,"",null,""]
[null,"",null,{"$f":"IF(ISERROR(VLOOKUP(#REF!,localizacao,2,FALSE)),\"\",VLOOKUP(#REF!,localizacao,2,FALSE))","v":""},null,"",null,""]
[null,"",null,{"$f":"IF(ISERROR(VLOOKUP(#REF!,localizacao,2,FALSE)),\"\",VLOOKUP(#REF!,localizacao,2,FALSE))","v":""},null,"",null,""]
[null,"",null,{"$f":"IF(ISERROR(VLOOKUP(#REF!,localizacao,2,FALSE)),\"\",VLOOKUP(#REF!,localizacao,2,FALSE))","v":""},null,"",null,""]
[null,"",null,{"$f":"IF(ISERROR(VLOOKUP(#REF!,localizacao,2,FALSE)),\"\",VLOOKUP(#REF!,localizacao,2,FALSE))","v":""},null,"",null,""]
[null,"",null,{"$f":"IF(ISERROR(VLOOKUP(#REF!,localizacao,2,FALSE)),\"\",VLOOKUP(#REF!,localizacao,2,FALSE))","v":""},null,"",null,""]
[null,"",null,{"$f":"IF(ISERROR(VLOOKUP(#REF!,localizacao,2,FALSE)),\"\",VLOOKUP(#REF!,localizacao,2,FALSE))","v":""},null,"",null,""]
[null,"",null,{"$f":"IF(ISERROR(VLOOKUP(#REF!,localizacao,2,FALSE)),\"\",VLOOKUP(#REF!,localizacao,2,FALSE))","v":""},null,"",null,""]
[null,"",null,{"$f":"IF(ISERROR(VLOOKUP(#REF!,localizacao,2,FALSE)),\"\",VLOOKUP(#REF!,localizacao,2,FALSE))","v":""},null,"",null,""]
[null,"",null,{"$f":"IF(ISERROR(VLOOKUP(#REF!,localizacao,2,FALSE)),\"\",VLOOKUP(#REF!,localizacao,2,FALSE))","v":""},null,"",null,""]
[null,"",null,{"$f":"IF(ISERROR(VLOOKUP(#REF!,localizacao,2,FALSE)),\"\",VLOOKUP(#REF!,localizacao,2,FALSE))","v":""},null,"",null,""]
[null,"",null,{"$f":"IF(ISERROR(VLOOKUP(#REF!,localizacao,2,FALSE)),\"\",VLOOKUP(#REF!,localizacao,2,FALSE))","v":""},null,"",null,""]
[null,"",null,{"$f":"IF(ISERROR(VLOOKUP(#REF!,localizacao,2,FALSE)),\"\",VLOOKUP(#REF!,localizacao,2,FALSE))","v":""},null,{"$f":"IF(ISERROR(VLOOKUP(G902,componentes,2,FALSE)),\"\",VLOOKUP(G902,componentes,2,FALSE))","v":""},null,{"$f":"IF(ISERROR(VLOOKUP(I902,rubricas,2,FALSE)),\"\",VLOOKUP(I902,rubricas,2,FALSE))","v":""}]
[null,{"$f":"IF(C903<>\"\",+B902+1,\"\")","v":""},null,{"$f":"IF(ISERROR(VLOOKUP(#REF!,localizacao,2,FALSE)),\"\",VLOOKUP(#REF!,localizacao,2,FALSE))","v":""},null,"",null,""]
[null,"",null,{"$f":"IF(ISERROR(VLOOKUP(#REF!,localizacao,2,FALSE)),\"\",VLOOKUP(#REF!,localizacao,2,FALSE))","v":""},null,"",null,""]
[null,"",null,{"$f":"IF(ISERROR(VLOOKUP(#REF!,localizacao,2,FALSE)),\"\",VLOOKUP(#REF!,localizacao,2,FALSE))","v":""},null,"",null,""]
[null,"",null,{"$f":"IF(ISERROR(VLOOKUP(#REF!,localizacao,2,FALSE)),\"\",VLOOKUP(#REF!,localizacao,2,FALSE))","v":""},null,"",null,""]
[null,"",null,{"$f":"IF(ISERROR(VLOOKUP(#REF!,localizacao,2,FALSE)),\"\",VLOOKUP(#REF!,localizacao,2,FALSE))","v":""},null,"",null,""]
[null,"",null,{"$f":"IF(ISERROR(VLOOKUP(#REF!,localizacao,2,FALSE)),\"\",VLOOKUP(#REF!,localizacao,2,FALSE))","v":""},null,"",null,""]
[null,"",null,{"$f":"IF(ISERROR(VLOOKUP(#REF!,localizacao,2,FALSE)),\"\",VLOOKUP(#REF!,localizacao,2,FALSE))","v":""},null,"",null,""]
[null,"",null,{"$f":"IF(ISERROR(VLOOKUP(#REF!,localizacao,2,FALSE)),\"\",VLOOKUP(#REF!,localizacao,2,FALSE))","v":""},null,"",null,""]
[null,"",null,{"$f":"IF(ISERROR(VLOOKUP(#REF!,localizacao,2,FALSE)),\"\",VLOOKUP(#REF!,localizacao,2,FALSE))","v":""},null,"",null,""]
[null,"",null,{"$f":"IF(ISERROR(VLOOKUP(#REF!,localizacao,2,FALSE)),\"\",VLOOKUP(#REF!,localizacao,2,FALSE))","v":""},null,"",null,""]
[null,"",null,{"$f":"IF(ISERROR(VLOOKUP(#REF!,localizacao,2,FALSE)),\"\",VLOOKUP(#REF!,localizacao,2,FALSE))","v":""},null,"",null,""]
[null,"",null,{"$f":"IF(ISERROR(VLOOKUP(#REF!,localizacao,2,FALSE)),\"\",VLOOKUP(#REF!,localizacao,2,FALSE))","v":""},null,"",null,""]
[null,"",null,{"$f":"IF(ISERROR(VLOOKUP(#REF!,localizacao,2,FALSE)),\"\",VLOOKUP(#REF!,localizacao,2,FALSE))","v":""},null,"",null,""]
[null,"",null,{"$f":"IF(ISERROR(VLOOKUP(#REF!,localizacao,2,FALSE)),\"\",VLOOKUP(#REF!,localizacao,2,FALSE))","v":""},null,"",null,""]
[null,"",null,{"$f":"IF(ISERROR(VLOOKUP(#REF!,localizacao,2,FALSE)),\"\",VLOOKUP(#REF!,localizacao,2,FALSE))","v":""},null,"",null,""]
[null,"",null,{"$f":"IF(ISERROR(VLOOKUP(#REF!,localizacao,2,FALSE)),\"\",VLOOKUP(#REF!,localizacao,2,FALSE))","v":""},null,"",null,""]
[null,"",null,{"$f":"IF(ISERROR(VLOOKUP(#REF!,localizacao,2,FALSE)),\"\",VLOOKUP(#REF!,localizacao,2,FALSE))","v":""},null,"",null,""]
[null,"",null,{"$f":"IF(ISERROR(VLOOKUP(#REF!,localizacao,2,FALSE)),\"\",VLOOKUP(#REF!,localizacao,2,FALSE))","v":""},null,"",null,""]
[null,"",null,{"$f":"IF(ISERROR(VLOOKUP(#REF!,localizacao,2,FALSE)),\"\",VLOOKUP(#REF!,localizacao,2,FALSE))","v":""},null,"",null,""]
[null,"",null,{"$f":"IF(ISERROR(VLOOKUP(#REF!,localizacao,2,FALSE)),\"\",VLOOKUP(#REF!,localizacao,2,FALSE))","v":""},null,"",null,""]
[null,"",null,{"$f":"IF(ISERROR(VLOOKUP(#REF!,localizacao,2,FALSE)),\"\",VLOOKUP(#REF!,localizacao,2,FALSE))","v":""},null,"",null,""]
[null,"",null,{"$f":"IF(ISERROR(VLOOKUP(#REF!,localizacao,2,FALSE)),\"\",VLOOKUP(#REF!,localizacao,2,FALSE))","v":""},null,"",null,""]
[null,"",null,{"$f":"IF(ISERROR(VLOOKUP(#REF!,localizacao,2,FALSE)),\"\",VLOOKUP(#REF!,localizacao,2,FALSE))","v":""},null,"",null,""]
[null,"",null,{"$f":"IF(ISERROR(VLOOKUP(#REF!,localizacao,2,FALSE)),\"\",VLOOKUP(#REF!,localizacao,2,FALSE))","v":""},null,"",null,""]
[null,"",null,{"$f":"IF(ISERROR(VLOOKUP(#REF!,localizacao,2,FALSE)),\"\",VLOOKUP(#REF!,localizacao,2,FALSE))","v":""},null,"",null,""]
[null,"",null,{"$f":"IF(ISERROR(VLOOKUP(#REF!,localizacao,2,FALSE)),\"\",VLOOKUP(#REF!,localizacao,2,FALSE))","v":""},null,"",null,""]
[null,"",null,{"$f":"IF(ISERROR(VLOOKUP(#REF!,localizacao,2,FALSE)),\"\",VLOOKUP(#REF!,localizacao,2,FALSE))","v":""},null,"",null,""]
[null,"",null,{"$f":"IF(ISERROR(VLOOKUP(#REF!,localizacao,2,FALSE)),\"\",VLOOKUP(#REF!,localizacao,2,FALSE))","v":""},null,"",null,""]
[null,"",null,{"$f":"IF(ISERROR(VLOOKUP(#REF!,localizacao,2,FALSE)),\"\",VLOOKUP(#REF!,localizacao,2,FALSE))","v":""},null,"",null,""]
[null,"",null,{"$f":"IF(ISERROR(VLOOKUP(#REF!,localizacao,2,FALSE)),\"\",VLOOKUP(#REF!,localizacao,2,FALSE))","v":""},null,"",null,""]
[null,"",null,{"$f":"IF(ISERROR(VLOOKUP(#REF!,localizacao,2,FALSE)),\"\",VLOOKUP(#REF!,localizacao,2,FALSE))","v":""},null,"",null,""]
[null,"",null,{"$f":"IF(ISERROR(VLOOKUP(#REF!,localizacao,2,FALSE)),\"\",VLOOKUP(#REF!,localizacao,2,FALSE))","v":""},null,"",null,""]
[null,"",null,{"$f":"IF(ISERROR(VLOOKUP(#REF!,localizacao,2,FALSE)),\"\",VLOOKUP(#REF!,localizacao,2,FALSE))","v":""},null,"",null,""]
[null,"",null,{"$f":"IF(ISERROR(VLOOKUP(#REF!,localizacao,2,FALSE)),\"\",VLOOKUP(#REF!,localizacao,2,FALSE))","v":""},null,"",null,""]
[null,"",null,{"$f":"IF(ISERROR(VLOOKUP(#REF!,localizacao,2,FALSE)),\"\",VLOOKUP(#REF!,localizacao,2,FALSE))","v":""},null,"",null,""]
[null,"",null,{"$f":"IF(ISERROR(VLOOKUP(#REF!,localizacao,2,FALSE)),\"\",VLOOKUP(#REF!,localizacao,2,FALSE))","v":""},null,"",null,""]
[null,"",null,{"$f":"IF(ISERROR(VLOOKUP(#REF!,localizacao,2,FALSE)),\"\",VLOOKUP(#REF!,localizacao,2,FALSE))","v":""},null,"",null,""]
[null,"",null,{"$f":"IF(ISERROR(VLOOKUP(#REF!,localizacao,2,FALSE)),\"\",VLOOKUP(#REF!,localizacao,2,FALSE))","v":""},null,"",null,""]
[null,"",null,{"$f":"IF(ISERROR(VLOOKUP(#REF!,localizacao,2,FALSE)),\"\",VLOOKUP(#REF!,localizacao,2,FALSE))","v":""},null,"",null,""]
[null,"",null,{"$f":"IF(ISERROR(VLOOKUP(#REF!,localizacao,2,FALSE)),\"\",VLOOKUP(#REF!,localizacao,2,FALSE))","v":""},null,"",null,""]
[null,"",null,{"$f":"IF(ISERROR(VLOOKUP(#REF!,localizacao,2,FALSE)),\"\",VLOOKUP(#REF!,localizacao,2,FALSE))","v":""},null,"",null,""]
[null,"",null,{"$f":"IF(ISERROR(VLOOKUP(#REF!,localizacao,2,FALSE)),\"\",VLOOKUP(#REF!,localizacao,2,FALSE))","v":""},null,"",null,""]
[null,"",null,{"$f":"IF(ISERROR(VLOOKUP(#REF!,localizacao,2,FALSE)),\"\",VLOOKUP(#REF!,localizacao,2,FALSE))","v":""},null,"",null,""]
[null,"",null,{"$f":"IF(ISERROR(VLOOKUP(#REF!,localizacao,2,FALSE)),\"\",VLOOKUP(#REF!,localizacao,2,FALSE))","v":""},null,"",null,""]
[null,"",null,{"$f":"IF(ISERROR(VLOOKUP(#REF!,localizacao,2,FALSE)),\"\",VLOOKUP(#REF!,localizacao,2,FALSE))","v":""},null,"",null,""]
[null,"",null,{"$f":"IF(ISERROR(VLOOKUP(#REF!,localizacao,2,FALSE)),\"\",VLOOKUP(#REF!,localizacao,2,FALSE))","v":""},null,"",null,""]
[null,"",null,{"$f":"IF(ISERROR(VLOOKUP(#REF!,localizacao,2,FALSE)),\"\",VLOOKUP(#REF!,localizacao,2,FALSE))","v":""},null,"",null,""]
[null,"",null,{"$f":"IF(ISERROR(VLOOKUP(#REF!,localizacao,2,FALSE)),\"\",VLOOKUP(#REF!,localizacao,2,FALSE))","v":""},null,"",null,""]
[null,"",null,{"$f":"IF(ISERROR(VLOOKUP(#REF!,localizacao,2,FALSE)),\"\",VLOOKUP(#REF!,localizacao,2,FALSE))","v":""},null,"",null,""]
[null,"",null,{"$f":"IF(ISERROR(VLOOKUP(#REF!,localizacao,2,FALSE)),\"\",VLOOKUP(#REF!,localizacao,2,FALSE))","v":""},null,"",null,""]
[null,"",null,{"$f":"IF(ISERROR(VLOOKUP(#REF!,localizacao,2,FALSE)),\"\",VLOOKUP(#REF!,localizacao,2,FALSE))","v":""},null,"",null,""]
[null,"",null,{"$f":"IF(ISERROR(VLOOKUP(#REF!,localizacao,2,FALSE)),\"\",VLOOKUP(#REF!,localizacao,2,FALSE))","v":""},null,"",null,""]
[null,"",null,{"$f":"IF(ISERROR(VLOOKUP(#REF!,localizacao,2,FALSE)),\"\",VLOOKUP(#REF!,localizacao,2,FALSE))","v":""},null,"",null,""]
[null,"",null,{"$f":"IF(ISERROR(VLOOKUP(#REF!,localizacao,2,FALSE)),\"\",VLOOKUP(#REF!,localizacao,2,FALSE))","v":""},null,"",null,""]
[null,"",null,{"$f":"IF(ISERROR(VLOOKUP(#REF!,localizacao,2,FALSE)),\"\",VLOOKUP(#REF!,localizacao,2,FALSE))","v":""},null,"",null,""]
[null,"",null,{"$f":"IF(ISERROR(VLOOKUP(#REF!,localizacao,2,FALSE)),\"\",VLOOKUP(#REF!,localizacao,2,FALSE))","v":""},null,"",null,""]
[null,"",null,{"$f":"IF(ISERROR(VLOOKUP(#REF!,localizacao,2,FALSE)),\"\",VLOOKUP(#REF!,localizacao,2,FALSE))","v":""},null,"",null,""]
[null,"",null,{"$f":"IF(ISERROR(VLOOKUP(#REF!,localizacao,2,FALSE)),\"\",VLOOKUP(#REF!,localizacao,2,FALSE))","v":""},null,"",null,""]
[null,"",null,{"$f":"IF(ISERROR(VLOOKUP(#REF!,localizacao,2,FALSE)),\"\",VLOOKUP(#REF!,localizacao,2,FALSE))","v":""},null,"",null,""]
[null,"",null,{"$f":"IF(ISERROR(VLOOKUP(#REF!,localizacao,2,FALSE)),\"\",VLOOKUP(#REF!,localizacao,2,FALSE))","v":""},null,"",null,""]
[null,"",null,{"$f":"IF(ISERROR(VLOOKUP(#REF!,localizacao,2,FALSE)),\"\",VLOOKUP(#REF!,localizacao,2,FALSE))","v":""},null,"",null,""]
[null,"",null,{"$f":"IF(ISERROR(VLOOKUP(#REF!,localizacao,2,FALSE)),\"\",VLOOKUP(#REF!,localizacao,2,FALSE))","v":""},null,"",null,""]
[null,"",null,{"$f":"IF(ISERROR(VLOOKUP(#REF!,localizacao,2,FALSE)),\"\",VLOOKUP(#REF!,localizacao,2,FALSE))","v":""},null,"",null,""]
[null,"",null,{"$f":"IF(ISERROR(VLOOKUP(#REF!,localizacao,2,FALSE)),\"\",VLOOKUP(#REF!,localizacao,2,FALSE))","v":""},null,{"$f":"IF(ISERROR(VLOOKUP(G966,componentes,2,FALSE)),\"\",VLOOKUP(G966,componentes,2,FALSE))","v":""},null,{"$f":"IF(ISERROR(VLOOKUP(I966,rubricas,2,FALSE)),\"\",VLOOKUP(I966,rubricas,2,FALSE))","v":""}]
[null,{"$f":"IF(C967<>\"\",+B966+1,\"\")","v":""},null,{"$f":"IF(ISERROR(VLOOKUP(#REF!,localizacao,2,FALSE)),\"\",VLOOKUP(#REF!,localizacao,2,FALSE))","v":""},null,"",null,""]
[null,"",null,{"$f":"IF(ISERROR(VLOOKUP(#REF!,localizacao,2,FALSE)),\"\",VLOOKUP(#REF!,localizacao,2,FALSE))","v":""},null,"",null,""]
[null,"",null,{"$f":"IF(ISERROR(VLOOKUP(#REF!,localizacao,2,FALSE)),\"\",VLOOKUP(#REF!,localizacao,2,FALSE))","v":""},null,"",null,""]
[null,"",null,{"$f":"IF(ISERROR(VLOOKUP(#REF!,localizacao,2,FALSE)),\"\",VLOOKUP(#REF!,localizacao,2,FALSE))","v":""},null,"",null,""]
[null,"",null,{"$f":"IF(ISERROR(VLOOKUP(#REF!,localizacao,2,FALSE)),\"\",VLOOKUP(#REF!,localizacao,2,FALSE))","v":""},null,"",null,""]
[null,"",null,{"$f":"IF(ISERROR(VLOOKUP(#REF!,localizacao,2,FALSE)),\"\",VLOOKUP(#REF!,localizacao,2,FALSE))","v":""},null,"",null,""]
[null,"",null,{"$f":"IF(ISERROR(VLOOKUP(#REF!,localizacao,2,FALSE)),\"\",VLOOKUP(#REF!,localizacao,2,FALSE))","v":""},null,"",null,""]
[null,"",null,{"$f":"IF(ISERROR(VLOOKUP(#REF!,localizacao,2,FALSE)),\"\",VLOOKUP(#REF!,localizacao,2,FALSE))","v":""},null,"",null,""]
[null,"",null,{"$f":"IF(ISERROR(VLOOKUP(#REF!,localizacao,2,FALSE)),\"\",VLOOKUP(#REF!,localizacao,2,FALSE))","v":""},null,"",null,""]
[null,"",null,{"$f":"IF(ISERROR(VLOOKUP(#REF!,localizacao,2,FALSE)),\"\",VLOOKUP(#REF!,localizacao,2,FALSE))","v":""},null,"",null,""]
[null,"",null,{"$f":"IF(ISERROR(VLOOKUP(#REF!,localizacao,2,FALSE)),\"\",VLOOKUP(#REF!,localizacao,2,FALSE))","v":""},null,"",null,""]
[null,"",null,{"$f":"IF(ISERROR(VLOOKUP(#REF!,localizacao,2,FALSE)),\"\",VLOOKUP(#REF!,localizacao,2,FALSE))","v":""},null,"",null,""]
[null,"",null,{"$f":"IF(ISERROR(VLOOKUP(#REF!,localizacao,2,FALSE)),\"\",VLOOKUP(#REF!,localizacao,2,FALSE))","v":""},null,"",null,""]
[null,"",null,{"$f":"IF(ISERROR(VLOOKUP(#REF!,localizacao,2,FALSE)),\"\",VLOOKUP(#REF!,localizacao,2,FALSE))","v":""},null,"",null,""]
[null,"",null,{"$f":"IF(ISERROR(VLOOKUP(#REF!,localizacao,2,FALSE)),\"\",VLOOKUP(#REF!,localizacao,2,FALSE))","v":""},null,"",null,""]
[null,"",null,{"$f":"IF(ISERROR(VLOOKUP(#REF!,localizacao,2,FALSE)),\"\",VLOOKUP(#REF!,localizacao,2,FALSE))","v":""},null,"",null,""]
[null,"",null,{"$f":"IF(ISERROR(VLOOKUP(#REF!,localizacao,2,FALSE)),\"\",VLOOKUP(#REF!,localizacao,2,FALSE))","v":""},null,"",null,""]
[null,"",null,{"$f":"IF(ISERROR(VLOOKUP(#REF!,localizacao,2,FALSE)),\"\",VLOOKUP(#REF!,localizacao,2,FALSE))","v":""},null,"",null,""]
[null,"",null,{"$f":"IF(ISERROR(VLOOKUP(#REF!,localizacao,2,FALSE)),\"\",VLOOKUP(#REF!,localizacao,2,FALSE))","v":""},null,"",null,""]
[null,"",null,{"$f":"IF(ISERROR(VLOOKUP(#REF!,localizacao,2,FALSE)),\"\",VLOOKUP(#REF!,localizacao,2,FALSE))","v":""},null,"",null,""]
[null,"",null,{"$f":"IF(ISERROR(VLOOKUP(#REF!,localizacao,2,FALSE)),\"\",VLOOKUP(#REF!,localizacao,2,FALSE))","v":""},null,"",null,""]
[null,"",null,{"$f":"IF(ISERROR(VLOOKUP(#REF!,localizacao,2,FALSE)),\"\",VLOOKUP(#REF!,localizacao,2,FALSE))","v":""},null,"",null,""]
[null,"",null,{"$f":"IF(ISERROR(VLOOKUP(#REF!,localizacao,2,FALSE)),\"\",VLOOKUP(#REF!,localizacao,2,FALSE))","v":""},null,"",null,""]
[null,"",null,{"$f":"IF(ISERROR(VLOOKUP(#REF!,localizacao,2,FALSE)),\"\",VLOOKUP(#REF!,localizacao,2,FALSE))","v":""},null,"",null,""]
[null,"",null,{"$f":"IF(ISERROR(VLOOKUP(#REF!,localizacao,2,FALSE)),\"\",VLOOKUP(#REF!,localizacao,2,FALSE))","v":""},null,"",null,""]
[null,"",null,{"$f":"IF(ISERROR(VLOOKUP(#REF!,localizacao,2,FALSE)),\"\",VLOOKUP(#REF!,localizacao,2,FALSE))","v":""},null,"",null,""]
[null,"",null,{"$f":"IF(ISERROR(VLOOKUP(#REF!,localizacao,2,FALSE)),\"\",VLOOKUP(#REF!,localizacao,2,FALSE))","v":""},null,"",null,""]
[null,"",null,{"$f":"IF(ISERROR(VLOOKUP(#REF!,localizacao,2,FALSE)),\"\",VLOOKUP(#REF!,localizacao,2,FALSE))","v":""},null,"",null,""]
[null,"",null,{"$f":"IF(ISERROR(VLOOKUP(#REF!,localizacao,2,FALSE)),\"\",VLOOKUP(#REF!,localizacao,2,FALSE))","v":""},null,"",null,""]
[null,"",null,{"$f":"IF(ISERROR(VLOOKUP(#REF!,localizacao,2,FALSE)),\"\",VLOOKUP(#REF!,localizacao,2,FALSE))","v":""},null,"",null,""]
[null,"",null,{"$f":"IF(ISERROR(VLOOKUP(#REF!,localizacao,2,FALSE)),\"\",VLOOKUP(#REF!,localizacao,2,FALSE))","v":""},null,"",null,""]
[null,"",null,{"$f":"IF(ISERROR(VLOOKUP(#REF!,localizacao,2,FALSE)),\"\",VLOOKUP(#REF!,localizacao,2,FALSE))","v":""},null,"",null,""]
[null,"",null,{"$f":"IF(ISERROR(VLOOKUP(#REF!,localizacao,2,FALSE)),\"\",VLOOKUP(#REF!,localizacao,2,FALSE))","v":""},null,"",null,""]
[null,"",null,{"$f":"IF(ISERROR(VLOOKUP(#REF!,localizacao,2,FALSE)),\"\",VLOOKUP(#REF!,localizacao,2,FALSE))","v":""},null,"",null,""]
[null,"",null,{"$f":"IF(ISERROR(VLOOKUP(#REF!,localizacao,2,FALSE)),\"\",VLOOKUP(#REF!,localizacao,2,FALSE))","v":""},null,"",null,""]
[null,"",null,{"$f":"IF(ISERROR(VLOOKUP(#REF!,localizacao,2,FALSE)),\"\",VLOOKUP(#REF!,localizacao,2,FALSE))","v":""},null,"",null,""]
[null,"",null,{"$f":"IF(ISERROR(VLOOKUP(#REF!,localizacao,2,FALSE)),\"\",VLOOKUP(#REF!,localizacao,2,FALSE))","v":""},null,"",null,""]
[null,"",null,{"$f":"IF(ISERROR(VLOOKUP(#REF!,localizacao,2,FALSE)),\"\",VLOOKUP(#REF!,localizacao,2,FALSE))","v":""},null,"",null,""]
[null,"",null,{"$f":"IF(ISERROR(VLOOKUP(#REF!,localizacao,2,FALSE)),\"\",VLOOKUP(#REF!,localizacao,2,FALSE))","v":""},null,"",null,""]
[null,"",null,{"$f":"IF(ISERROR(VLOOKUP(#REF!,localizacao,2,FALSE)),\"\",VLOOKUP(#REF!,localizacao,2,FALSE))","v":""},null,"",null,""]
[null,"",null,{"$f":"IF(ISERROR(VLOOKUP(#REF!,localizacao,2,FALSE)),\"\",VLOOKUP(#REF!,localizacao,2,FALSE))","v":""},null,"",null,""]
[null,"",null,{"$f":"IF(ISERROR(VLOOKUP(#REF!,localizacao,2,FALSE)),\"\",VLOOKUP(#REF!,localizacao,2,FALSE))","v":""},null,"",null,""]
[null,"",null,{"$f":"IF(ISERROR(VLOOKUP(#REF!,localizacao,2,FALSE)),\"\",VLOOKUP(#REF!,localizacao,2,FALSE))","v":""},null,"",null,""]
[null,"",null,{"$f":"IF(ISERROR(VLOOKUP(#REF!,localizacao,2,FALSE)),\"\",VLOOKUP(#REF!,localizacao,2,FALSE))","v":""},null,"",null,""]
[null,"",null,{"$f":"IF(ISERROR(VLOOKUP(#REF!,localizacao,2,FALSE)),\"\",VLOOKUP(#REF!,localizacao,2,FALSE))","v":""},null,"",null,""]
[null,"",null,{"$f":"IF(ISERROR(VLOOKUP(#REF!,localizacao,2,FALSE)),\"\",VLOOKUP(#REF!,localizacao,2,FALSE))","v":""},null,"",null,""]
[null,"",null,{"$f":"IF(ISERROR(VLOOKUP(#REF!,localizacao,2,FALSE)),\"\",VLOOKUP(#REF!,localizacao,2,FALSE))","v":""},null,"",null,""]
[null,"",null,{"$f":"IF(ISERROR(VLOOKUP(#REF!,localizacao,2,FALSE)),\"\",VLOOKUP(#REF!,localizacao,2,FALSE))","v":""},null,"",null,""]
[null,"",null,{"$f":"IF(ISERROR(VLOOKUP(#REF!,localizacao,2,FALSE)),\"\",VLOOKUP(#REF!,localizacao,2,FALSE))","v":""},null,"",null,""]
[null,"",null,{"$f":"IF(ISERROR(VLOOKUP(#REF!,localizacao,2,FALSE)),\"\",VLOOKUP(#REF!,localizacao,2,FALSE))","v":""},null,"",null,""]
[null,"",null,{"$f":"IF(ISERROR(VLOOKUP(#REF!,localizacao,2,FALSE)),\"\",VLOOKUP(#REF!,localizacao,2,FALSE))","v":""},null,"",null,""]
[null,"",null,{"$f":"IF(ISERROR(VLOOKUP(#REF!,localizacao,2,FALSE)),\"\",VLOOKUP(#REF!,localizacao,2,FALSE))","v":""},null,"",null,""]
[null,"",null,{"$f":"IF(ISERROR(VLOOKUP(#REF!,localizacao,2,FALSE)),\"\",VLOOKUP(#REF!,localizacao,2,FALSE))","v":""},null,"",null,""]
[null,"",null,{"$f":"IF(ISERROR(VLOOKUP(#REF!,localizacao,2,FALSE)),\"\",VLOOKUP(#REF!,localizacao,2,FALSE))","v":""},null,"",null,""]
[null,"",null,{"$f":"IF(ISERROR(VLOOKUP(#REF!,localizacao,2,FALSE)),\"\",VLOOKUP(#REF!,localizacao,2,FALSE))","v":""},null,"",null,""]
[null,"",null,{"$f":"IF(ISERROR(VLOOKUP(#REF!,localizacao,2,FALSE)),\"\",VLOOKUP(#REF!,localizacao,2,FALSE))","v":""},null,"",null,""]
[null,"",null,{"$f":"IF(ISERROR(VLOOKUP(#REF!,localizacao,2,FALSE)),\"\",VLOOKUP(#REF!,localizacao,2,FALSE))","v":""},null,"",null,""]
[null,"",null,{"$f":"IF(ISERROR(VLOOKUP(#REF!,localizacao,2,FALSE)),\"\",VLOOKUP(#REF!,localizacao,2,FALSE))","v":""},null,"",null,""]
[null,"",null,{"$f":"IF(ISERROR(VLOOKUP(#REF!,localizacao,2,FALSE)),\"\",VLOOKUP(#REF!,localizacao,2,FALSE))","v":""},null,"",null,""]
[null,"",null,{"$f":"IF(ISERROR(VLOOKUP(#REF!,localizacao,2,FALSE)),\"\",VLOOKUP(#REF!,localizacao,2,FALSE))","v":""},null,"",null,""]
[null,"",null,{"$f":"IF(ISERROR(VLOOKUP(#REF!,localizacao,2,FALSE)),\"\",VLOOKUP(#REF!,localizacao,2,FALSE))","v":""},null,"",null,""]
[null,"",null,{"$f":"IF(ISERROR(VLOOKUP(#REF!,localizacao,2,FALSE)),\"\",VLOOKUP(#REF!,localizacao,2,FALSE))","v":""},null,"",null,""]
[null,"",null,{"$f":"IF(ISERROR(VLOOKUP(#REF!,localizacao,2,FALSE)),\"\",VLOOKUP(#REF!,localizacao,2,FALSE))","v":""},null,"",null,""]
[null,"",null,{"$f":"IF(ISERROR(VLOOKUP(#REF!,localizacao,2,FALSE)),\"\",VLOOKUP(#REF!,localizacao,2,FALSE))","v":""},null,{"$f":"IF(ISERROR(VLOOKUP(G1030,componentes,2,FALSE)),\"\",VLOOKUP(G1030,componentes,2,FALSE))","v":""},null,{"$f":"IF(ISERROR(VLOOKUP(I1030,rubricas,2,FALSE)),\"\",VLOOKUP(I1030,rubricas,2,FALSE))","v":""}]
[null,{"$f":"IF(C1031<>\"\",+B1030+1,\"\")","v":""},null,{"$f":"IF(ISERROR(VLOOKUP(#REF!,localizacao,2,FALSE)),\"\",VLOOKUP(#REF!,localizacao,2,FALSE))","v":""},null,"",null,""]
[null,"",null,{"$f":"IF(ISERROR(VLOOKUP(#REF!,localizacao,2,FALSE)),\"\",VLOOKUP(#REF!,localizacao,2,FALSE))","v":""},null,"",null,""]
[null,"",null,{"$f":"IF(ISERROR(VLOOKUP(#REF!,localizacao,2,FALSE)),\"\",VLOOKUP(#REF!,localizacao,2,FALSE))","v":""},null,"",null,""]
[null,"",null,{"$f":"IF(ISERROR(VLOOKUP(#REF!,localizacao,2,FALSE)),\"\",VLOOKUP(#REF!,localizacao,2,FALSE))","v":""},null,"",null,""]
[null,"",null,{"$f":"IF(ISERROR(VLOOKUP(#REF!,localizacao,2,FALSE)),\"\",VLOOKUP(#REF!,localizacao,2,FALSE))","v":""},null,"",null,""]
[null,"",null,{"$f":"IF(ISERROR(VLOOKUP(#REF!,localizacao,2,FALSE)),\"\",VLOOKUP(#REF!,localizacao,2,FALSE))","v":""},null,"",null,""]
[null,"",null,{"$f":"IF(ISERROR(VLOOKUP(#REF!,localizacao,2,FALSE)),\"\",VLOOKUP(#REF!,localizacao,2,FALSE))","v":""},null,"",null,""]
[null,"",null,{"$f":"IF(ISERROR(VLOOKUP(#REF!,localizacao,2,FALSE)),\"\",VLOOKUP(#REF!,localizacao,2,FALSE))","v":""},null,"",null,""]
[null,"",null,{"$f":"IF(ISERROR(VLOOKUP(#REF!,localizacao,2,FALSE)),\"\",VLOOKUP(#REF!,localizacao,2,FALSE))","v":""},null,"",null,""]
[null,"",null,{"$f":"IF(ISERROR(VLOOKUP(#REF!,localizacao,2,FALSE)),\"\",VLOOKUP(#REF!,localizacao,2,FALSE))","v":""},null,"",null,""]
[null,"",null,{"$f":"IF(ISERROR(VLOOKUP(#REF!,localizacao,2,FALSE)),\"\",VLOOKUP(#REF!,localizacao,2,FALSE))","v":""},null,"",null,""]
[null,"",null,{"$f":"IF(ISERROR(VLOOKUP(#REF!,localizacao,2,FALSE)),\"\",VLOOKUP(#REF!,localizacao,2,FALSE))","v":""},null,"",null,""]
[null,"",null,{"$f":"IF(ISERROR(VLOOKUP(#REF!,localizacao,2,FALSE)),\"\",VLOOKUP(#REF!,localizacao,2,FALSE))","v":""},null,"",null,""]
[null,"",null,{"$f":"IF(ISERROR(VLOOKUP(#REF!,localizacao,2,FALSE)),\"\",VLOOKUP(#REF!,localizacao,2,FALSE))","v":""},null,"",null,""]
[null,"",null,{"$f":"IF(ISERROR(VLOOKUP(#REF!,localizacao,2,FALSE)),\"\",VLOOKUP(#REF!,localizacao,2,FALSE))","v":""},null,"",null,""]
[null,"",null,{"$f":"IF(ISERROR(VLOOKUP(#REF!,localizacao,2,FALSE)),\"\",VLOOKUP(#REF!,localizacao,2,FALSE))","v":""},null,"",null,""]
[null,"",null,{"$f":"IF(ISERROR(VLOOKUP(#REF!,localizacao,2,FALSE)),\"\",VLOOKUP(#REF!,localizacao,2,FALSE))","v":""},null,"",null,""]
[null,"",null,{"$f":"IF(ISERROR(VLOOKUP(#REF!,localizacao,2,FALSE)),\"\",VLOOKUP(#REF!,localizacao,2,FALSE))","v":""},null,"",null,""]
[null,"",null,{"$f":"IF(ISERROR(VLOOKUP(#REF!,localizacao,2,FALSE)),\"\",VLOOKUP(#REF!,localizacao,2,FALSE))","v":""},null,"",null,""]
[null,"",null,{"$f":"IF(ISERROR(VLOOKUP(#REF!,localizacao,2,FALSE)),\"\",VLOOKUP(#REF!,localizacao,2,FALSE))","v":""},null,"",null,""]
[null,"",null,{"$f":"IF(ISERROR(VLOOKUP(#REF!,localizacao,2,FALSE)),\"\",VLOOKUP(#REF!,localizacao,2,FALSE))","v":""},null,"",null,""]
[null,"",null,{"$f":"IF(ISERROR(VLOOKUP(#REF!,localizacao,2,FALSE)),\"\",VLOOKUP(#REF!,localizacao,2,FALSE))","v":""},null,"",null,""]
[null,"",null,{"$f":"IF(ISERROR(VLOOKUP(#REF!,localizacao,2,FALSE)),\"\",VLOOKUP(#REF!,localizacao,2,FALSE))","v":""},null,"",null,""]
[null,"",null,{"$f":"IF(ISERROR(VLOOKUP(#REF!,localizacao,2,FALSE)),\"\",VLOOKUP(#REF!,localizacao,2,FALSE))","v":""},null,"",null,""]
[null,"",null,{"$f":"IF(ISERROR(VLOOKUP(#REF!,localizacao,2,FALSE)),\"\",VLOOKUP(#REF!,localizacao,2,FALSE))","v":""},null,"",null,""]
[null,"",null,{"$f":"IF(ISERROR(VLOOKUP(#REF!,localizacao,2,FALSE)),\"\",VLOOKUP(#REF!,localizacao,2,FALSE))","v":""},null,"",null,""]
[null,"",null,{"$f":"IF(ISERROR(VLOOKUP(#REF!,localizacao,2,FALSE)),\"\",VLOOKUP(#REF!,localizacao,2,FALSE))","v":""},null,"",null,""]
[null,"",null,{"$f":"IF(ISERROR(VLOOKUP(#REF!,localizacao,2,FALSE)),\"\",VLOOKUP(#REF!,localizacao,2,FALSE))","v":""},null,"",null,""]
[null,"",null,{"$f":"IF(ISERROR(VLOOKUP(#REF!,localizacao,2,FALSE)),\"\",VLOOKUP(#REF!,localizacao,2,FALSE))","v":""},null,"",null,""]
[null,"",null,{"$f":"IF(ISERROR(VLOOKUP(#REF!,localizacao,2,FALSE)),\"\",VLOOKUP(#REF!,localizacao,2,FALSE))","v":""},null,"",null,""]
[null,"",null,{"$f":"IF(ISERROR(VLOOKUP(#REF!,localizacao,2,FALSE)),\"\",VLOOKUP(#REF!,localizacao,2,FALSE))","v":""},null,"",null,""]
[null,"",null,{"$f":"IF(ISERROR(VLOOKUP(#REF!,localizacao,2,FALSE)),\"\",VLOOKUP(#REF!,localizacao,2,FALSE))","v":""},null,"",null,""]
[null,"",null,{"$f":"IF(ISERROR(VLOOKUP(#REF!,localizacao,2,FALSE)),\"\",VLOOKUP(#REF!,localizacao,2,FALSE))","v":""},null,"",null,""]
[null,"",null,{"$f":"IF(ISERROR(VLOOKUP(#REF!,localizacao,2,FALSE)),\"\",VLOOKUP(#REF!,localizacao,2,FALSE))","v":""},null,"",null,""]
[null,"",null,{"$f":"IF(ISERROR(VLOOKUP(#REF!,localizacao,2,FALSE)),\"\",VLOOKUP(#REF!,localizacao,2,FALSE))","v":""},null,"",null,""]
[null,"",null,{"$f":"IF(ISERROR(VLOOKUP(#REF!,localizacao,2,FALSE)),\"\",VLOOKUP(#REF!,localizacao,2,FALSE))","v":""},null,"",null,""]
[null,"",null,{"$f":"IF(ISERROR(VLOOKUP(#REF!,localizacao,2,FALSE)),\"\",VLOOKUP(#REF!,localizacao,2,FALSE))","v":""},null,"",null,""]
[null,"",null,{"$f":"IF(ISERROR(VLOOKUP(#REF!,localizacao,2,FALSE)),\"\",VLOOKUP(#REF!,localizacao,2,FALSE))","v":""},null,"",null,""]
[null,"",null,{"$f":"IF(ISERROR(VLOOKUP(#REF!,localizacao,2,FALSE)),\"\",VLOOKUP(#REF!,localizacao,2,FALSE))","v":""},null,"",null,""]
[null,"",null,{"$f":"IF(ISERROR(VLOOKUP(#REF!,localizacao,2,FALSE)),\"\",VLOOKUP(#REF!,localizacao,2,FALSE))","v":""},null,"",null,""]
[null,"",null,{"$f":"IF(ISERROR(VLOOKUP(#REF!,localizacao,2,FALSE)),\"\",VLOOKUP(#REF!,localizacao,2,FALSE))","v":""},null,"",null,""]
[null,"",null,{"$f":"IF(ISERROR(VLOOKUP(#REF!,localizacao,2,FALSE)),\"\",VLOOKUP(#REF!,localizacao,2,FALSE))","v":""},null,"",null,""]
[null,"",null,{"$f":"IF(ISERROR(VLOOKUP(#REF!,localizacao,2,FALSE)),\"\",VLOOKUP(#REF!,localizacao,2,FALSE))","v":""},null,"",null,""]
[null,"",null,{"$f":"IF(ISERROR(VLOOKUP(#REF!,localizacao,2,FALSE)),\"\",VLOOKUP(#REF!,localizacao,2,FALSE))","v":""},null,"",null,""]
[null,"",null,{"$f":"IF(ISERROR(VLOOKUP(#REF!,localizacao,2,FALSE)),\"\",VLOOKUP(#REF!,localizacao,2,FALSE))","v":""},null,"",null,""]
[null,"",null,{"$f":"IF(ISERROR(VLOOKUP(#REF!,localizacao,2,FALSE)),\"\",VLOOKUP(#REF!,localizacao,2,FALSE))","v":""},null,"",null,""]
[null,"",null,{"$f":"IF(ISERROR(VLOOKUP(#REF!,localizacao,2,FALSE)),\"\",VLOOKUP(#REF!,localizacao,2,FALSE))","v":""},null,"",null,""]
[null,"",null,{"$f":"IF(ISERROR(VLOOKUP(#REF!,localizacao,2,FALSE)),\"\",VLOOKUP(#REF!,localizacao,2,FALSE))","v":""},null,"",null,""]
[null,"",null,{"$f":"IF(ISERROR(VLOOKUP(#REF!,localizacao,2,FALSE)),\"\",VLOOKUP(#REF!,localizacao,2,FALSE))","v":""},null,"",null,""]
[null,"",null,{"$f":"IF(ISERROR(VLOOKUP(#REF!,localizacao,2,FALSE)),\"\",VLOOKUP(#REF!,localizacao,2,FALSE))","v":""},null,"",null,""]
[null,"",null,{"$f":"IF(ISERROR(VLOOKUP(#REF!,localizacao,2,FALSE)),\"\",VLOOKUP(#REF!,localizacao,2,FALSE))","v":""},null,"",null,""]
[null,"",null,{"$f":"IF(ISERROR(VLOOKUP(#REF!,localizacao,2,FALSE)),\"\",VLOOKUP(#REF!,localizacao,2,FALSE))","v":""},null,"",null,""]
[null,"",null,{"$f":"IF(ISERROR(VLOOKUP(#REF!,localizacao,2,FALSE)),\"\",VLOOKUP(#REF!,localizacao,2,FALSE))","v":""},null,"",null,""]
[null,"",null,{"$f":"IF(ISERROR(VLOOKUP(#REF!,localizacao,2,FALSE)),\"\",VLOOKUP(#REF!,localizacao,2,FALSE))","v":""},null,"",null,""]
[null,"",null,{"$f":"IF(ISERROR(VLOOKUP(#REF!,localizacao,2,FALSE)),\"\",VLOOKUP(#REF!,localizacao,2,FALSE))","v":""},null,"",null,""]
[null,"",null,{"$f":"IF(ISERROR(VLOOKUP(#REF!,localizacao,2,FALSE)),\"\",VLOOKUP(#REF!,localizacao,2,FALSE))","v":""},null,"",null,""]
[null,"",null,{"$f":"IF(ISERROR(VLOOKUP(#REF!,localizacao,2,FALSE)),\"\",VLOOKUP(#REF!,localizacao,2,FALSE))","v":""},null,"",null,""]
[null,"",null,{"$f":"IF(ISERROR(VLOOKUP(#REF!,localizacao,2,FALSE)),\"\",VLOOKUP(#REF!,localizacao,2,FALSE))","v":""},null,"",null,""]
[null,"",null,{"$f":"IF(ISERROR(VLOOKUP(#REF!,localizacao,2,FALSE)),\"\",VLOOKUP(#REF!,localizacao,2,FALSE))","v":""},null,"",null,""]
[null,"",null,{"$f":"IF(ISERROR(VLOOKUP(#REF!,localizacao,2,FALSE)),\"\",VLOOKUP(#REF!,localizacao,2,FALSE))","v":""},null,"",null,""]
[null,"",null,{"$f":"IF(ISERROR(VLOOKUP(#REF!,localizacao,2,FALSE)),\"\",VLOOKUP(#REF!,localizacao,2,FALSE))","v":""},null,"",null,""]
[null,"",null,{"$f":"IF(ISERROR(VLOOKUP(#REF!,localizacao,2,FALSE)),\"\",VLOOKUP(#REF!,localizacao,2,FALSE))","v":""},null,"",null,""]
[null,"",null,{"$f":"IF(ISERROR(VLOOKUP(#REF!,localizacao,2,FALSE)),\"\",VLOOKUP(#REF!,localizacao,2,FALSE))","v":""},null,"",null,""]
[null,"",null,{"$f":"IF(ISERROR(VLOOKUP(#REF!,localizacao,2,FALSE)),\"\",VLOOKUP(#REF!,localizacao,2,FALSE))","v":""},null,{"$f":"IF(ISERROR(VLOOKUP(G1094,componentes,2,FALSE)),\"\",VLOOKUP(G1094,componentes,2,FALSE))","v":""},null,{"$f":"IF(ISERROR(VLOOKUP(I1094,rubricas,2,FALSE)),\"\",VLOOKUP(I1094,rubricas,2,FALSE))","v":""}]
[null,{"$f":"IF(C1095<>\"\",+B1094+1,\"\")","v":""},null,{"$f":"IF(ISERROR(VLOOKUP(#REF!,localizacao,2,FALSE)),\"\",VLOOKUP(#REF!,localizacao,2,FALSE))","v":""},null,"",null,""]
[null,"",null,{"$f":"IF(ISERROR(VLOOKUP(#REF!,localizacao,2,FALSE)),\"\",VLOOKUP(#REF!,localizacao,2,FALSE))","v":""},null,"",null,""]
[null,"",null,{"$f":"IF(ISERROR(VLOOKUP(#REF!,localizacao,2,FALSE)),\"\",VLOOKUP(#REF!,localizacao,2,FALSE))","v":""},null,"",null,""]
[null,"",null,{"$f":"IF(ISERROR(VLOOKUP(#REF!,localizacao,2,FALSE)),\"\",VLOOKUP(#REF!,localizacao,2,FALSE))","v":""},null,"",null,""]
[null,"",null,{"$f":"IF(ISERROR(VLOOKUP(#REF!,localizacao,2,FALSE)),\"\",VLOOKUP(#REF!,localizacao,2,FALSE))","v":""},null,"",null,""]
[null,"",null,{"$f":"IF(ISERROR(VLOOKUP(#REF!,localizacao,2,FALSE)),\"\",VLOOKUP(#REF!,localizacao,2,FALSE))","v":""},null,"",null,""]
[null,"",null,{"$f":"IF(ISERROR(VLOOKUP(#REF!,localizacao,2,FALSE)),\"\",VLOOKUP(#REF!,localizacao,2,FALSE))","v":""},null,"",null,""]
[null,"",null,{"$f":"IF(ISERROR(VLOOKUP(#REF!,localizacao,2,FALSE)),\"\",VLOOKUP(#REF!,localizacao,2,FALSE))","v":""},null,"",null,""]
[null,"",null,{"$f":"IF(ISERROR(VLOOKUP(#REF!,localizacao,2,FALSE)),\"\",VLOOKUP(#REF!,localizacao,2,FALSE))","v":""},null,"",null,""]
[null,"",null,{"$f":"IF(ISERROR(VLOOKUP(#REF!,localizacao,2,FALSE)),\"\",VLOOKUP(#REF!,localizacao,2,FALSE))","v":""},null,"",null,""]
[null,"",null,{"$f":"IF(ISERROR(VLOOKUP(#REF!,localizacao,2,FALSE)),\"\",VLOOKUP(#REF!,localizacao,2,FALSE))","v":""},null,"",null,""]
[null,"",null,{"$f":"IF(ISERROR(VLOOKUP(#REF!,localizacao,2,FALSE)),\"\",VLOOKUP(#REF!,localizacao,2,FALSE))","v":""},null,"",null,""]
[null,"",null,{"$f":"IF(ISERROR(VLOOKUP(#REF!,localizacao,2,FALSE)),\"\",VLOOKUP(#REF!,localizacao,2,FALSE))","v":""},null,"",null,""]
[null,"",null,{"$f":"IF(ISERROR(VLOOKUP(#REF!,localizacao,2,FALSE)),\"\",VLOOKUP(#REF!,localizacao,2,FALSE))","v":""},null,"",null,""]
[null,"",null,{"$f":"IF(ISERROR(VLOOKUP(#REF!,localizacao,2,FALSE)),\"\",VLOOKUP(#REF!,localizacao,2,FALSE))","v":""},null,"",null,""]
[null,"",null,{"$f":"IF(ISERROR(VLOOKUP(#REF!,localizacao,2,FALSE)),\"\",VLOOKUP(#REF!,localizacao,2,FALSE))","v":""},null,"",null,""]
[null,"",null,{"$f":"IF(ISERROR(VLOOKUP(#REF!,localizacao,2,FALSE)),\"\",VLOOKUP(#REF!,localizacao,2,FALSE))","v":""},null,"",null,""]
[null,"",null,{"$f":"IF(ISERROR(VLOOKUP(#REF!,localizacao,2,FALSE)),\"\",VLOOKUP(#REF!,localizacao,2,FALSE))","v":""},null,"",null,""]
[null,"",null,{"$f":"IF(ISERROR(VLOOKUP(#REF!,localizacao,2,FALSE)),\"\",VLOOKUP(#REF!,localizacao,2,FALSE))","v":""},null,"",null,""]
[null,"",null,{"$f":"IF(ISERROR(VLOOKUP(#REF!,localizacao,2,FALSE)),\"\",VLOOKUP(#REF!,localizacao,2,FALSE))","v":""},null,"",null,""]
[null,"",null,{"$f":"IF(ISERROR(VLOOKUP(#REF!,localizacao,2,FALSE)),\"\",VLOOKUP(#REF!,localizacao,2,FALSE))","v":""},null,"",null,""]
[null,"",null,{"$f":"IF(ISERROR(VLOOKUP(#REF!,localizacao,2,FALSE)),\"\",VLOOKUP(#REF!,localizacao,2,FALSE))","v":""},null,"",null,""]
[null,"",null,{"$f":"IF(ISERROR(VLOOKUP(#REF!,localizacao,2,FALSE)),\"\",VLOOKUP(#REF!,localizacao,2,FALSE))","v":""},null,"",null,""]
[null,"",null,{"$f":"IF(ISERROR(VLOOKUP(#REF!,localizacao,2,FALSE)),\"\",VLOOKUP(#REF!,localizacao,2,FALSE))","v":""},null,"",null,""]
[null,"",null,{"$f":"IF(ISERROR(VLOOKUP(#REF!,localizacao,2,FALSE)),\"\",VLOOKUP(#REF!,localizacao,2,FALSE))","v":""},null,"",null,""]
[null,"",null,{"$f":"IF(ISERROR(VLOOKUP(#REF!,localizacao,2,FALSE)),\"\",VLOOKUP(#REF!,localizacao,2,FALSE))","v":""},null,"",null,""]
[null,"",null,{"$f":"IF(ISERROR(VLOOKUP(#REF!,localizacao,2,FALSE)),\"\",VLOOKUP(#REF!,localizacao,2,FALSE))","v":""},null,"",null,""]
[null,"",null,{"$f":"IF(ISERROR(VLOOKUP(#REF!,localizacao,2,FALSE)),\"\",VLOOKUP(#REF!,localizacao,2,FALSE))","v":""},null,"",null,""]
[null,"",null,{"$f":"IF(ISERROR(VLOOKUP(#REF!,localizacao,2,FALSE)),\"\",VLOOKUP(#REF!,localizacao,2,FALSE))","v":""},null,"",null,""]
[null,"",null,{"$f":"IF(ISERROR(VLOOKUP(#REF!,localizacao,2,FALSE)),\"\",VLOOKUP(#REF!,localizacao,2,FALSE))","v":""},null,"",null,""]
[null,"",null,{"$f":"IF(ISERROR(VLOOKUP(#REF!,localizacao,2,FALSE)),\"\",VLOOKUP(#REF!,localizacao,2,FALSE))","v":""},null,"",null,""]
[null,"",null,{"$f":"IF(ISERROR(VLOOKUP(#REF!,localizacao,2,FALSE)),\"\",VLOOKUP(#REF!,localizacao,2,FALSE))","v":""},null,"",null,""]
[null,"",null,{"$f":"IF(ISERROR(VLOOKUP(#REF!,localizacao,2,FALSE)),\"\",VLOOKUP(#REF!,localizacao,2,FALSE))","v":""},null,"",null,""]
[null,"",null,{"$f":"IF(ISERROR(VLOOKUP(#REF!,localizacao,2,FALSE)),\"\",VLOOKUP(#REF!,localizacao,2,FALSE))","v":""},null,"",null,""]
[null,"",null,{"$f":"IF(ISERROR(VLOOKUP(#REF!,localizacao,2,FALSE)),\"\",VLOOKUP(#REF!,localizacao,2,FALSE))","v":""},null,"",null,""]
[null,"",null,{"$f":"IF(ISERROR(VLOOKUP(#REF!,localizacao,2,FALSE)),\"\",VLOOKUP(#REF!,localizacao,2,FALSE))","v":""},null,"",null,""]
[null,"",null,{"$f":"IF(ISERROR(VLOOKUP(#REF!,localizacao,2,FALSE)),\"\",VLOOKUP(#REF!,localizacao,2,FALSE))","v":""},null,"",null,""]
[null,"",null,{"$f":"IF(ISERROR(VLOOKUP(#REF!,localizacao,2,FALSE)),\"\",VLOOKUP(#REF!,localizacao,2,FALSE))","v":""},null,"",null,""]
[null,"",null,{"$f":"IF(ISERROR(VLOOKUP(#REF!,localizacao,2,FALSE)),\"\",VLOOKUP(#REF!,localizacao,2,FALSE))","v":""},null,"",null,""]
[null,"",null,{"$f":"IF(ISERROR(VLOOKUP(#REF!,localizacao,2,FALSE)),\"\",VLOOKUP(#REF!,localizacao,2,FALSE))","v":""},null,"",null,""]
[null,"",null,{"$f":"IF(ISERROR(VLOOKUP(#REF!,localizacao,2,FALSE)),\"\",VLOOKUP(#REF!,localizacao,2,FALSE))","v":""},null,"",null,""]
[null,"",null,{"$f":"IF(ISERROR(VLOOKUP(#REF!,localizacao,2,FALSE)),\"\",VLOOKUP(#REF!,localizacao,2,FALSE))","v":""},null,"",null,""]
[null,"",null,{"$f":"IF(ISERROR(VLOOKUP(#REF!,localizacao,2,FALSE)),\"\",VLOOKUP(#REF!,localizacao,2,FALSE))","v":""},null,"",null,""]
[null,"",null,{"$f":"IF(ISERROR(VLOOKUP(#REF!,localizacao,2,FALSE)),\"\",VLOOKUP(#REF!,localizacao,2,FALSE))","v":""},null,"",null,""]
[null,"",null,{"$f":"IF(ISERROR(VLOOKUP(#REF!,localizacao,2,FALSE)),\"\",VLOOKUP(#REF!,localizacao,2,FALSE))","v":""},null,"",null,""]
[null,"",null,{"$f":"IF(ISERROR(VLOOKUP(#REF!,localizacao,2,FALSE)),\"\",VLOOKUP(#REF!,localizacao,2,FALSE))","v":""},null,"",null,""]
[null,"",null,{"$f":"IF(ISERROR(VLOOKUP(#REF!,localizacao,2,FALSE)),\"\",VLOOKUP(#REF!,localizacao,2,FALSE))","v":""},null,"",null,""]
[null,"",null,{"$f":"IF(ISERROR(VLOOKUP(#REF!,localizacao,2,FALSE)),\"\",VLOOKUP(#REF!,localizacao,2,FALSE))","v":""},null,"",null,""]
[null,"",null,{"$f":"IF(ISERROR(VLOOKUP(#REF!,localizacao,2,FALSE)),\"\",VLOOKUP(#REF!,localizacao,2,FALSE))","v":""},null,"",null,""]
[null,"",null,{"$f":"IF(ISERROR(VLOOKUP(#REF!,localizacao,2,FALSE)),\"\",VLOOKUP(#REF!,localizacao,2,FALSE))","v":""},null,"",null,""]
[null,"",null,{"$f":"IF(ISERROR(VLOOKUP(#REF!,localizacao,2,FALSE)),\"\",VLOOKUP(#REF!,localizacao,2,FALSE))","v":""},null,"",null,""]
[null,"",null,{"$f":"IF(ISERROR(VLOOKUP(#REF!,localizacao,2,FALSE)),\"\",VLOOKUP(#REF!,localizacao,2,FALSE))","v":""},null,"",null,""]
[null,"",null,{"$f":"IF(ISERROR(VLOOKUP(#REF!,localizacao,2,FALSE)),\"\",VLOOKUP(#REF!,localizacao,2,FALSE))","v":""},null,"",null,""]
[null,"",null,{"$f":"IF(ISERROR(VLOOKUP(#REF!,localizacao,2,FALSE)),\"\",VLOOKUP(#REF!,localizacao,2,FALSE))","v":""},null,"",null,""]
[null,"",null,{"$f":"IF(ISERROR(VLOOKUP(#REF!,localizacao,2,FALSE)),\"\",VLOOKUP(#REF!,localizacao,2,FALSE))","v":""},null,"",null,""]
[null,"",null,{"$f":"IF(ISERROR(VLOOKUP(#REF!,localizacao,2,FALSE)),\"\",VLOOKUP(#REF!,localizacao,2,FALSE))","v":""},null,"",null,""]
[null,"",null,{"$f":"IF(ISERROR(VLOOKUP(#REF!,localizacao,2,FALSE)),\"\",VLOOKUP(#REF!,localizacao,2,FALSE))","v":""},null,"",null,""]
[null,"",null,{"$f":"IF(ISERROR(VLOOKUP(#REF!,localizacao,2,FALSE)),\"\",VLOOKUP(#REF!,localizacao,2,FALSE))","v":""},null,"",null,""]
[null,"",null,{"$f":"IF(ISERROR(VLOOKUP(#REF!,localizacao,2,FALSE)),\"\",VLOOKUP(#REF!,localizacao,2,FALSE))","v":""},null,"",null,""]
[null,"",null,{"$f":"IF(ISERROR(VLOOKUP(#REF!,localizacao,2,FALSE)),\"\",VLOOKUP(#REF!,localizacao,2,FALSE))","v":""},null,"",null,""]
[null,"",null,{"$f":"IF(ISERROR(VLOOKUP(#REF!,localizacao,2,FALSE)),\"\",VLOOKUP(#REF!,localizacao,2,FALSE))","v":""},null,"",null,""]
[null,"",null,{"$f":"IF(ISERROR(VLOOKUP(#REF!,localizacao,2,FALSE)),\"\",VLOOKUP(#REF!,localizacao,2,FALSE))","v":""},null,"",null,""]
[null,"",null,{"$f":"IF(ISERROR(VLOOKUP(#REF!,localizacao,2,FALSE)),\"\",VLOOKUP(#REF!,localizacao,2,FALSE))","v":""},null,"",null,""]
[null,"",null,{"$f":"IF(ISERROR(VLOOKUP(#REF!,localizacao,2,FALSE)),\"\",VLOOKUP(#REF!,localizacao,2,FALSE))","v":""},null,{"$f":"IF(ISERROR(VLOOKUP(G1158,componentes,2,FALSE)),\"\",VLOOKUP(G1158,componentes,2,FALSE))","v":""},null,{"$f":"IF(ISERROR(VLOOKUP(I1158,rubricas,2,FALSE)),\"\",VLOOKUP(I1158,rubricas,2,FALSE))","v":""}]
[null,{"$f":"IF(C1159<>\"\",+B1158+1,\"\")","v":""},null,{"$f":"IF(ISERROR(VLOOKUP(#REF!,localizacao,2,FALSE)),\"\",VLOOKUP(#REF!,localizacao,2,FALSE))","v":""},null,"",null,""]
[null,"",null,{"$f":"IF(ISERROR(VLOOKUP(#REF!,localizacao,2,FALSE)),\"\",VLOOKUP(#REF!,localizacao,2,FALSE))","v":""},null,"",null,""]
[null,"",null,{"$f":"IF(ISERROR(VLOOKUP(#REF!,localizacao,2,FALSE)),\"\",VLOOKUP(#REF!,localizacao,2,FALSE))","v":""},null,"",null,""]
[null,"",null,{"$f":"IF(ISERROR(VLOOKUP(#REF!,localizacao,2,FALSE)),\"\",VLOOKUP(#REF!,localizacao,2,FALSE))","v":""},null,"",null,""]
[null,"",null,{"$f":"IF(ISERROR(VLOOKUP(#REF!,localizacao,2,FALSE)),\"\",VLOOKUP(#REF!,localizacao,2,FALSE))","v":""},null,"",null,""]
[null,"",null,{"$f":"IF(ISERROR(VLOOKUP(#REF!,localizacao,2,FALSE)),\"\",VLOOKUP(#REF!,localizacao,2,FALSE))","v":""},null,"",null,""]
[null,"",null,{"$f":"IF(ISERROR(VLOOKUP(#REF!,localizacao,2,FALSE)),\"\",VLOOKUP(#REF!,localizacao,2,FALSE))","v":""},null,"",null,""]
[null,"",null,{"$f":"IF(ISERROR(VLOOKUP(#REF!,localizacao,2,FALSE)),\"\",VLOOKUP(#REF!,localizacao,2,FALSE))","v":""},null,"",null,""]
[null,"",null,{"$f":"IF(ISERROR(VLOOKUP(#REF!,localizacao,2,FALSE)),\"\",VLOOKUP(#REF!,localizacao,2,FALSE))","v":""},null,"",null,""]
[null,"",null,{"$f":"IF(ISERROR(VLOOKUP(#REF!,localizacao,2,FALSE)),\"\",VLOOKUP(#REF!,localizacao,2,FALSE))","v":""},null,"",null,""]
[null,"",null,{"$f":"IF(ISERROR(VLOOKUP(#REF!,localizacao,2,FALSE)),\"\",VLOOKUP(#REF!,localizacao,2,FALSE))","v":""},null,"",null,""]
[null,"",null,{"$f":"IF(ISERROR(VLOOKUP(#REF!,localizacao,2,FALSE)),\"\",VLOOKUP(#REF!,localizacao,2,FALSE))","v":""},null,"",null,""]
[null,"",null,{"$f":"IF(ISERROR(VLOOKUP(#REF!,localizacao,2,FALSE)),\"\",VLOOKUP(#REF!,localizacao,2,FALSE))","v":""},null,"",null,""]
[null,"",null,{"$f":"IF(ISERROR(VLOOKUP(#REF!,localizacao,2,FALSE)),\"\",VLOOKUP(#REF!,localizacao,2,FALSE))","v":""},null,"",null,""]
[null,"",null,{"$f":"IF(ISERROR(VLOOKUP(#REF!,localizacao,2,FALSE)),\"\",VLOOKUP(#REF!,localizacao,2,FALSE))","v":""},null,"",null,""]
[null,"",null,{"$f":"IF(ISERROR(VLOOKUP(#REF!,localizacao,2,FALSE)),\"\",VLOOKUP(#REF!,localizacao,2,FALSE))","v":""},null,"",null,""]
[null,"",null,{"$f":"IF(ISERROR(VLOOKUP(#REF!,localizacao,2,FALSE)),\"\",VLOOKUP(#REF!,localizacao,2,FALSE))","v":""},null,"",null,""]
[null,"",null,{"$f":"IF(ISERROR(VLOOKUP(#REF!,localizacao,2,FALSE)),\"\",VLOOKUP(#REF!,localizacao,2,FALSE))","v":""},null,"",null,""]
[null,"",null,{"$f":"IF(ISERROR(VLOOKUP(#REF!,localizacao,2,FALSE)),\"\",VLOOKUP(#REF!,localizacao,2,FALSE))","v":""},null,"",null,""]
[null,"",null,{"$f":"IF(ISERROR(VLOOKUP(#REF!,localizacao,2,FALSE)),\"\",VLOOKUP(#REF!,localizacao,2,FALSE))","v":""},null,"",null,""]
[null,"",null,{"$f":"IF(ISERROR(VLOOKUP(#REF!,localizacao,2,FALSE)),\"\",VLOOKUP(#REF!,localizacao,2,FALSE))","v":""},null,"",null,""]
[null,"",null,{"$f":"IF(ISERROR(VLOOKUP(#REF!,localizacao,2,FALSE)),\"\",VLOOKUP(#REF!,localizacao,2,FALSE))","v":""},null,"",null,""]
[null,"",null,{"$f":"IF(ISERROR(VLOOKUP(#REF!,localizacao,2,FALSE)),\"\",VLOOKUP(#REF!,localizacao,2,FALSE))","v":""},null,"",null,""]
[null,"",null,{"$f":"IF(ISERROR(VLOOKUP(#REF!,localizacao,2,FALSE)),\"\",VLOOKUP(#REF!,localizacao,2,FALSE))","v":""},null,"",null,""]
[null,"",null,{"$f":"IF(ISERROR(VLOOKUP(#REF!,localizacao,2,FALSE)),\"\",VLOOKUP(#REF!,localizacao,2,FALSE))","v":""},null,"",null,""]
[null,"",null,{"$f":"IF(ISERROR(VLOOKUP(#REF!,localizacao,2,FALSE)),\"\",VLOOKUP(#REF!,localizacao,2,FALSE))","v":""},null,"",null,""]
[null,"",null,{"$f":"IF(ISERROR(VLOOKUP(#REF!,localizacao,2,FALSE)),\"\",VLOOKUP(#REF!,localizacao,2,FALSE))","v":""},null,"",null,""]
[null,"",null,{"$f":"IF(ISERROR(VLOOKUP(#REF!,localizacao,2,FALSE)),\"\",VLOOKUP(#REF!,localizacao,2,FALSE))","v":""},null,"",null,""]
[null,"",null,{"$f":"IF(ISERROR(VLOOKUP(#REF!,localizacao,2,FALSE)),\"\",VLOOKUP(#REF!,localizacao,2,FALSE))","v":""},null,"",null,""]
[null,"",null,{"$f":"IF(ISERROR(VLOOKUP(#REF!,localizacao,2,FALSE)),\"\",VLOOKUP(#REF!,localizacao,2,FALSE))","v":""},null,"",null,""]
[null,"",null,{"$f":"IF(ISERROR(VLOOKUP(#REF!,localizacao,2,FALSE)),\"\",VLOOKUP(#REF!,localizacao,2,FALSE))","v":""},null,"",null,""]
[null,"",null,{"$f":"IF(ISERROR(VLOOKUP(#REF!,localizacao,2,FALSE)),\"\",VLOOKUP(#REF!,localizacao,2,FALSE))","v":""},null,"",null,""]
[null,"",null,{"$f":"IF(ISERROR(VLOOKUP(#REF!,localizacao,2,FALSE)),\"\",VLOOKUP(#REF!,localizacao,2,FALSE))","v":""},null,"",null,""]
[null,"",null,{"$f":"IF(ISERROR(VLOOKUP(#REF!,localizacao,2,FALSE)),\"\",VLOOKUP(#REF!,localizacao,2,FALSE))","v":""},null,"",null,""]
[null,"",null,{"$f":"IF(ISERROR(VLOOKUP(#REF!,localizacao,2,FALSE)),\"\",VLOOKUP(#REF!,localizacao,2,FALSE))","v":""},null,"",null,""]
[null,"",null,{"$f":"IF(ISERROR(VLOOKUP(#REF!,localizacao,2,FALSE)),\"\",VLOOKUP(#REF!,localizacao,2,FALSE))","v":""},null,"",null,""]
[null,"",null,{"$f":"IF(ISERROR(VLOOKUP(#REF!,localizacao,2,FALSE)),\"\",VLOOKUP(#REF!,localizacao,2,FALSE))","v":""},null,"",null,""]
[null,"",null,{"$f":"IF(ISERROR(VLOOKUP(#REF!,localizacao,2,FALSE)),\"\",VLOOKUP(#REF!,localizacao,2,FALSE))","v":""},null,"",null,""]
[null,"",null,{"$f":"IF(ISERROR(VLOOKUP(#REF!,localizacao,2,FALSE)),\"\",VLOOKUP(#REF!,localizacao,2,FALSE))","v":""},null,"",null,""]
[null,"",null,{"$f":"IF(ISERROR(VLOOKUP(#REF!,localizacao,2,FALSE)),\"\",VLOOKUP(#REF!,localizacao,2,FALSE))","v":""},null,"",null,""]
[null,"",null,{"$f":"IF(ISERROR(VLOOKUP(#REF!,localizacao,2,FALSE)),\"\",VLOOKUP(#REF!,localizacao,2,FALSE))","v":""},null,"",null,""]
[null,"",null,{"$f":"IF(ISERROR(VLOOKUP(#REF!,localizacao,2,FALSE)),\"\",VLOOKUP(#REF!,localizacao,2,FALSE))","v":""},null,"",null,""]
[null,"",null,{"$f":"IF(ISERROR(VLOOKUP(#REF!,localizacao,2,FALSE)),\"\",VLOOKUP(#REF!,localizacao,2,FALSE))","v":""},null,"",null,""]
[null,"",null,{"$f":"IF(ISERROR(VLOOKUP(#REF!,localizacao,2,FALSE)),\"\",VLOOKUP(#REF!,localizacao,2,FALSE))","v":""},null,"",null,""]
[null,"",null,{"$f":"IF(ISERROR(VLOOKUP(#REF!,localizacao,2,FALSE)),\"\",VLOOKUP(#REF!,localizacao,2,FALSE))","v":""},null,"",null,""]
[null,"",null,{"$f":"IF(ISERROR(VLOOKUP(#REF!,localizacao,2,FALSE)),\"\",VLOOKUP(#REF!,localizacao,2,FALSE))","v":""},null,"",null,""]
[null,"",null,{"$f":"IF(ISERROR(VLOOKUP(#REF!,localizacao,2,FALSE)),\"\",VLOOKUP(#REF!,localizacao,2,FALSE))","v":""},null,"",null,""]
[null,"",null,{"$f":"IF(ISERROR(VLOOKUP(#REF!,localizacao,2,FALSE)),\"\",VLOOKUP(#REF!,localizacao,2,FALSE))","v":""},null,"",null,""]
[null,"",null,{"$f":"IF(ISERROR(VLOOKUP(#REF!,localizacao,2,FALSE)),\"\",VLOOKUP(#REF!,localizacao,2,FALSE))","v":""},null,"",null,""]
[null,"",null,{"$f":"IF(ISERROR(VLOOKUP(#REF!,localizacao,2,FALSE)),\"\",VLOOKUP(#REF!,localizacao,2,FALSE))","v":""},null,"",null,""]
[null,"",null,{"$f":"IF(ISERROR(VLOOKUP(#REF!,localizacao,2,FALSE)),\"\",VLOOKUP(#REF!,localizacao,2,FALSE))","v":""},null,"",null,""]
[null,"",null,{"$f":"IF(ISERROR(VLOOKUP(#REF!,localizacao,2,FALSE)),\"\",VLOOKUP(#REF!,localizacao,2,FALSE))","v":""},null,"",null,""]
[null,"",null,{"$f":"IF(ISERROR(VLOOKUP(#REF!,localizacao,2,FALSE)),\"\",VLOOKUP(#REF!,localizacao,2,FALSE))","v":""},null,"",null,""]
[null,"",null,{"$f":"IF(ISERROR(VLOOKUP(#REF!,localizacao,2,FALSE)),\"\",VLOOKUP(#REF!,localizacao,2,FALSE))","v":""},null,"",null,""]
[null,"",null,{"$f":"IF(ISERROR(VLOOKUP(#REF!,localizacao,2,FALSE)),\"\",VLOOKUP(#REF!,localizacao,2,FALSE))","v":""},null,"",null,""]
[null,"",null,{"$f":"IF(ISERROR(VLOOKUP(#REF!,localizacao,2,FALSE)),\"\",VLOOKUP(#REF!,localizacao,2,FALSE))","v":""},null,"",null,""]
[null,"",null,{"$f":"IF(ISERROR(VLOOKUP(#REF!,localizacao,2,FALSE)),\"\",VLOOKUP(#REF!,localizacao,2,FALSE))","v":""},null,"",null,""]
[null,"",null,{"$f":"IF(ISERROR(VLOOKUP(#REF!,localizacao,2,FALSE)),\"\",VLOOKUP(#REF!,localizacao,2,FALSE))","v":""},null,"",null,""]
[null,"",null,{"$f":"IF(ISERROR(VLOOKUP(#REF!,localizacao,2,FALSE)),\"\",VLOOKUP(#REF!,localizacao,2,FALSE))","v":""},null,"",null,""]
[null,"",null,{"$f":"IF(ISERROR(VLOOKUP(#REF!,localizacao,2,FALSE)),\"\",VLOOKUP(#REF!,localizacao,2,FALSE))","v":""},null,"",null,""]
[null,"",null,{"$f":"IF(ISERROR(VLOOKUP(#REF!,localizacao,2,FALSE)),\"\",VLOOKUP(#REF!,localizacao,2,FALSE))","v":""},null,"",null,""]
[null,"",null,{"$f":"IF(ISERROR(VLOOKUP(#REF!,localizacao,2,FALSE)),\"\",VLOOKUP(#REF!,localizacao,2,FALSE))","v":""},null,"",null,""]
[null,"",null,{"$f":"IF(ISERROR(VLOOKUP(#REF!,localizacao,2,FALSE)),\"\",VLOOKUP(#REF!,localizacao,2,FALSE))","v":""},null,"",null,""]
[null,"",null,{"$f":"IF(ISERROR(VLOOKUP(#REF!,localizacao,2,FALSE)),\"\",VLOOKUP(#REF!,localizacao,2,FALSE))","v":""},null,{"$f":"IF(ISERROR(VLOOKUP(G1222,componentes,2,FALSE)),\"\",VLOOKUP(G1222,componentes,2,FALSE))","v":""},null,{"$f":"IF(ISERROR(VLOOKUP(I1222,rubricas,2,FALSE)),\"\",VLOOKUP(I1222,rubricas,2,FALSE))","v":""}]
[null,{"$f":"IF(C1223<>\"\",+B1222+1,\"\")","v":""},null,{"$f":"IF(ISERROR(VLOOKUP(#REF!,localizacao,2,FALSE)),\"\",VLOOKUP(#REF!,localizacao,2,FALSE))","v":""},null,"",null,""]
[null,"",null,{"$f":"IF(ISERROR(VLOOKUP(#REF!,localizacao,2,FALSE)),\"\",VLOOKUP(#REF!,localizacao,2,FALSE))","v":""},null,"",null,""]
[null,"",null,{"$f":"IF(ISERROR(VLOOKUP(#REF!,localizacao,2,FALSE)),\"\",VLOOKUP(#REF!,localizacao,2,FALSE))","v":""},null,"",null,""]
[null,"",null,{"$f":"IF(ISERROR(VLOOKUP(#REF!,localizacao,2,FALSE)),\"\",VLOOKUP(#REF!,localizacao,2,FALSE))","v":""},null,"",null,""]
[null,"",null,{"$f":"IF(ISERROR(VLOOKUP(#REF!,localizacao,2,FALSE)),\"\",VLOOKUP(#REF!,localizacao,2,FALSE))","v":""},null,"",null,""]
[null,"",null,{"$f":"IF(ISERROR(VLOOKUP(#REF!,localizacao,2,FALSE)),\"\",VLOOKUP(#REF!,localizacao,2,FALSE))","v":""},null,"",null,""]
[null,"",null,{"$f":"IF(ISERROR(VLOOKUP(#REF!,localizacao,2,FALSE)),\"\",VLOOKUP(#REF!,localizacao,2,FALSE))","v":""},null,"",null,""]
[null,"",null,{"$f":"IF(ISERROR(VLOOKUP(#REF!,localizacao,2,FALSE)),\"\",VLOOKUP(#REF!,localizacao,2,FALSE))","v":""},null,"",null,""]
[null,"",null,{"$f":"IF(ISERROR(VLOOKUP(#REF!,localizacao,2,FALSE)),\"\",VLOOKUP(#REF!,localizacao,2,FALSE))","v":""},null,"",null,""]
[null,"",null,{"$f":"IF(ISERROR(VLOOKUP(#REF!,localizacao,2,FALSE)),\"\",VLOOKUP(#REF!,localizacao,2,FALSE))","v":""},null,"",null,""]
[null,"",null,{"$f":"IF(ISERROR(VLOOKUP(#REF!,localizacao,2,FALSE)),\"\",VLOOKUP(#REF!,localizacao,2,FALSE))","v":""},null,"",null,""]
[null,"",null,{"$f":"IF(ISERROR(VLOOKUP(#REF!,localizacao,2,FALSE)),\"\",VLOOKUP(#REF!,localizacao,2,FALSE))","v":""},null,"",null,""]
[null,"",null,{"$f":"IF(ISERROR(VLOOKUP(#REF!,localizacao,2,FALSE)),\"\",VLOOKUP(#REF!,localizacao,2,FALSE))","v":""},null,"",null,""]
[null,"",null,{"$f":"IF(ISERROR(VLOOKUP(#REF!,localizacao,2,FALSE)),\"\",VLOOKUP(#REF!,localizacao,2,FALSE))","v":""},null,"",null,""]
[null,"",null,{"$f":"IF(ISERROR(VLOOKUP(#REF!,localizacao,2,FALSE)),\"\",VLOOKUP(#REF!,localizacao,2,FALSE))","v":""},null,"",null,""]
[null,"",null,{"$f":"IF(ISERROR(VLOOKUP(#REF!,localizacao,2,FALSE)),\"\",VLOOKUP(#REF!,localizacao,2,FALSE))","v":""},null,"",null,""]
[null,"",null,{"$f":"IF(ISERROR(VLOOKUP(#REF!,localizacao,2,FALSE)),\"\",VLOOKUP(#REF!,localizacao,2,FALSE))","v":""},null,"",null,""]
[null,"",null,{"$f":"IF(ISERROR(VLOOKUP(#REF!,localizacao,2,FALSE)),\"\",VLOOKUP(#REF!,localizacao,2,FALSE))","v":""},null,"",null,""]
[null,"",null,{"$f":"IF(ISERROR(VLOOKUP(#REF!,localizacao,2,FALSE)),\"\",VLOOKUP(#REF!,localizacao,2,FALSE))","v":""},null,"",null,""]
[null,"",null,{"$f":"IF(ISERROR(VLOOKUP(#REF!,localizacao,2,FALSE)),\"\",VLOOKUP(#REF!,localizacao,2,FALSE))","v":""},null,"",null,""]
[null,"",null,{"$f":"IF(ISERROR(VLOOKUP(#REF!,localizacao,2,FALSE)),\"\",VLOOKUP(#REF!,localizacao,2,FALSE))","v":""},null,"",null,""]
[null,"",null,{"$f":"IF(ISERROR(VLOOKUP(#REF!,localizacao,2,FALSE)),\"\",VLOOKUP(#REF!,localizacao,2,FALSE))","v":""},null,"",null,""]
[null,"",null,{"$f":"IF(ISERROR(VLOOKUP(#REF!,localizacao,2,FALSE)),\"\",VLOOKUP(#REF!,localizacao,2,FALSE))","v":""},null,"",null,""]
[null,"",null,{"$f":"IF(ISERROR(VLOOKUP(#REF!,localizacao,2,FALSE)),\"\",VLOOKUP(#REF!,localizacao,2,FALSE))","v":""},null,"",null,""]
[null,"",null,{"$f":"IF(ISERROR(VLOOKUP(#REF!,localizacao,2,FALSE)),\"\",VLOOKUP(#REF!,localizacao,2,FALSE))","v":""},null,"",null,""]
[null,"",null,{"$f":"IF(ISERROR(VLOOKUP(#REF!,localizacao,2,FALSE)),\"\",VLOOKUP(#REF!,localizacao,2,FALSE))","v":""},null,"",null,""]
[null,"",null,{"$f":"IF(ISERROR(VLOOKUP(#REF!,localizacao,2,FALSE)),\"\",VLOOKUP(#REF!,localizacao,2,FALSE))","v":""},null,"",null,""]
[null,"",null,{"$f":"IF(ISERROR(VLOOKUP(#REF!,localizacao,2,FALSE)),\"\",VLOOKUP(#REF!,localizacao,2,FALSE))","v":""},null,"",null,""]
[null,"",null,{"$f":"IF(ISERROR(VLOOKUP(#REF!,localizacao,2,FALSE)),\"\",VLOOKUP(#REF!,localizacao,2,FALSE))","v":""},null,"",null,""]
[null,"",null,{"$f":"IF(ISERROR(VLOOKUP(#REF!,localizacao,2,FALSE)),\"\",VLOOKUP(#REF!,localizacao,2,FALSE))","v":""},null,"",null,""]
[null,"",null,{"$f":"IF(ISERROR(VLOOKUP(#REF!,localizacao,2,FALSE)),\"\",VLOOKUP(#REF!,localizacao,2,FALSE))","v":""},null,"",null,""]
[null,"",null,{"$f":"IF(ISERROR(VLOOKUP(#REF!,localizacao,2,FALSE)),\"\",VLOOKUP(#REF!,localizacao,2,FALSE))","v":""},null,"",null,""]
[null,"",null,{"$f":"IF(ISERROR(VLOOKUP(#REF!,localizacao,2,FALSE)),\"\",VLOOKUP(#REF!,localizacao,2,FALSE))","v":""},null,"",null,""]
[null,"",null,{"$f":"IF(ISERROR(VLOOKUP(#REF!,localizacao,2,FALSE)),\"\",VLOOKUP(#REF!,localizacao,2,FALSE))","v":""},null,"",null,""]
[null,"",null,{"$f":"IF(ISERROR(VLOOKUP(#REF!,localizacao,2,FALSE)),\"\",VLOOKUP(#REF!,localizacao,2,FALSE))","v":""},null,"",null,""]
[null,"",null,{"$f":"IF(ISERROR(VLOOKUP(#REF!,localizacao,2,FALSE)),\"\",VLOOKUP(#REF!,localizacao,2,FALSE))","v":""},null,"",null,""]
[null,"",null,{"$f":"IF(ISERROR(VLOOKUP(#REF!,localizacao,2,FALSE)),\"\",VLOOKUP(#REF!,localizacao,2,FALSE))","v":""},null,"",null,""]
[null,"",null,{"$f":"IF(ISERROR(VLOOKUP(#REF!,localizacao,2,FALSE)),\"\",VLOOKUP(#REF!,localizacao,2,FALSE))","v":""},null,"",null,""]
[null,"",null,{"$f":"IF(ISERROR(VLOOKUP(#REF!,localizacao,2,FALSE)),\"\",VLOOKUP(#REF!,localizacao,2,FALSE))","v":""},null,"",null,""]
[null,"",null,{"$f":"IF(ISERROR(VLOOKUP(#REF!,localizacao,2,FALSE)),\"\",VLOOKUP(#REF!,localizacao,2,FALSE))","v":""},null,"",null,""]
[null,"",null,{"$f":"IF(ISERROR(VLOOKUP(#REF!,localizacao,2,FALSE)),\"\",VLOOKUP(#REF!,localizacao,2,FALSE))","v":""},null,"",null,""]
[null,"",null,{"$f":"IF(ISERROR(VLOOKUP(#REF!,localizacao,2,FALSE)),\"\",VLOOKUP(#REF!,localizacao,2,FALSE))","v":""},null,"",null,""]
[null,"",null,{"$f":"IF(ISERROR(VLOOKUP(#REF!,localizacao,2,FALSE)),\"\",VLOOKUP(#REF!,localizacao,2,FALSE))","v":""},null,"",null,""]
[null,"",null,{"$f":"IF(ISERROR(VLOOKUP(#REF!,localizacao,2,FALSE)),\"\",VLOOKUP(#REF!,localizacao,2,FALSE))","v":""},null,"",null,""]
[null,"",null,{"$f":"IF(ISERROR(VLOOKUP(#REF!,localizacao,2,FALSE)),\"\",VLOOKUP(#REF!,localizacao,2,FALSE))","v":""},null,"",null,""]
[null,"",null,{"$f":"IF(ISERROR(VLOOKUP(#REF!,localizacao,2,FALSE)),\"\",VLOOKUP(#REF!,localizacao,2,FALSE))","v":""},null,"",null,""]
[null,"",null,{"$f":"IF(ISERROR(VLOOKUP(#REF!,localizacao,2,FALSE)),\"\",VLOOKUP(#REF!,localizacao,2,FALSE))","v":""},null,"",null,""]
[null,"",null,{"$f":"IF(ISERROR(VLOOKUP(#REF!,localizacao,2,FALSE)),\"\",VLOOKUP(#REF!,localizacao,2,FALSE))","v":""},null,"",null,""]
[null,"",null,{"$f":"IF(ISERROR(VLOOKUP(#REF!,localizacao,2,FALSE)),\"\",VLOOKUP(#REF!,localizacao,2,FALSE))","v":""},null,"",null,""]
[null,"",null,{"$f":"IF(ISERROR(VLOOKUP(#REF!,localizacao,2,FALSE)),\"\",VLOOKUP(#REF!,localizacao,2,FALSE))","v":""},null,"",null,""]
[null,"",null,{"$f":"IF(ISERROR(VLOOKUP(#REF!,localizacao,2,FALSE)),\"\",VLOOKUP(#REF!,localizacao,2,FALSE))","v":""},null,"",null,""]
[null,"",null,{"$f":"IF(ISERROR(VLOOKUP(#REF!,localizacao,2,FALSE)),\"\",VLOOKUP(#REF!,localizacao,2,FALSE))","v":""},null,"",null,""]
[null,"",null,{"$f":"IF(ISERROR(VLOOKUP(#REF!,localizacao,2,FALSE)),\"\",VLOOKUP(#REF!,localizacao,2,FALSE))","v":""},null,"",null,""]
[null,"",null,{"$f":"IF(ISERROR(VLOOKUP(#REF!,localizacao,2,FALSE)),\"\",VLOOKUP(#REF!,localizacao,2,FALSE))","v":""},null,"",null,""]
[null,"",null,{"$f":"IF(ISERROR(VLOOKUP(#REF!,localizacao,2,FALSE)),\"\",VLOOKUP(#REF!,localizacao,2,FALSE))","v":""},null,"",null,""]
[null,"",null,{"$f":"IF(ISERROR(VLOOKUP(#REF!,localizacao,2,FALSE)),\"\",VLOOKUP(#REF!,localizacao,2,FALSE))","v":""},null,"",null,""]
[null,"",null,{"$f":"IF(ISERROR(VLOOKUP(#REF!,localizacao,2,FALSE)),\"\",VLOOKUP(#REF!,localizacao,2,FALSE))","v":""},null,"",null,""]
[null,"",null,{"$f":"IF(ISERROR(VLOOKUP(#REF!,localizacao,2,FALSE)),\"\",VLOOKUP(#REF!,localizacao,2,FALSE))","v":""},null,"",null,""]
[null,"",null,{"$f":"IF(ISERROR(VLOOKUP(#REF!,localizacao,2,FALSE)),\"\",VLOOKUP(#REF!,localizacao,2,FALSE))","v":""},null,"",null,""]
[null,"",null,{"$f":"IF(ISERROR(VLOOKUP(#REF!,localizacao,2,FALSE)),\"\",VLOOKUP(#REF!,localizacao,2,FALSE))","v":""},null,"",null,""]
[null,"",null,{"$f":"IF(ISERROR(VLOOKUP(#REF!,localizacao,2,FALSE)),\"\",VLOOKUP(#REF!,localizacao,2,FALSE))","v":""},null,"",null,""]
[null,"",null,{"$f":"IF(ISERROR(VLOOKUP(#REF!,localizacao,2,FALSE)),\"\",VLOOKUP(#REF!,localizacao,2,FALSE))","v":""},null,"",null,""]
[null,"",null,{"$f":"IF(ISERROR(VLOOKUP(#REF!,localizacao,2,FALSE)),\"\",VLOOKUP(#REF!,localizacao,2,FALSE))","v":""},null,"",null,""]
[null,"",null,{"$f":"IF(ISERROR(VLOOKUP(#REF!,localizacao,2,FALSE)),\"\",VLOOKUP(#REF!,localizacao,2,FALSE))","v":""},null,{"$f":"IF(ISERROR(VLOOKUP(G1286,componentes,2,FALSE)),\"\",VLOOKUP(G1286,componentes,2,FALSE))","v":""},null,{"$f":"IF(ISERROR(VLOOKUP(I1286,rubricas,2,FALSE)),\"\",VLOOKUP(I1286,rubricas,2,FALSE))","v":""}]
[null,{"$f":"IF(C1287<>\"\",+B1286+1,\"\")","v":""},null,{"$f":"IF(ISERROR(VLOOKUP(#REF!,localizacao,2,FALSE)),\"\",VLOOKUP(#REF!,localizacao,2,FALSE))","v":""},null,"",null,""]
[null,"",null,{"$f":"IF(ISERROR(VLOOKUP(#REF!,localizacao,2,FALSE)),\"\",VLOOKUP(#REF!,localizacao,2,FALSE))","v":""},null,"",null,""]
[null,"",null,{"$f":"IF(ISERROR(VLOOKUP(#REF!,localizacao,2,FALSE)),\"\",VLOOKUP(#REF!,localizacao,2,FALSE))","v":""},null,"",null,""]
[null,"",null,{"$f":"IF(ISERROR(VLOOKUP(#REF!,localizacao,2,FALSE)),\"\",VLOOKUP(#REF!,localizacao,2,FALSE))","v":""},null,"",null,""]
[null,"",null,{"$f":"IF(ISERROR(VLOOKUP(#REF!,localizacao,2,FALSE)),\"\",VLOOKUP(#REF!,localizacao,2,FALSE))","v":""},null,"",null,""]
[null,"",null,{"$f":"IF(ISERROR(VLOOKUP(#REF!,localizacao,2,FALSE)),\"\",VLOOKUP(#REF!,localizacao,2,FALSE))","v":""},null,"",null,""]
[null,"",null,{"$f":"IF(ISERROR(VLOOKUP(#REF!,localizacao,2,FALSE)),\"\",VLOOKUP(#REF!,localizacao,2,FALSE))","v":""},null,"",null,""]
[null,"",null,{"$f":"IF(ISERROR(VLOOKUP(#REF!,localizacao,2,FALSE)),\"\",VLOOKUP(#REF!,localizacao,2,FALSE))","v":""},null,"",null,""]
[null,"",null,{"$f":"IF(ISERROR(VLOOKUP(#REF!,localizacao,2,FALSE)),\"\",VLOOKUP(#REF!,localizacao,2,FALSE))","v":""},null,"",null,""]
[null,"",null,{"$f":"IF(ISERROR(VLOOKUP(#REF!,localizacao,2,FALSE)),\"\",VLOOKUP(#REF!,localizacao,2,FALSE))","v":""},null,"",null,""]
[null,"",null,{"$f":"IF(ISERROR(VLOOKUP(#REF!,localizacao,2,FALSE)),\"\",VLOOKUP(#REF!,localizacao,2,FALSE))","v":""},null,"",null,""]
[null,"",null,{"$f":"IF(ISERROR(VLOOKUP(#REF!,localizacao,2,FALSE)),\"\",VLOOKUP(#REF!,localizacao,2,FALSE))","v":""},null,"",null,""]
[null,"",null,{"$f":"IF(ISERROR(VLOOKUP(#REF!,localizacao,2,FALSE)),\"\",VLOOKUP(#REF!,localizacao,2,FALSE))","v":""},null,"",null,""]
[null,"",null,{"$f":"IF(ISERROR(VLOOKUP(#REF!,localizacao,2,FALSE)),\"\",VLOOKUP(#REF!,localizacao,2,FALSE))","v":""},null,"",null,""]
[null,"",null,{"$f":"IF(ISERROR(VLOOKUP(#REF!,localizacao,2,FALSE)),\"\",VLOOKUP(#REF!,localizacao,2,FALSE))","v":""},null,"",null,""]
[null,"",null,{"$f":"IF(ISERROR(VLOOKUP(#REF!,localizacao,2,FALSE)),\"\",VLOOKUP(#REF!,localizacao,2,FALSE))","v":""},null,"",null,""]
[null,"",null,{"$f":"IF(ISERROR(VLOOKUP(#REF!,localizacao,2,FALSE)),\"\",VLOOKUP(#REF!,localizacao,2,FALSE))","v":""},null,"",null,""]
[null,"",null,{"$f":"IF(ISERROR(VLOOKUP(#REF!,localizacao,2,FALSE)),\"\",VLOOKUP(#REF!,localizacao,2,FALSE))","v":""},null,"",null,""]
[null,"",null,{"$f":"IF(ISERROR(VLOOKUP(#REF!,localizacao,2,FALSE)),\"\",VLOOKUP(#REF!,localizacao,2,FALSE))","v":""},null,"",null,""]
[null,"",null,{"$f":"IF(ISERROR(VLOOKUP(#REF!,localizacao,2,FALSE)),\"\",VLOOKUP(#REF!,localizacao,2,FALSE))","v":""},null,"",null,""]
[null,"",null,{"$f":"IF(ISERROR(VLOOKUP(#REF!,localizacao,2,FALSE)),\"\",VLOOKUP(#REF!,localizacao,2,FALSE))","v":""},null,"",null,""]
[null,"",null,{"$f":"IF(ISERROR(VLOOKUP(#REF!,localizacao,2,FALSE)),\"\",VLOOKUP(#REF!,localizacao,2,FALSE))","v":""},null,"",null,""]
[null,"",null,{"$f":"IF(ISERROR(VLOOKUP(#REF!,localizacao,2,FALSE)),\"\",VLOOKUP(#REF!,localizacao,2,FALSE))","v":""},null,"",null,""]
[null,"",null,{"$f":"IF(ISERROR(VLOOKUP(#REF!,localizacao,2,FALSE)),\"\",VLOOKUP(#REF!,localizacao,2,FALSE))","v":""},null,"",null,""]
[null,"",null,{"$f":"IF(ISERROR(VLOOKUP(#REF!,localizacao,2,FALSE)),\"\",VLOOKUP(#REF!,localizacao,2,FALSE))","v":""},null,"",null,""]
[null,"",null,{"$f":"IF(ISERROR(VLOOKUP(#REF!,localizacao,2,FALSE)),\"\",VLOOKUP(#REF!,localizacao,2,FALSE))","v":""},null,"",null,""]
[null,"",null,{"$f":"IF(ISERROR(VLOOKUP(#REF!,localizacao,2,FALSE)),\"\",VLOOKUP(#REF!,localizacao,2,FALSE))","v":""},null,"",null,""]
[null,"",null,{"$f":"IF(ISERROR(VLOOKUP(#REF!,localizacao,2,FALSE)),\"\",VLOOKUP(#REF!,localizacao,2,FALSE))","v":""},null,"",null,""]
[null,"",null,{"$f":"IF(ISERROR(VLOOKUP(#REF!,localizacao,2,FALSE)),\"\",VLOOKUP(#REF!,localizacao,2,FALSE))","v":""},null,"",null,""]
[null,"",null,{"$f":"IF(ISERROR(VLOOKUP(#REF!,localizacao,2,FALSE)),\"\",VLOOKUP(#REF!,localizacao,2,FALSE))","v":""},null,"",null,""]
[null,"",null,{"$f":"IF(ISERROR(VLOOKUP(#REF!,localizacao,2,FALSE)),\"\",VLOOKUP(#REF!,localizacao,2,FALSE))","v":""},null,"",null,""]
[null,"",null,{"$f":"IF(ISERROR(VLOOKUP(#REF!,localizacao,2,FALSE)),\"\",VLOOKUP(#REF!,localizacao,2,FALSE))","v":""},null,"",null,""]
[null,"",null,{"$f":"IF(ISERROR(VLOOKUP(#REF!,localizacao,2,FALSE)),\"\",VLOOKUP(#REF!,localizacao,2,FALSE))","v":""},null,"",null,""]
[null,"",null,{"$f":"IF(ISERROR(VLOOKUP(#REF!,localizacao,2,FALSE)),\"\",VLOOKUP(#REF!,localizacao,2,FALSE))","v":""},null,"",null,""]
[null,"",null,{"$f":"IF(ISERROR(VLOOKUP(#REF!,localizacao,2,FALSE)),\"\",VLOOKUP(#REF!,localizacao,2,FALSE))","v":""},null,"",null,""]
[null,"",null,{"$f":"IF(ISERROR(VLOOKUP(#REF!,localizacao,2,FALSE)),\"\",VLOOKUP(#REF!,localizacao,2,FALSE))","v":""},null,"",null,""]
[null,"",null,{"$f":"IF(ISERROR(VLOOKUP(#REF!,localizacao,2,FALSE)),\"\",VLOOKUP(#REF!,localizacao,2,FALSE))","v":""},null,"",null,""]
[null,"",null,{"$f":"IF(ISERROR(VLOOKUP(#REF!,localizacao,2,FALSE)),\"\",VLOOKUP(#REF!,localizacao,2,FALSE))","v":""},null,"",null,""]
[null,"",null,{"$f":"IF(ISERROR(VLOOKUP(#REF!,localizacao,2,FALSE)),\"\",VLOOKUP(#REF!,localizacao,2,FALSE))","v":""},null,"",null,""]
[null,"",null,{"$f":"IF(ISERROR(VLOOKUP(#REF!,localizacao,2,FALSE)),\"\",VLOOKUP(#REF!,localizacao,2,FALSE))","v":""},null,"",null,""]
[null,"",null,{"$f":"IF(ISERROR(VLOOKUP(#REF!,localizacao,2,FALSE)),\"\",VLOOKUP(#REF!,localizacao,2,FALSE))","v":""},null,"",null,""]
[null,"",null,{"$f":"IF(ISERROR(VLOOKUP(#REF!,localizacao,2,FALSE)),\"\",VLOOKUP(#REF!,localizacao,2,FALSE))","v":""},null,"",null,""]
[null,"",null,{"$f":"IF(ISERROR(VLOOKUP(#REF!,localizacao,2,FALSE)),\"\",VLOOKUP(#REF!,localizacao,2,FALSE))","v":""},null,"",null,""]
[null,"",null,{"$f":"IF(ISERROR(VLOOKUP(#REF!,localizacao,2,FALSE)),\"\",VLOOKUP(#REF!,localizacao,2,FALSE))","v":""},null,"",null,""]
[null,"",null,{"$f":"IF(ISERROR(VLOOKUP(#REF!,localizacao,2,FALSE)),\"\",VLOOKUP(#REF!,localizacao,2,FALSE))","v":""},null,"",null,""]
[null,"",null,{"$f":"IF(ISERROR(VLOOKUP(#REF!,localizacao,2,FALSE)),\"\",VLOOKUP(#REF!,localizacao,2,FALSE))","v":""},null,"",null,""]
[null,"",null,{"$f":"IF(ISERROR(VLOOKUP(#REF!,localizacao,2,FALSE)),\"\",VLOOKUP(#REF!,localizacao,2,FALSE))","v":""},null,"",null,""]
[null,"",null,{"$f":"IF(ISERROR(VLOOKUP(#REF!,localizacao,2,FALSE)),\"\",VLOOKUP(#REF!,localizacao,2,FALSE))","v":""},null,"",null,""]
[null,"",null,{"$f":"IF(ISERROR(VLOOKUP(#REF!,localizacao,2,FALSE)),\"\",VLOOKUP(#REF!,localizacao,2,FALSE))","v":""},null,"",null,""]
[null,"",null,{"$f":"IF(ISERROR(VLOOKUP(#REF!,localizacao,2,FALSE)),\"\",VLOOKUP(#REF!,localizacao,2,FALSE))","v":""},null,"",null,""]
[null,"",null,{"$f":"IF(ISERROR(VLOOKUP(#REF!,localizacao,2,FALSE)),\"\",VLOOKUP(#REF!,localizacao,2,FALSE))","v":""},null,"",null,""]
[null,"",null,{"$f":"IF(ISERROR(VLOOKUP(#REF!,localizacao,2,FALSE)),\"\",VLOOKUP(#REF!,localizacao,2,FALSE))","v":""},null,"",null,""]
[null,"",null,{"$f":"IF(ISERROR(VLOOKUP(#REF!,localizacao,2,FALSE)),\"\",VLOOKUP(#REF!,localizacao,2,FALSE))","v":""},null,"",null,""]
[null,"",null,{"$f":"IF(ISERROR(VLOOKUP(#REF!,localizacao,2,FALSE)),\"\",VLOOKUP(#REF!,localizacao,2,FALSE))","v":""},null,"",null,""]
[null,"",null,{"$f":"IF(ISERROR(VLOOKUP(#REF!,localizacao,2,FALSE)),\"\",VLOOKUP(#REF!,localizacao,2,FALSE))","v":""},null,"",null,""]
[null,"",null,{"$f":"IF(ISERROR(VLOOKUP(#REF!,localizacao,2,FALSE)),\"\",VLOOKUP(#REF!,localizacao,2,FALSE))","v":""},null,"",null,""]
[null,"",null,{"$f":"IF(ISERROR(VLOOKUP(#REF!,localizacao,2,FALSE)),\"\",VLOOKUP(#REF!,localizacao,2,FALSE))","v":""},null,"",null,""]
[null,"",null,{"$f":"IF(ISERROR(VLOOKUP(#REF!,localizacao,2,FALSE)),\"\",VLOOKUP(#REF!,localizacao,2,FALSE))","v":""},null,"",null,""]
[null,"",null,{"$f":"IF(ISERROR(VLOOKUP(#REF!,localizacao,2,FALSE)),\"\",VLOOKUP(#REF!,localizacao,2,FALSE))","v":""},null,"",null,""]
[null,"",null,{"$f":"IF(ISERROR(VLOOKUP(#REF!,localizacao,2,FALSE)),\"\",VLOOKUP(#REF!,localizacao,2,FALSE))","v":""},null,"",null,""]
[null,"",null,{"$f":"IF(ISERROR(VLOOKUP(#REF!,localizacao,2,FALSE)),\"\",VLOOKUP(#REF!,localizacao,2,FALSE))","v":""},null,"",null,""]
[null,"",null,{"$f":"IF(ISERROR(VLOOKUP(#REF!,localizacao,2,FALSE)),\"\",VLOOKUP(#REF!,localizacao,2,FALSE))","v":""},null,"",null,""]
[null,"",null,{"$f":"IF(ISERROR(VLOOKUP(#REF!,localizacao,2,FALSE)),\"\",VLOOKUP(#REF!,localizacao,2,FALSE))","v":""},null,"",null,""]
[null,"",null,{"$f":"IF(ISERROR(VLOOKUP(#REF!,localizacao,2,FALSE)),\"\",VLOOKUP(#REF!,localizacao,2,FALSE))","v":""},null,{"$f":"IF(ISERROR(VLOOKUP(G1350,componentes,2,FALSE)),\"\",VLOOKUP(G1350,componentes,2,FALSE))","v":""},null,{"$f":"IF(ISERROR(VLOOKUP(I1350,rubricas,2,FALSE)),\"\",VLOOKUP(I1350,rubricas,2,FALSE))","v":""}]
[null,{"$f":"IF(C1351<>\"\",+B1350+1,\"\")","v":""},null,{"$f":"IF(ISERROR(VLOOKUP(#REF!,localizacao,2,FALSE)),\"\",VLOOKUP(#REF!,localizacao,2,FALSE))","v":""},null,"",null,""]
[null,"",null,{"$f":"IF(ISERROR(VLOOKUP(#REF!,localizacao,2,FALSE)),\"\",VLOOKUP(#REF!,localizacao,2,FALSE))","v":""},null,"",null,""]
[null,"",null,{"$f":"IF(ISERROR(VLOOKUP(#REF!,localizacao,2,FALSE)),\"\",VLOOKUP(#REF!,localizacao,2,FALSE))","v":""},null,"",null,""]
[null,"",null,{"$f":"IF(ISERROR(VLOOKUP(#REF!,localizacao,2,FALSE)),\"\",VLOOKUP(#REF!,localizacao,2,FALSE))","v":""},null,"",null,""]
[null,"",null,{"$f":"IF(ISERROR(VLOOKUP(#REF!,localizacao,2,FALSE)),\"\",VLOOKUP(#REF!,localizacao,2,FALSE))","v":""},null,"",null,""]
[null,"",null,{"$f":"IF(ISERROR(VLOOKUP(#REF!,localizacao,2,FALSE)),\"\",VLOOKUP(#REF!,localizacao,2,FALSE))","v":""},null,"",null,""]
[null,"",null,{"$f":"IF(ISERROR(VLOOKUP(#REF!,localizacao,2,FALSE)),\"\",VLOOKUP(#REF!,localizacao,2,FALSE))","v":""},null,"",null,""]
[null,"",null,{"$f":"IF(ISERROR(VLOOKUP(#REF!,localizacao,2,FALSE)),\"\",VLOOKUP(#REF!,localizacao,2,FALSE))","v":""},null,"",null,""]
[null,"",null,{"$f":"IF(ISERROR(VLOOKUP(#REF!,localizacao,2,FALSE)),\"\",VLOOKUP(#REF!,localizacao,2,FALSE))","v":""},null,"",null,""]
[null,"",null,{"$f":"IF(ISERROR(VLOOKUP(#REF!,localizacao,2,FALSE)),\"\",VLOOKUP(#REF!,localizacao,2,FALSE))","v":""},null,"",null,""]
[null,"",null,{"$f":"IF(ISERROR(VLOOKUP(#REF!,localizacao,2,FALSE)),\"\",VLOOKUP(#REF!,localizacao,2,FALSE))","v":""},null,"",null,""]
[null,"",null,{"$f":"IF(ISERROR(VLOOKUP(#REF!,localizacao,2,FALSE)),\"\",VLOOKUP(#REF!,localizacao,2,FALSE))","v":""},null,"",null,""]
[null,"",null,{"$f":"IF(ISERROR(VLOOKUP(#REF!,localizacao,2,FALSE)),\"\",VLOOKUP(#REF!,localizacao,2,FALSE))","v":""},null,"",null,""]
[null,"",null,{"$f":"IF(ISERROR(VLOOKUP(#REF!,localizacao,2,FALSE)),\"\",VLOOKUP(#REF!,localizacao,2,FALSE))","v":""},null,"",null,""]
[null,"",null,{"$f":"IF(ISERROR(VLOOKUP(#REF!,localizacao,2,FALSE)),\"\",VLOOKUP(#REF!,localizacao,2,FALSE))","v":""},null,"",null,""]
[null,"",null,{"$f":"IF(ISERROR(VLOOKUP(#REF!,localizacao,2,FALSE)),\"\",VLOOKUP(#REF!,localizacao,2,FALSE))","v":""},null,"",null,""]
[null,"",null,{"$f":"IF(ISERROR(VLOOKUP(#REF!,localizacao,2,FALSE)),\"\",VLOOKUP(#REF!,localizacao,2,FALSE))","v":""},null,"",null,""]
[null,"",null,{"$f":"IF(ISERROR(VLOOKUP(#REF!,localizacao,2,FALSE)),\"\",VLOOKUP(#REF!,localizacao,2,FALSE))","v":""},null,"",null,""]
[null,"",null,{"$f":"IF(ISERROR(VLOOKUP(#REF!,localizacao,2,FALSE)),\"\",VLOOKUP(#REF!,localizacao,2,FALSE))","v":""},null,"",null,""]
[null,"",null,{"$f":"IF(ISERROR(VLOOKUP(#REF!,localizacao,2,FALSE)),\"\",VLOOKUP(#REF!,localizacao,2,FALSE))","v":""},null,"",null,""]
[null,"",null,{"$f":"IF(ISERROR(VLOOKUP(#REF!,localizacao,2,FALSE)),\"\",VLOOKUP(#REF!,localizacao,2,FALSE))","v":""},null,"",null,""]
[null,"",null,{"$f":"IF(ISERROR(VLOOKUP(#REF!,localizacao,2,FALSE)),\"\",VLOOKUP(#REF!,localizacao,2,FALSE))","v":""},null,"",null,""]
[null,"",null,{"$f":"IF(ISERROR(VLOOKUP(#REF!,localizacao,2,FALSE)),\"\",VLOOKUP(#REF!,localizacao,2,FALSE))","v":""},null,"",null,""]
[null,"",null,{"$f":"IF(ISERROR(VLOOKUP(#REF!,localizacao,2,FALSE)),\"\",VLOOKUP(#REF!,localizacao,2,FALSE))","v":""},null,"",null,""]
[null,"",null,{"$f":"IF(ISERROR(VLOOKUP(#REF!,localizacao,2,FALSE)),\"\",VLOOKUP(#REF!,localizacao,2,FALSE))","v":""},null,"",null,""]
[null,"",null,{"$f":"IF(ISERROR(VLOOKUP(#REF!,localizacao,2,FALSE)),\"\",VLOOKUP(#REF!,localizacao,2,FALSE))","v":""},null,"",null,""]
[null,"",null,{"$f":"IF(ISERROR(VLOOKUP(#REF!,localizacao,2,FALSE)),\"\",VLOOKUP(#REF!,localizacao,2,FALSE))","v":""},null,"",null,""]
[null,"",null,{"$f":"IF(ISERROR(VLOOKUP(#REF!,localizacao,2,FALSE)),\"\",VLOOKUP(#REF!,localizacao,2,FALSE))","v":""},null,"",null,""]
[null,"",null,{"$f":"IF(ISERROR(VLOOKUP(#REF!,localizacao,2,FALSE)),\"\",VLOOKUP(#REF!,localizacao,2,FALSE))","v":""},null,"",null,""]
[null,"",null,{"$f":"IF(ISERROR(VLOOKUP(#REF!,localizacao,2,FALSE)),\"\",VLOOKUP(#REF!,localizacao,2,FALSE))","v":""},null,"",null,""]
[null,"",null,{"$f":"IF(ISERROR(VLOOKUP(#REF!,localizacao,2,FALSE)),\"\",VLOOKUP(#REF!,localizacao,2,FALSE))","v":""},null,"",null,""]
[null,"",null,{"$f":"IF(ISERROR(VLOOKUP(#REF!,localizacao,2,FALSE)),\"\",VLOOKUP(#REF!,localizacao,2,FALSE))","v":""},null,"",null,""]
[null,"",null,{"$f":"IF(ISERROR(VLOOKUP(#REF!,localizacao,2,FALSE)),\"\",VLOOKUP(#REF!,localizacao,2,FALSE))","v":""},null,"",null,""]
[null,"",null,{"$f":"IF(ISERROR(VLOOKUP(#REF!,localizacao,2,FALSE)),\"\",VLOOKUP(#REF!,localizacao,2,FALSE))","v":""},null,"",null,""]
[null,"",null,{"$f":"IF(ISERROR(VLOOKUP(#REF!,localizacao,2,FALSE)),\"\",VLOOKUP(#REF!,localizacao,2,FALSE))","v":""},null,"",null,""]
[null,"",null,{"$f":"IF(ISERROR(VLOOKUP(#REF!,localizacao,2,FALSE)),\"\",VLOOKUP(#REF!,localizacao,2,FALSE))","v":""},null,"",null,""]
[null,"",null,{"$f":"IF(ISERROR(VLOOKUP(#REF!,localizacao,2,FALSE)),\"\",VLOOKUP(#REF!,localizacao,2,FALSE))","v":""},null,"",null,""]
[null,"",null,{"$f":"IF(ISERROR(VLOOKUP(#REF!,localizacao,2,FALSE)),\"\",VLOOKUP(#REF!,localizacao,2,FALSE))","v":""},null,"",null,""]
[null,"",null,{"$f":"IF(ISERROR(VLOOKUP(#REF!,localizacao,2,FALSE)),\"\",VLOOKUP(#REF!,localizacao,2,FALSE))","v":""},null,"",null,""]
[null,"",null,{"$f":"IF(ISERROR(VLOOKUP(#REF!,localizacao,2,FALSE)),\"\",VLOOKUP(#REF!,localizacao,2,FALSE))","v":""},null,"",null,""]
[null,"",null,{"$f":"IF(ISERROR(VLOOKUP(#REF!,localizacao,2,FALSE)),\"\",VLOOKUP(#REF!,localizacao,2,FALSE))","v":""},null,"",null,""]
[null,"",null,{"$f":"IF(ISERROR(VLOOKUP(#REF!,localizacao,2,FALSE)),\"\",VLOOKUP(#REF!,localizacao,2,FALSE))","v":""},null,"",null,""]
[null,"",null,{"$f":"IF(ISERROR(VLOOKUP(#REF!,localizacao,2,FALSE)),\"\",VLOOKUP(#REF!,localizacao,2,FALSE))","v":""},null,"",null,""]
[null,"",null,{"$f":"IF(ISERROR(VLOOKUP(#REF!,localizacao,2,FALSE)),\"\",VLOOKUP(#REF!,localizacao,2,FALSE))","v":""},null,"",null,""]
[null,"",null,{"$f":"IF(ISERROR(VLOOKUP(#REF!,localizacao,2,FALSE)),\"\",VLOOKUP(#REF!,localizacao,2,FALSE))","v":""},null,"",null,""]
[null,"",null,{"$f":"IF(ISERROR(VLOOKUP(#REF!,localizacao,2,FALSE)),\"\",VLOOKUP(#REF!,localizacao,2,FALSE))","v":""},null,"",null,""]
[null,"",null,{"$f":"IF(ISERROR(VLOOKUP(#REF!,localizacao,2,FALSE)),\"\",VLOOKUP(#REF!,localizacao,2,FALSE))","v":""},null,"",null,""]
[null,"",null,{"$f":"IF(ISERROR(VLOOKUP(#REF!,localizacao,2,FALSE)),\"\",VLOOKUP(#REF!,localizacao,2,FALSE))","v":""},null,"",null,""]
[null,"",null,{"$f":"IF(ISERROR(VLOOKUP(#REF!,localizacao,2,FALSE)),\"\",VLOOKUP(#REF!,localizacao,2,FALSE))","v":""},null,"",null,""]
[null,"",null,{"$f":"IF(ISERROR(VLOOKUP(#REF!,localizacao,2,FALSE)),\"\",VLOOKUP(#REF!,localizacao,2,FALSE))","v":""},null,"",null,""]
[null,"",null,{"$f":"IF(ISERROR(VLOOKUP(#REF!,localizacao,2,FALSE)),\"\",VLOOKUP(#REF!,localizacao,2,FALSE))","v":""},null,"",null,""]
[null,"",null,{"$f":"IF(ISERROR(VLOOKUP(#REF!,localizacao,2,FALSE)),\"\",VLOOKUP(#REF!,localizacao,2,FALSE))","v":""},null,"",null,""]
[null,"",null,{"$f":"IF(ISERROR(VLOOKUP(#REF!,localizacao,2,FALSE)),\"\",VLOOKUP(#REF!,localizacao,2,FALSE))","v":""},null,"",null,""]
[null,"",null,{"$f":"IF(ISERROR(VLOOKUP(#REF!,localizacao,2,FALSE)),\"\",VLOOKUP(#REF!,localizacao,2,FALSE))","v":""},null,"",null,""]
[null,"",null,{"$f":"IF(ISERROR(VLOOKUP(#REF!,localizacao,2,FALSE)),\"\",VLOOKUP(#REF!,localizacao,2,FALSE))","v":""},null,"",null,""]
[null,"",null,{"$f":"IF(ISERROR(VLOOKUP(#REF!,localizacao,2,FALSE)),\"\",VLOOKUP(#REF!,localizacao,2,FALSE))","v":""},null,"",null,""]
[null,"",null,{"$f":"IF(ISERROR(VLOOKUP(#REF!,localizacao,2,FALSE)),\"\",VLOOKUP(#REF!,localizacao,2,FALSE))","v":""},null,"",null,""]
[null,"",null,{"$f":"IF(ISERROR(VLOOKUP(#REF!,localizacao,2,FALSE)),\"\",VLOOKUP(#REF!,localizacao,2,FALSE))","v":""},null,"",null,""]
[null,"",null,{"$f":"IF(ISERROR(VLOOKUP(#REF!,localizacao,2,FALSE)),\"\",VLOOKUP(#REF!,localizacao,2,FALSE))","v":""},null,"",null,""]
[null,"",null,{"$f":"IF(ISERROR(VLOOKUP(#REF!,localizacao,2,FALSE)),\"\",VLOOKUP(#REF!,localizacao,2,FALSE))","v":""},null,"",null,""]
[null,"",null,{"$f":"IF(ISERROR(VLOOKUP(#REF!,localizacao,2,FALSE)),\"\",VLOOKUP(#REF!,localizacao,2,FALSE))","v":""},null,"",null,""]
[null,"",null,{"$f":"IF(ISERROR(VLOOKUP(#REF!,localizacao,2,FALSE)),\"\",VLOOKUP(#REF!,localizacao,2,FALSE))","v":""},null,"",null,""]
[null,"",null,{"$f":"IF(ISERROR(VLOOKUP(#REF!,localizacao,2,FALSE)),\"\",VLOOKUP(#REF!,localizacao,2,FALSE))","v":""},null,"",null,""]
[null,"",null,{"$f":"IF(ISERROR(VLOOKUP(#REF!,localizacao,2,FALSE)),\"\",VLOOKUP(#REF!,localizacao,2,FALSE))","v":""},null,{"$f":"IF(ISERROR(VLOOKUP(G1414,componentes,2,FALSE)),\"\",VLOOKUP(G1414,componentes,2,FALSE))","v":""},null,{"$f":"IF(ISERROR(VLOOKUP(I1414,rubricas,2,FALSE)),\"\",VLOOKUP(I1414,rubricas,2,FALSE))","v":""}]
[null,{"$f":"IF(C1415<>\"\",+B1414+1,\"\")","v":""},null,{"$f":"IF(ISERROR(VLOOKUP(#REF!,localizacao,2,FALSE)),\"\",VLOOKUP(#REF!,localizacao,2,FALSE))","v":""},null,"",null,""]
[null,"",null,{"$f":"IF(ISERROR(VLOOKUP(#REF!,localizacao,2,FALSE)),\"\",VLOOKUP(#REF!,localizacao,2,FALSE))","v":""},null,"",null,""]
[null,"",null,{"$f":"IF(ISERROR(VLOOKUP(#REF!,localizacao,2,FALSE)),\"\",VLOOKUP(#REF!,localizacao,2,FALSE))","v":""},null,"",null,""]
[null,"",null,{"$f":"IF(ISERROR(VLOOKUP(#REF!,localizacao,2,FALSE)),\"\",VLOOKUP(#REF!,localizacao,2,FALSE))","v":""},null,"",null,""]
[null,"",null,{"$f":"IF(ISERROR(VLOOKUP(#REF!,localizacao,2,FALSE)),\"\",VLOOKUP(#REF!,localizacao,2,FALSE))","v":""},null,"",null,""]
[null,"",null,{"$f":"IF(ISERROR(VLOOKUP(#REF!,localizacao,2,FALSE)),\"\",VLOOKUP(#REF!,localizacao,2,FALSE))","v":""},null,"",null,""]
[null,"",null,{"$f":"IF(ISERROR(VLOOKUP(#REF!,localizacao,2,FALSE)),\"\",VLOOKUP(#REF!,localizacao,2,FALSE))","v":""},null,"",null,""]
[null,"",null,{"$f":"IF(ISERROR(VLOOKUP(#REF!,localizacao,2,FALSE)),\"\",VLOOKUP(#REF!,localizacao,2,FALSE))","v":""},null,"",null,""]
[null,"",null,{"$f":"IF(ISERROR(VLOOKUP(#REF!,localizacao,2,FALSE)),\"\",VLOOKUP(#REF!,localizacao,2,FALSE))","v":""},null,"",null,""]
[null,"",null,{"$f":"IF(ISERROR(VLOOKUP(#REF!,localizacao,2,FALSE)),\"\",VLOOKUP(#REF!,localizacao,2,FALSE))","v":""},null,"",null,""]
[null,"",null,{"$f":"IF(ISERROR(VLOOKUP(#REF!,localizacao,2,FALSE)),\"\",VLOOKUP(#REF!,localizacao,2,FALSE))","v":""},null,"",null,""]
[null,"",null,{"$f":"IF(ISERROR(VLOOKUP(#REF!,localizacao,2,FALSE)),\"\",VLOOKUP(#REF!,localizacao,2,FALSE))","v":""},null,"",null,""]
[null,"",null,{"$f":"IF(ISERROR(VLOOKUP(#REF!,localizacao,2,FALSE)),\"\",VLOOKUP(#REF!,localizacao,2,FALSE))","v":""},null,"",null,""]
[null,"",null,{"$f":"IF(ISERROR(VLOOKUP(#REF!,localizacao,2,FALSE)),\"\",VLOOKUP(#REF!,localizacao,2,FALSE))","v":""},null,"",null,""]
[null,"",null,{"$f":"IF(ISERROR(VLOOKUP(#REF!,localizacao,2,FALSE)),\"\",VLOOKUP(#REF!,localizacao,2,FALSE))","v":""},null,"",null,""]
[null,"",null,{"$f":"IF(ISERROR(VLOOKUP(#REF!,localizacao,2,FALSE)),\"\",VLOOKUP(#REF!,localizacao,2,FALSE))","v":""},null,"",null,""]
[null,"",null,{"$f":"IF(ISERROR(VLOOKUP(#REF!,localizacao,2,FALSE)),\"\",VLOOKUP(#REF!,localizacao,2,FALSE))","v":""},null,"",null,""]
[null,"",null,{"$f":"IF(ISERROR(VLOOKUP(#REF!,localizacao,2,FALSE)),\"\",VLOOKUP(#REF!,localizacao,2,FALSE))","v":""},null,"",null,""]
[null,"",null,{"$f":"IF(ISERROR(VLOOKUP(#REF!,localizacao,2,FALSE)),\"\",VLOOKUP(#REF!,localizacao,2,FALSE))","v":""},null,"",null,""]
[null,"",null,{"$f":"IF(ISERROR(VLOOKUP(#REF!,localizacao,2,FALSE)),\"\",VLOOKUP(#REF!,localizacao,2,FALSE))","v":""},null,"",null,""]
[null,"",null,{"$f":"IF(ISERROR(VLOOKUP(#REF!,localizacao,2,FALSE)),\"\",VLOOKUP(#REF!,localizacao,2,FALSE))","v":""},null,"",null,""]
[null,"",null,{"$f":"IF(ISERROR(VLOOKUP(#REF!,localizacao,2,FALSE)),\"\",VLOOKUP(#REF!,localizacao,2,FALSE))","v":""},null,"",null,""]
[null,"",null,{"$f":"IF(ISERROR(VLOOKUP(#REF!,localizacao,2,FALSE)),\"\",VLOOKUP(#REF!,localizacao,2,FALSE))","v":""},null,"",null,""]
[null,"",null,{"$f":"IF(ISERROR(VLOOKUP(#REF!,localizacao,2,FALSE)),\"\",VLOOKUP(#REF!,localizacao,2,FALSE))","v":""},null,"",null,""]
[null,"",null,{"$f":"IF(ISERROR(VLOOKUP(#REF!,localizacao,2,FALSE)),\"\",VLOOKUP(#REF!,localizacao,2,FALSE))","v":""},null,"",null,""]
[null,"",null,{"$f":"IF(ISERROR(VLOOKUP(#REF!,localizacao,2,FALSE)),\"\",VLOOKUP(#REF!,localizacao,2,FALSE))","v":""},null,"",null,""]
[null,"",null,{"$f":"IF(ISERROR(VLOOKUP(#REF!,localizacao,2,FALSE)),\"\",VLOOKUP(#REF!,localizacao,2,FALSE))","v":""},null,"",null,""]
[null,"",null,{"$f":"IF(ISERROR(VLOOKUP(#REF!,localizacao,2,FALSE)),\"\",VLOOKUP(#REF!,localizacao,2,FALSE))","v":""},null,"",null,""]
[null,"",null,{"$f":"IF(ISERROR(VLOOKUP(#REF!,localizacao,2,FALSE)),\"\",VLOOKUP(#REF!,localizacao,2,FALSE))","v":""},null,"",null,""]
[null,"",null,{"$f":"IF(ISERROR(VLOOKUP(#REF!,localizacao,2,FALSE)),\"\",VLOOKUP(#REF!,localizacao,2,FALSE))","v":""},null,"",null,""]
[null,"",null,{"$f":"IF(ISERROR(VLOOKUP(#REF!,localizacao,2,FALSE)),\"\",VLOOKUP(#REF!,localizacao,2,FALSE))","v":""},null,"",null,""]
[null,"",null,{"$f":"IF(ISERROR(VLOOKUP(#REF!,localizacao,2,FALSE)),\"\",VLOOKUP(#REF!,localizacao,2,FALSE))","v":""},null,"",null,""]
[null,"",null,{"$f":"IF(ISERROR(VLOOKUP(#REF!,localizacao,2,FALSE)),\"\",VLOOKUP(#REF!,localizacao,2,FALSE))","v":""},null,"",null,""]
[null,"",null,{"$f":"IF(ISERROR(VLOOKUP(#REF!,localizacao,2,FALSE)),\"\",VLOOKUP(#REF!,localizacao,2,FALSE))","v":""},null,"",null,""]
[null,"",null,{"$f":"IF(ISERROR(VLOOKUP(#REF!,localizacao,2,FALSE)),\"\",VLOOKUP(#REF!,localizacao,2,FALSE))","v":""},null,"",null,""]
[null,"",null,{"$f":"IF(ISERROR(VLOOKUP(#REF!,localizacao,2,FALSE)),\"\",VLOOKUP(#REF!,localizacao,2,FALSE))","v":""},null,"",null,""]
[null,"",null,{"$f":"IF(ISERROR(VLOOKUP(#REF!,localizacao,2,FALSE)),\"\",VLOOKUP(#REF!,localizacao,2,FALSE))","v":""},null,"",null,""]
[null,"",null,{"$f":"IF(ISERROR(VLOOKUP(#REF!,localizacao,2,FALSE)),\"\",VLOOKUP(#REF!,localizacao,2,FALSE))","v":""},null,"",null,""]
[null,"",null,{"$f":"IF(ISERROR(VLOOKUP(#REF!,localizacao,2,FALSE)),\"\",VLOOKUP(#REF!,localizacao,2,FALSE))","v":""},null,"",null,""]
[null,"",null,{"$f":"IF(ISERROR(VLOOKUP(#REF!,localizacao,2,FALSE)),\"\",VLOOKUP(#REF!,localizacao,2,FALSE))","v":""},null,"",null,""]
[null,"",null,{"$f":"IF(ISERROR(VLOOKUP(#REF!,localizacao,2,FALSE)),\"\",VLOOKUP(#REF!,localizacao,2,FALSE))","v":""},null,"",null,""]
[null,"",null,{"$f":"IF(ISERROR(VLOOKUP(#REF!,localizacao,2,FALSE)),\"\",VLOOKUP(#REF!,localizacao,2,FALSE))","v":""},null,"",null,""]
[null,"",null,{"$f":"IF(ISERROR(VLOOKUP(#REF!,localizacao,2,FALSE)),\"\",VLOOKUP(#REF!,localizacao,2,FALSE))","v":""},null,"",null,""]
[null,"",null,{"$f":"IF(ISERROR(VLOOKUP(#REF!,localizacao,2,FALSE)),\"\",VLOOKUP(#REF!,localizacao,2,FALSE))","v":""},null,"",null,""]
[null,"",null,{"$f":"IF(ISERROR(VLOOKUP(#REF!,localizacao,2,FALSE)),\"\",VLOOKUP(#REF!,localizacao,2,FALSE))","v":""},null,"",null,""]
[null,"",null,{"$f":"IF(ISERROR(VLOOKUP(#REF!,localizacao,2,FALSE)),\"\",VLOOKUP(#REF!,localizacao,2,FALSE))","v":""},null,"",null,""]
[null,"",null,{"$f":"IF(ISERROR(VLOOKUP(#REF!,localizacao,2,FALSE)),\"\",VLOOKUP(#REF!,localizacao,2,FALSE))","v":""},null,"",null,""]
[null,"",null,{"$f":"IF(ISERROR(VLOOKUP(#REF!,localizacao,2,FALSE)),\"\",VLOOKUP(#REF!,localizacao,2,FALSE))","v":""},null,"",null,""]
[null,"",null,{"$f":"IF(ISERROR(VLOOKUP(#REF!,localizacao,2,FALSE)),\"\",VLOOKUP(#REF!,localizacao,2,FALSE))","v":""},null,"",null,""]
[null,"",null,{"$f":"IF(ISERROR(VLOOKUP(#REF!,localizacao,2,FALSE)),\"\",VLOOKUP(#REF!,localizacao,2,FALSE))","v":""},null,"",null,""]
[null,"",null,{"$f":"IF(ISERROR(VLOOKUP(#REF!,localizacao,2,FALSE)),\"\",VLOOKUP(#REF!,localizacao,2,FALSE))","v":""},null,"",null,""]
[null,"",null,{"$f":"IF(ISERROR(VLOOKUP(#REF!,localizacao,2,FALSE)),\"\",VLOOKUP(#REF!,localizacao,2,FALSE))","v":""},null,"",null,""]
[null,"",null,{"$f":"IF(ISERROR(VLOOKUP(#REF!,localizacao,2,FALSE)),\"\",VLOOKUP(#REF!,localizacao,2,FALSE))","v":""},null,"",null,""]
[null,"",null,{"$f":"IF(ISERROR(VLOOKUP(#REF!,localizacao,2,FALSE)),\"\",VLOOKUP(#REF!,localizacao,2,FALSE))","v":""},null,"",null,""]
[null,"",null,{"$f":"IF(ISERROR(VLOOKUP(#REF!,localizacao,2,FALSE)),\"\",VLOOKUP(#REF!,localizacao,2,FALSE))","v":""},null,"",null,""]
[null,"",null,{"$f":"IF(ISERROR(VLOOKUP(#REF!,localizacao,2,FALSE)),\"\",VLOOKUP(#REF!,localizacao,2,FALSE))","v":""},null,"",null,""]
[null,"",null,{"$f":"IF(ISERROR(VLOOKUP(#REF!,localizacao,2,FALSE)),\"\",VLOOKUP(#REF!,localizacao,2,FALSE))","v":""},null,"",null,""]
[null,"",null,{"$f":"IF(ISERROR(VLOOKUP(#REF!,localizacao,2,FALSE)),\"\",VLOOKUP(#REF!,localizacao,2,FALSE))","v":""},null,"",null,""]
[null,"",null,{"$f":"IF(ISERROR(VLOOKUP(#REF!,localizacao,2,FALSE)),\"\",VLOOKUP(#REF!,localizacao,2,FALSE))","v":""},null,"",null,""]
[null,"",null,{"$f":"IF(ISERROR(VLOOKUP(#REF!,localizacao,2,FALSE)),\"\",VLOOKUP(#REF!,localizacao,2,FALSE))","v":""},null,"",null,""]
[null,"",null,{"$f":"IF(ISERROR(VLOOKUP(#REF!,localizacao,2,FALSE)),\"\",VLOOKUP(#REF!,localizacao,2,FALSE))","v":""},null,"",null,""]
[null,"",null,{"$f":"IF(ISERROR(VLOOKUP(#REF!,localizacao,2,FALSE)),\"\",VLOOKUP(#REF!,localizacao,2,FALSE))","v":""},null,"",null,""]
[null,"",null,{"$f":"IF(ISERROR(VLOOKUP(#REF!,localizacao,2,FALSE)),\"\",VLOOKUP(#REF!,localizacao,2,FALSE))","v":""},null,"",null,""]
[null,"",null,{"$f":"IF(ISERROR(VLOOKUP(#REF!,localizacao,2,FALSE)),\"\",VLOOKUP(#REF!,localizacao,2,FALSE))","v":""},null,{"$f":"IF(ISERROR(VLOOKUP(G1478,componentes,2,FALSE)),\"\",VLOOKUP(G1478,componentes,2,FALSE))","v":""},null,{"$f":"IF(ISERROR(VLOOKUP(I1478,rubricas,2,FALSE)),\"\",VLOOKUP(I1478,rubricas,2,FALSE))","v":""}]
[null,{"$f":"IF(C1479<>\"\",+B1478+1,\"\")","v":""},null,{"$f":"IF(ISERROR(VLOOKUP(#REF!,localizacao,2,FALSE)),\"\",VLOOKUP(#REF!,localizacao,2,FALSE))","v":""},null,"",null,""]
[null,"",null,{"$f":"IF(ISERROR(VLOOKUP(#REF!,localizacao,2,FALSE)),\"\",VLOOKUP(#REF!,localizacao,2,FALSE))","v":""},null,"",null,""]
[null,"",null,{"$f":"IF(ISERROR(VLOOKUP(#REF!,localizacao,2,FALSE)),\"\",VLOOKUP(#REF!,localizacao,2,FALSE))","v":""},null,"",null,""]
[null,"",null,{"$f":"IF(ISERROR(VLOOKUP(#REF!,localizacao,2,FALSE)),\"\",VLOOKUP(#REF!,localizacao,2,FALSE))","v":""},null,"",null,""]
[null,"",null,{"$f":"IF(ISERROR(VLOOKUP(#REF!,localizacao,2,FALSE)),\"\",VLOOKUP(#REF!,localizacao,2,FALSE))","v":""},null,"",null,""]
[null,"",null,{"$f":"IF(ISERROR(VLOOKUP(#REF!,localizacao,2,FALSE)),\"\",VLOOKUP(#REF!,localizacao,2,FALSE))","v":""},null,"",null,""]
[null,"",null,{"$f":"IF(ISERROR(VLOOKUP(#REF!,localizacao,2,FALSE)),\"\",VLOOKUP(#REF!,localizacao,2,FALSE))","v":""},null,"",null,""]
[null,"",null,{"$f":"IF(ISERROR(VLOOKUP(#REF!,localizacao,2,FALSE)),\"\",VLOOKUP(#REF!,localizacao,2,FALSE))","v":""},null,"",null,""]
[null,"",null,{"$f":"IF(ISERROR(VLOOKUP(#REF!,localizacao,2,FALSE)),\"\",VLOOKUP(#REF!,localizacao,2,FALSE))","v":""},null,"",null,""]
[null,"",null,{"$f":"IF(ISERROR(VLOOKUP(#REF!,localizacao,2,FALSE)),\"\",VLOOKUP(#REF!,localizacao,2,FALSE))","v":""},null,"",null,""]
[null,"",null,{"$f":"IF(ISERROR(VLOOKUP(#REF!,localizacao,2,FALSE)),\"\",VLOOKUP(#REF!,localizacao,2,FALSE))","v":""},null,"",null,""]
[null,"",null,{"$f":"IF(ISERROR(VLOOKUP(#REF!,localizacao,2,FALSE)),\"\",VLOOKUP(#REF!,localizacao,2,FALSE))","v":""},null,"",null,""]
[null,"",null,{"$f":"IF(ISERROR(VLOOKUP(#REF!,localizacao,2,FALSE)),\"\",VLOOKUP(#REF!,localizacao,2,FALSE))","v":""},null,"",null,""]
[null,"",null,{"$f":"IF(ISERROR(VLOOKUP(#REF!,localizacao,2,FALSE)),\"\",VLOOKUP(#REF!,localizacao,2,FALSE))","v":""},null,"",null,""]
[null,"",null,{"$f":"IF(ISERROR(VLOOKUP(#REF!,localizacao,2,FALSE)),\"\",VLOOKUP(#REF!,localizacao,2,FALSE))","v":""},null,"",null,""]
[null,"",null,{"$f":"IF(ISERROR(VLOOKUP(#REF!,localizacao,2,FALSE)),\"\",VLOOKUP(#REF!,localizacao,2,FALSE))","v":""},null,"",null,""]
[null,"",null,{"$f":"IF(ISERROR(VLOOKUP(#REF!,localizacao,2,FALSE)),\"\",VLOOKUP(#REF!,localizacao,2,FALSE))","v":""},null,"",null,""]
[null,"",null,{"$f":"IF(ISERROR(VLOOKUP(#REF!,localizacao,2,FALSE)),\"\",VLOOKUP(#REF!,localizacao,2,FALSE))","v":""},null,"",null,""]
[null,"",null,{"$f":"IF(ISERROR(VLOOKUP(#REF!,localizacao,2,FALSE)),\"\",VLOOKUP(#REF!,localizacao,2,FALSE))","v":""},null,"",null,""]
[null,"",null,{"$f":"IF(ISERROR(VLOOKUP(#REF!,localizacao,2,FALSE)),\"\",VLOOKUP(#REF!,localizacao,2,FALSE))","v":""},null,"",null,""]
[null,"",null,{"$f":"IF(ISERROR(VLOOKUP(#REF!,localizacao,2,FALSE)),\"\",VLOOKUP(#REF!,localizacao,2,FALSE))","v":""},null,"",null,""]
[null,"",null,{"$f":"IF(ISERROR(VLOOKUP(#REF!,localizacao,2,FALSE)),\"\",VLOOKUP(#REF!,localizacao,2,FALSE))","v":""},null,"",null,""]
[null,"",null,{"$f":"IF(ISERROR(VLOOKUP(#REF!,localizacao,2,FALSE)),\"\",VLOOKUP(#REF!,localizacao,2,FALSE))","v":""},null,"",null,""]
[null,"",null,{"$f":"IF(ISERROR(VLOOKUP(#REF!,localizacao,2,FALSE)),\"\",VLOOKUP(#REF!,localizacao,2,FALSE))","v":""},null,"",null,""]
[null,"",null,{"$f":"IF(ISERROR(VLOOKUP(#REF!,localizacao,2,FALSE)),\"\",VLOOKUP(#REF!,localizacao,2,FALSE))","v":""},null,"",null,""]
[null,"",null,{"$f":"IF(ISERROR(VLOOKUP(#REF!,localizacao,2,FALSE)),\"\",VLOOKUP(#REF!,localizacao,2,FALSE))","v":""},null,"",null,""]
[null,"",null,{"$f":"IF(ISERROR(VLOOKUP(#REF!,localizacao,2,FALSE)),\"\",VLOOKUP(#REF!,localizacao,2,FALSE))","v":""},null,"",null,""]
[null,"",null,{"$f":"IF(ISERROR(VLOOKUP(#REF!,localizacao,2,FALSE)),\"\",VLOOKUP(#REF!,localizacao,2,FALSE))","v":""},null,"",null,""]
[null,"",null,{"$f":"IF(ISERROR(VLOOKUP(#REF!,localizacao,2,FALSE)),\"\",VLOOKUP(#REF!,localizacao,2,FALSE))","v":""},null,"",null,""]
[null,"",null,{"$f":"IF(ISERROR(VLOOKUP(#REF!,localizacao,2,FALSE)),\"\",VLOOKUP(#REF!,localizacao,2,FALSE))","v":""},null,"",null,""]
[null,"",null,{"$f":"IF(ISERROR(VLOOKUP(#REF!,localizacao,2,FALSE)),\"\",VLOOKUP(#REF!,localizacao,2,FALSE))","v":""},null,"",null,""]
[null,"",null,{"$f":"IF(ISERROR(VLOOKUP(#REF!,localizacao,2,FALSE)),\"\",VLOOKUP(#REF!,localizacao,2,FALSE))","v":""},null,"",null,""]
[null,"",null,{"$f":"IF(ISERROR(VLOOKUP(#REF!,localizacao,2,FALSE)),\"\",VLOOKUP(#REF!,localizacao,2,FALSE))","v":""},null,"",null,""]
[null,"",null,{"$f":"IF(ISERROR(VLOOKUP(#REF!,localizacao,2,FALSE)),\"\",VLOOKUP(#REF!,localizacao,2,FALSE))","v":""},null,"",null,""]
[null,"",null,{"$f":"IF(ISERROR(VLOOKUP(#REF!,localizacao,2,FALSE)),\"\",VLOOKUP(#REF!,localizacao,2,FALSE))","v":""},null,"",null,""]
[null,"",null,{"$f":"IF(ISERROR(VLOOKUP(#REF!,localizacao,2,FALSE)),\"\",VLOOKUP(#REF!,localizacao,2,FALSE))","v":""},null,"",null,""]
[null,"",null,{"$f":"IF(ISERROR(VLOOKUP(#REF!,localizacao,2,FALSE)),\"\",VLOOKUP(#REF!,localizacao,2,FALSE))","v":""},null,"",null,""]
[null,"",null,{"$f":"IF(ISERROR(VLOOKUP(#REF!,localizacao,2,FALSE)),\"\",VLOOKUP(#REF!,localizacao,2,FALSE))","v":""},null,"",null,""]
[null,"",null,{"$f":"IF(ISERROR(VLOOKUP(#REF!,localizacao,2,FALSE)),\"\",VLOOKUP(#REF!,localizacao,2,FALSE))","v":""},null,"",null,""]
[null,"",null,{"$f":"IF(ISERROR(VLOOKUP(#REF!,localizacao,2,FALSE)),\"\",VLOOKUP(#REF!,localizacao,2,FALSE))","v":""},null,"",null,""]
[null,"",null,{"$f":"IF(ISERROR(VLOOKUP(#REF!,localizacao,2,FALSE)),\"\",VLOOKUP(#REF!,localizacao,2,FALSE))","v":""},null,"",null,""]
[null,"",null,{"$f":"IF(ISERROR(VLOOKUP(#REF!,localizacao,2,FALSE)),\"\",VLOOKUP(#REF!,localizacao,2,FALSE))","v":""},null,"",null,""]
[null,"",null,{"$f":"IF(ISERROR(VLOOKUP(#REF!,localizacao,2,FALSE)),\"\",VLOOKUP(#REF!,localizacao,2,FALSE))","v":""},null,"",null,""]
[null,"",null,{"$f":"IF(ISERROR(VLOOKUP(#REF!,localizacao,2,FALSE)),\"\",VLOOKUP(#REF!,localizacao,2,FALSE))","v":""},null,"",null,""]
[null,"",null,{"$f":"IF(ISERROR(VLOOKUP(#REF!,localizacao,2,FALSE)),\"\",VLOOKUP(#REF!,localizacao,2,FALSE))","v":""},null,"",null,""]
[null,"",null,{"$f":"IF(ISERROR(VLOOKUP(#REF!,localizacao,2,FALSE)),\"\",VLOOKUP(#REF!,localizacao,2,FALSE))","v":""},null,"",null,""]
[null,"",null,{"$f":"IF(ISERROR(VLOOKUP(#REF!,localizacao,2,FALSE)),\"\",VLOOKUP(#REF!,localizacao,2,FALSE))","v":""},null,"",null,""]
[null,"",null,{"$f":"IF(ISERROR(VLOOKUP(#REF!,localizacao,2,FALSE)),\"\",VLOOKUP(#REF!,localizacao,2,FALSE))","v":""},null,"",null,""]
[null,"",null,{"$f":"IF(ISERROR(VLOOKUP(#REF!,localizacao,2,FALSE)),\"\",VLOOKUP(#REF!,localizacao,2,FALSE))","v":""},null,"",null,""]
[null,"",null,{"$f":"IF(ISERROR(VLOOKUP(#REF!,localizacao,2,FALSE)),\"\",VLOOKUP(#REF!,localizacao,2,FALSE))","v":""},null,"",null,""]
[null,"",null,{"$f":"IF(ISERROR(VLOOKUP(#REF!,localizacao,2,FALSE)),\"\",VLOOKUP(#REF!,localizacao,2,FALSE))","v":""},null,"",null,""]
[null,"",null,{"$f":"IF(ISERROR(VLOOKUP(#REF!,localizacao,2,FALSE)),\"\",VLOOKUP(#REF!,localizacao,2,FALSE))","v":""},null,"",null,""]
[null,"",null,{"$f":"IF(ISERROR(VLOOKUP(#REF!,localizacao,2,FALSE)),\"\",VLOOKUP(#REF!,localizacao,2,FALSE))","v":""},null,"",null,""]
[null,"",null,{"$f":"IF(ISERROR(VLOOKUP(#REF!,localizacao,2,FALSE)),\"\",VLOOKUP(#REF!,localizacao,2,FALSE))","v":""},null,"",null,""]
[null,"",null,{"$f":"IF(ISERROR(VLOOKUP(#REF!,localizacao,2,FALSE)),\"\",VLOOKUP(#REF!,localizacao,2,FALSE))","v":""},null,"",null,""]
[null,"",null,{"$f":"IF(ISERROR(VLOOKUP(#REF!,localizacao,2,FALSE)),\"\",VLOOKUP(#REF!,localizacao,2,FALSE))","v":""},null,"",null,""]
[null,"",null,{"$f":"IF(ISERROR(VLOOKUP(#REF!,localizacao,2,FALSE)),\"\",VLOOKUP(#REF!,localizacao,2,FALSE))","v":""},null,"",null,""]
[null,"",null,{"$f":"IF(ISERROR(VLOOKUP(#REF!,localizacao,2,FALSE)),\"\",VLOOKUP(#REF!,localizacao,2,FALSE))","v":""},null,"",null,""]
[null,"",null,{"$f":"IF(ISERROR(VLOOKUP(#REF!,localizacao,2,FALSE)),\"\",VLOOKUP(#REF!,localizacao,2,FALSE))","v":""},null,"",null,""]
[null,"",null,{"$f":"IF(ISERROR(VLOOKUP(#REF!,localizacao,2,FALSE)),\"\",VLOOKUP(#REF!,localizacao,2,FALSE))","v":""},null,"",null,""]
[null,"",null,{"$f":"IF(ISERROR(VLOOKUP(#REF!,localizacao,2,FALSE)),\"\",VLOOKUP(#REF!,localizacao,2,FALSE))","v":""},null,"",null,""]
[null,"",null,{"$f":"IF(ISERROR(VLOOKUP(#REF!,localizacao,2,FALSE)),\"\",VLOOKUP(#REF!,localizacao,2,FALSE))","v":""},null,"",null,""]
[null,"",null,{"$f":"IF(ISERROR(VLOOKUP(#REF!,localizacao,2,FALSE)),\"\",VLOOKUP(#REF!,localizacao,2,FALSE))","v":""},null,"",null,""]
[null,"",null,{"$f":"IF(ISERROR(VLOOKUP(#REF!,localizacao,2,FALSE)),\"\",VLOOKUP(#REF!,localizacao,2,FALSE))","v":""},null,{"$f":"IF(ISERROR(VLOOKUP(G1542,componentes,2,FALSE)),\"\",VLOOKUP(G1542,componentes,2,FALSE))","v":""},null,{"$f":"IF(ISERROR(VLOOKUP(I1542,rubricas,2,FALSE)),\"\",VLOOKUP(I1542,rubricas,2,FALSE))","v":""}]
[null,{"$f":"IF(C1543<>\"\",+B1542+1,\"\")","v":""},null,{"$f":"IF(ISERROR(VLOOKUP(#REF!,localizacao,2,FALSE)),\"\",VLOOKUP(#REF!,localizacao,2,FALSE))","v":""},null,"",null,""]
[null,"",null,{"$f":"IF(ISERROR(VLOOKUP(#REF!,localizacao,2,FALSE)),\"\",VLOOKUP(#REF!,localizacao,2,FALSE))","v":""},null,"",null,""]
[null,"",null,{"$f":"IF(ISERROR(VLOOKUP(#REF!,localizacao,2,FALSE)),\"\",VLOOKUP(#REF!,localizacao,2,FALSE))","v":""},null,"",null,""]
[null,"",null,{"$f":"IF(ISERROR(VLOOKUP(#REF!,localizacao,2,FALSE)),\"\",VLOOKUP(#REF!,localizacao,2,FALSE))","v":""},null,"",null,""]
[null,"",null,{"$f":"IF(ISERROR(VLOOKUP(#REF!,localizacao,2,FALSE)),\"\",VLOOKUP(#REF!,localizacao,2,FALSE))","v":""},null,"",null,""]
[null,"",null,{"$f":"IF(ISERROR(VLOOKUP(#REF!,localizacao,2,FALSE)),\"\",VLOOKUP(#REF!,localizacao,2,FALSE))","v":""},null,"",null,""]
[null,"",null,{"$f":"IF(ISERROR(VLOOKUP(#REF!,localizacao,2,FALSE)),\"\",VLOOKUP(#REF!,localizacao,2,FALSE))","v":""},null,"",null,""]
[null,"",null,{"$f":"IF(ISERROR(VLOOKUP(#REF!,localizacao,2,FALSE)),\"\",VLOOKUP(#REF!,localizacao,2,FALSE))","v":""},null,"",null,""]
[null,"",null,{"$f":"IF(ISERROR(VLOOKUP(#REF!,localizacao,2,FALSE)),\"\",VLOOKUP(#REF!,localizacao,2,FALSE))","v":""},null,"",null,""]
[null,"",null,{"$f":"IF(ISERROR(VLOOKUP(#REF!,localizacao,2,FALSE)),\"\",VLOOKUP(#REF!,localizacao,2,FALSE))","v":""},null,"",null,""]
[null,"",null,{"$f":"IF(ISERROR(VLOOKUP(#REF!,localizacao,2,FALSE)),\"\",VLOOKUP(#REF!,localizacao,2,FALSE))","v":""},null,"",null,""]
[null,"",null,{"$f":"IF(ISERROR(VLOOKUP(#REF!,localizacao,2,FALSE)),\"\",VLOOKUP(#REF!,localizacao,2,FALSE))","v":""},null,"",null,""]
[null,"",null,{"$f":"IF(ISERROR(VLOOKUP(#REF!,localizacao,2,FALSE)),\"\",VLOOKUP(#REF!,localizacao,2,FALSE))","v":""},null,"",null,""]
[null,"",null,{"$f":"IF(ISERROR(VLOOKUP(#REF!,localizacao,2,FALSE)),\"\",VLOOKUP(#REF!,localizacao,2,FALSE))","v":""},null,"",null,""]
[null,"",null,{"$f":"IF(ISERROR(VLOOKUP(#REF!,localizacao,2,FALSE)),\"\",VLOOKUP(#REF!,localizacao,2,FALSE))","v":""},null,"",null,""]
[null,"",null,{"$f":"IF(ISERROR(VLOOKUP(#REF!,localizacao,2,FALSE)),\"\",VLOOKUP(#REF!,localizacao,2,FALSE))","v":""},null,"",null,""]
[null,"",null,{"$f":"IF(ISERROR(VLOOKUP(#REF!,localizacao,2,FALSE)),\"\",VLOOKUP(#REF!,localizacao,2,FALSE))","v":""},null,"",null,""]
[null,"",null,{"$f":"IF(ISERROR(VLOOKUP(#REF!,localizacao,2,FALSE)),\"\",VLOOKUP(#REF!,localizacao,2,FALSE))","v":""},null,"",null,""]
[null,"",null,{"$f":"IF(ISERROR(VLOOKUP(#REF!,localizacao,2,FALSE)),\"\",VLOOKUP(#REF!,localizacao,2,FALSE))","v":""},null,"",null,""]
[null,"",null,{"$f":"IF(ISERROR(VLOOKUP(#REF!,localizacao,2,FALSE)),\"\",VLOOKUP(#REF!,localizacao,2,FALSE))","v":""},null,"",null,""]
[null,"",null,{"$f":"IF(ISERROR(VLOOKUP(#REF!,localizacao,2,FALSE)),\"\",VLOOKUP(#REF!,localizacao,2,FALSE))","v":""},null,"",null,""]
[null,"",null,{"$f":"IF(ISERROR(VLOOKUP(#REF!,localizacao,2,FALSE)),\"\",VLOOKUP(#REF!,localizacao,2,FALSE))","v":""},null,"",null,""]
[null,"",null,{"$f":"IF(ISERROR(VLOOKUP(#REF!,localizacao,2,FALSE)),\"\",VLOOKUP(#REF!,localizacao,2,FALSE))","v":""},null,"",null,""]
[null,"",null,{"$f":"IF(ISERROR(VLOOKUP(#REF!,localizacao,2,FALSE)),\"\",VLOOKUP(#REF!,localizacao,2,FALSE))","v":""},null,"",null,""]
[null,"",null,{"$f":"IF(ISERROR(VLOOKUP(#REF!,localizacao,2,FALSE)),\"\",VLOOKUP(#REF!,localizacao,2,FALSE))","v":""},null,"",null,""]
[null,"",null,{"$f":"IF(ISERROR(VLOOKUP(#REF!,localizacao,2,FALSE)),\"\",VLOOKUP(#REF!,localizacao,2,FALSE))","v":""},null,"",null,""]
[null,"",null,{"$f":"IF(ISERROR(VLOOKUP(#REF!,localizacao,2,FALSE)),\"\",VLOOKUP(#REF!,localizacao,2,FALSE))","v":""},null,"",null,""]
[null,"",null,{"$f":"IF(ISERROR(VLOOKUP(#REF!,localizacao,2,FALSE)),\"\",VLOOKUP(#REF!,localizacao,2,FALSE))","v":""},null,"",null,""]
[null,"",null,{"$f":"IF(ISERROR(VLOOKUP(#REF!,localizacao,2,FALSE)),\"\",VLOOKUP(#REF!,localizacao,2,FALSE))","v":""},null,"",null,""]
[null,"",null,{"$f":"IF(ISERROR(VLOOKUP(#REF!,localizacao,2,FALSE)),\"\",VLOOKUP(#REF!,localizacao,2,FALSE))","v":""},null,"",null,""]
[null,"",null,{"$f":"IF(ISERROR(VLOOKUP(#REF!,localizacao,2,FALSE)),\"\",VLOOKUP(#REF!,localizacao,2,FALSE))","v":""},null,"",null,""]
[null,"",null,{"$f":"IF(ISERROR(VLOOKUP(#REF!,localizacao,2,FALSE)),\"\",VLOOKUP(#REF!,localizacao,2,FALSE))","v":""},null,"",null,""]
[null,"",null,{"$f":"IF(ISERROR(VLOOKUP(#REF!,localizacao,2,FALSE)),\"\",VLOOKUP(#REF!,localizacao,2,FALSE))","v":""},null,"",null,""]
[null,"",null,{"$f":"IF(ISERROR(VLOOKUP(#REF!,localizacao,2,FALSE)),\"\",VLOOKUP(#REF!,localizacao,2,FALSE))","v":""},null,"",null,""]
[null,"",null,{"$f":"IF(ISERROR(VLOOKUP(#REF!,localizacao,2,FALSE)),\"\",VLOOKUP(#REF!,localizacao,2,FALSE))","v":""},null,"",null,""]
[null,"",null,{"$f":"IF(ISERROR(VLOOKUP(#REF!,localizacao,2,FALSE)),\"\",VLOOKUP(#REF!,localizacao,2,FALSE))","v":""},null,"",null,""]
[null,"",null,{"$f":"IF(ISERROR(VLOOKUP(#REF!,localizacao,2,FALSE)),\"\",VLOOKUP(#REF!,localizacao,2,FALSE))","v":""},null,"",null,""]
[null,"",null,{"$f":"IF(ISERROR(VLOOKUP(#REF!,localizacao,2,FALSE)),\"\",VLOOKUP(#REF!,localizacao,2,FALSE))","v":""},null,"",null,""]
[null,"",null,{"$f":"IF(ISERROR(VLOOKUP(#REF!,localizacao,2,FALSE)),\"\",VLOOKUP(#REF!,localizacao,2,FALSE))","v":""},null,"",null,""]
[null,"",null,{"$f":"IF(ISERROR(VLOOKUP(#REF!,localizacao,2,FALSE)),\"\",VLOOKUP(#REF!,localizacao,2,FALSE))","v":""},null,"",null,""]
[null,"",null,{"$f":"IF(ISERROR(VLOOKUP(#REF!,localizacao,2,FALSE)),\"\",VLOOKUP(#REF!,localizacao,2,FALSE))","v":""},null,"",null,""]
[null,"",null,{"$f":"IF(ISERROR(VLOOKUP(#REF!,localizacao,2,FALSE)),\"\",VLOOKUP(#REF!,localizacao,2,FALSE))","v":""},null,"",null,""]
[null,"",null,{"$f":"IF(ISERROR(VLOOKUP(#REF!,localizacao,2,FALSE)),\"\",VLOOKUP(#REF!,localizacao,2,FALSE))","v":""},null,"",null,""]
[null,"",null,{"$f":"IF(ISERROR(VLOOKUP(#REF!,localizacao,2,FALSE)),\"\",VLOOKUP(#REF!,localizacao,2,FALSE))","v":""},null,"",null,""]
[null,"",null,{"$f":"IF(ISERROR(VLOOKUP(#REF!,localizacao,2,FALSE)),\"\",VLOOKUP(#REF!,localizacao,2,FALSE))","v":""},null,"",null,""]
[null,"",null,{"$f":"IF(ISERROR(VLOOKUP(#REF!,localizacao,2,FALSE)),\"\",VLOOKUP(#REF!,localizacao,2,FALSE))","v":""},null,"",null,""]
[null,"",null,{"$f":"IF(ISERROR(VLOOKUP(#REF!,localizacao,2,FALSE)),\"\",VLOOKUP(#REF!,localizacao,2,FALSE))","v":""},null,"",null,""]
[null,"",null,{"$f":"IF(ISERROR(VLOOKUP(#REF!,localizacao,2,FALSE)),\"\",VLOOKUP(#REF!,localizacao,2,FALSE))","v":""},null,"",null,""]
[null,"",null,{"$f":"IF(ISERROR(VLOOKUP(#REF!,localizacao,2,FALSE)),\"\",VLOOKUP(#REF!,localizacao,2,FALSE))","v":""},null,"",null,""]
[null,"",null,{"$f":"IF(ISERROR(VLOOKUP(#REF!,localizacao,2,FALSE)),\"\",VLOOKUP(#REF!,localizacao,2,FALSE))","v":""},null,"",null,""]
[null,"",null,{"$f":"IF(ISERROR(VLOOKUP(#REF!,localizacao,2,FALSE)),\"\",VLOOKUP(#REF!,localizacao,2,FALSE))","v":""},null,"",null,""]
[null,"",null,{"$f":"IF(ISERROR(VLOOKUP(#REF!,localizacao,2,FALSE)),\"\",VLOOKUP(#REF!,localizacao,2,FALSE))","v":""},null,"",null,""]
[null,"",null,{"$f":"IF(ISERROR(VLOOKUP(#REF!,localizacao,2,FALSE)),\"\",VLOOKUP(#REF!,localizacao,2,FALSE))","v":""},null,"",null,""]
[null,"",null,{"$f":"IF(ISERROR(VLOOKUP(#REF!,localizacao,2,FALSE)),\"\",VLOOKUP(#REF!,localizacao,2,FALSE))","v":""},null,"",null,""]
[null,"",null,{"$f":"IF(ISERROR(VLOOKUP(#REF!,localizacao,2,FALSE)),\"\",VLOOKUP(#REF!,localizacao,2,FALSE))","v":""},null,"",null,""]
[null,"",null,{"$f":"IF(ISERROR(VLOOKUP(#REF!,localizacao,2,FALSE)),\"\",VLOOKUP(#REF!,localizacao,2,FALSE))","v":""},null,"",null,""]
[null,"",null,{"$f":"IF(ISERROR(VLOOKUP(#REF!,localizacao,2,FALSE)),\"\",VLOOKUP(#REF!,localizacao,2,FALSE))","v":""},null,"",null,""]
[null,"",null,{"$f":"IF(ISERROR(VLOOKUP(#REF!,localizacao,2,FALSE)),\"\",VLOOKUP(#REF!,localizacao,2,FALSE))","v":""},null,"",null,""]
[null,"",null,{"$f":"IF(ISERROR(VLOOKUP(#REF!,localizacao,2,FALSE)),\"\",VLOOKUP(#REF!,localizacao,2,FALSE))","v":""},null,"",null,""]
[null,"",null,{"$f":"IF(ISERROR(VLOOKUP(#REF!,localizacao,2,FALSE)),\"\",VLOOKUP(#REF!,localizacao,2,FALSE))","v":""},null,"",null,""]
[null,"",null,{"$f":"IF(ISERROR(VLOOKUP(#REF!,localizacao,2,FALSE)),\"\",VLOOKUP(#REF!,localizacao,2,FALSE))","v":""},null,"",null,""]
[null,"",null,{"$f":"IF(ISERROR(VLOOKUP(#REF!,localizacao,2,FALSE)),\"\",VLOOKUP(#REF!,localizacao,2,FALSE))","v":""},null,"",null,""]
[null,"",null,{"$f":"IF(ISERROR(VLOOKUP(#REF!,localizacao,2,FALSE)),\"\",VLOOKUP(#REF!,localizacao,2,FALSE))","v":""},null,"",null,""]
[null,"",null,{"$f":"IF(ISERROR(VLOOKUP(#REF!,localizacao,2,FALSE)),\"\",VLOOKUP(#REF!,localizacao,2,FALSE))","v":""},null,{"$f":"IF(ISERROR(VLOOKUP(G1606,componentes,2,FALSE)),\"\",VLOOKUP(G1606,componentes,2,FALSE))","v":""},null,{"$f":"IF(ISERROR(VLOOKUP(I1606,rubricas,2,FALSE)),\"\",VLOOKUP(I1606,rubricas,2,FALSE))","v":""}]
[null,{"$f":"IF(C1607<>\"\",+B1606+1,\"\")","v":""},null,{"$f":"IF(ISERROR(VLOOKUP(#REF!,localizacao,2,FALSE)),\"\",VLOOKUP(#REF!,localizacao,2,FALSE))","v":""},null,"",null,""]
[null,"",null,{"$f":"IF(ISERROR(VLOOKUP(#REF!,localizacao,2,FALSE)),\"\",VLOOKUP(#REF!,localizacao,2,FALSE))","v":""},null,"",null,""]
[null,"",null,{"$f":"IF(ISERROR(VLOOKUP(#REF!,localizacao,2,FALSE)),\"\",VLOOKUP(#REF!,localizacao,2,FALSE))","v":""},null,"",null,""]
[null,"",null,{"$f":"IF(ISERROR(VLOOKUP(#REF!,localizacao,2,FALSE)),\"\",VLOOKUP(#REF!,localizacao,2,FALSE))","v":""},null,"",null,""]
[null,"",null,{"$f":"IF(ISERROR(VLOOKUP(#REF!,localizacao,2,FALSE)),\"\",VLOOKUP(#REF!,localizacao,2,FALSE))","v":""},null,"",null,""]
[null,"",null,{"$f":"IF(ISERROR(VLOOKUP(#REF!,localizacao,2,FALSE)),\"\",VLOOKUP(#REF!,localizacao,2,FALSE))","v":""},null,"",null,""]
[null,"",null,{"$f":"IF(ISERROR(VLOOKUP(#REF!,localizacao,2,FALSE)),\"\",VLOOKUP(#REF!,localizacao,2,FALSE))","v":""},null,"",null,""]
[null,"",null,{"$f":"IF(ISERROR(VLOOKUP(#REF!,localizacao,2,FALSE)),\"\",VLOOKUP(#REF!,localizacao,2,FALSE))","v":""},null,"",null,""]
[null,"",null,{"$f":"IF(ISERROR(VLOOKUP(#REF!,localizacao,2,FALSE)),\"\",VLOOKUP(#REF!,localizacao,2,FALSE))","v":""},null,"",null,""]
[null,"",null,{"$f":"IF(ISERROR(VLOOKUP(#REF!,localizacao,2,FALSE)),\"\",VLOOKUP(#REF!,localizacao,2,FALSE))","v":""},null,"",null,""]
[null,"",null,{"$f":"IF(ISERROR(VLOOKUP(#REF!,localizacao,2,FALSE)),\"\",VLOOKUP(#REF!,localizacao,2,FALSE))","v":""},null,"",null,""]
[null,"",null,{"$f":"IF(ISERROR(VLOOKUP(#REF!,localizacao,2,FALSE)),\"\",VLOOKUP(#REF!,localizacao,2,FALSE))","v":""},null,"",null,""]
[null,"",null,{"$f":"IF(ISERROR(VLOOKUP(#REF!,localizacao,2,FALSE)),\"\",VLOOKUP(#REF!,localizacao,2,FALSE))","v":""},null,"",null,""]
[null,"",null,{"$f":"IF(ISERROR(VLOOKUP(#REF!,localizacao,2,FALSE)),\"\",VLOOKUP(#REF!,localizacao,2,FALSE))","v":""},null,"",null,""]
[null,"",null,{"$f":"IF(ISERROR(VLOOKUP(#REF!,localizacao,2,FALSE)),\"\",VLOOKUP(#REF!,localizacao,2,FALSE))","v":""},null,"",null,""]
[null,"",null,{"$f":"IF(ISERROR(VLOOKUP(#REF!,localizacao,2,FALSE)),\"\",VLOOKUP(#REF!,localizacao,2,FALSE))","v":""},null,"",null,""]
[null,"",null,{"$f":"IF(ISERROR(VLOOKUP(#REF!,localizacao,2,FALSE)),\"\",VLOOKUP(#REF!,localizacao,2,FALSE))","v":""},null,"",null,""]
[null,"",null,{"$f":"IF(ISERROR(VLOOKUP(#REF!,localizacao,2,FALSE)),\"\",VLOOKUP(#REF!,localizacao,2,FALSE))","v":""},null,"",null,""]
[null,"",null,{"$f":"IF(ISERROR(VLOOKUP(#REF!,localizacao,2,FALSE)),\"\",VLOOKUP(#REF!,localizacao,2,FALSE))","v":""},null,"",null,""]
[null,"",null,{"$f":"IF(ISERROR(VLOOKUP(#REF!,localizacao,2,FALSE)),\"\",VLOOKUP(#REF!,localizacao,2,FALSE))","v":""},null,"",null,""]
[null,"",null,{"$f":"IF(ISERROR(VLOOKUP(#REF!,localizacao,2,FALSE)),\"\",VLOOKUP(#REF!,localizacao,2,FALSE))","v":""},null,"",null,""]
[null,"",null,{"$f":"IF(ISERROR(VLOOKUP(#REF!,localizacao,2,FALSE)),\"\",VLOOKUP(#REF!,localizacao,2,FALSE))","v":""},null,"",null,""]
[null,"",null,{"$f":"IF(ISERROR(VLOOKUP(#REF!,localizacao,2,FALSE)),\"\",VLOOKUP(#REF!,localizacao,2,FALSE))","v":""},null,"",null,""]
[null,"",null,{"$f":"IF(ISERROR(VLOOKUP(#REF!,localizacao,2,FALSE)),\"\",VLOOKUP(#REF!,localizacao,2,FALSE))","v":""},null,"",null,""]
[null,"",null,{"$f":"IF(ISERROR(VLOOKUP(#REF!,localizacao,2,FALSE)),\"\",VLOOKUP(#REF!,localizacao,2,FALSE))","v":""},null,"",null,""]
[null,"",null,{"$f":"IF(ISERROR(VLOOKUP(#REF!,localizacao,2,FALSE)),\"\",VLOOKUP(#REF!,localizacao,2,FALSE))","v":""},null,"",null,""]
[null,"",null,{"$f":"IF(ISERROR(VLOOKUP(#REF!,localizacao,2,FALSE)),\"\",VLOOKUP(#REF!,localizacao,2,FALSE))","v":""},null,"",null,""]
[null,"",null,{"$f":"IF(ISERROR(VLOOKUP(#REF!,localizacao,2,FALSE)),\"\",VLOOKUP(#REF!,localizacao,2,FALSE))","v":""},null,"",null,""]
[null,"",null,{"$f":"IF(ISERROR(VLOOKUP(#REF!,localizacao,2,FALSE)),\"\",VLOOKUP(#REF!,localizacao,2,FALSE))","v":""},null,"",null,""]
[null,"",null,{"$f":"IF(ISERROR(VLOOKUP(#REF!,localizacao,2,FALSE)),\"\",VLOOKUP(#REF!,localizacao,2,FALSE))","v":""},null,"",null,""]
[null,"",null,{"$f":"IF(ISERROR(VLOOKUP(#REF!,localizacao,2,FALSE)),\"\",VLOOKUP(#REF!,localizacao,2,FALSE))","v":""},null,"",null,""]
[null,"",null,{"$f":"IF(ISERROR(VLOOKUP(#REF!,localizacao,2,FALSE)),\"\",VLOOKUP(#REF!,localizacao,2,FALSE))","v":""},null,"",null,""]
[null,"",null,{"$f":"IF(ISERROR(VLOOKUP(#REF!,localizacao,2,FALSE)),\"\",VLOOKUP(#REF!,localizacao,2,FALSE))","v":""},null,"",null,""]
[null,"",null,{"$f":"IF(ISERROR(VLOOKUP(#REF!,localizacao,2,FALSE)),\"\",VLOOKUP(#REF!,localizacao,2,FALSE))","v":""},null,"",null,""]
[null,"",null,{"$f":"IF(ISERROR(VLOOKUP(#REF!,localizacao,2,FALSE)),\"\",VLOOKUP(#REF!,localizacao,2,FALSE))","v":""},null,"",null,""]
[null,"",null,{"$f":"IF(ISERROR(VLOOKUP(#REF!,localizacao,2,FALSE)),\"\",VLOOKUP(#REF!,localizacao,2,FALSE))","v":""},null,"",null,""]
[null,"",null,{"$f":"IF(ISERROR(VLOOKUP(#REF!,localizacao,2,FALSE)),\"\",VLOOKUP(#REF!,localizacao,2,FALSE))","v":""},null,"",null,""]
[null,"",null,{"$f":"IF(ISERROR(VLOOKUP(#REF!,localizacao,2,FALSE)),\"\",VLOOKUP(#REF!,localizacao,2,FALSE))","v":""},null,"",null,""]
[null,"",null,{"$f":"IF(ISERROR(VLOOKUP(#REF!,localizacao,2,FALSE)),\"\",VLOOKUP(#REF!,localizacao,2,FALSE))","v":""},null,"",null,""]
[null,"",null,{"$f":"IF(ISERROR(VLOOKUP(#REF!,localizacao,2,FALSE)),\"\",VLOOKUP(#REF!,localizacao,2,FALSE))","v":""},null,"",null,""]
[null,"",null,{"$f":"IF(ISERROR(VLOOKUP(#REF!,localizacao,2,FALSE)),\"\",VLOOKUP(#REF!,localizacao,2,FALSE))","v":""},null,"",null,""]
[null,"",null,{"$f":"IF(ISERROR(VLOOKUP(#REF!,localizacao,2,FALSE)),\"\",VLOOKUP(#REF!,localizacao,2,FALSE))","v":""},null,"",null,""]
[null,"",null,{"$f":"IF(ISERROR(VLOOKUP(#REF!,localizacao,2,FALSE)),\"\",VLOOKUP(#REF!,localizacao,2,FALSE))","v":""},null,"",null,""]
[null,"",null,{"$f":"IF(ISERROR(VLOOKUP(#REF!,localizacao,2,FALSE)),\"\",VLOOKUP(#REF!,localizacao,2,FALSE))","v":""},null,"",null,""]
[null,"",null,{"$f":"IF(ISERROR(VLOOKUP(#REF!,localizacao,2,FALSE)),\"\",VLOOKUP(#REF!,localizacao,2,FALSE))","v":""},null,"",null,""]
[null,"",null,{"$f":"IF(ISERROR(VLOOKUP(#REF!,localizacao,2,FALSE)),\"\",VLOOKUP(#REF!,localizacao,2,FALSE))","v":""},null,"",null,""]
[null,"",null,{"$f":"IF(ISERROR(VLOOKUP(#REF!,localizacao,2,FALSE)),\"\",VLOOKUP(#REF!,localizacao,2,FALSE))","v":""},null,"",null,""]
[null,"",null,{"$f":"IF(ISERROR(VLOOKUP(#REF!,localizacao,2,FALSE)),\"\",VLOOKUP(#REF!,localizacao,2,FALSE))","v":""},null,"",null,""]
[null,"",null,{"$f":"IF(ISERROR(VLOOKUP(#REF!,localizacao,2,FALSE)),\"\",VLOOKUP(#REF!,localizacao,2,FALSE))","v":""},null,"",null,""]
[null,"",null,{"$f":"IF(ISERROR(VLOOKUP(#REF!,localizacao,2,FALSE)),\"\",VLOOKUP(#REF!,localizacao,2,FALSE))","v":""},null,"",null,""]
[null,"",null,{"$f":"IF(ISERROR(VLOOKUP(#REF!,localizacao,2,FALSE)),\"\",VLOOKUP(#REF!,localizacao,2,FALSE))","v":""},null,"",null,""]
[null,"",null,{"$f":"IF(ISERROR(VLOOKUP(#REF!,localizacao,2,FALSE)),\"\",VLOOKUP(#REF!,localizacao,2,FALSE))","v":""},null,"",null,""]
[null,"",null,{"$f":"IF(ISERROR(VLOOKUP(#REF!,localizacao,2,FALSE)),\"\",VLOOKUP(#REF!,localizacao,2,FALSE))","v":""},null,"",null,""]
[null,"",null,{"$f":"IF(ISERROR(VLOOKUP(#REF!,localizacao,2,FALSE)),\"\",VLOOKUP(#REF!,localizacao,2,FALSE))","v":""},null,"",null,""]
[null,"",null,{"$f":"IF(ISERROR(VLOOKUP(#REF!,localizacao,2,FALSE)),\"\",VLOOKUP(#REF!,localizacao,2,FALSE))","v":""},null,"",null,""]
[null,"",null,{"$f":"IF(ISERROR(VLOOKUP(#REF!,localizacao,2,FALSE)),\"\",VLOOKUP(#REF!,localizacao,2,FALSE))","v":""},null,"",null,""]
[null,"",null,{"$f":"IF(ISERROR(VLOOKUP(#REF!,localizacao,2,FALSE)),\"\",VLOOKUP(#REF!,localizacao,2,FALSE))","v":""},null,"",null,""]
[null,"",null,{"$f":"IF(ISERROR(VLOOKUP(#REF!,localizacao,2,FALSE)),\"\",VLOOKUP(#REF!,localizacao,2,FALSE))","v":""},null,"",null,""]
[null,"",null,{"$f":"IF(ISERROR(VLOOKUP(#REF!,localizacao,2,FALSE)),\"\",VLOOKUP(#REF!,localizacao,2,FALSE))","v":""},null,"",null,""]
[null,"",null,{"$f":"IF(ISERROR(VLOOKUP(#REF!,localizacao,2,FALSE)),\"\",VLOOKUP(#REF!,localizacao,2,FALSE))","v":""},null,"",null,""]
[null,"",null,{"$f":"IF(ISERROR(VLOOKUP(#REF!,localizacao,2,FALSE)),\"\",VLOOKUP(#REF!,localizacao,2,FALSE))","v":""},null,"",null,""]
[null,"",null,{"$f":"IF(ISERROR(VLOOKUP(#REF!,localizacao,2,FALSE)),\"\",VLOOKUP(#REF!,localizacao,2,FALSE))","v":""},null,"",null,""]
[null,"",null,{"$f":"IF(ISERROR(VLOOKUP(#REF!,localizacao,2,FALSE)),\"\",VLOOKUP(#REF!,localizacao,2,FALSE))","v":""},null,"",null,""]
[null,"",null,{"$f":"IF(ISERROR(VLOOKUP(#REF!,localizacao,2,FALSE)),\"\",VLOOKUP(#REF!,localizacao,2,FALSE))","v":""},null,{"$f":"IF(ISERROR(VLOOKUP(G1670,componentes,2,FALSE)),\"\",VLOOKUP(G1670,componentes,2,FALSE))","v":""},null,{"$f":"IF(ISERROR(VLOOKUP(I1670,rubricas,2,FALSE)),\"\",VLOOKUP(I1670,rubricas,2,FALSE))","v":""}]
[null,{"$f":"IF(C1671<>\"\",+B1670+1,\"\")","v":""},null,{"$f":"IF(ISERROR(VLOOKUP(#REF!,localizacao,2,FALSE)),\"\",VLOOKUP(#REF!,localizacao,2,FALSE))","v":""},null,"",null,""]
[null,"",null,{"$f":"IF(ISERROR(VLOOKUP(#REF!,localizacao,2,FALSE)),\"\",VLOOKUP(#REF!,localizacao,2,FALSE))","v":""},null,"",null,""]
[null,"",null,{"$f":"IF(ISERROR(VLOOKUP(#REF!,localizacao,2,FALSE)),\"\",VLOOKUP(#REF!,localizacao,2,FALSE))","v":""},null,"",null,""]
[null,"",null,{"$f":"IF(ISERROR(VLOOKUP(#REF!,localizacao,2,FALSE)),\"\",VLOOKUP(#REF!,localizacao,2,FALSE))","v":""},null,"",null,""]
[null,"",null,{"$f":"IF(ISERROR(VLOOKUP(#REF!,localizacao,2,FALSE)),\"\",VLOOKUP(#REF!,localizacao,2,FALSE))","v":""},null,"",null,""]
[null,"",null,{"$f":"IF(ISERROR(VLOOKUP(#REF!,localizacao,2,FALSE)),\"\",VLOOKUP(#REF!,localizacao,2,FALSE))","v":""},null,"",null,""]
[null,"",null,{"$f":"IF(ISERROR(VLOOKUP(#REF!,localizacao,2,FALSE)),\"\",VLOOKUP(#REF!,localizacao,2,FALSE))","v":""},null,"",null,""]
[null,"",null,{"$f":"IF(ISERROR(VLOOKUP(#REF!,localizacao,2,FALSE)),\"\",VLOOKUP(#REF!,localizacao,2,FALSE))","v":""},null,"",null,""]
[null,"",null,{"$f":"IF(ISERROR(VLOOKUP(#REF!,localizacao,2,FALSE)),\"\",VLOOKUP(#REF!,localizacao,2,FALSE))","v":""},null,"",null,""]
[null,"",null,{"$f":"IF(ISERROR(VLOOKUP(#REF!,localizacao,2,FALSE)),\"\",VLOOKUP(#REF!,localizacao,2,FALSE))","v":""},null,"",null,""]
[null,"",null,{"$f":"IF(ISERROR(VLOOKUP(#REF!,localizacao,2,FALSE)),\"\",VLOOKUP(#REF!,localizacao,2,FALSE))","v":""},null,"",null,""]
[null,"",null,{"$f":"IF(ISERROR(VLOOKUP(#REF!,localizacao,2,FALSE)),\"\",VLOOKUP(#REF!,localizacao,2,FALSE))","v":""},null,"",null,""]
[null,"",null,{"$f":"IF(ISERROR(VLOOKUP(#REF!,localizacao,2,FALSE)),\"\",VLOOKUP(#REF!,localizacao,2,FALSE))","v":""},null,"",null,""]
[null,"",null,{"$f":"IF(ISERROR(VLOOKUP(#REF!,localizacao,2,FALSE)),\"\",VLOOKUP(#REF!,localizacao,2,FALSE))","v":""},null,"",null,""]
[null,"",null,{"$f":"IF(ISERROR(VLOOKUP(#REF!,localizacao,2,FALSE)),\"\",VLOOKUP(#REF!,localizacao,2,FALSE))","v":""},null,"",null,""]
[null,"",null,{"$f":"IF(ISERROR(VLOOKUP(#REF!,localizacao,2,FALSE)),\"\",VLOOKUP(#REF!,localizacao,2,FALSE))","v":""},null,"",null,""]
[null,"",null,{"$f":"IF(ISERROR(VLOOKUP(#REF!,localizacao,2,FALSE)),\"\",VLOOKUP(#REF!,localizacao,2,FALSE))","v":""},null,"",null,""]
[null,"",null,{"$f":"IF(ISERROR(VLOOKUP(#REF!,localizacao,2,FALSE)),\"\",VLOOKUP(#REF!,localizacao,2,FALSE))","v":""},null,"",null,""]
[null,"",null,{"$f":"IF(ISERROR(VLOOKUP(#REF!,localizacao,2,FALSE)),\"\",VLOOKUP(#REF!,localizacao,2,FALSE))","v":""},null,"",null,""]
[null,"",null,{"$f":"IF(ISERROR(VLOOKUP(#REF!,localizacao,2,FALSE)),\"\",VLOOKUP(#REF!,localizacao,2,FALSE))","v":""},null,"",null,""]
[null,"",null,{"$f":"IF(ISERROR(VLOOKUP(#REF!,localizacao,2,FALSE)),\"\",VLOOKUP(#REF!,localizacao,2,FALSE))","v":""},null,"",null,""]
[null,"",null,{"$f":"IF(ISERROR(VLOOKUP(#REF!,localizacao,2,FALSE)),\"\",VLOOKUP(#REF!,localizacao,2,FALSE))","v":""},null,"",null,""]
[null,"",null,{"$f":"IF(ISERROR(VLOOKUP(#REF!,localizacao,2,FALSE)),\"\",VLOOKUP(#REF!,localizacao,2,FALSE))","v":""},null,"",null,""]
[null,"",null,{"$f":"IF(ISERROR(VLOOKUP(#REF!,localizacao,2,FALSE)),\"\",VLOOKUP(#REF!,localizacao,2,FALSE))","v":""},null,"",null,""]
[null,"",null,{"$f":"IF(ISERROR(VLOOKUP(#REF!,localizacao,2,FALSE)),\"\",VLOOKUP(#REF!,localizacao,2,FALSE))","v":""},null,"",null,""]
[null,"",null,{"$f":"IF(ISERROR(VLOOKUP(#REF!,localizacao,2,FALSE)),\"\",VLOOKUP(#REF!,localizacao,2,FALSE))","v":""},null,"",null,""]
[null,"",null,{"$f":"IF(ISERROR(VLOOKUP(#REF!,localizacao,2,FALSE)),\"\",VLOOKUP(#REF!,localizacao,2,FALSE))","v":""},null,"",null,""]
[null,"",null,{"$f":"IF(ISERROR(VLOOKUP(#REF!,localizacao,2,FALSE)),\"\",VLOOKUP(#REF!,localizacao,2,FALSE))","v":""},null,"",null,""]
[null,"",null,{"$f":"IF(ISERROR(VLOOKUP(#REF!,localizacao,2,FALSE)),\"\",VLOOKUP(#REF!,localizacao,2,FALSE))","v":""},null,"",null,""]
[null,"",null,{"$f":"IF(ISERROR(VLOOKUP(#REF!,localizacao,2,FALSE)),\"\",VLOOKUP(#REF!,localizacao,2,FALSE))","v":""},null,"",null,""]
[null,"",null,{"$f":"IF(ISERROR(VLOOKUP(#REF!,localizacao,2,FALSE)),\"\",VLOOKUP(#REF!,localizacao,2,FALSE))","v":""},null,"",null,""]
[null,"",null,{"$f":"IF(ISERROR(VLOOKUP(#REF!,localizacao,2,FALSE)),\"\",VLOOKUP(#REF!,localizacao,2,FALSE))","v":""},null,"",null,""]
[null,"",null,{"$f":"IF(ISERROR(VLOOKUP(#REF!,localizacao,2,FALSE)),\"\",VLOOKUP(#REF!,localizacao,2,FALSE))","v":""},null,"",null,""]
[null,"",null,{"$f":"IF(ISERROR(VLOOKUP(#REF!,localizacao,2,FALSE)),\"\",VLOOKUP(#REF!,localizacao,2,FALSE))","v":""},null,"",null,""]
[null,"",null,{"$f":"IF(ISERROR(VLOOKUP(#REF!,localizacao,2,FALSE)),\"\",VLOOKUP(#REF!,localizacao,2,FALSE))","v":""},null,"",null,""]
[null,"",null,{"$f":"IF(ISERROR(VLOOKUP(#REF!,localizacao,2,FALSE)),\"\",VLOOKUP(#REF!,localizacao,2,FALSE))","v":""},null,"",null,""]
[null,"",null,{"$f":"IF(ISERROR(VLOOKUP(#REF!,localizacao,2,FALSE)),\"\",VLOOKUP(#REF!,localizacao,2,FALSE))","v":""},null,"",null,""]
[null,"",null,{"$f":"IF(ISERROR(VLOOKUP(#REF!,localizacao,2,FALSE)),\"\",VLOOKUP(#REF!,localizacao,2,FALSE))","v":""},null,"",null,""]
[null,"",null,{"$f":"IF(ISERROR(VLOOKUP(#REF!,localizacao,2,FALSE)),\"\",VLOOKUP(#REF!,localizacao,2,FALSE))","v":""},null,"",null,""]
[null,"",null,{"$f":"IF(ISERROR(VLOOKUP(#REF!,localizacao,2,FALSE)),\"\",VLOOKUP(#REF!,localizacao,2,FALSE))","v":""},null,"",null,""]
[null,"",null,{"$f":"IF(ISERROR(VLOOKUP(#REF!,localizacao,2,FALSE)),\"\",VLOOKUP(#REF!,localizacao,2,FALSE))","v":""},null,"",null,""]
[null,"",null,{"$f":"IF(ISERROR(VLOOKUP(#REF!,localizacao,2,FALSE)),\"\",VLOOKUP(#REF!,localizacao,2,FALSE))","v":""},null,"",null,""]
[null,"",null,{"$f":"IF(ISERROR(VLOOKUP(#REF!,localizacao,2,FALSE)),\"\",VLOOKUP(#REF!,localizacao,2,FALSE))","v":""},null,"",null,""]
[null,"",null,{"$f":"IF(ISERROR(VLOOKUP(#REF!,localizacao,2,FALSE)),\"\",VLOOKUP(#REF!,localizacao,2,FALSE))","v":""},null,"",null,""]
[null,"",null,{"$f":"IF(ISERROR(VLOOKUP(#REF!,localizacao,2,FALSE)),\"\",VLOOKUP(#REF!,localizacao,2,FALSE))","v":""},null,"",null,""]
[null,"",null,{"$f":"IF(ISERROR(VLOOKUP(#REF!,localizacao,2,FALSE)),\"\",VLOOKUP(#REF!,localizacao,2,FALSE))","v":""},null,"",null,""]
[null,"",null,{"$f":"IF(ISERROR(VLOOKUP(#REF!,localizacao,2,FALSE)),\"\",VLOOKUP(#REF!,localizacao,2,FALSE))","v":""},null,"",null,""]
[null,"",null,{"$f":"IF(ISERROR(VLOOKUP(#REF!,localizacao,2,FALSE)),\"\",VLOOKUP(#REF!,localizacao,2,FALSE))","v":""},null,"",null,""]
[null,"",null,{"$f":"IF(ISERROR(VLOOKUP(#REF!,localizacao,2,FALSE)),\"\",VLOOKUP(#REF!,localizacao,2,FALSE))","v":""},null,"",null,""]
[null,"",null,{"$f":"IF(ISERROR(VLOOKUP(#REF!,localizacao,2,FALSE)),\"\",VLOOKUP(#REF!,localizacao,2,FALSE))","v":""},null,"",null,""]
[null,"",null,{"$f":"IF(ISERROR(VLOOKUP(#REF!,localizacao,2,FALSE)),\"\",VLOOKUP(#REF!,localizacao,2,FALSE))","v":""},null,"",null,""]
[null,"",null,{"$f":"IF(ISERROR(VLOOKUP(#REF!,localizacao,2,FALSE)),\"\",VLOOKUP(#REF!,localizacao,2,FALSE))","v":""},null,"",null,""]
[null,"",null,{"$f":"IF(ISERROR(VLOOKUP(#REF!,localizacao,2,FALSE)),\"\",VLOOKUP(#REF!,localizacao,2,FALSE))","v":""},null,"",null,""]
[null,"",null,{"$f":"IF(ISERROR(VLOOKUP(#REF!,localizacao,2,FALSE)),\"\",VLOOKUP(#REF!,localizacao,2,FALSE))","v":""},null,"",null,""]
[null,"",null,{"$f":"IF(ISERROR(VLOOKUP(#REF!,localizacao,2,FALSE)),\"\",VLOOKUP(#REF!,localizacao,2,FALSE))","v":""},null,"",null,""]
[null,"",null,{"$f":"IF(ISERROR(VLOOKUP(#REF!,localizacao,2,FALSE)),\"\",VLOOKUP(#REF!,localizacao,2,FALSE))","v":""},null,"",null,""]
[null,"",null,{"$f":"IF(ISERROR(VLOOKUP(#REF!,localizacao,2,FALSE)),\"\",VLOOKUP(#REF!,localizacao,2,FALSE))","v":""},null,"",null,""]
[null,"",null,{"$f":"IF(ISERROR(VLOOKUP(#REF!,localizacao,2,FALSE)),\"\",VLOOKUP(#REF!,localizacao,2,FALSE))","v":""},null,"",null,""]
[null,"",null,{"$f":"IF(ISERROR(VLOOKUP(#REF!,localizacao,2,FALSE)),\"\",VLOOKUP(#REF!,localizacao,2,FALSE))","v":""},null,"",null,""]
[null,"",null,{"$f":"IF(ISERROR(VLOOKUP(#REF!,localizacao,2,FALSE)),\"\",VLOOKUP(#REF!,localizacao,2,FALSE))","v":""},null,"",null,""]
[null,"",null,{"$f":"IF(ISERROR(VLOOKUP(#REF!,localizacao,2,FALSE)),\"\",VLOOKUP(#REF!,localizacao,2,FALSE))","v":""},null,"",null,""]
[null,"",null,{"$f":"IF(ISERROR(VLOOKUP(#REF!,localizacao,2,FALSE)),\"\",VLOOKUP(#REF!,localizacao,2,FALSE))","v":""},null,"",null,""]
[null,"",null,{"$f":"IF(ISERROR(VLOOKUP(#REF!,localizacao,2,FALSE)),\"\",VLOOKUP(#REF!,localizacao,2,FALSE))","v":""},null,"",null,""]
[null,"",null,{"$f":"IF(ISERROR(VLOOKUP(#REF!,localizacao,2,FALSE)),\"\",VLOOKUP(#REF!,localizacao,2,FALSE))","v":""},null,{"$f":"IF(ISERROR(VLOOKUP(G1734,componentes,2,FALSE)),\"\",VLOOKUP(G1734,componentes,2,FALSE))","v":""},null,{"$f":"IF(ISERROR(VLOOKUP(I1734,rubricas,2,FALSE)),\"\",VLOOKUP(I1734,rubricas,2,FALSE))","v":""}]
[null,{"$f":"IF(C1735<>\"\",+B1734+1,\"\")","v":""},null,{"$f":"IF(ISERROR(VLOOKUP(#REF!,localizacao,2,FALSE)),\"\",VLOOKUP(#REF!,localizacao,2,FALSE))","v":""},null,"",null,""]
[null,"",null,{"$f":"IF(ISERROR(VLOOKUP(#REF!,localizacao,2,FALSE)),\"\",VLOOKUP(#REF!,localizacao,2,FALSE))","v":""},null,"",null,""]
[null,"",null,{"$f":"IF(ISERROR(VLOOKUP(#REF!,localizacao,2,FALSE)),\"\",VLOOKUP(#REF!,localizacao,2,FALSE))","v":""},null,"",null,""]
[null,"",null,{"$f":"IF(ISERROR(VLOOKUP(#REF!,localizacao,2,FALSE)),\"\",VLOOKUP(#REF!,localizacao,2,FALSE))","v":""},null,"",null,""]
[null,"",null,{"$f":"IF(ISERROR(VLOOKUP(#REF!,localizacao,2,FALSE)),\"\",VLOOKUP(#REF!,localizacao,2,FALSE))","v":""},null,"",null,""]
[null,"",null,{"$f":"IF(ISERROR(VLOOKUP(#REF!,localizacao,2,FALSE)),\"\",VLOOKUP(#REF!,localizacao,2,FALSE))","v":""},null,"",null,""]
[null,"",null,{"$f":"IF(ISERROR(VLOOKUP(#REF!,localizacao,2,FALSE)),\"\",VLOOKUP(#REF!,localizacao,2,FALSE))","v":""},null,"",null,""]
[null,"",null,{"$f":"IF(ISERROR(VLOOKUP(#REF!,localizacao,2,FALSE)),\"\",VLOOKUP(#REF!,localizacao,2,FALSE))","v":""},null,"",null,""]
[null,"",null,{"$f":"IF(ISERROR(VLOOKUP(#REF!,localizacao,2,FALSE)),\"\",VLOOKUP(#REF!,localizacao,2,FALSE))","v":""},null,"",null,""]
[null,"",null,{"$f":"IF(ISERROR(VLOOKUP(#REF!,localizacao,2,FALSE)),\"\",VLOOKUP(#REF!,localizacao,2,FALSE))","v":""},null,"",null,""]
[null,"",null,{"$f":"IF(ISERROR(VLOOKUP(#REF!,localizacao,2,FALSE)),\"\",VLOOKUP(#REF!,localizacao,2,FALSE))","v":""},null,"",null,""]
[null,"",null,{"$f":"IF(ISERROR(VLOOKUP(#REF!,localizacao,2,FALSE)),\"\",VLOOKUP(#REF!,localizacao,2,FALSE))","v":""},null,"",null,""]
[null,"",null,{"$f":"IF(ISERROR(VLOOKUP(#REF!,localizacao,2,FALSE)),\"\",VLOOKUP(#REF!,localizacao,2,FALSE))","v":""},null,"",null,""]
[null,"",null,{"$f":"IF(ISERROR(VLOOKUP(#REF!,localizacao,2,FALSE)),\"\",VLOOKUP(#REF!,localizacao,2,FALSE))","v":""},null,"",null,""]
[null,"",null,{"$f":"IF(ISERROR(VLOOKUP(#REF!,localizacao,2,FALSE)),\"\",VLOOKUP(#REF!,localizacao,2,FALSE))","v":""},null,"",null,""]
[null,"",null,{"$f":"IF(ISERROR(VLOOKUP(#REF!,localizacao,2,FALSE)),\"\",VLOOKUP(#REF!,localizacao,2,FALSE))","v":""},null,"",null,""]
[null,"",null,{"$f":"IF(ISERROR(VLOOKUP(#REF!,localizacao,2,FALSE)),\"\",VLOOKUP(#REF!,localizacao,2,FALSE))","v":""},null,"",null,""]
[null,"",null,{"$f":"IF(ISERROR(VLOOKUP(#REF!,localizacao,2,FALSE)),\"\",VLOOKUP(#REF!,localizacao,2,FALSE))","v":""},null,"",null,""]
[null,"",null,{"$f":"IF(ISERROR(VLOOKUP(#REF!,localizacao,2,FALSE)),\"\",VLOOKUP(#REF!,localizacao,2,FALSE))","v":""},null,"",null,""]
[null,"",null,{"$f":"IF(ISERROR(VLOOKUP(#REF!,localizacao,2,FALSE)),\"\",VLOOKUP(#REF!,localizacao,2,FALSE))","v":""},null,"",null,""]
[null,"",null,{"$f":"IF(ISERROR(VLOOKUP(#REF!,localizacao,2,FALSE)),\"\",VLOOKUP(#REF!,localizacao,2,FALSE))","v":""},null,"",null,""]
[null,"",null,{"$f":"IF(ISERROR(VLOOKUP(#REF!,localizacao,2,FALSE)),\"\",VLOOKUP(#REF!,localizacao,2,FALSE))","v":""},null,"",null,""]
[null,"",null,{"$f":"IF(ISERROR(VLOOKUP(#REF!,localizacao,2,FALSE)),\"\",VLOOKUP(#REF!,localizacao,2,FALSE))","v":""},null,"",null,""]
[null,"",null,{"$f":"IF(ISERROR(VLOOKUP(#REF!,localizacao,2,FALSE)),\"\",VLOOKUP(#REF!,localizacao,2,FALSE))","v":""},null,"",null,""]
[null,"",null,{"$f":"IF(ISERROR(VLOOKUP(#REF!,localizacao,2,FALSE)),\"\",VLOOKUP(#REF!,localizacao,2,FALSE))","v":""},null,"",null,""]
[null,"",null,{"$f":"IF(ISERROR(VLOOKUP(#REF!,localizacao,2,FALSE)),\"\",VLOOKUP(#REF!,localizacao,2,FALSE))","v":""},null,"",null,""]
[null,"",null,{"$f":"IF(ISERROR(VLOOKUP(#REF!,localizacao,2,FALSE)),\"\",VLOOKUP(#REF!,localizacao,2,FALSE))","v":""},null,"",null,""]
[null,"",null,{"$f":"IF(ISERROR(VLOOKUP(#REF!,localizacao,2,FALSE)),\"\",VLOOKUP(#REF!,localizacao,2,FALSE))","v":""},null,"",null,""]
[null,"",null,{"$f":"IF(ISERROR(VLOOKUP(#REF!,localizacao,2,FALSE)),\"\",VLOOKUP(#REF!,localizacao,2,FALSE))","v":""},null,"",null,""]
[null,"",null,{"$f":"IF(ISERROR(VLOOKUP(#REF!,localizacao,2,FALSE)),\"\",VLOOKUP(#REF!,localizacao,2,FALSE))","v":""},null,"",null,""]
[null,"",null,{"$f":"IF(ISERROR(VLOOKUP(#REF!,localizacao,2,FALSE)),\"\",VLOOKUP(#REF!,localizacao,2,FALSE))","v":""},null,"",null,""]
[null,"",null,{"$f":"IF(ISERROR(VLOOKUP(#REF!,localizacao,2,FALSE)),\"\",VLOOKUP(#REF!,localizacao,2,FALSE))","v":""},null,"",null,""]
[null,"",null,{"$f":"IF(ISERROR(VLOOKUP(#REF!,localizacao,2,FALSE)),\"\",VLOOKUP(#REF!,localizacao,2,FALSE))","v":""},null,"",null,""]
[null,"",null,{"$f":"IF(ISERROR(VLOOKUP(#REF!,localizacao,2,FALSE)),\"\",VLOOKUP(#REF!,localizacao,2,FALSE))","v":""},null,"",null,""]
[null,"",null,{"$f":"IF(ISERROR(VLOOKUP(#REF!,localizacao,2,FALSE)),\"\",VLOOKUP(#REF!,localizacao,2,FALSE))","v":""},null,"",null,""]
[null,"",null,{"$f":"IF(ISERROR(VLOOKUP(#REF!,localizacao,2,FALSE)),\"\",VLOOKUP(#REF!,localizacao,2,FALSE))","v":""},null,"",null,""]
[null,"",null,{"$f":"IF(ISERROR(VLOOKUP(#REF!,localizacao,2,FALSE)),\"\",VLOOKUP(#REF!,localizacao,2,FALSE))","v":""},null,"",null,""]
[null,"",null,{"$f":"IF(ISERROR(VLOOKUP(#REF!,localizacao,2,FALSE)),\"\",VLOOKUP(#REF!,localizacao,2,FALSE))","v":""},null,"",null,""]
[null,"",null,{"$f":"IF(ISERROR(VLOOKUP(#REF!,localizacao,2,FALSE)),\"\",VLOOKUP(#REF!,localizacao,2,FALSE))","v":""},null,"",null,""]
[null,"",null,{"$f":"IF(ISERROR(VLOOKUP(#REF!,localizacao,2,FALSE)),\"\",VLOOKUP(#REF!,localizacao,2,FALSE))","v":""},null,"",null,""]
[null,"",null,{"$f":"IF(ISERROR(VLOOKUP(#REF!,localizacao,2,FALSE)),\"\",VLOOKUP(#REF!,localizacao,2,FALSE))","v":""},null,"",null,""]
[null,"",null,{"$f":"IF(ISERROR(VLOOKUP(#REF!,localizacao,2,FALSE)),\"\",VLOOKUP(#REF!,localizacao,2,FALSE))","v":""},null,"",null,""]
[null,"",null,{"$f":"IF(ISERROR(VLOOKUP(#REF!,localizacao,2,FALSE)),\"\",VLOOKUP(#REF!,localizacao,2,FALSE))","v":""},null,"",null,""]
[null,"",null,{"$f":"IF(ISERROR(VLOOKUP(#REF!,localizacao,2,FALSE)),\"\",VLOOKUP(#REF!,localizacao,2,FALSE))","v":""},null,"",null,""]
[null,"",null,{"$f":"IF(ISERROR(VLOOKUP(#REF!,localizacao,2,FALSE)),\"\",VLOOKUP(#REF!,localizacao,2,FALSE))","v":""},null,"",null,""]
[null,"",null,{"$f":"IF(ISERROR(VLOOKUP(#REF!,localizacao,2,FALSE)),\"\",VLOOKUP(#REF!,localizacao,2,FALSE))","v":""},null,"",null,""]
[null,"",null,{"$f":"IF(ISERROR(VLOOKUP(#REF!,localizacao,2,FALSE)),\"\",VLOOKUP(#REF!,localizacao,2,FALSE))","v":""},null,"",null,""]
[null,"",null,{"$f":"IF(ISERROR(VLOOKUP(#REF!,localizacao,2,FALSE)),\"\",VLOOKUP(#REF!,localizacao,2,FALSE))","v":""},null,"",null,""]
[null,"",null,{"$f":"IF(ISERROR(VLOOKUP(#REF!,localizacao,2,FALSE)),\"\",VLOOKUP(#REF!,localizacao,2,FALSE))","v":""},null,"",null,""]
[null,"",null,{"$f":"IF(ISERROR(VLOOKUP(#REF!,localizacao,2,FALSE)),\"\",VLOOKUP(#REF!,localizacao,2,FALSE))","v":""},null,"",null,""]
[null,"",null,{"$f":"IF(ISERROR(VLOOKUP(#REF!,localizacao,2,FALSE)),\"\",VLOOKUP(#REF!,localizacao,2,FALSE))","v":""},null,"",null,""]
[null,"",null,{"$f":"IF(ISERROR(VLOOKUP(#REF!,localizacao,2,FALSE)),\"\",VLOOKUP(#REF!,localizacao,2,FALSE))","v":""},null,"",null,""]
[null,"",null,{"$f":"IF(ISERROR(VLOOKUP(#REF!,localizacao,2,FALSE)),\"\",VLOOKUP(#REF!,localizacao,2,FALSE))","v":""},null,"",null,""]
[null,"",null,{"$f":"IF(ISERROR(VLOOKUP(#REF!,localizacao,2,FALSE)),\"\",VLOOKUP(#REF!,localizacao,2,FALSE))","v":""},null,"",null,""]
[null,"",null,{"$f":"IF(ISERROR(VLOOKUP(#REF!,localizacao,2,FALSE)),\"\",VLOOKUP(#REF!,localizacao,2,FALSE))","v":""},null,"",null,""]
[null,"",null,{"$f":"IF(ISERROR(VLOOKUP(#REF!,localizacao,2,FALSE)),\"\",VLOOKUP(#REF!,localizacao,2,FALSE))","v":""},null,"",null,""]
[null,"",null,{"$f":"IF(ISERROR(VLOOKUP(#REF!,localizacao,2,FALSE)),\"\",VLOOKUP(#REF!,localizacao,2,FALSE))","v":""},null,"",null,""]
[null,"",null,{"$f":"IF(ISERROR(VLOOKUP(#REF!,localizacao,2,FALSE)),\"\",VLOOKUP(#REF!,localizacao,2,FALSE))","v":""},null,"",null,""]
[null,"",null,{"$f":"IF(ISERROR(VLOOKUP(#REF!,localizacao,2,FALSE)),\"\",VLOOKUP(#REF!,localizacao,2,FALSE))","v":""},null,"",null,""]
[null,"",null,{"$f":"IF(ISERROR(VLOOKUP(#REF!,localizacao,2,FALSE)),\"\",VLOOKUP(#REF!,localizacao,2,FALSE))","v":""},null,"",null,""]
[null,"",null,{"$f":"IF(ISERROR(VLOOKUP(#REF!,localizacao,2,FALSE)),\"\",VLOOKUP(#REF!,localizacao,2,FALSE))","v":""},null,"",null,""]
[null,"",null,{"$f":"IF(ISERROR(VLOOKUP(#REF!,localizacao,2,FALSE)),\"\",VLOOKUP(#REF!,localizacao,2,FALSE))","v":""},null,"",null,""]
[null,"",null,{"$f":"IF(ISERROR(VLOOKUP(#REF!,localizacao,2,FALSE)),\"\",VLOOKUP(#REF!,localizacao,2,FALSE))","v":""},null,"",null,""]
[null,"",null,{"$f":"IF(ISERROR(VLOOKUP(#REF!,localizacao,2,FALSE)),\"\",VLOOKUP(#REF!,localizacao,2,FALSE))","v":""},null,{"$f":"IF(ISERROR(VLOOKUP(G1798,componentes,2,FALSE)),\"\",VLOOKUP(G1798,componentes,2,FALSE))","v":""},null,{"$f":"IF(ISERROR(VLOOKUP(I1798,rubricas,2,FALSE)),\"\",VLOOKUP(I1798,rubricas,2,FALSE))","v":""}]
[null,{"$f":"IF(C1799<>\"\",+B1798+1,\"\")","v":""},null,{"$f":"IF(ISERROR(VLOOKUP(#REF!,localizacao,2,FALSE)),\"\",VLOOKUP(#REF!,localizacao,2,FALSE))","v":""},null,"",null,""]
[null,"",null,{"$f":"IF(ISERROR(VLOOKUP(#REF!,localizacao,2,FALSE)),\"\",VLOOKUP(#REF!,localizacao,2,FALSE))","v":""},null,"",null,""]
[null,"",null,{"$f":"IF(ISERROR(VLOOKUP(#REF!,localizacao,2,FALSE)),\"\",VLOOKUP(#REF!,localizacao,2,FALSE))","v":""},null,"",null,""]
[null,"",null,{"$f":"IF(ISERROR(VLOOKUP(#REF!,localizacao,2,FALSE)),\"\",VLOOKUP(#REF!,localizacao,2,FALSE))","v":""},null,"",null,""]
[null,"",null,{"$f":"IF(ISERROR(VLOOKUP(#REF!,localizacao,2,FALSE)),\"\",VLOOKUP(#REF!,localizacao,2,FALSE))","v":""},null,"",null,""]
[null,"",null,{"$f":"IF(ISERROR(VLOOKUP(#REF!,localizacao,2,FALSE)),\"\",VLOOKUP(#REF!,localizacao,2,FALSE))","v":""},null,"",null,""]
[null,"",null,{"$f":"IF(ISERROR(VLOOKUP(#REF!,localizacao,2,FALSE)),\"\",VLOOKUP(#REF!,localizacao,2,FALSE))","v":""},null,"",null,""]
[null,"",null,{"$f":"IF(ISERROR(VLOOKUP(#REF!,localizacao,2,FALSE)),\"\",VLOOKUP(#REF!,localizacao,2,FALSE))","v":""},null,"",null,""]
[null,"",null,{"$f":"IF(ISERROR(VLOOKUP(#REF!,localizacao,2,FALSE)),\"\",VLOOKUP(#REF!,localizacao,2,FALSE))","v":""},null,"",null,""]
[null,"",null,{"$f":"IF(ISERROR(VLOOKUP(#REF!,localizacao,2,FALSE)),\"\",VLOOKUP(#REF!,localizacao,2,FALSE))","v":""},null,"",null,""]
[null,"",null,{"$f":"IF(ISERROR(VLOOKUP(#REF!,localizacao,2,FALSE)),\"\",VLOOKUP(#REF!,localizacao,2,FALSE))","v":""},null,"",null,""]
[null,"",null,{"$f":"IF(ISERROR(VLOOKUP(#REF!,localizacao,2,FALSE)),\"\",VLOOKUP(#REF!,localizacao,2,FALSE))","v":""},null,"",null,""]
[null,"",null,{"$f":"IF(ISERROR(VLOOKUP(#REF!,localizacao,2,FALSE)),\"\",VLOOKUP(#REF!,localizacao,2,FALSE))","v":""},null,"",null,""]
[null,"",null,{"$f":"IF(ISERROR(VLOOKUP(#REF!,localizacao,2,FALSE)),\"\",VLOOKUP(#REF!,localizacao,2,FALSE))","v":""},null,"",null,""]
[null,"",null,{"$f":"IF(ISERROR(VLOOKUP(#REF!,localizacao,2,FALSE)),\"\",VLOOKUP(#REF!,localizacao,2,FALSE))","v":""},null,"",null,""]
[null,"",null,{"$f":"IF(ISERROR(VLOOKUP(#REF!,localizacao,2,FALSE)),\"\",VLOOKUP(#REF!,localizacao,2,FALSE))","v":""},null,"",null,""]
[null,"",null,{"$f":"IF(ISERROR(VLOOKUP(#REF!,localizacao,2,FALSE)),\"\",VLOOKUP(#REF!,localizacao,2,FALSE))","v":""},null,"",null,""]
[null,"",null,{"$f":"IF(ISERROR(VLOOKUP(#REF!,localizacao,2,FALSE)),\"\",VLOOKUP(#REF!,localizacao,2,FALSE))","v":""},null,"",null,""]
[null,"",null,{"$f":"IF(ISERROR(VLOOKUP(#REF!,localizacao,2,FALSE)),\"\",VLOOKUP(#REF!,localizacao,2,FALSE))","v":""},null,"",null,""]
[null,"",null,{"$f":"IF(ISERROR(VLOOKUP(#REF!,localizacao,2,FALSE)),\"\",VLOOKUP(#REF!,localizacao,2,FALSE))","v":""},null,"",null,""]
[null,"",null,{"$f":"IF(ISERROR(VLOOKUP(#REF!,localizacao,2,FALSE)),\"\",VLOOKUP(#REF!,localizacao,2,FALSE))","v":""},null,"",null,""]
[null,"",null,{"$f":"IF(ISERROR(VLOOKUP(#REF!,localizacao,2,FALSE)),\"\",VLOOKUP(#REF!,localizacao,2,FALSE))","v":""},null,"",null,""]
[null,"",null,{"$f":"IF(ISERROR(VLOOKUP(#REF!,localizacao,2,FALSE)),\"\",VLOOKUP(#REF!,localizacao,2,FALSE))","v":""},null,"",null,""]
[null,"",null,{"$f":"IF(ISERROR(VLOOKUP(#REF!,localizacao,2,FALSE)),\"\",VLOOKUP(#REF!,localizacao,2,FALSE))","v":""},null,"",null,""]
[null,"",null,{"$f":"IF(ISERROR(VLOOKUP(#REF!,localizacao,2,FALSE)),\"\",VLOOKUP(#REF!,localizacao,2,FALSE))","v":""},null,"",null,""]
[null,"",null,{"$f":"IF(ISERROR(VLOOKUP(#REF!,localizacao,2,FALSE)),\"\",VLOOKUP(#REF!,localizacao,2,FALSE))","v":""},null,"",null,""]
[null,"",null,{"$f":"IF(ISERROR(VLOOKUP(#REF!,localizacao,2,FALSE)),\"\",VLOOKUP(#REF!,localizacao,2,FALSE))","v":""},null,"",null,""]
[null,"",null,{"$f":"IF(ISERROR(VLOOKUP(#REF!,localizacao,2,FALSE)),\"\",VLOOKUP(#REF!,localizacao,2,FALSE))","v":""},null,"",null,""]
[null,"",null,{"$f":"IF(ISERROR(VLOOKUP(#REF!,localizacao,2,FALSE)),\"\",VLOOKUP(#REF!,localizacao,2,FALSE))","v":""},null,"",null,""]
[null,"",null,{"$f":"IF(ISERROR(VLOOKUP(#REF!,localizacao,2,FALSE)),\"\",VLOOKUP(#REF!,localizacao,2,FALSE))","v":""},null,"",null,""]
[null,"",null,{"$f":"IF(ISERROR(VLOOKUP(#REF!,localizacao,2,FALSE)),\"\",VLOOKUP(#REF!,localizacao,2,FALSE))","v":""},null,"",null,""]
[null,"",null,{"$f":"IF(ISERROR(VLOOKUP(#REF!,localizacao,2,FALSE)),\"\",VLOOKUP(#REF!,localizacao,2,FALSE))","v":""},null,"",null,""]
[null,"",null,{"$f":"IF(ISERROR(VLOOKUP(#REF!,localizacao,2,FALSE)),\"\",VLOOKUP(#REF!,localizacao,2,FALSE))","v":""},null,"",null,""]
[null,"",null,{"$f":"IF(ISERROR(VLOOKUP(#REF!,localizacao,2,FALSE)),\"\",VLOOKUP(#REF!,localizacao,2,FALSE))","v":""},null,"",null,""]
[null,"",null,{"$f":"IF(ISERROR(VLOOKUP(#REF!,localizacao,2,FALSE)),\"\",VLOOKUP(#REF!,localizacao,2,FALSE))","v":""},null,"",null,""]
[null,"",null,{"$f":"IF(ISERROR(VLOOKUP(#REF!,localizacao,2,FALSE)),\"\",VLOOKUP(#REF!,localizacao,2,FALSE))","v":""},null,"",null,""]
[null,"",null,{"$f":"IF(ISERROR(VLOOKUP(#REF!,localizacao,2,FALSE)),\"\",VLOOKUP(#REF!,localizacao,2,FALSE))","v":""},null,"",null,""]
[null,"",null,{"$f":"IF(ISERROR(VLOOKUP(#REF!,localizacao,2,FALSE)),\"\",VLOOKUP(#REF!,localizacao,2,FALSE))","v":""},null,"",null,""]
[null,"",null,{"$f":"IF(ISERROR(VLOOKUP(#REF!,localizacao,2,FALSE)),\"\",VLOOKUP(#REF!,localizacao,2,FALSE))","v":""},null,"",null,""]
[null,"",null,{"$f":"IF(ISERROR(VLOOKUP(#REF!,localizacao,2,FALSE)),\"\",VLOOKUP(#REF!,localizacao,2,FALSE))","v":""},null,"",null,""]
[null,"",null,{"$f":"IF(ISERROR(VLOOKUP(#REF!,localizacao,2,FALSE)),\"\",VLOOKUP(#REF!,localizacao,2,FALSE))","v":""},null,"",null,""]
[null,"",null,{"$f":"IF(ISERROR(VLOOKUP(#REF!,localizacao,2,FALSE)),\"\",VLOOKUP(#REF!,localizacao,2,FALSE))","v":""},null,"",null,""]
[null,"",null,{"$f":"IF(ISERROR(VLOOKUP(#REF!,localizacao,2,FALSE)),\"\",VLOOKUP(#REF!,localizacao,2,FALSE))","v":""},null,"",null,""]
[null,"",null,{"$f":"IF(ISERROR(VLOOKUP(#REF!,localizacao,2,FALSE)),\"\",VLOOKUP(#REF!,localizacao,2,FALSE))","v":""},null,"",null,""]
[null,"",null,{"$f":"IF(ISERROR(VLOOKUP(#REF!,localizacao,2,FALSE)),\"\",VLOOKUP(#REF!,localizacao,2,FALSE))","v":""},null,"",null,""]
[null,"",null,{"$f":"IF(ISERROR(VLOOKUP(#REF!,localizacao,2,FALSE)),\"\",VLOOKUP(#REF!,localizacao,2,FALSE))","v":""},null,"",null,""]
[null,"",null,{"$f":"IF(ISERROR(VLOOKUP(#REF!,localizacao,2,FALSE)),\"\",VLOOKUP(#REF!,localizacao,2,FALSE))","v":""},null,"",null,""]
[null,"",null,{"$f":"IF(ISERROR(VLOOKUP(#REF!,localizacao,2,FALSE)),\"\",VLOOKUP(#REF!,localizacao,2,FALSE))","v":""},null,"",null,""]
[null,"",null,{"$f":"IF(ISERROR(VLOOKUP(#REF!,localizacao,2,FALSE)),\"\",VLOOKUP(#REF!,localizacao,2,FALSE))","v":""},null,"",null,""]
[null,"",null,{"$f":"IF(ISERROR(VLOOKUP(#REF!,localizacao,2,FALSE)),\"\",VLOOKUP(#REF!,localizacao,2,FALSE))","v":""},null,"",null,""]
[null,"",null,{"$f":"IF(ISERROR(VLOOKUP(#REF!,localizacao,2,FALSE)),\"\",VLOOKUP(#REF!,localizacao,2,FALSE))","v":""},null,"",null,""]
[null,"",null,{"$f":"IF(ISERROR(VLOOKUP(#REF!,localizacao,2,FALSE)),\"\",VLOOKUP(#REF!,localizacao,2,FALSE))","v":""},null,"",null,""]
[null,"",null,{"$f":"IF(ISERROR(VLOOKUP(#REF!,localizacao,2,FALSE)),\"\",VLOOKUP(#REF!,localizacao,2,FALSE))","v":""},null,"",null,""]
[null,"",null,{"$f":"IF(ISERROR(VLOOKUP(#REF!,localizacao,2,FALSE)),\"\",VLOOKUP(#REF!,localizacao,2,FALSE))","v":""},null,"",null,""]
[null,"",null,{"$f":"IF(ISERROR(VLOOKUP(#REF!,localizacao,2,FALSE)),\"\",VLOOKUP(#REF!,localizacao,2,FALSE))","v":""},null,"",null,""]
[null,"",null,{"$f":"IF(ISERROR(VLOOKUP(#REF!,localizacao,2,FALSE)),\"\",VLOOKUP(#REF!,localizacao,2,FALSE))","v":""},null,"",null,""]
[null,"",null,{"$f":"IF(ISERROR(VLOOKUP(#REF!,localizacao,2,FALSE)),\"\",VLOOKUP(#REF!,localizacao,2,FALSE))","v":""},null,"",null,""]
[null,"",null,{"$f":"IF(ISERROR(VLOOKUP(#REF!,localizacao,2,FALSE)),\"\",VLOOKUP(#REF!,localizacao,2,FALSE))","v":""},null,"",null,""]
[null,"",null,{"$f":"IF(ISERROR(VLOOKUP(#REF!,localizacao,2,FALSE)),\"\",VLOOKUP(#REF!,localizacao,2,FALSE))","v":""},null,"",null,""]
[null,"",null,{"$f":"IF(ISERROR(VLOOKUP(#REF!,localizacao,2,FALSE)),\"\",VLOOKUP(#REF!,localizacao,2,FALSE))","v":""},null,"",null,""]
[null,"",null,{"$f":"IF(ISERROR(VLOOKUP(#REF!,localizacao,2,FALSE)),\"\",VLOOKUP(#REF!,localizacao,2,FALSE))","v":""},null,"",null,""]
[null,"",null,{"$f":"IF(ISERROR(VLOOKUP(#REF!,localizacao,2,FALSE)),\"\",VLOOKUP(#REF!,localizacao,2,FALSE))","v":""},null,"",null,""]
[null,"",null,{"$f":"IF(ISERROR(VLOOKUP(#REF!,localizacao,2,FALSE)),\"\",VLOOKUP(#REF!,localizacao,2,FALSE))","v":""},null,"",null,""]
[null,"",null,{"$f":"IF(ISERROR(VLOOKUP(#REF!,localizacao,2,FALSE)),\"\",VLOOKUP(#REF!,localizacao,2,FALSE))","v":""},null,{"$f":"IF(ISERROR(VLOOKUP(G1862,componentes,2,FALSE)),\"\",VLOOKUP(G1862,componentes,2,FALSE))","v":""},null,{"$f":"IF(ISERROR(VLOOKUP(I1862,rubricas,2,FALSE)),\"\",VLOOKUP(I1862,rubricas,2,FALSE))","v":""}]
[null,{"$f":"IF(C1863<>\"\",+B1862+1,\"\")","v":""},null,{"$f":"IF(ISERROR(VLOOKUP(#REF!,localizacao,2,FALSE)),\"\",VLOOKUP(#REF!,localizacao,2,FALSE))","v":""},null,"",null,""]
[null,"",null,{"$f":"IF(ISERROR(VLOOKUP(#REF!,localizacao,2,FALSE)),\"\",VLOOKUP(#REF!,localizacao,2,FALSE))","v":""},null,"",null,""]
[null,"",null,{"$f":"IF(ISERROR(VLOOKUP(#REF!,localizacao,2,FALSE)),\"\",VLOOKUP(#REF!,localizacao,2,FALSE))","v":""},null,"",null,""]
[null,"",null,{"$f":"IF(ISERROR(VLOOKUP(#REF!,localizacao,2,FALSE)),\"\",VLOOKUP(#REF!,localizacao,2,FALSE))","v":""},null,"",null,""]
[null,"",null,{"$f":"IF(ISERROR(VLOOKUP(#REF!,localizacao,2,FALSE)),\"\",VLOOKUP(#REF!,localizacao,2,FALSE))","v":""},null,"",null,""]
[null,"",null,{"$f":"IF(ISERROR(VLOOKUP(#REF!,localizacao,2,FALSE)),\"\",VLOOKUP(#REF!,localizacao,2,FALSE))","v":""},null,"",null,""]
[null,"",null,{"$f":"IF(ISERROR(VLOOKUP(#REF!,localizacao,2,FALSE)),\"\",VLOOKUP(#REF!,localizacao,2,FALSE))","v":""},null,"",null,""]
[null,"",null,{"$f":"IF(ISERROR(VLOOKUP(#REF!,localizacao,2,FALSE)),\"\",VLOOKUP(#REF!,localizacao,2,FALSE))","v":""},null,"",null,""]
[null,"",null,{"$f":"IF(ISERROR(VLOOKUP(#REF!,localizacao,2,FALSE)),\"\",VLOOKUP(#REF!,localizacao,2,FALSE))","v":""},null,"",null,""]
[null,"",null,{"$f":"IF(ISERROR(VLOOKUP(#REF!,localizacao,2,FALSE)),\"\",VLOOKUP(#REF!,localizacao,2,FALSE))","v":""},null,"",null,""]
[null,"",null,{"$f":"IF(ISERROR(VLOOKUP(#REF!,localizacao,2,FALSE)),\"\",VLOOKUP(#REF!,localizacao,2,FALSE))","v":""},null,"",null,""]
[null,"",null,{"$f":"IF(ISERROR(VLOOKUP(#REF!,localizacao,2,FALSE)),\"\",VLOOKUP(#REF!,localizacao,2,FALSE))","v":""},null,"",null,""]
[null,"",null,{"$f":"IF(ISERROR(VLOOKUP(#REF!,localizacao,2,FALSE)),\"\",VLOOKUP(#REF!,localizacao,2,FALSE))","v":""},null,"",null,""]
[null,"",null,{"$f":"IF(ISERROR(VLOOKUP(#REF!,localizacao,2,FALSE)),\"\",VLOOKUP(#REF!,localizacao,2,FALSE))","v":""},null,"",null,""]
[null,"",null,{"$f":"IF(ISERROR(VLOOKUP(#REF!,localizacao,2,FALSE)),\"\",VLOOKUP(#REF!,localizacao,2,FALSE))","v":""},null,"",null,""]
[null,"",null,{"$f":"IF(ISERROR(VLOOKUP(#REF!,localizacao,2,FALSE)),\"\",VLOOKUP(#REF!,localizacao,2,FALSE))","v":""},null,"",null,""]
[null,"",null,{"$f":"IF(ISERROR(VLOOKUP(#REF!,localizacao,2,FALSE)),\"\",VLOOKUP(#REF!,localizacao,2,FALSE))","v":""},null,"",null,""]
[null,"",null,{"$f":"IF(ISERROR(VLOOKUP(#REF!,localizacao,2,FALSE)),\"\",VLOOKUP(#REF!,localizacao,2,FALSE))","v":""},null,"",null,""]
[null,"",null,{"$f":"IF(ISERROR(VLOOKUP(#REF!,localizacao,2,FALSE)),\"\",VLOOKUP(#REF!,localizacao,2,FALSE))","v":""},null,"",null,""]
[null,"",null,{"$f":"IF(ISERROR(VLOOKUP(#REF!,localizacao,2,FALSE)),\"\",VLOOKUP(#REF!,localizacao,2,FALSE))","v":""},null,"",null,""]
[null,"",null,{"$f":"IF(ISERROR(VLOOKUP(#REF!,localizacao,2,FALSE)),\"\",VLOOKUP(#REF!,localizacao,2,FALSE))","v":""},null,"",null,""]
[null,"",null,{"$f":"IF(ISERROR(VLOOKUP(#REF!,localizacao,2,FALSE)),\"\",VLOOKUP(#REF!,localizacao,2,FALSE))","v":""},null,"",null,""]
[null,"",null,{"$f":"IF(ISERROR(VLOOKUP(#REF!,localizacao,2,FALSE)),\"\",VLOOKUP(#REF!,localizacao,2,FALSE))","v":""},null,"",null,""]
[null,"",null,{"$f":"IF(ISERROR(VLOOKUP(#REF!,localizacao,2,FALSE)),\"\",VLOOKUP(#REF!,localizacao,2,FALSE))","v":""},null,"",null,""]
[null,"",null,{"$f":"IF(ISERROR(VLOOKUP(#REF!,localizacao,2,FALSE)),\"\",VLOOKUP(#REF!,localizacao,2,FALSE))","v":""},null,"",null,""]
[null,"",null,{"$f":"IF(ISERROR(VLOOKUP(#REF!,localizacao,2,FALSE)),\"\",VLOOKUP(#REF!,localizacao,2,FALSE))","v":""},null,"",null,""]
[null,"",null,{"$f":"IF(ISERROR(VLOOKUP(#REF!,localizacao,2,FALSE)),\"\",VLOOKUP(#REF!,localizacao,2,FALSE))","v":""},null,"",null,""]
[null,"",null,{"$f":"IF(ISERROR(VLOOKUP(#REF!,localizacao,2,FALSE)),\"\",VLOOKUP(#REF!,localizacao,2,FALSE))","v":""},null,"",null,""]
[null,"",null,{"$f":"IF(ISERROR(VLOOKUP(#REF!,localizacao,2,FALSE)),\"\",VLOOKUP(#REF!,localizacao,2,FALSE))","v":""},null,"",null,""]
[null,"",null,{"$f":"IF(ISERROR(VLOOKUP(#REF!,localizacao,2,FALSE)),\"\",VLOOKUP(#REF!,localizacao,2,FALSE))","v":""},null,"",null,""]
[null,"",null,{"$f":"IF(ISERROR(VLOOKUP(#REF!,localizacao,2,FALSE)),\"\",VLOOKUP(#REF!,localizacao,2,FALSE))","v":""},null,"",null,""]
[null,"",null,{"$f":"IF(ISERROR(VLOOKUP(#REF!,localizacao,2,FALSE)),\"\",VLOOKUP(#REF!,localizacao,2,FALSE))","v":""},null,"",null,""]
[null,"",null,{"$f":"IF(ISERROR(VLOOKUP(#REF!,localizacao,2,FALSE)),\"\",VLOOKUP(#REF!,localizacao,2,FALSE))","v":""},null,"",null,""]
[null,"",null,{"$f":"IF(ISERROR(VLOOKUP(#REF!,localizacao,2,FALSE)),\"\",VLOOKUP(#REF!,localizacao,2,FALSE))","v":""},null,"",null,""]
[null,"",null,{"$f":"IF(ISERROR(VLOOKUP(#REF!,localizacao,2,FALSE)),\"\",VLOOKUP(#REF!,localizacao,2,FALSE))","v":""},null,"",null,""]
[null,"",null,{"$f":"IF(ISERROR(VLOOKUP(#REF!,localizacao,2,FALSE)),\"\",VLOOKUP(#REF!,localizacao,2,FALSE))","v":""},null,"",null,""]
[null,"",null,{"$f":"IF(ISERROR(VLOOKUP(#REF!,localizacao,2,FALSE)),\"\",VLOOKUP(#REF!,localizacao,2,FALSE))","v":""},null,"",null,""]
[null,"",null,{"$f":"IF(ISERROR(VLOOKUP(#REF!,localizacao,2,FALSE)),\"\",VLOOKUP(#REF!,localizacao,2,FALSE))","v":""},null,"",null,""]
[null,"",null,{"$f":"IF(ISERROR(VLOOKUP(#REF!,localizacao,2,FALSE)),\"\",VLOOKUP(#REF!,localizacao,2,FALSE))","v":""},null,"",null,""]
[null,"",null,{"$f":"IF(ISERROR(VLOOKUP(#REF!,localizacao,2,FALSE)),\"\",VLOOKUP(#REF!,localizacao,2,FALSE))","v":""},null,"",null,""]
[null,"",null,{"$f":"IF(ISERROR(VLOOKUP(#REF!,localizacao,2,FALSE)),\"\",VLOOKUP(#REF!,localizacao,2,FALSE))","v":""},null,"",null,""]
[null,"",null,{"$f":"IF(ISERROR(VLOOKUP(#REF!,localizacao,2,FALSE)),\"\",VLOOKUP(#REF!,localizacao,2,FALSE))","v":""},null,"",null,""]
[null,"",null,{"$f":"IF(ISERROR(VLOOKUP(#REF!,localizacao,2,FALSE)),\"\",VLOOKUP(#REF!,localizacao,2,FALSE))","v":""},null,"",null,""]
[null,"",null,{"$f":"IF(ISERROR(VLOOKUP(#REF!,localizacao,2,FALSE)),\"\",VLOOKUP(#REF!,localizacao,2,FALSE))","v":""},null,"",null,""]
[null,"",null,{"$f":"IF(ISERROR(VLOOKUP(#REF!,localizacao,2,FALSE)),\"\",VLOOKUP(#REF!,localizacao,2,FALSE))","v":""},null,"",null,""]
[null,"",null,{"$f":"IF(ISERROR(VLOOKUP(#REF!,localizacao,2,FALSE)),\"\",VLOOKUP(#REF!,localizacao,2,FALSE))","v":""},null,"",null,""]
[null,"",null,{"$f":"IF(ISERROR(VLOOKUP(#REF!,localizacao,2,FALSE)),\"\",VLOOKUP(#REF!,localizacao,2,FALSE))","v":""},null,"",null,""]
[null,"",null,{"$f":"IF(ISERROR(VLOOKUP(#REF!,localizacao,2,FALSE)),\"\",VLOOKUP(#REF!,localizacao,2,FALSE))","v":""},null,"",null,""]
[null,"",null,{"$f":"IF(ISERROR(VLOOKUP(#REF!,localizacao,2,FALSE)),\"\",VLOOKUP(#REF!,localizacao,2,FALSE))","v":""},null,"",null,""]
[null,"",null,{"$f":"IF(ISERROR(VLOOKUP(#REF!,localizacao,2,FALSE)),\"\",VLOOKUP(#REF!,localizacao,2,FALSE))","v":""},null,"",null,""]
[null,"",null,{"$f":"IF(ISERROR(VLOOKUP(#REF!,localizacao,2,FALSE)),\"\",VLOOKUP(#REF!,localizacao,2,FALSE))","v":""},null,"",null,""]
[null,"",null,{"$f":"IF(ISERROR(VLOOKUP(#REF!,localizacao,2,FALSE)),\"\",VLOOKUP(#REF!,localizacao,2,FALSE))","v":""},null,"",null,""]
[null,"",null,{"$f":"IF(ISERROR(VLOOKUP(#REF!,localizacao,2,FALSE)),\"\",VLOOKUP(#REF!,localizacao,2,FALSE))","v":""},null,"",null,""]
[null,"",null,{"$f":"IF(ISERROR(VLOOKUP(#REF!,localizacao,2,FALSE)),\"\",VLOOKUP(#REF!,localizacao,2,FALSE))","v":""},null,"",null,""]
[null,"",null,{"$f":"IF(ISERROR(VLOOKUP(#REF!,localizacao,2,FALSE)),\"\",VLOOKUP(#REF!,localizacao,2,FALSE))","v":""},null,"",null,""]
[null,"",null,{"$f":"IF(ISERROR(VLOOKUP(#REF!,localizacao,2,FALSE)),\"\",VLOOKUP(#REF!,localizacao,2,FALSE))","v":""},null,"",null,""]
[null,"",null,{"$f":"IF(ISERROR(VLOOKUP(#REF!,localizacao,2,FALSE)),\"\",VLOOKUP(#REF!,localizacao,2,FALSE))","v":""},null,"",null,""]
[null,"",null,{"$f":"IF(ISERROR(VLOOKUP(#REF!,localizacao,2,FALSE)),\"\",VLOOKUP(#REF!,localizacao,2,FALSE))","v":""},null,"",null,""]
[null,"",null,{"$f":"IF(ISERROR(VLOOKUP(#REF!,localizacao,2,FALSE)),\"\",VLOOKUP(#REF!,localizacao,2,FALSE))","v":""},null,"",null,""]
[null,"",null,{"$f":"IF(ISERROR(VLOOKUP(#REF!,localizacao,2,FALSE)),\"\",VLOOKUP(#REF!,localizacao,2,FALSE))","v":""},null,"",null,""]
[null,"",null,{"$f":"IF(ISERROR(VLOOKUP(#REF!,localizacao,2,FALSE)),\"\",VLOOKUP(#REF!,localizacao,2,FALSE))","v":""},null,"",null,""]
[null,"",null,{"$f":"IF(ISERROR(VLOOKUP(#REF!,localizacao,2,FALSE)),\"\",VLOOKUP(#REF!,localizacao,2,FALSE))","v":""},null,"",null,""]
[null,"",null,{"$f":"IF(ISERROR(VLOOKUP(#REF!,localizacao,2,FALSE)),\"\",VLOOKUP(#REF!,localizacao,2,FALSE))","v":""},null,"",null,""]
[null,"",null,{"$f":"IF(ISERROR(VLOOKUP(#REF!,localizacao,2,FALSE)),\"\",VLOOKUP(#REF!,localizacao,2,FALSE))","v":""},null,{"$f":"IF(ISERROR(VLOOKUP(G1926,componentes,2,FALSE)),\"\",VLOOKUP(G1926,componentes,2,FALSE))","v":""},null,{"$f":"IF(ISERROR(VLOOKUP(I1926,rubricas,2,FALSE)),\"\",VLOOKUP(I1926,rubricas,2,FALSE))","v":""}]
[null,{"$f":"IF(C1927<>\"\",+B1926+1,\"\")","v":""},null,{"$f":"IF(ISERROR(VLOOKUP(#REF!,localizacao,2,FALSE)),\"\",VLOOKUP(#REF!,localizacao,2,FALSE))","v":""},null,"",null,""]
[null,"",null,{"$f":"IF(ISERROR(VLOOKUP(#REF!,localizacao,2,FALSE)),\"\",VLOOKUP(#REF!,localizacao,2,FALSE))","v":""},null,"",null,""]
[null,"",null,{"$f":"IF(ISERROR(VLOOKUP(#REF!,localizacao,2,FALSE)),\"\",VLOOKUP(#REF!,localizacao,2,FALSE))","v":""},null,"",null,""]
[null,"",null,{"$f":"IF(ISERROR(VLOOKUP(#REF!,localizacao,2,FALSE)),\"\",VLOOKUP(#REF!,localizacao,2,FALSE))","v":""},null,"",null,""]
[null,"",null,{"$f":"IF(ISERROR(VLOOKUP(#REF!,localizacao,2,FALSE)),\"\",VLOOKUP(#REF!,localizacao,2,FALSE))","v":""},null,"",null,""]
[null,"",null,{"$f":"IF(ISERROR(VLOOKUP(#REF!,localizacao,2,FALSE)),\"\",VLOOKUP(#REF!,localizacao,2,FALSE))","v":""},null,"",null,""]
[null,"",null,{"$f":"IF(ISERROR(VLOOKUP(#REF!,localizacao,2,FALSE)),\"\",VLOOKUP(#REF!,localizacao,2,FALSE))","v":""},null,"",null,""]
[null,"",null,{"$f":"IF(ISERROR(VLOOKUP(#REF!,localizacao,2,FALSE)),\"\",VLOOKUP(#REF!,localizacao,2,FALSE))","v":""},null,"",null,""]
[null,"",null,{"$f":"IF(ISERROR(VLOOKUP(#REF!,localizacao,2,FALSE)),\"\",VLOOKUP(#REF!,localizacao,2,FALSE))","v":""},null,"",null,""]
[null,"",null,{"$f":"IF(ISERROR(VLOOKUP(#REF!,localizacao,2,FALSE)),\"\",VLOOKUP(#REF!,localizacao,2,FALSE))","v":""},null,"",null,""]
[null,"",null,{"$f":"IF(ISERROR(VLOOKUP(#REF!,localizacao,2,FALSE)),\"\",VLOOKUP(#REF!,localizacao,2,FALSE))","v":""},null,"",null,""]
[null,"",null,{"$f":"IF(ISERROR(VLOOKUP(#REF!,localizacao,2,FALSE)),\"\",VLOOKUP(#REF!,localizacao,2,FALSE))","v":""},null,"",null,""]
[null,"",null,{"$f":"IF(ISERROR(VLOOKUP(#REF!,localizacao,2,FALSE)),\"\",VLOOKUP(#REF!,localizacao,2,FALSE))","v":""},null,"",null,""]
[null,"",null,{"$f":"IF(ISERROR(VLOOKUP(#REF!,localizacao,2,FALSE)),\"\",VLOOKUP(#REF!,localizacao,2,FALSE))","v":""},null,"",null,""]
[null,"",null,{"$f":"IF(ISERROR(VLOOKUP(#REF!,localizacao,2,FALSE)),\"\",VLOOKUP(#REF!,localizacao,2,FALSE))","v":""},null,"",null,""]
[null,"",null,{"$f":"IF(ISERROR(VLOOKUP(#REF!,localizacao,2,FALSE)),\"\",VLOOKUP(#REF!,localizacao,2,FALSE))","v":""},null,"",null,""]
[null,"",null,{"$f":"IF(ISERROR(VLOOKUP(#REF!,localizacao,2,FALSE)),\"\",VLOOKUP(#REF!,localizacao,2,FALSE))","v":""},null,"",null,""]
[null,"",null,{"$f":"IF(ISERROR(VLOOKUP(#REF!,localizacao,2,FALSE)),\"\",VLOOKUP(#REF!,localizacao,2,FALSE))","v":""},null,"",null,""]
[null,"",null,{"$f":"IF(ISERROR(VLOOKUP(#REF!,localizacao,2,FALSE)),\"\",VLOOKUP(#REF!,localizacao,2,FALSE))","v":""},null,"",null,""]
[null,"",null,{"$f":"IF(ISERROR(VLOOKUP(#REF!,localizacao,2,FALSE)),\"\",VLOOKUP(#REF!,localizacao,2,FALSE))","v":""},null,"",null,""]
[null,"",null,{"$f":"IF(ISERROR(VLOOKUP(#REF!,localizacao,2,FALSE)),\"\",VLOOKUP(#REF!,localizacao,2,FALSE))","v":""},null,"",null,""]
[null,"",null,{"$f":"IF(ISERROR(VLOOKUP(#REF!,localizacao,2,FALSE)),\"\",VLOOKUP(#REF!,localizacao,2,FALSE))","v":""},null,"",null,""]
[null,"",null,{"$f":"IF(ISERROR(VLOOKUP(#REF!,localizacao,2,FALSE)),\"\",VLOOKUP(#REF!,localizacao,2,FALSE))","v":""},null,"",null,""]
[null,"",null,{"$f":"IF(ISERROR(VLOOKUP(#REF!,localizacao,2,FALSE)),\"\",VLOOKUP(#REF!,localizacao,2,FALSE))","v":""},null,"",null,""]
[null,"",null,{"$f":"IF(ISERROR(VLOOKUP(#REF!,localizacao,2,FALSE)),\"\",VLOOKUP(#REF!,localizacao,2,FALSE))","v":""},null,"",null,""]
[null,"",null,{"$f":"IF(ISERROR(VLOOKUP(#REF!,localizacao,2,FALSE)),\"\",VLOOKUP(#REF!,localizacao,2,FALSE))","v":""},null,"",null,""]
[null,"",null,{"$f":"IF(ISERROR(VLOOKUP(#REF!,localizacao,2,FALSE)),\"\",VLOOKUP(#REF!,localizacao,2,FALSE))","v":""},null,"",null,""]
[null,"",null,{"$f":"IF(ISERROR(VLOOKUP(#REF!,localizacao,2,FALSE)),\"\",VLOOKUP(#REF!,localizacao,2,FALSE))","v":""},null,"",null,""]
[null,"",null,{"$f":"IF(ISERROR(VLOOKUP(#REF!,localizacao,2,FALSE)),\"\",VLOOKUP(#REF!,localizacao,2,FALSE))","v":""},null,"",null,""]
[null,"",null,{"$f":"IF(ISERROR(VLOOKUP(#REF!,localizacao,2,FALSE)),\"\",VLOOKUP(#REF!,localizacao,2,FALSE))","v":""},null,"",null,""]
[null,"",null,{"$f":"IF(ISERROR(VLOOKUP(#REF!,localizacao,2,FALSE)),\"\",VLOOKUP(#REF!,localizacao,2,FALSE))","v":""},null,"",null,""]
[null,"",null,{"$f":"IF(ISERROR(VLOOKUP(#REF!,localizacao,2,FALSE)),\"\",VLOOKUP(#REF!,localizacao,2,FALSE))","v":""},null,"",null,""]
[null,"",null,{"$f":"IF(ISERROR(VLOOKUP(#REF!,localizacao,2,FALSE)),\"\",VLOOKUP(#REF!,localizacao,2,FALSE))","v":""},null,"",null,""]
[null,"",null,{"$f":"IF(ISERROR(VLOOKUP(#REF!,localizacao,2,FALSE)),\"\",VLOOKUP(#REF!,localizacao,2,FALSE))","v":""},null,"",null,""]
[null,"",null,{"$f":"IF(ISERROR(VLOOKUP(#REF!,localizacao,2,FALSE)),\"\",VLOOKUP(#REF!,localizacao,2,FALSE))","v":""},null,"",null,""]
[null,"",null,{"$f":"IF(ISERROR(VLOOKUP(#REF!,localizacao,2,FALSE)),\"\",VLOOKUP(#REF!,localizacao,2,FALSE))","v":""},null,"",null,""]
[null,"",null,{"$f":"IF(ISERROR(VLOOKUP(#REF!,localizacao,2,FALSE)),\"\",VLOOKUP(#REF!,localizacao,2,FALSE))","v":""},null,"",null,""]
[null,"",null,{"$f":"IF(ISERROR(VLOOKUP(#REF!,localizacao,2,FALSE)),\"\",VLOOKUP(#REF!,localizacao,2,FALSE))","v":""},null,"",null,""]
[null,"",null,{"$f":"IF(ISERROR(VLOOKUP(#REF!,localizacao,2,FALSE)),\"\",VLOOKUP(#REF!,localizacao,2,FALSE))","v":""},null,"",null,""]
[null,"",null,{"$f":"IF(ISERROR(VLOOKUP(#REF!,localizacao,2,FALSE)),\"\",VLOOKUP(#REF!,localizacao,2,FALSE))","v":""},null,"",null,""]
[null,"",null,{"$f":"IF(ISERROR(VLOOKUP(#REF!,localizacao,2,FALSE)),\"\",VLOOKUP(#REF!,localizacao,2,FALSE))","v":""},null,"",null,""]
[null,"",null,{"$f":"IF(ISERROR(VLOOKUP(#REF!,localizacao,2,FALSE)),\"\",VLOOKUP(#REF!,localizacao,2,FALSE))","v":""},null,"",null,""]
[null,"",null,{"$f":"IF(ISERROR(VLOOKUP(#REF!,localizacao,2,FALSE)),\"\",VLOOKUP(#REF!,localizacao,2,FALSE))","v":""},null,"",null,""]
[null,"",null,{"$f":"IF(ISERROR(VLOOKUP(#REF!,localizacao,2,FALSE)),\"\",VLOOKUP(#REF!,localizacao,2,FALSE))","v":""},null,"",null,""]
[null,"",null,{"$f":"IF(ISERROR(VLOOKUP(#REF!,localizacao,2,FALSE)),\"\",VLOOKUP(#REF!,localizacao,2,FALSE))","v":""},null,"",null,""]
[null,"",null,{"$f":"IF(ISERROR(VLOOKUP(#REF!,localizacao,2,FALSE)),\"\",VLOOKUP(#REF!,localizacao,2,FALSE))","v":""},null,"",null,""]
[null,"",null,{"$f":"IF(ISERROR(VLOOKUP(#REF!,localizacao,2,FALSE)),\"\",VLOOKUP(#REF!,localizacao,2,FALSE))","v":""},null,"",null,""]
[null,"",null,{"$f":"IF(ISERROR(VLOOKUP(#REF!,localizacao,2,FALSE)),\"\",VLOOKUP(#REF!,localizacao,2,FALSE))","v":""},null,"",null,""]
[null,"",null,{"$f":"IF(ISERROR(VLOOKUP(#REF!,localizacao,2,FALSE)),\"\",VLOOKUP(#REF!,localizacao,2,FALSE))","v":""},null,"",null,""]
[null,"",null,{"$f":"IF(ISERROR(VLOOKUP(#REF!,localizacao,2,FALSE)),\"\",VLOOKUP(#REF!,localizacao,2,FALSE))","v":""},null,"",null,""]
[null,"",null,{"$f":"IF(ISERROR(VLOOKUP(#REF!,localizacao,2,FALSE)),\"\",VLOOKUP(#REF!,localizacao,2,FALSE))","v":""},null,"",null,""]
[null,"",null,{"$f":"IF(ISERROR(VLOOKUP(#REF!,localizacao,2,FALSE)),\"\",VLOOKUP(#REF!,localizacao,2,FALSE))","v":""},null,"",null,""]
[null,"",null,{"$f":"IF(ISERROR(VLOOKUP(#REF!,localizacao,2,FALSE)),\"\",VLOOKUP(#REF!,localizacao,2,FALSE))","v":""},null,"",null,""]
[null,"",null,{"$f":"IF(ISERROR(VLOOKUP(#REF!,localizacao,2,FALSE)),\"\",VLOOKUP(#REF!,localizacao,2,FALSE))","v":""},null,"",null,""]
[null,"",null,{"$f":"IF(ISERROR(VLOOKUP(#REF!,localizacao,2,FALSE)),\"\",VLOOKUP(#REF!,localizacao,2,FALSE))","v":""},null,"",null,""]
[null,"",null,{"$f":"IF(ISERROR(VLOOKUP(#REF!,localizacao,2,FALSE)),\"\",VLOOKUP(#REF!,localizacao,2,FALSE))","v":""},null,"",null,""]
[null,"",null,{"$f":"IF(ISERROR(VLOOKUP(#REF!,localizacao,2,FALSE)),\"\",VLOOKUP(#REF!,localizacao,2,FALSE))","v":""},null,"",null,""]
[null,"",null,{"$f":"IF(ISERROR(VLOOKUP(#REF!,localizacao,2,FALSE)),\"\",VLOOKUP(#REF!,localizacao,2,FALSE))","v":""},null,"",null,""]
[null,"",null,{"$f":"IF(ISERROR(VLOOKUP(#REF!,localizacao,2,FALSE)),\"\",VLOOKUP(#REF!,localizacao,2,FALSE))","v":""},null,"",null,""]
[null,"",null,{"$f":"IF(ISERROR(VLOOKUP(#REF!,localizacao,2,FALSE)),\"\",VLOOKUP(#REF!,localizacao,2,FALSE))","v":""},null,"",null,""]
[null,"",null,{"$f":"IF(ISERROR(VLOOKUP(#REF!,localizacao,2,FALSE)),\"\",VLOOKUP(#REF!,localizacao,2,FALSE))","v":""},null,"",null,""]
[null,"",null,{"$f":"IF(ISERROR(VLOOKUP(#REF!,localizacao,2,FALSE)),\"\",VLOOKUP(#REF!,localizacao,2,FALSE))","v":""},null,"",null,""]
[null,"",null,{"$f":"IF(ISERROR(VLOOKUP(#REF!,localizacao,2,FALSE)),\"\",VLOOKUP(#REF!,localizacao,2,FALSE))","v":""},null,"",null,""]
[null,"",null,{"$f":"IF(ISERROR(VLOOKUP(#REF!,localizacao,2,FALSE)),\"\",VLOOKUP(#REF!,localizacao,2,FALSE))","v":""},null,{"$f":"IF(ISERROR(VLOOKUP(G1990,componentes,2,FALSE)),\"\",VLOOKUP(G1990,componentes,2,FALSE))","v":""},null,{"$f":"IF(ISERROR(VLOOKUP(I1990,rubricas,2,FALSE)),\"\",VLOOKUP(I1990,rubricas,2,FALSE))","v":""}]
[null,{"$f":"IF(C1991<>\"\",+B1990+1,\"\")","v":""},null,{"$f":"IF(ISERROR(VLOOKUP(#REF!,localizacao,2,FALSE)),\"\",VLOOKUP(#REF!,localizacao,2,FALSE))","v":""},null,"",null,""]
[null,"",null,{"$f":"IF(ISERROR(VLOOKUP(#REF!,localizacao,2,FALSE)),\"\",VLOOKUP(#REF!,localizacao,2,FALSE))","v":""},null,"",null,""]
[null,"",null,{"$f":"IF(ISERROR(VLOOKUP(#REF!,localizacao,2,FALSE)),\"\",VLOOKUP(#REF!,localizacao,2,FALSE))","v":""},null,"",null,""]
[null,"",null,{"$f":"IF(ISERROR(VLOOKUP(#REF!,localizacao,2,FALSE)),\"\",VLOOKUP(#REF!,localizacao,2,FALSE))","v":""},null,"",null,""]
[null,"",null,{"$f":"IF(ISERROR(VLOOKUP(#REF!,localizacao,2,FALSE)),\"\",VLOOKUP(#REF!,localizacao,2,FALSE))","v":""},null,"",null,""]
[null,"",null,{"$f":"IF(ISERROR(VLOOKUP(#REF!,localizacao,2,FALSE)),\"\",VLOOKUP(#REF!,localizacao,2,FALSE))","v":""},null,"",null,""]
[null,"",null,{"$f":"IF(ISERROR(VLOOKUP(#REF!,localizacao,2,FALSE)),\"\",VLOOKUP(#REF!,localizacao,2,FALSE))","v":""},null,"",null,""]
[null,"",null,{"$f":"IF(ISERROR(VLOOKUP(#REF!,localizacao,2,FALSE)),\"\",VLOOKUP(#REF!,localizacao,2,FALSE))","v":""},null,"",null,""]
[null,"",null,{"$f":"IF(ISERROR(VLOOKUP(#REF!,localizacao,2,FALSE)),\"\",VLOOKUP(#REF!,localizacao,2,FALSE))","v":""},null,"",null,""]
[null,"",null,{"$f":"IF(ISERROR(VLOOKUP(#REF!,localizacao,2,FALSE)),\"\",VLOOKUP(#REF!,localizacao,2,FALSE))","v":""},null,"",null,""]
[null,"",null,{"$f":"IF(ISERROR(VLOOKUP(#REF!,localizacao,2,FALSE)),\"\",VLOOKUP(#REF!,localizacao,2,FALSE))","v":""},null,"",null,""]
[null,"",null,{"$f":"IF(ISERROR(VLOOKUP(#REF!,localizacao,2,FALSE)),\"\",VLOOKUP(#REF!,localizacao,2,FALSE))","v":""},null,"",null,""]
[null,"",null,{"$f":"IF(ISERROR(VLOOKUP(#REF!,localizacao,2,FALSE)),\"\",VLOOKUP(#REF!,localizacao,2,FALSE))","v":""},null,"",null,""]
[null,"",null,{"$f":"IF(ISERROR(VLOOKUP(#REF!,localizacao,2,FALSE)),\"\",VLOOKUP(#REF!,localizacao,2,FALSE))","v":""},null,"",null,""]
[null,"",null,{"$f":"IF(ISERROR(VLOOKUP(#REF!,localizacao,2,FALSE)),\"\",VLOOKUP(#REF!,localizacao,2,FALSE))","v":""},null,"",null,""]
[null,"",null,{"$f":"IF(ISERROR(VLOOKUP(#REF!,localizacao,2,FALSE)),\"\",VLOOKUP(#REF!,localizacao,2,FALSE))","v":""},null,"",null,""]
[null,"",null,{"$f":"IF(ISERROR(VLOOKUP(#REF!,localizacao,2,FALSE)),\"\",VLOOKUP(#REF!,localizacao,2,FALSE))","v":""},null,"",null,""]
[null,"",null,{"$f":"IF(ISERROR(VLOOKUP(#REF!,localizacao,2,FALSE)),\"\",VLOOKUP(#REF!,localizacao,2,FALSE))","v":""},null,"",null,""]
[null,"",null,{"$f":"IF(ISERROR(VLOOKUP(#REF!,localizacao,2,FALSE)),\"\",VLOOKUP(#REF!,localizacao,2,FALSE))","v":""},null,"",null,""]
[null,"",null,{"$f":"IF(ISERROR(VLOOKUP(#REF!,localizacao,2,FALSE)),\"\",VLOOKUP(#REF!,localizacao,2,FALSE))","v":""},null,"",null,""]
[null,"",null,{"$f":"IF(ISERROR(VLOOKUP(#REF!,localizacao,2,FALSE)),\"\",VLOOKUP(#REF!,localizacao,2,FALSE))","v":""},null,"",null,""]
[null,"",null,{"$f":"IF(ISERROR(VLOOKUP(#REF!,localizacao,2,FALSE)),\"\",VLOOKUP(#REF!,localizacao,2,FALSE))","v":""},null,"",null,""]
[null,"",null,{"$f":"IF(ISERROR(VLOOKUP(#REF!,localizacao,2,FALSE)),\"\",VLOOKUP(#REF!,localizacao,2,FALSE))","v":""},null,"",null,""]
[null,"",null,{"$f":"IF(ISERROR(VLOOKUP(#REF!,localizacao,2,FALSE)),\"\",VLOOKUP(#REF!,localizacao,2,FALSE))","v":""},null,"",null,""]
[null,"",null,{"$f":"IF(ISERROR(VLOOKUP(#REF!,localizacao,2,FALSE)),\"\",VLOOKUP(#REF!,localizacao,2,FALSE))","v":""},null,"",null,""]
[null,"",null,{"$f":"IF(ISERROR(VLOOKUP(#REF!,localizacao,2,FALSE)),\"\",VLOOKUP(#REF!,localizacao,2,FALSE))","v":""},null,"",null,""]
[null,"",null,{"$f":"IF(ISERROR(VLOOKUP(#REF!,localizacao,2,FALSE)),\"\",VLOOKUP(#REF!,localizacao,2,FALSE))","v":""},null,"",null,""]
[null,"",null,{"$f":"IF(ISERROR(VLOOKUP(#REF!,localizacao,2,FALSE)),\"\",VLOOKUP(#REF!,localizacao,2,FALSE))","v":""},null,"",null,""]
[null,"",null,{"$f":"IF(ISERROR(VLOOKUP(#REF!,localizacao,2,FALSE)),\"\",VLOOKUP(#REF!,localizacao,2,FALSE))","v":""},null,"",null,""]
[null,"",null,{"$f":"IF(ISERROR(VLOOKUP(#REF!,localizacao,2,FALSE)),\"\",VLOOKUP(#REF!,localizacao,2,FALSE))","v":""},null,"",null,""]
[null,"",null,{"$f":"IF(ISERROR(VLOOKUP(#REF!,localizacao,2,FALSE)),\"\",VLOOKUP(#REF!,localizacao,2,FALSE))","v":""},null,"",null,""]
[null,"",null,{"$f":"IF(ISERROR(VLOOKUP(#REF!,localizacao,2,FALSE)),\"\",VLOOKUP(#REF!,localizacao,2,FALSE))","v":""},null,"",null,""]
[null,"",null,{"$f":"IF(ISERROR(VLOOKUP(#REF!,localizacao,2,FALSE)),\"\",VLOOKUP(#REF!,localizacao,2,FALSE))","v":""},null,"",null,""]
[null,"",null,{"$f":"IF(ISERROR(VLOOKUP(#REF!,localizacao,2,FALSE)),\"\",VLOOKUP(#REF!,localizacao,2,FALSE))","v":""},null,"",null,""]
[null,"",null,{"$f":"IF(ISERROR(VLOOKUP(#REF!,localizacao,2,FALSE)),\"\",VLOOKUP(#REF!,localizacao,2,FALSE))","v":""},null,"",null,""]
[null,"",null,{"$f":"IF(ISERROR(VLOOKUP(#REF!,localizacao,2,FALSE)),\"\",VLOOKUP(#REF!,localizacao,2,FALSE))","v":""},null,"",null,""]
[null,"",null,{"$f":"IF(ISERROR(VLOOKUP(#REF!,localizacao,2,FALSE)),\"\",VLOOKUP(#REF!,localizacao,2,FALSE))","v":""},null,"",null,""]
[null,"",null,{"$f":"IF(ISERROR(VLOOKUP(#REF!,localizacao,2,FALSE)),\"\",VLOOKUP(#REF!,localizacao,2,FALSE))","v":""},null,"",null,""]
[null,"",null,{"$f":"IF(ISERROR(VLOOKUP(#REF!,localizacao,2,FALSE)),\"\",VLOOKUP(#REF!,localizacao,2,FALSE))","v":""},null,"",null,""]
[null,"",null,{"$f":"IF(ISERROR(VLOOKUP(#REF!,localizacao,2,FALSE)),\"\",VLOOKUP(#REF!,localizacao,2,FALSE))","v":""},null,"",null,""]
[null,"",null,{"$f":"IF(ISERROR(VLOOKUP(#REF!,localizacao,2,FALSE)),\"\",VLOOKUP(#REF!,localizacao,2,FALSE))","v":""},null,"",null,""]
[null,"",null,{"$f":"IF(ISERROR(VLOOKUP(#REF!,localizacao,2,FALSE)),\"\",VLOOKUP(#REF!,localizacao,2,FALSE))","v":""},null,"",null,""]
[null,"",null,{"$f":"IF(ISERROR(VLOOKUP(#REF!,localizacao,2,FALSE)),\"\",VLOOKUP(#REF!,localizacao,2,FALSE))","v":""},null,"",null,""]
[null,"",null,{"$f":"IF(ISERROR(VLOOKUP(#REF!,localizacao,2,FALSE)),\"\",VLOOKUP(#REF!,localizacao,2,FALSE))","v":""},null,"",null,""]
[null,"",null,{"$f":"IF(ISERROR(VLOOKUP(#REF!,localizacao,2,FALSE)),\"\",VLOOKUP(#REF!,localizacao,2,FALSE))","v":""},null,"",null,""]
[null,"",null,{"$f":"IF(ISERROR(VLOOKUP(#REF!,localizacao,2,FALSE)),\"\",VLOOKUP(#REF!,localizacao,2,FALSE))","v":""},null,"",null,""]
[null,"",null,{"$f":"IF(ISERROR(VLOOKUP(#REF!,localizacao,2,FALSE)),\"\",VLOOKUP(#REF!,localizacao,2,FALSE))","v":""},null,"",null,""]
[null,"",null,{"$f":"IF(ISERROR(VLOOKUP(#REF!,localizacao,2,FALSE)),\"\",VLOOKUP(#REF!,localizacao,2,FALSE))","v":""},null,"",null,""]
[null,"",null,{"$f":"IF(ISERROR(VLOOKUP(#REF!,localizacao,2,FALSE)),\"\",VLOOKUP(#REF!,localizacao,2,FALSE))","v":""},null,"",null,""]
[null,"",null,{"$f":"IF(ISERROR(VLOOKUP(#REF!,localizacao,2,FALSE)),\"\",VLOOKUP(#REF!,localizacao,2,FALSE))","v":""},null,"",null,""]
[null,"",null,{"$f":"IF(ISERROR(VLOOKUP(#REF!,localizacao,2,FALSE)),\"\",VLOOKUP(#REF!,localizacao,2,FALSE))","v":""},null,"",null,""]
[null,"",null,{"$f":"IF(ISERROR(VLOOKUP(#REF!,localizacao,2,FALSE)),\"\",VLOOKUP(#REF!,localizacao,2,FALSE))","v":""},null,"",null,""]
[null,"",null,{"$f":"IF(ISERROR(VLOOKUP(#REF!,localizacao,2,FALSE)),\"\",VLOOKUP(#REF!,localizacao,2,FALSE))","v":""},null,"",null,""]
[null,"",null,{"$f":"IF(ISERROR(VLOOKUP(#REF!,localizacao,2,FALSE)),\"\",VLOOKUP(#REF!,localizacao,2,FALSE))","v":""},null,"",null,""]
[null,"",null,{"$f":"IF(ISERROR(VLOOKUP(#REF!,localizacao,2,FALSE)),\"\",VLOOKUP(#REF!,localizacao,2,FALSE))","v":""},null,"",null,""]
[null,"",null,{"$f":"IF(ISERROR(VLOOKUP(#REF!,localizacao,2,FALSE)),\"\",VLOOKUP(#REF!,localizacao,2,FALSE))","v":""},null,"",null,""]
[null,"",null,{"$f":"IF(ISERROR(VLOOKUP(#REF!,localizacao,2,FALSE)),\"\",VLOOKUP(#REF!,localizacao,2,FALSE))","v":""},null,"",null,""]
[null,"",null,{"$f":"IF(ISERROR(VLOOKUP(#REF!,localizacao,2,FALSE)),\"\",VLOOKUP(#REF!,localizacao,2,FALSE))","v":""},null,"",null,""]
[null,"",null,{"$f":"IF(ISERROR(VLOOKUP(#REF!,localizacao,2,FALSE)),\"\",VLOOKUP(#REF!,localizacao,2,FALSE))","v":""},null,"",null,""]
[null,"",null,{"$f":"IF(ISERROR(VLOOKUP(#REF!,localizacao,2,FALSE)),\"\",VLOOKUP(#REF!,localizacao,2,FALSE))","v":""},null,"",null,""]
[null,"",null,{"$f":"IF(ISERROR(VLOOKUP(#REF!,localizacao,2,FALSE)),\"\",VLOOKUP(#REF!,localizacao,2,FALSE))","v":""},null,"",null,""]
[null,"",null,{"$f":"IF(ISERROR(VLOOKUP(#REF!,localizacao,2,FALSE)),\"\",VLOOKUP(#REF!,localizacao,2,FALSE))","v":""},null,"",null,""]
[null,"",null,{"$f":"IF(ISERROR(VLOOKUP(#REF!,localizacao,2,FALSE)),\"\",VLOOKUP(#REF!,localizacao,2,FALSE))","v":""},null,"",null,""]
[null,"",null,{"$f":"IF(ISERROR(VLOOKUP(#REF!,localizacao,2,FALSE)),\"\",VLOOKUP(#REF!,localizacao,2,FALSE))","v":""},null,{"$f":"IF(ISERROR(VLOOKUP(G2054,componentes,2,FALSE)),\"\",VLOOKUP(G2054,componentes,2,FALSE))","v":""},null,{"$f":"IF(ISERROR(VLOOKUP(I2054,rubricas,2,FALSE)),\"\",VLOOKUP(I2054,rubricas,2,FALSE))","v":""}]
[null,{"$f":"IF(C2055<>\"\",+B2054+1,\"\")","v":""},null,{"$f":"IF(ISERROR(VLOOKUP(#REF!,localizacao,2,FALSE)),\"\",VLOOKUP(#REF!,localizacao,2,FALSE))","v":""},null,"",null,""]
[null,"",null,{"$f":"IF(ISERROR(VLOOKUP(#REF!,localizacao,2,FALSE)),\"\",VLOOKUP(#REF!,localizacao,2,FALSE))","v":""},null,"",null,""]
[null,"",null,{"$f":"IF(ISERROR(VLOOKUP(#REF!,localizacao,2,FALSE)),\"\",VLOOKUP(#REF!,localizacao,2,FALSE))","v":""},null,"",null,""]
[null,"",null,{"$f":"IF(ISERROR(VLOOKUP(#REF!,localizacao,2,FALSE)),\"\",VLOOKUP(#REF!,localizacao,2,FALSE))","v":""},null,"",null,""]
[null,"",null,{"$f":"IF(ISERROR(VLOOKUP(#REF!,localizacao,2,FALSE)),\"\",VLOOKUP(#REF!,localizacao,2,FALSE))","v":""},null,"",null,""]
[null,"",null,{"$f":"IF(ISERROR(VLOOKUP(#REF!,localizacao,2,FALSE)),\"\",VLOOKUP(#REF!,localizacao,2,FALSE))","v":""},null,"",null,""]
[null,"",null,{"$f":"IF(ISERROR(VLOOKUP(#REF!,localizacao,2,FALSE)),\"\",VLOOKUP(#REF!,localizacao,2,FALSE))","v":""},null,"",null,""]
[null,"",null,{"$f":"IF(ISERROR(VLOOKUP(#REF!,localizacao,2,FALSE)),\"\",VLOOKUP(#REF!,localizacao,2,FALSE))","v":""},null,"",null,""]
[null,"",null,{"$f":"IF(ISERROR(VLOOKUP(#REF!,localizacao,2,FALSE)),\"\",VLOOKUP(#REF!,localizacao,2,FALSE))","v":""},null,"",null,""]
[null,"",null,{"$f":"IF(ISERROR(VLOOKUP(#REF!,localizacao,2,FALSE)),\"\",VLOOKUP(#REF!,localizacao,2,FALSE))","v":""},null,"",null,""]
[null,"",null,{"$f":"IF(ISERROR(VLOOKUP(#REF!,localizacao,2,FALSE)),\"\",VLOOKUP(#REF!,localizacao,2,FALSE))","v":""},null,"",null,""]
[null,"",null,{"$f":"IF(ISERROR(VLOOKUP(#REF!,localizacao,2,FALSE)),\"\",VLOOKUP(#REF!,localizacao,2,FALSE))","v":""},null,"",null,""]
[null,"",null,{"$f":"IF(ISERROR(VLOOKUP(#REF!,localizacao,2,FALSE)),\"\",VLOOKUP(#REF!,localizacao,2,FALSE))","v":""},null,"",null,""]
[null,"",null,{"$f":"IF(ISERROR(VLOOKUP(#REF!,localizacao,2,FALSE)),\"\",VLOOKUP(#REF!,localizacao,2,FALSE))","v":""},null,"",null,""]
[null,"",null,{"$f":"IF(ISERROR(VLOOKUP(#REF!,localizacao,2,FALSE)),\"\",VLOOKUP(#REF!,localizacao,2,FALSE))","v":""},null,"",null,""]
[null,"",null,{"$f":"IF(ISERROR(VLOOKUP(#REF!,localizacao,2,FALSE)),\"\",VLOOKUP(#REF!,localizacao,2,FALSE))","v":""},null,"",null,""]
[null,"",null,{"$f":"IF(ISERROR(VLOOKUP(#REF!,localizacao,2,FALSE)),\"\",VLOOKUP(#REF!,localizacao,2,FALSE))","v":""},null,"",null,""]
[null,"",null,{"$f":"IF(ISERROR(VLOOKUP(#REF!,localizacao,2,FALSE)),\"\",VLOOKUP(#REF!,localizacao,2,FALSE))","v":""},null,"",null,""]
[null,"",null,{"$f":"IF(ISERROR(VLOOKUP(#REF!,localizacao,2,FALSE)),\"\",VLOOKUP(#REF!,localizacao,2,FALSE))","v":""},null,"",null,""]
[null,"",null,{"$f":"IF(ISERROR(VLOOKUP(#REF!,localizacao,2,FALSE)),\"\",VLOOKUP(#REF!,localizacao,2,FALSE))","v":""},null,"",null,""]
[null,"",null,{"$f":"IF(ISERROR(VLOOKUP(#REF!,localizacao,2,FALSE)),\"\",VLOOKUP(#REF!,localizacao,2,FALSE))","v":""},null,"",null,""]
[null,"",null,{"$f":"IF(ISERROR(VLOOKUP(#REF!,localizacao,2,FALSE)),\"\",VLOOKUP(#REF!,localizacao,2,FALSE))","v":""},null,"",null,""]
[null,"",null,{"$f":"IF(ISERROR(VLOOKUP(#REF!,localizacao,2,FALSE)),\"\",VLOOKUP(#REF!,localizacao,2,FALSE))","v":""},null,"",null,""]
[null,"",null,{"$f":"IF(ISERROR(VLOOKUP(#REF!,localizacao,2,FALSE)),\"\",VLOOKUP(#REF!,localizacao,2,FALSE))","v":""},null,"",null,""]
[null,"",null,{"$f":"IF(ISERROR(VLOOKUP(#REF!,localizacao,2,FALSE)),\"\",VLOOKUP(#REF!,localizacao,2,FALSE))","v":""},null,"",null,""]
[null,"",null,{"$f":"IF(ISERROR(VLOOKUP(#REF!,localizacao,2,FALSE)),\"\",VLOOKUP(#REF!,localizacao,2,FALSE))","v":""},null,"",null,""]
[null,"",null,{"$f":"IF(ISERROR(VLOOKUP(#REF!,localizacao,2,FALSE)),\"\",VLOOKUP(#REF!,localizacao,2,FALSE))","v":""},null,"",null,""]
[null,"",null,{"$f":"IF(ISERROR(VLOOKUP(#REF!,localizacao,2,FALSE)),\"\",VLOOKUP(#REF!,localizacao,2,FALSE))","v":""},null,"",null,""]
[null,"",null,{"$f":"IF(ISERROR(VLOOKUP(#REF!,localizacao,2,FALSE)),\"\",VLOOKUP(#REF!,localizacao,2,FALSE))","v":""},null,"",null,""]
[null,"",null,{"$f":"IF(ISERROR(VLOOKUP(#REF!,localizacao,2,FALSE)),\"\",VLOOKUP(#REF!,localizacao,2,FALSE))","v":""},null,"",null,""]
[null,"",null,{"$f":"IF(ISERROR(VLOOKUP(#REF!,localizacao,2,FALSE)),\"\",VLOOKUP(#REF!,localizacao,2,FALSE))","v":""},null,"",null,""]
[null,"",null,{"$f":"IF(ISERROR(VLOOKUP(#REF!,localizacao,2,FALSE)),\"\",VLOOKUP(#REF!,localizacao,2,FALSE))","v":""},null,"",null,""]
[null,"",null,{"$f":"IF(ISERROR(VLOOKUP(#REF!,localizacao,2,FALSE)),\"\",VLOOKUP(#REF!,localizacao,2,FALSE))","v":""},null,"",null,""]
[null,"",null,{"$f":"IF(ISERROR(VLOOKUP(#REF!,localizacao,2,FALSE)),\"\",VLOOKUP(#REF!,localizacao,2,FALSE))","v":""},null,"",null,""]
[null,"",null,{"$f":"IF(ISERROR(VLOOKUP(#REF!,localizacao,2,FALSE)),\"\",VLOOKUP(#REF!,localizacao,2,FALSE))","v":""},null,"",null,""]
[null,"",null,{"$f":"IF(ISERROR(VLOOKUP(#REF!,localizacao,2,FALSE)),\"\",VLOOKUP(#REF!,localizacao,2,FALSE))","v":""},null,"",null,""]
[null,"",null,{"$f":"IF(ISERROR(VLOOKUP(#REF!,localizacao,2,FALSE)),\"\",VLOOKUP(#REF!,localizacao,2,FALSE))","v":""},null,"",null,""]
[null,"",null,{"$f":"IF(ISERROR(VLOOKUP(#REF!,localizacao,2,FALSE)),\"\",VLOOKUP(#REF!,localizacao,2,FALSE))","v":""},null,"",null,""]
[null,"",null,{"$f":"IF(ISERROR(VLOOKUP(#REF!,localizacao,2,FALSE)),\"\",VLOOKUP(#REF!,localizacao,2,FALSE))","v":""},null,"",null,""]
[null,"",null,{"$f":"IF(ISERROR(VLOOKUP(#REF!,localizacao,2,FALSE)),\"\",VLOOKUP(#REF!,localizacao,2,FALSE))","v":""},null,"",null,""]
[null,"",null,{"$f":"IF(ISERROR(VLOOKUP(#REF!,localizacao,2,FALSE)),\"\",VLOOKUP(#REF!,localizacao,2,FALSE))","v":""},null,"",null,""]
[null,"",null,{"$f":"IF(ISERROR(VLOOKUP(#REF!,localizacao,2,FALSE)),\"\",VLOOKUP(#REF!,localizacao,2,FALSE))","v":""},null,"",null,""]
[null,"",null,{"$f":"IF(ISERROR(VLOOKUP(#REF!,localizacao,2,FALSE)),\"\",VLOOKUP(#REF!,localizacao,2,FALSE))","v":""},null,"",null,""]
[null,"",null,{"$f":"IF(ISERROR(VLOOKUP(#REF!,localizacao,2,FALSE)),\"\",VLOOKUP(#REF!,localizacao,2,FALSE))","v":""},null,"",null,""]
[null,"",null,{"$f":"IF(ISERROR(VLOOKUP(#REF!,localizacao,2,FALSE)),\"\",VLOOKUP(#REF!,localizacao,2,FALSE))","v":""},null,"",null,""]
[null,"",null,{"$f":"IF(ISERROR(VLOOKUP(#REF!,localizacao,2,FALSE)),\"\",VLOOKUP(#REF!,localizacao,2,FALSE))","v":""},null,"",null,""]
[null,"",null,{"$f":"IF(ISERROR(VLOOKUP(#REF!,localizacao,2,FALSE)),\"\",VLOOKUP(#REF!,localizacao,2,FALSE))","v":""},null,"",null,""]
[null,"",null,{"$f":"IF(ISERROR(VLOOKUP(#REF!,localizacao,2,FALSE)),\"\",VLOOKUP(#REF!,localizacao,2,FALSE))","v":""},null,"",null,""]
[null,"",null,{"$f":"IF(ISERROR(VLOOKUP(#REF!,localizacao,2,FALSE)),\"\",VLOOKUP(#REF!,localizacao,2,FALSE))","v":""},null,"",null,""]
[null,"",null,{"$f":"IF(ISERROR(VLOOKUP(#REF!,localizacao,2,FALSE)),\"\",VLOOKUP(#REF!,localizacao,2,FALSE))","v":""},null,"",null,""]
[null,"",null,{"$f":"IF(ISERROR(VLOOKUP(#REF!,localizacao,2,FALSE)),\"\",VLOOKUP(#REF!,localizacao,2,FALSE))","v":""},null,"",null,""]
[null,"",null,{"$f":"IF(ISERROR(VLOOKUP(#REF!,localizacao,2,FALSE)),\"\",VLOOKUP(#REF!,localizacao,2,FALSE))","v":""},null,"",null,""]
[null,"",null,{"$f":"IF(ISERROR(VLOOKUP(#REF!,localizacao,2,FALSE)),\"\",VLOOKUP(#REF!,localizacao,2,FALSE))","v":""},null,"",null,""]
[null,"",null,{"$f":"IF(ISERROR(VLOOKUP(#REF!,localizacao,2,FALSE)),\"\",VLOOKUP(#REF!,localizacao,2,FALSE))","v":""},null,"",null,""]
[null,"",null,{"$f":"IF(ISERROR(VLOOKUP(#REF!,localizacao,2,FALSE)),\"\",VLOOKUP(#REF!,localizacao,2,FALSE))","v":""},null,"",null,""]
[null,"",null,{"$f":"IF(ISERROR(VLOOKUP(#REF!,localizacao,2,FALSE)),\"\",VLOOKUP(#REF!,localizacao,2,FALSE))","v":""},null,"",null,""]
[null,"",null,{"$f":"IF(ISERROR(VLOOKUP(#REF!,localizacao,2,FALSE)),\"\",VLOOKUP(#REF!,localizacao,2,FALSE))","v":""},null,"",null,""]
[null,"",null,{"$f":"IF(ISERROR(VLOOKUP(#REF!,localizacao,2,FALSE)),\"\",VLOOKUP(#REF!,localizacao,2,FALSE))","v":""},null,"",null,""]
[null,"",null,{"$f":"IF(ISERROR(VLOOKUP(#REF!,localizacao,2,FALSE)),\"\",VLOOKUP(#REF!,localizacao,2,FALSE))","v":""},null,"",null,""]
[null,"",null,{"$f":"IF(ISERROR(VLOOKUP(#REF!,localizacao,2,FALSE)),\"\",VLOOKUP(#REF!,localizacao,2,FALSE))","v":""},null,"",null,""]
[null,"",null,{"$f":"IF(ISERROR(VLOOKUP(#REF!,localizacao,2,FALSE)),\"\",VLOOKUP(#REF!,localizacao,2,FALSE))","v":""},null,"",null,""]
[null,"",null,{"$f":"IF(ISERROR(VLOOKUP(#REF!,localizacao,2,FALSE)),\"\",VLOOKUP(#REF!,localizacao,2,FALSE))","v":""},null,"",null,""]
[null,"",null,{"$f":"IF(ISERROR(VLOOKUP(#REF!,localizacao,2,FALSE)),\"\",VLOOKUP(#REF!,localizacao,2,FALSE))","v":""},null,"",null,""]
[null,"",null,{"$f":"IF(ISERROR(VLOOKUP(#REF!,localizacao,2,FALSE)),\"\",VLOOKUP(#REF!,localizacao,2,FALSE))","v":""},null,{"$f":"IF(ISERROR(VLOOKUP(G2118,componentes,2,FALSE)),\"\",VLOOKUP(G2118,componentes,2,FALSE))","v":""},null,{"$f":"IF(ISERROR(VLOOKUP(I2118,rubricas,2,FALSE)),\"\",VLOOKUP(I2118,rubricas,2,FALSE))","v":""}]
[null,{"$f":"IF(C2119<>\"\",+B2118+1,\"\")","v":""},null,{"$f":"IF(ISERROR(VLOOKUP(#REF!,localizacao,2,FALSE)),\"\",VLOOKUP(#REF!,localizacao,2,FALSE))","v":""},null,"",null,""]
[null,"",null,{"$f":"IF(ISERROR(VLOOKUP(#REF!,localizacao,2,FALSE)),\"\",VLOOKUP(#REF!,localizacao,2,FALSE))","v":""},null,"",null,""]
[null,"",null,{"$f":"IF(ISERROR(VLOOKUP(#REF!,localizacao,2,FALSE)),\"\",VLOOKUP(#REF!,localizacao,2,FALSE))","v":""},null,"",null,""]
[null,"",null,{"$f":"IF(ISERROR(VLOOKUP(#REF!,localizacao,2,FALSE)),\"\",VLOOKUP(#REF!,localizacao,2,FALSE))","v":""},null,"",null,""]
[null,"",null,{"$f":"IF(ISERROR(VLOOKUP(#REF!,localizacao,2,FALSE)),\"\",VLOOKUP(#REF!,localizacao,2,FALSE))","v":""},null,"",null,""]
[null,"",null,{"$f":"IF(ISERROR(VLOOKUP(#REF!,localizacao,2,FALSE)),\"\",VLOOKUP(#REF!,localizacao,2,FALSE))","v":""},null,"",null,""]
[null,"",null,{"$f":"IF(ISERROR(VLOOKUP(#REF!,localizacao,2,FALSE)),\"\",VLOOKUP(#REF!,localizacao,2,FALSE))","v":""},null,"",null,""]
[null,"",null,{"$f":"IF(ISERROR(VLOOKUP(#REF!,localizacao,2,FALSE)),\"\",VLOOKUP(#REF!,localizacao,2,FALSE))","v":""},null,"",null,""]
[null,"",null,{"$f":"IF(ISERROR(VLOOKUP(#REF!,localizacao,2,FALSE)),\"\",VLOOKUP(#REF!,localizacao,2,FALSE))","v":""},null,"",null,""]
[null,"",null,{"$f":"IF(ISERROR(VLOOKUP(#REF!,localizacao,2,FALSE)),\"\",VLOOKUP(#REF!,localizacao,2,FALSE))","v":""},null,"",null,""]
[null,"",null,{"$f":"IF(ISERROR(VLOOKUP(#REF!,localizacao,2,FALSE)),\"\",VLOOKUP(#REF!,localizacao,2,FALSE))","v":""},null,"",null,""]
[null,"",null,{"$f":"IF(ISERROR(VLOOKUP(#REF!,localizacao,2,FALSE)),\"\",VLOOKUP(#REF!,localizacao,2,FALSE))","v":""},null,"",null,""]
[null,"",null,{"$f":"IF(ISERROR(VLOOKUP(#REF!,localizacao,2,FALSE)),\"\",VLOOKUP(#REF!,localizacao,2,FALSE))","v":""},null,"",null,""]
[null,"",null,{"$f":"IF(ISERROR(VLOOKUP(#REF!,localizacao,2,FALSE)),\"\",VLOOKUP(#REF!,localizacao,2,FALSE))","v":""},null,"",null,""]
[null,"",null,{"$f":"IF(ISERROR(VLOOKUP(#REF!,localizacao,2,FALSE)),\"\",VLOOKUP(#REF!,localizacao,2,FALSE))","v":""},null,"",null,""]
[null,"",null,{"$f":"IF(ISERROR(VLOOKUP(#REF!,localizacao,2,FALSE)),\"\",VLOOKUP(#REF!,localizacao,2,FALSE))","v":""},null,"",null,""]
[null,"",null,{"$f":"IF(ISERROR(VLOOKUP(#REF!,localizacao,2,FALSE)),\"\",VLOOKUP(#REF!,localizacao,2,FALSE))","v":""},null,"",null,""]
[null,"",null,{"$f":"IF(ISERROR(VLOOKUP(#REF!,localizacao,2,FALSE)),\"\",VLOOKUP(#REF!,localizacao,2,FALSE))","v":""},null,"",null,""]
[null,"",null,{"$f":"IF(ISERROR(VLOOKUP(#REF!,localizacao,2,FALSE)),\"\",VLOOKUP(#REF!,localizacao,2,FALSE))","v":""},null,"",null,""]
[null,"",null,{"$f":"IF(ISERROR(VLOOKUP(#REF!,localizacao,2,FALSE)),\"\",VLOOKUP(#REF!,localizacao,2,FALSE))","v":""},null,"",null,""]
[null,"",null,{"$f":"IF(ISERROR(VLOOKUP(#REF!,localizacao,2,FALSE)),\"\",VLOOKUP(#REF!,localizacao,2,FALSE))","v":""},null,"",null,""]
[null,"",null,{"$f":"IF(ISERROR(VLOOKUP(#REF!,localizacao,2,FALSE)),\"\",VLOOKUP(#REF!,localizacao,2,FALSE))","v":""},null,"",null,""]
[null,"",null,{"$f":"IF(ISERROR(VLOOKUP(#REF!,localizacao,2,FALSE)),\"\",VLOOKUP(#REF!,localizacao,2,FALSE))","v":""},null,"",null,""]
[null,"",null,{"$f":"IF(ISERROR(VLOOKUP(#REF!,localizacao,2,FALSE)),\"\",VLOOKUP(#REF!,localizacao,2,FALSE))","v":""},null,"",null,""]
[null,"",null,{"$f":"IF(ISERROR(VLOOKUP(#REF!,localizacao,2,FALSE)),\"\",VLOOKUP(#REF!,localizacao,2,FALSE))","v":""},null,"",null,""]
[null,"",null,{"$f":"IF(ISERROR(VLOOKUP(#REF!,localizacao,2,FALSE)),\"\",VLOOKUP(#REF!,localizacao,2,FALSE))","v":""},null,"",null,""]
[null,"",null,{"$f":"IF(ISERROR(VLOOKUP(#REF!,localizacao,2,FALSE)),\"\",VLOOKUP(#REF!,localizacao,2,FALSE))","v":""},null,"",null,""]
[null,"",null,{"$f":"IF(ISERROR(VLOOKUP(#REF!,localizacao,2,FALSE)),\"\",VLOOKUP(#REF!,localizacao,2,FALSE))","v":""},null,"",null,""]
[null,"",null,{"$f":"IF(ISERROR(VLOOKUP(#REF!,localizacao,2,FALSE)),\"\",VLOOKUP(#REF!,localizacao,2,FALSE))","v":""},null,"",null,""]
[null,"",null,{"$f":"IF(ISERROR(VLOOKUP(#REF!,localizacao,2,FALSE)),\"\",VLOOKUP(#REF!,localizacao,2,FALSE))","v":""},null,"",null,""]
[null,"",null,{"$f":"IF(ISERROR(VLOOKUP(#REF!,localizacao,2,FALSE)),\"\",VLOOKUP(#REF!,localizacao,2,FALSE))","v":""},null,"",null,""]
[null,"",null,{"$f":"IF(ISERROR(VLOOKUP(#REF!,localizacao,2,FALSE)),\"\",VLOOKUP(#REF!,localizacao,2,FALSE))","v":""},null,"",null,""]
[null,"",null,{"$f":"IF(ISERROR(VLOOKUP(#REF!,localizacao,2,FALSE)),\"\",VLOOKUP(#REF!,localizacao,2,FALSE))","v":""},null,"",null,""]
[null,"",null,{"$f":"IF(ISERROR(VLOOKUP(#REF!,localizacao,2,FALSE)),\"\",VLOOKUP(#REF!,localizacao,2,FALSE))","v":""},null,"",null,""]
[null,"",null,{"$f":"IF(ISERROR(VLOOKUP(#REF!,localizacao,2,FALSE)),\"\",VLOOKUP(#REF!,localizacao,2,FALSE))","v":""},null,"",null,""]
[null,"",null,{"$f":"IF(ISERROR(VLOOKUP(#REF!,localizacao,2,FALSE)),\"\",VLOOKUP(#REF!,localizacao,2,FALSE))","v":""},null,"",null,""]
[null,"",null,{"$f":"IF(ISERROR(VLOOKUP(#REF!,localizacao,2,FALSE)),\"\",VLOOKUP(#REF!,localizacao,2,FALSE))","v":""},null,"",null,""]
[null,"",null,{"$f":"IF(ISERROR(VLOOKUP(#REF!,localizacao,2,FALSE)),\"\",VLOOKUP(#REF!,localizacao,2,FALSE))","v":""},null,"",null,""]
[null,"",null,{"$f":"IF(ISERROR(VLOOKUP(#REF!,localizacao,2,FALSE)),\"\",VLOOKUP(#REF!,localizacao,2,FALSE))","v":""},null,"",null,""]
[null,"",null,{"$f":"IF(ISERROR(VLOOKUP(#REF!,localizacao,2,FALSE)),\"\",VLOOKUP(#REF!,localizacao,2,FALSE))","v":""},null,"",null,""]
[null,"",null,{"$f":"IF(ISERROR(VLOOKUP(#REF!,localizacao,2,FALSE)),\"\",VLOOKUP(#REF!,localizacao,2,FALSE))","v":""},null,"",null,""]
[null,"",null,{"$f":"IF(ISERROR(VLOOKUP(#REF!,localizacao,2,FALSE)),\"\",VLOOKUP(#REF!,localizacao,2,FALSE))","v":""},null,"",null,""]
[null,"",null,{"$f":"IF(ISERROR(VLOOKUP(#REF!,localizacao,2,FALSE)),\"\",VLOOKUP(#REF!,localizacao,2,FALSE))","v":""},null,"",null,""]
[null,"",null,{"$f":"IF(ISERROR(VLOOKUP(#REF!,localizacao,2,FALSE)),\"\",VLOOKUP(#REF!,localizacao,2,FALSE))","v":""},null,"",null,""]
[null,"",null,{"$f":"IF(ISERROR(VLOOKUP(#REF!,localizacao,2,FALSE)),\"\",VLOOKUP(#REF!,localizacao,2,FALSE))","v":""},null,"",null,""]
[null,"",null,{"$f":"IF(ISERROR(VLOOKUP(#REF!,localizacao,2,FALSE)),\"\",VLOOKUP(#REF!,localizacao,2,FALSE))","v":""},null,"",null,""]
[null,"",null,{"$f":"IF(ISERROR(VLOOKUP(#REF!,localizacao,2,FALSE)),\"\",VLOOKUP(#REF!,localizacao,2,FALSE))","v":""},null,"",null,""]
[null,"",null,{"$f":"IF(ISERROR(VLOOKUP(#REF!,localizacao,2,FALSE)),\"\",VLOOKUP(#REF!,localizacao,2,FALSE))","v":""},null,"",null,""]
[null,"",null,{"$f":"IF(ISERROR(VLOOKUP(#REF!,localizacao,2,FALSE)),\"\",VLOOKUP(#REF!,localizacao,2,FALSE))","v":""},null,"",null,""]
[null,"",null,{"$f":"IF(ISERROR(VLOOKUP(#REF!,localizacao,2,FALSE)),\"\",VLOOKUP(#REF!,localizacao,2,FALSE))","v":""},null,"",null,""]
[null,"",null,{"$f":"IF(ISERROR(VLOOKUP(#REF!,localizacao,2,FALSE)),\"\",VLOOKUP(#REF!,localizacao,2,FALSE))","v":""},null,"",null,""]
[null,"",null,{"$f":"IF(ISERROR(VLOOKUP(#REF!,localizacao,2,FALSE)),\"\",VLOOKUP(#REF!,localizacao,2,FALSE))","v":""},null,"",null,""]
[null,"",null,{"$f":"IF(ISERROR(VLOOKUP(#REF!,localizacao,2,FALSE)),\"\",VLOOKUP(#REF!,localizacao,2,FALSE))","v":""},null,"",null,""]
[null,"",null,{"$f":"IF(ISERROR(VLOOKUP(#REF!,localizacao,2,FALSE)),\"\",VLOOKUP(#REF!,localizacao,2,FALSE))","v":""},null,"",null,""]
[null,"",null,{"$f":"IF(ISERROR(VLOOKUP(#REF!,localizacao,2,FALSE)),\"\",VLOOKUP(#REF!,localizacao,2,FALSE))","v":""},null,"",null,""]
[null,"",null,{"$f":"IF(ISERROR(VLOOKUP(#REF!,localizacao,2,FALSE)),\"\",VLOOKUP(#REF!,localizacao,2,FALSE))","v":""},null,"",null,""]
[null,"",null,{"$f":"IF(ISERROR(VLOOKUP(#REF!,localizacao,2,FALSE)),\"\",VLOOKUP(#REF!,localizacao,2,FALSE))","v":""},null,"",null,""]
[null,"",null,{"$f":"IF(ISERROR(VLOOKUP(#REF!,localizacao,2,FALSE)),\"\",VLOOKUP(#REF!,localizacao,2,FALSE))","v":""},null,"",null,""]
[null,"",null,{"$f":"IF(ISERROR(VLOOKUP(#REF!,localizacao,2,FALSE)),\"\",VLOOKUP(#REF!,localizacao,2,FALSE))","v":""},null,"",null,""]
[null,"",null,{"$f":"IF(ISERROR(VLOOKUP(#REF!,localizacao,2,FALSE)),\"\",VLOOKUP(#REF!,localizacao,2,FALSE))","v":""},null,"",null,""]
[null,"",null,{"$f":"IF(ISERROR(VLOOKUP(#REF!,localizacao,2,FALSE)),\"\",VLOOKUP(#REF!,localizacao,2,FALSE))","v":""},null,"",null,""]
[null,"",null,{"$f":"IF(ISERROR(VLOOKUP(#REF!,localizacao,2,FALSE)),\"\",VLOOKUP(#REF!,localizacao,2,FALSE))","v":""},null,"",null,""]
[null,"",null,{"$f":"IF(ISERROR(VLOOKUP(#REF!,localizacao,2,FALSE)),\"\",VLOOKUP(#REF!,localizacao,2,FALSE))","v":""},null,"",null,""]
[null,"",null,{"$f":"IF(ISERROR(VLOOKUP(#REF!,localizacao,2,FALSE)),\"\",VLOOKUP(#REF!,localizacao,2,FALSE))","v":""},null,{"$f":"IF(ISERROR(VLOOKUP(G2182,componentes,2,FALSE)),\"\",VLOOKUP(G2182,componentes,2,FALSE))","v":""},null,{"$f":"IF(ISERROR(VLOOKUP(I2182,rubricas,2,FALSE)),\"\",VLOOKUP(I2182,rubricas,2,FALSE))","v":""}]
[null,{"$f":"IF(C2183<>\"\",+B2182+1,\"\")","v":""},null,{"$f":"IF(ISERROR(VLOOKUP(#REF!,localizacao,2,FALSE)),\"\",VLOOKUP(#REF!,localizacao,2,FALSE))","v":""},null,"",null,""]
[null,"",null,{"$f":"IF(ISERROR(VLOOKUP(#REF!,localizacao,2,FALSE)),\"\",VLOOKUP(#REF!,localizacao,2,FALSE))","v":""},null,"",null,""]
[null,"",null,{"$f":"IF(ISERROR(VLOOKUP(#REF!,localizacao,2,FALSE)),\"\",VLOOKUP(#REF!,localizacao,2,FALSE))","v":""},null,"",null,""]
[null,"",null,{"$f":"IF(ISERROR(VLOOKUP(#REF!,localizacao,2,FALSE)),\"\",VLOOKUP(#REF!,localizacao,2,FALSE))","v":""},null,"",null,""]
[null,"",null,{"$f":"IF(ISERROR(VLOOKUP(#REF!,localizacao,2,FALSE)),\"\",VLOOKUP(#REF!,localizacao,2,FALSE))","v":""},null,"",null,""]
[null,"",null,{"$f":"IF(ISERROR(VLOOKUP(#REF!,localizacao,2,FALSE)),\"\",VLOOKUP(#REF!,localizacao,2,FALSE))","v":""},null,"",null,""]
[null,"",null,{"$f":"IF(ISERROR(VLOOKUP(#REF!,localizacao,2,FALSE)),\"\",VLOOKUP(#REF!,localizacao,2,FALSE))","v":""},null,"",null,""]
[null,"",null,{"$f":"IF(ISERROR(VLOOKUP(#REF!,localizacao,2,FALSE)),\"\",VLOOKUP(#REF!,localizacao,2,FALSE))","v":""},null,"",null,""]
[null,"",null,{"$f":"IF(ISERROR(VLOOKUP(#REF!,localizacao,2,FALSE)),\"\",VLOOKUP(#REF!,localizacao,2,FALSE))","v":""},null,"",null,""]
[null,"",null,{"$f":"IF(ISERROR(VLOOKUP(#REF!,localizacao,2,FALSE)),\"\",VLOOKUP(#REF!,localizacao,2,FALSE))","v":""},null,"",null,""]
[null,"",null,{"$f":"IF(ISERROR(VLOOKUP(#REF!,localizacao,2,FALSE)),\"\",VLOOKUP(#REF!,localizacao,2,FALSE))","v":""},null,"",null,""]
[null,"",null,{"$f":"IF(ISERROR(VLOOKUP(#REF!,localizacao,2,FALSE)),\"\",VLOOKUP(#REF!,localizacao,2,FALSE))","v":""},null,"",null,""]
[null,"",null,{"$f":"IF(ISERROR(VLOOKUP(#REF!,localizacao,2,FALSE)),\"\",VLOOKUP(#REF!,localizacao,2,FALSE))","v":""},null,"",null,""]
[null,"",null,{"$f":"IF(ISERROR(VLOOKUP(#REF!,localizacao,2,FALSE)),\"\",VLOOKUP(#REF!,localizacao,2,FALSE))","v":""},null,"",null,""]
[null,"",null,{"$f":"IF(ISERROR(VLOOKUP(#REF!,localizacao,2,FALSE)),\"\",VLOOKUP(#REF!,localizacao,2,FALSE))","v":""},null,"",null,""]
[null,"",null,{"$f":"IF(ISERROR(VLOOKUP(#REF!,localizacao,2,FALSE)),\"\",VLOOKUP(#REF!,localizacao,2,FALSE))","v":""},null,"",null,""]
[null,"",null,{"$f":"IF(ISERROR(VLOOKUP(#REF!,localizacao,2,FALSE)),\"\",VLOOKUP(#REF!,localizacao,2,FALSE))","v":""},null,"",null,""]
[null,"",null,{"$f":"IF(ISERROR(VLOOKUP(#REF!,localizacao,2,FALSE)),\"\",VLOOKUP(#REF!,localizacao,2,FALSE))","v":""},null,"",null,""]
[null,"",null,{"$f":"IF(ISERROR(VLOOKUP(#REF!,localizacao,2,FALSE)),\"\",VLOOKUP(#REF!,localizacao,2,FALSE))","v":""},null,"",null,""]
[null,"",null,{"$f":"IF(ISERROR(VLOOKUP(#REF!,localizacao,2,FALSE)),\"\",VLOOKUP(#REF!,localizacao,2,FALSE))","v":""},null,"",null,""]
[null,"",null,{"$f":"IF(ISERROR(VLOOKUP(#REF!,localizacao,2,FALSE)),\"\",VLOOKUP(#REF!,localizacao,2,FALSE))","v":""},null,"",null,""]
[null,"",null,{"$f":"IF(ISERROR(VLOOKUP(#REF!,localizacao,2,FALSE)),\"\",VLOOKUP(#REF!,localizacao,2,FALSE))","v":""},null,"",null,""]
[null,"",null,{"$f":"IF(ISERROR(VLOOKUP(#REF!,localizacao,2,FALSE)),\"\",VLOOKUP(#REF!,localizacao,2,FALSE))","v":""},null,"",null,""]
[null,"",null,{"$f":"IF(ISERROR(VLOOKUP(#REF!,localizacao,2,FALSE)),\"\",VLOOKUP(#REF!,localizacao,2,FALSE))","v":""},null,"",null,""]
[null,"",null,{"$f":"IF(ISERROR(VLOOKUP(#REF!,localizacao,2,FALSE)),\"\",VLOOKUP(#REF!,localizacao,2,FALSE))","v":""},null,"",null,""]
[null,"",null,{"$f":"IF(ISERROR(VLOOKUP(#REF!,localizacao,2,FALSE)),\"\",VLOOKUP(#REF!,localizacao,2,FALSE))","v":""},null,"",null,""]
[null,"",null,{"$f":"IF(ISERROR(VLOOKUP(#REF!,localizacao,2,FALSE)),\"\",VLOOKUP(#REF!,localizacao,2,FALSE))","v":""},null,"",null,""]
[null,"",null,{"$f":"IF(ISERROR(VLOOKUP(#REF!,localizacao,2,FALSE)),\"\",VLOOKUP(#REF!,localizacao,2,FALSE))","v":""},null,"",null,""]
[null,"",null,{"$f":"IF(ISERROR(VLOOKUP(#REF!,localizacao,2,FALSE)),\"\",VLOOKUP(#REF!,localizacao,2,FALSE))","v":""},null,"",null,""]
[null,"",null,{"$f":"IF(ISERROR(VLOOKUP(#REF!,localizacao,2,FALSE)),\"\",VLOOKUP(#REF!,localizacao,2,FALSE))","v":""},null,"",null,""]
[null,"",null,{"$f":"IF(ISERROR(VLOOKUP(#REF!,localizacao,2,FALSE)),\"\",VLOOKUP(#REF!,localizacao,2,FALSE))","v":""},null,"",null,""]
[null,"",null,{"$f":"IF(ISERROR(VLOOKUP(#REF!,localizacao,2,FALSE)),\"\",VLOOKUP(#REF!,localizacao,2,FALSE))","v":""},null,"",null,""]
[null,"",null,{"$f":"IF(ISERROR(VLOOKUP(#REF!,localizacao,2,FALSE)),\"\",VLOOKUP(#REF!,localizacao,2,FALSE))","v":""},null,"",null,""]
[null,"",null,{"$f":"IF(ISERROR(VLOOKUP(#REF!,localizacao,2,FALSE)),\"\",VLOOKUP(#REF!,localizacao,2,FALSE))","v":""},null,"",null,""]
[null,"",null,{"$f":"IF(ISERROR(VLOOKUP(#REF!,localizacao,2,FALSE)),\"\",VLOOKUP(#REF!,localizacao,2,FALSE))","v":""},null,"",null,""]
[null,"",null,{"$f":"IF(ISERROR(VLOOKUP(#REF!,localizacao,2,FALSE)),\"\",VLOOKUP(#REF!,localizacao,2,FALSE))","v":""},null,"",null,""]
[null,"",null,{"$f":"IF(ISERROR(VLOOKUP(#REF!,localizacao,2,FALSE)),\"\",VLOOKUP(#REF!,localizacao,2,FALSE))","v":""},null,"",null,""]
[null,"",null,{"$f":"IF(ISERROR(VLOOKUP(#REF!,localizacao,2,FALSE)),\"\",VLOOKUP(#REF!,localizacao,2,FALSE))","v":""},null,"",null,""]
[null,"",null,{"$f":"IF(ISERROR(VLOOKUP(#REF!,localizacao,2,FALSE)),\"\",VLOOKUP(#REF!,localizacao,2,FALSE))","v":""},null,"",null,""]
[null,"",null,{"$f":"IF(ISERROR(VLOOKUP(#REF!,localizacao,2,FALSE)),\"\",VLOOKUP(#REF!,localizacao,2,FALSE))","v":""},null,"",null,""]
[null,"",null,{"$f":"IF(ISERROR(VLOOKUP(#REF!,localizacao,2,FALSE)),\"\",VLOOKUP(#REF!,localizacao,2,FALSE))","v":""},null,"",null,""]
[null,"",null,{"$f":"IF(ISERROR(VLOOKUP(#REF!,localizacao,2,FALSE)),\"\",VLOOKUP(#REF!,localizacao,2,FALSE))","v":""},null,"",null,""]
[null,"",null,{"$f":"IF(ISERROR(VLOOKUP(#REF!,localizacao,2,FALSE)),\"\",VLOOKUP(#REF!,localizacao,2,FALSE))","v":""},null,"",null,""]
[null,"",null,{"$f":"IF(ISERROR(VLOOKUP(#REF!,localizacao,2,FALSE)),\"\",VLOOKUP(#REF!,localizacao,2,FALSE))","v":""},null,"",null,""]
[null,"",null,{"$f":"IF(ISERROR(VLOOKUP(#REF!,localizacao,2,FALSE)),\"\",VLOOKUP(#REF!,localizacao,2,FALSE))","v":""},null,"",null,""]
[null,"",null,{"$f":"IF(ISERROR(VLOOKUP(#REF!,localizacao,2,FALSE)),\"\",VLOOKUP(#REF!,localizacao,2,FALSE))","v":""},null,"",null,""]
[null,"",null,{"$f":"IF(ISERROR(VLOOKUP(#REF!,localizacao,2,FALSE)),\"\",VLOOKUP(#REF!,localizacao,2,FALSE))","v":""},null,"",null,""]
[null,"",null,{"$f":"IF(ISERROR(VLOOKUP(#REF!,localizacao,2,FALSE)),\"\",VLOOKUP(#REF!,localizacao,2,FALSE))","v":""},null,"",null,""]
[null,"",null,{"$f":"IF(ISERROR(VLOOKUP(#REF!,localizacao,2,FALSE)),\"\",VLOOKUP(#REF!,localizacao,2,FALSE))","v":""},null,"",null,""]
[null,"",null,{"$f":"IF(ISERROR(VLOOKUP(#REF!,localizacao,2,FALSE)),\"\",VLOOKUP(#REF!,localizacao,2,FALSE))","v":""},null,"",null,""]
[null,"",null,{"$f":"IF(ISERROR(VLOOKUP(#REF!,localizacao,2,FALSE)),\"\",VLOOKUP(#REF!,localizacao,2,FALSE))","v":""},null,"",null,""]
[null,"",null,{"$f":"IF(ISERROR(VLOOKUP(#REF!,localizacao,2,FALSE)),\"\",VLOOKUP(#REF!,localizacao,2,FALSE))","v":""},null,"",null,""]
[null,"",null,{"$f":"IF(ISERROR(VLOOKUP(#REF!,localizacao,2,FALSE)),\"\",VLOOKUP(#REF!,localizacao,2,FALSE))","v":""},null,"",null,""]
[null,"",null,{"$f":"IF(ISERROR(VLOOKUP(#REF!,localizacao,2,FALSE)),\"\",VLOOKUP(#REF!,localizacao,2,FALSE))","v":""},null,"",null,""]
[null,"",null,{"$f":"IF(ISERROR(VLOOKUP(#REF!,localizacao,2,FALSE)),\"\",VLOOKUP(#REF!,localizacao,2,FALSE))","v":""},null,"",null,""]
[null,"",null,{"$f":"IF(ISERROR(VLOOKUP(#REF!,localizacao,2,FALSE)),\"\",VLOOKUP(#REF!,localizacao,2,FALSE))","v":""},null,"",null,""]
[null,"",null,{"$f":"IF(ISERROR(VLOOKUP(#REF!,localizacao,2,FALSE)),\"\",VLOOKUP(#REF!,localizacao,2,FALSE))","v":""},null,"",null,""]
[null,"",null,{"$f":"IF(ISERROR(VLOOKUP(#REF!,localizacao,2,FALSE)),\"\",VLOOKUP(#REF!,localizacao,2,FALSE))","v":""},null,"",null,""]
[null,"",null,{"$f":"IF(ISERROR(VLOOKUP(#REF!,localizacao,2,FALSE)),\"\",VLOOKUP(#REF!,localizacao,2,FALSE))","v":""},null,"",null,""]
[null,"",null,{"$f":"IF(ISERROR(VLOOKUP(#REF!,localizacao,2,FALSE)),\"\",VLOOKUP(#REF!,localizacao,2,FALSE))","v":""},null,"",null,""]
[null,"",null,{"$f":"IF(ISERROR(VLOOKUP(#REF!,localizacao,2,FALSE)),\"\",VLOOKUP(#REF!,localizacao,2,FALSE))","v":""},null,"",null,""]
[null,"",null,{"$f":"IF(ISERROR(VLOOKUP(#REF!,localizacao,2,FALSE)),\"\",VLOOKUP(#REF!,localizacao,2,FALSE))","v":""},null,"",null,""]
[null,"",null,{"$f":"IF(ISERROR(VLOOKUP(#REF!,localizacao,2,FALSE)),\"\",VLOOKUP(#REF!,localizacao,2,FALSE))","v":""},null,"",null,""]
[null,"",null,{"$f":"IF(ISERROR(VLOOKUP(#REF!,localizacao,2,FALSE)),\"\",VLOOKUP(#REF!,localizacao,2,FALSE))","v":""},null,{"$f":"IF(ISERROR(VLOOKUP(G2246,componentes,2,FALSE)),\"\",VLOOKUP(G2246,componentes,2,FALSE))","v":""},null,{"$f":"IF(ISERROR(VLOOKUP(I2246,rubricas,2,FALSE)),\"\",VLOOKUP(I2246,rubricas,2,FALSE))","v":""}]
[null,{"$f":"IF(C2247<>\"\",+B2246+1,\"\")","v":""},null,{"$f":"IF(ISERROR(VLOOKUP(#REF!,localizacao,2,FALSE)),\"\",VLOOKUP(#REF!,localizacao,2,FALSE))","v":""},null,"",null,""]
[null,"",null,{"$f":"IF(ISERROR(VLOOKUP(#REF!,localizacao,2,FALSE)),\"\",VLOOKUP(#REF!,localizacao,2,FALSE))","v":""},null,"",null,""]
[null,"",null,{"$f":"IF(ISERROR(VLOOKUP(#REF!,localizacao,2,FALSE)),\"\",VLOOKUP(#REF!,localizacao,2,FALSE))","v":""},null,"",null,""]
[null,"",null,{"$f":"IF(ISERROR(VLOOKUP(#REF!,localizacao,2,FALSE)),\"\",VLOOKUP(#REF!,localizacao,2,FALSE))","v":""},null,"",null,""]
[null,"",null,{"$f":"IF(ISERROR(VLOOKUP(#REF!,localizacao,2,FALSE)),\"\",VLOOKUP(#REF!,localizacao,2,FALSE))","v":""},null,"",null,""]
[null,"",null,{"$f":"IF(ISERROR(VLOOKUP(#REF!,localizacao,2,FALSE)),\"\",VLOOKUP(#REF!,localizacao,2,FALSE))","v":""},null,"",null,""]
[null,"",null,{"$f":"IF(ISERROR(VLOOKUP(#REF!,localizacao,2,FALSE)),\"\",VLOOKUP(#REF!,localizacao,2,FALSE))","v":""},null,"",null,""]
[null,"",null,{"$f":"IF(ISERROR(VLOOKUP(#REF!,localizacao,2,FALSE)),\"\",VLOOKUP(#REF!,localizacao,2,FALSE))","v":""},null,"",null,""]
[null,"",null,{"$f":"IF(ISERROR(VLOOKUP(#REF!,localizacao,2,FALSE)),\"\",VLOOKUP(#REF!,localizacao,2,FALSE))","v":""},null,"",null,""]
[null,"",null,{"$f":"IF(ISERROR(VLOOKUP(#REF!,localizacao,2,FALSE)),\"\",VLOOKUP(#REF!,localizacao,2,FALSE))","v":""},null,"",null,""]
[null,"",null,{"$f":"IF(ISERROR(VLOOKUP(#REF!,localizacao,2,FALSE)),\"\",VLOOKUP(#REF!,localizacao,2,FALSE))","v":""},null,"",null,""]
[null,"",null,{"$f":"IF(ISERROR(VLOOKUP(#REF!,localizacao,2,FALSE)),\"\",VLOOKUP(#REF!,localizacao,2,FALSE))","v":""},null,"",null,""]
[null,"",null,{"$f":"IF(ISERROR(VLOOKUP(#REF!,localizacao,2,FALSE)),\"\",VLOOKUP(#REF!,localizacao,2,FALSE))","v":""},null,"",null,""]
[null,"",null,{"$f":"IF(ISERROR(VLOOKUP(#REF!,localizacao,2,FALSE)),\"\",VLOOKUP(#REF!,localizacao,2,FALSE))","v":""},null,"",null,""]
[null,"",null,{"$f":"IF(ISERROR(VLOOKUP(#REF!,localizacao,2,FALSE)),\"\",VLOOKUP(#REF!,localizacao,2,FALSE))","v":""},null,"",null,""]
[null,"",null,{"$f":"IF(ISERROR(VLOOKUP(#REF!,localizacao,2,FALSE)),\"\",VLOOKUP(#REF!,localizacao,2,FALSE))","v":""},null,"",null,""]
[null,"",null,{"$f":"IF(ISERROR(VLOOKUP(#REF!,localizacao,2,FALSE)),\"\",VLOOKUP(#REF!,localizacao,2,FALSE))","v":""},null,"",null,""]
[null,"",null,{"$f":"IF(ISERROR(VLOOKUP(#REF!,localizacao,2,FALSE)),\"\",VLOOKUP(#REF!,localizacao,2,FALSE))","v":""},null,"",null,""]
[null,"",null,{"$f":"IF(ISERROR(VLOOKUP(#REF!,localizacao,2,FALSE)),\"\",VLOOKUP(#REF!,localizacao,2,FALSE))","v":""},null,"",null,""]
[null,"",null,{"$f":"IF(ISERROR(VLOOKUP(#REF!,localizacao,2,FALSE)),\"\",VLOOKUP(#REF!,localizacao,2,FALSE))","v":""},null,"",null,""]
[null,"",null,{"$f":"IF(ISERROR(VLOOKUP(#REF!,localizacao,2,FALSE)),\"\",VLOOKUP(#REF!,localizacao,2,FALSE))","v":""},null,"",null,""]
[null,"",null,{"$f":"IF(ISERROR(VLOOKUP(#REF!,localizacao,2,FALSE)),\"\",VLOOKUP(#REF!,localizacao,2,FALSE))","v":""},null,"",null,""]
[null,"",null,{"$f":"IF(ISERROR(VLOOKUP(#REF!,localizacao,2,FALSE)),\"\",VLOOKUP(#REF!,localizacao,2,FALSE))","v":""},null,"",null,""]
[null,"",null,{"$f":"IF(ISERROR(VLOOKUP(#REF!,localizacao,2,FALSE)),\"\",VLOOKUP(#REF!,localizacao,2,FALSE))","v":""},null,"",null,""]
[null,"",null,{"$f":"IF(ISERROR(VLOOKUP(#REF!,localizacao,2,FALSE)),\"\",VLOOKUP(#REF!,localizacao,2,FALSE))","v":""},null,"",null,""]
[null,"",null,{"$f":"IF(ISERROR(VLOOKUP(#REF!,localizacao,2,FALSE)),\"\",VLOOKUP(#REF!,localizacao,2,FALSE))","v":""},null,"",null,""]
[null,"",null,{"$f":"IF(ISERROR(VLOOKUP(#REF!,localizacao,2,FALSE)),\"\",VLOOKUP(#REF!,localizacao,2,FALSE))","v":""},null,"",null,""]
[null,"",null,{"$f":"IF(ISERROR(VLOOKUP(#REF!,localizacao,2,FALSE)),\"\",VLOOKUP(#REF!,localizacao,2,FALSE))","v":""},null,"",null,""]
[null,"",null,{"$f":"IF(ISERROR(VLOOKUP(#REF!,localizacao,2,FALSE)),\"\",VLOOKUP(#REF!,localizacao,2,FALSE))","v":""},null,"",null,""]
[null,"",null,{"$f":"IF(ISERROR(VLOOKUP(#REF!,localizacao,2,FALSE)),\"\",VLOOKUP(#REF!,localizacao,2,FALSE))","v":""},null,"",null,""]
[null,"",null,{"$f":"IF(ISERROR(VLOOKUP(#REF!,localizacao,2,FALSE)),\"\",VLOOKUP(#REF!,localizacao,2,FALSE))","v":""},null,"",null,""]
[null,"",null,{"$f":"IF(ISERROR(VLOOKUP(#REF!,localizacao,2,FALSE)),\"\",VLOOKUP(#REF!,localizacao,2,FALSE))","v":""},null,"",null,""]
[null,"",null,{"$f":"IF(ISERROR(VLOOKUP(#REF!,localizacao,2,FALSE)),\"\",VLOOKUP(#REF!,localizacao,2,FALSE))","v":""},null,"",null,""]
[null,"",null,{"$f":"IF(ISERROR(VLOOKUP(#REF!,localizacao,2,FALSE)),\"\",VLOOKUP(#REF!,localizacao,2,FALSE))","v":""},null,"",null,""]
[null,"",null,{"$f":"IF(ISERROR(VLOOKUP(#REF!,localizacao,2,FALSE)),\"\",VLOOKUP(#REF!,localizacao,2,FALSE))","v":""},null,"",null,""]
[null,"",null,{"$f":"IF(ISERROR(VLOOKUP(#REF!,localizacao,2,FALSE)),\"\",VLOOKUP(#REF!,localizacao,2,FALSE))","v":""},null,"",null,""]
[null,"",null,{"$f":"IF(ISERROR(VLOOKUP(#REF!,localizacao,2,FALSE)),\"\",VLOOKUP(#REF!,localizacao,2,FALSE))","v":""},null,"",null,""]
[null,"",null,{"$f":"IF(ISERROR(VLOOKUP(#REF!,localizacao,2,FALSE)),\"\",VLOOKUP(#REF!,localizacao,2,FALSE))","v":""},null,"",null,""]
[null,"",null,{"$f":"IF(ISERROR(VLOOKUP(#REF!,localizacao,2,FALSE)),\"\",VLOOKUP(#REF!,localizacao,2,FALSE))","v":""},null,"",null,""]
[null,"",null,{"$f":"IF(ISERROR(VLOOKUP(#REF!,localizacao,2,FALSE)),\"\",VLOOKUP(#REF!,localizacao,2,FALSE))","v":""},null,"",null,""]
[null,"",null,{"$f":"IF(ISERROR(VLOOKUP(#REF!,localizacao,2,FALSE)),\"\",VLOOKUP(#REF!,localizacao,2,FALSE))","v":""},null,"",null,""]
[null,"",null,{"$f":"IF(ISERROR(VLOOKUP(#REF!,localizacao,2,FALSE)),\"\",VLOOKUP(#REF!,localizacao,2,FALSE))","v":""},null,"",null,""]
[null,"",null,{"$f":"IF(ISERROR(VLOOKUP(#REF!,localizacao,2,FALSE)),\"\",VLOOKUP(#REF!,localizacao,2,FALSE))","v":""},null,"",null,""]
[null,"",null,{"$f":"IF(ISERROR(VLOOKUP(#REF!,localizacao,2,FALSE)),\"\",VLOOKUP(#REF!,localizacao,2,FALSE))","v":""},null,"",null,""]
[null,"",null,{"$f":"IF(ISERROR(VLOOKUP(#REF!,localizacao,2,FALSE)),\"\",VLOOKUP(#REF!,localizacao,2,FALSE))","v":""},null,"",null,""]
[null,"",null,{"$f":"IF(ISERROR(VLOOKUP(#REF!,localizacao,2,FALSE)),\"\",VLOOKUP(#REF!,localizacao,2,FALSE))","v":""},null,"",null,""]
[null,"",null,{"$f":"IF(ISERROR(VLOOKUP(#REF!,localizacao,2,FALSE)),\"\",VLOOKUP(#REF!,localizacao,2,FALSE))","v":""},null,"",null,""]
[null,"",null,{"$f":"IF(ISERROR(VLOOKUP(#REF!,localizacao,2,FALSE)),\"\",VLOOKUP(#REF!,localizacao,2,FALSE))","v":""},null,"",null,""]
[null,"",null,{"$f":"IF(ISERROR(VLOOKUP(#REF!,localizacao,2,FALSE)),\"\",VLOOKUP(#REF!,localizacao,2,FALSE))","v":""},null,"",null,""]
[null,"",null,{"$f":"IF(ISERROR(VLOOKUP(#REF!,localizacao,2,FALSE)),\"\",VLOOKUP(#REF!,localizacao,2,FALSE))","v":""},null,"",null,""]
[null,"",null,{"$f":"IF(ISERROR(VLOOKUP(#REF!,localizacao,2,FALSE)),\"\",VLOOKUP(#REF!,localizacao,2,FALSE))","v":""},null,"",null,""]
[null,"",null,{"$f":"IF(ISERROR(VLOOKUP(#REF!,localizacao,2,FALSE)),\"\",VLOOKUP(#REF!,localizacao,2,FALSE))","v":""},null,"",null,""]
[null,"",null,{"$f":"IF(ISERROR(VLOOKUP(#REF!,localizacao,2,FALSE)),\"\",VLOOKUP(#REF!,localizacao,2,FALSE))","v":""},null,"",null,""]
[null,"",null,{"$f":"IF(ISERROR(VLOOKUP(#REF!,localizacao,2,FALSE)),\"\",VLOOKUP(#REF!,localizacao,2,FALSE))","v":""},null,"",null,""]
[null,"",null,{"$f":"IF(ISERROR(VLOOKUP(#REF!,localizacao,2,FALSE)),\"\",VLOOKUP(#REF!,localizacao,2,FALSE))","v":""},null,"",null,""]
[null,"",null,{"$f":"IF(ISERROR(VLOOKUP(#REF!,localizacao,2,FALSE)),\"\",VLOOKUP(#REF!,localizacao,2,FALSE))","v":""},null,"",null,""]
[null,"",null,{"$f":"IF(ISERROR(VLOOKUP(#REF!,localizacao,2,FALSE)),\"\",VLOOKUP(#REF!,localizacao,2,FALSE))","v":""},null,"",null,""]
[null,"",null,{"$f":"IF(ISERROR(VLOOKUP(#REF!,localizacao,2,FALSE)),\"\",VLOOKUP(#REF!,localizacao,2,FALSE))","v":""},null,"",null,""]
[null,"",null,{"$f":"IF(ISERROR(VLOOKUP(#REF!,localizacao,2,FALSE)),\"\",VLOOKUP(#REF!,localizacao,2,FALSE))","v":""},null,"",null,""]
[null,"",null,{"$f":"IF(ISERROR(VLOOKUP(#REF!,localizacao,2,FALSE)),\"\",VLOOKUP(#REF!,localizacao,2,FALSE))","v":""},null,"",null,""]
[null,"",null,{"$f":"IF(ISERROR(VLOOKUP(#REF!,localizacao,2,FALSE)),\"\",VLOOKUP(#REF!,localizacao,2,FALSE))","v":""},null,"",null,""]
[null,"",null,{"$f":"IF(ISERROR(VLOOKUP(#REF!,localizacao,2,FALSE)),\"\",VLOOKUP(#REF!,localizacao,2,FALSE))","v":""},null,"",null,""]
[null,"",null,{"$f":"IF(ISERROR(VLOOKUP(#REF!,localizacao,2,FALSE)),\"\",VLOOKUP(#REF!,localizacao,2,FALSE))","v":""},null,"",null,""]
[null,"",null,{"$f":"IF(ISERROR(VLOOKUP(#REF!,localizacao,2,FALSE)),\"\",VLOOKUP(#REF!,localizacao,2,FALSE))","v":""},null,{"$f":"IF(ISERROR(VLOOKUP(G2310,componentes,2,FALSE)),\"\",VLOOKUP(G2310,componentes,2,FALSE))","v":""},null,{"$f":"IF(ISERROR(VLOOKUP(I2310,rubricas,2,FALSE)),\"\",VLOOKUP(I2310,rubricas,2,FALSE))","v":""}]
[null,{"$f":"IF(C2311<>\"\",+B2310+1,\"\")","v":""},null,{"$f":"IF(ISERROR(VLOOKUP(#REF!,localizacao,2,FALSE)),\"\",VLOOKUP(#REF!,localizacao,2,FALSE))","v":""},null,"",null,""]
[null,"",null,{"$f":"IF(ISERROR(VLOOKUP(#REF!,localizacao,2,FALSE)),\"\",VLOOKUP(#REF!,localizacao,2,FALSE))","v":""},null,"",null,""]
[null,"",null,{"$f":"IF(ISERROR(VLOOKUP(#REF!,localizacao,2,FALSE)),\"\",VLOOKUP(#REF!,localizacao,2,FALSE))","v":""},null,"",null,""]
[null,"",null,{"$f":"IF(ISERROR(VLOOKUP(#REF!,localizacao,2,FALSE)),\"\",VLOOKUP(#REF!,localizacao,2,FALSE))","v":""},null,"",null,""]
[null,"",null,{"$f":"IF(ISERROR(VLOOKUP(#REF!,localizacao,2,FALSE)),\"\",VLOOKUP(#REF!,localizacao,2,FALSE))","v":""},null,"",null,""]
[null,"",null,{"$f":"IF(ISERROR(VLOOKUP(#REF!,localizacao,2,FALSE)),\"\",VLOOKUP(#REF!,localizacao,2,FALSE))","v":""},null,"",null,""]
[null,"",null,{"$f":"IF(ISERROR(VLOOKUP(#REF!,localizacao,2,FALSE)),\"\",VLOOKUP(#REF!,localizacao,2,FALSE))","v":""},null,"",null,""]
[null,"",null,{"$f":"IF(ISERROR(VLOOKUP(#REF!,localizacao,2,FALSE)),\"\",VLOOKUP(#REF!,localizacao,2,FALSE))","v":""},null,"",null,""]
[null,"",null,{"$f":"IF(ISERROR(VLOOKUP(#REF!,localizacao,2,FALSE)),\"\",VLOOKUP(#REF!,localizacao,2,FALSE))","v":""},null,"",null,""]
[null,"",null,{"$f":"IF(ISERROR(VLOOKUP(#REF!,localizacao,2,FALSE)),\"\",VLOOKUP(#REF!,localizacao,2,FALSE))","v":""},null,"",null,""]
[null,"",null,{"$f":"IF(ISERROR(VLOOKUP(#REF!,localizacao,2,FALSE)),\"\",VLOOKUP(#REF!,localizacao,2,FALSE))","v":""},null,"",null,""]
[null,"",null,{"$f":"IF(ISERROR(VLOOKUP(#REF!,localizacao,2,FALSE)),\"\",VLOOKUP(#REF!,localizacao,2,FALSE))","v":""},null,"",null,""]
[null,"",null,{"$f":"IF(ISERROR(VLOOKUP(#REF!,localizacao,2,FALSE)),\"\",VLOOKUP(#REF!,localizacao,2,FALSE))","v":""},null,"",null,""]
[null,"",null,{"$f":"IF(ISERROR(VLOOKUP(#REF!,localizacao,2,FALSE)),\"\",VLOOKUP(#REF!,localizacao,2,FALSE))","v":""},null,"",null,""]
[null,"",null,{"$f":"IF(ISERROR(VLOOKUP(#REF!,localizacao,2,FALSE)),\"\",VLOOKUP(#REF!,localizacao,2,FALSE))","v":""},null,"",null,""]
[null,"",null,{"$f":"IF(ISERROR(VLOOKUP(#REF!,localizacao,2,FALSE)),\"\",VLOOKUP(#REF!,localizacao,2,FALSE))","v":""},null,"",null,""]
[null,"",null,{"$f":"IF(ISERROR(VLOOKUP(#REF!,localizacao,2,FALSE)),\"\",VLOOKUP(#REF!,localizacao,2,FALSE))","v":""},null,"",null,""]
[null,"",null,{"$f":"IF(ISERROR(VLOOKUP(#REF!,localizacao,2,FALSE)),\"\",VLOOKUP(#REF!,localizacao,2,FALSE))","v":""},null,"",null,""]
[null,"",null,{"$f":"IF(ISERROR(VLOOKUP(#REF!,localizacao,2,FALSE)),\"\",VLOOKUP(#REF!,localizacao,2,FALSE))","v":""},null,"",null,""]
[null,"",null,{"$f":"IF(ISERROR(VLOOKUP(#REF!,localizacao,2,FALSE)),\"\",VLOOKUP(#REF!,localizacao,2,FALSE))","v":""},null,"",null,""]
[null,"",null,{"$f":"IF(ISERROR(VLOOKUP(#REF!,localizacao,2,FALSE)),\"\",VLOOKUP(#REF!,localizacao,2,FALSE))","v":""},null,"",null,""]
[null,"",null,{"$f":"IF(ISERROR(VLOOKUP(#REF!,localizacao,2,FALSE)),\"\",VLOOKUP(#REF!,localizacao,2,FALSE))","v":""},null,"",null,""]
[null,"",null,{"$f":"IF(ISERROR(VLOOKUP(#REF!,localizacao,2,FALSE)),\"\",VLOOKUP(#REF!,localizacao,2,FALSE))","v":""},null,"",null,""]
[null,"",null,{"$f":"IF(ISERROR(VLOOKUP(#REF!,localizacao,2,FALSE)),\"\",VLOOKUP(#REF!,localizacao,2,FALSE))","v":""},null,"",null,""]
[null,"",null,{"$f":"IF(ISERROR(VLOOKUP(#REF!,localizacao,2,FALSE)),\"\",VLOOKUP(#REF!,localizacao,2,FALSE))","v":""},null,"",null,""]
[null,"",null,{"$f":"IF(ISERROR(VLOOKUP(#REF!,localizacao,2,FALSE)),\"\",VLOOKUP(#REF!,localizacao,2,FALSE))","v":""},null,"",null,""]
[null,"",null,{"$f":"IF(ISERROR(VLOOKUP(#REF!,localizacao,2,FALSE)),\"\",VLOOKUP(#REF!,localizacao,2,FALSE))","v":""},null,"",null,""]
[null,"",null,{"$f":"IF(ISERROR(VLOOKUP(#REF!,localizacao,2,FALSE)),\"\",VLOOKUP(#REF!,localizacao,2,FALSE))","v":""},null,"",null,""]
[null,"",null,{"$f":"IF(ISERROR(VLOOKUP(#REF!,localizacao,2,FALSE)),\"\",VLOOKUP(#REF!,localizacao,2,FALSE))","v":""},null,"",null,""]
[null,"",null,{"$f":"IF(ISERROR(VLOOKUP(#REF!,localizacao,2,FALSE)),\"\",VLOOKUP(#REF!,localizacao,2,FALSE))","v":""},null,"",null,""]
[null,"",null,{"$f":"IF(ISERROR(VLOOKUP(#REF!,localizacao,2,FALSE)),\"\",VLOOKUP(#REF!,localizacao,2,FALSE))","v":""},null,"",null,""]
[null,"",null,{"$f":"IF(ISERROR(VLOOKUP(#REF!,localizacao,2,FALSE)),\"\",VLOOKUP(#REF!,localizacao,2,FALSE))","v":""},null,"",null,""]
[null,"",null,{"$f":"IF(ISERROR(VLOOKUP(#REF!,localizacao,2,FALSE)),\"\",VLOOKUP(#REF!,localizacao,2,FALSE))","v":""},null,"",null,""]
[null,"",null,{"$f":"IF(ISERROR(VLOOKUP(#REF!,localizacao,2,FALSE)),\"\",VLOOKUP(#REF!,localizacao,2,FALSE))","v":""},null,"",null,""]
[null,"",null,{"$f":"IF(ISERROR(VLOOKUP(#REF!,localizacao,2,FALSE)),\"\",VLOOKUP(#REF!,localizacao,2,FALSE))","v":""},null,"",null,""]
[null,"",null,{"$f":"IF(ISERROR(VLOOKUP(#REF!,localizacao,2,FALSE)),\"\",VLOOKUP(#REF!,localizacao,2,FALSE))","v":""},null,"",null,""]
[null,"",null,{"$f":"IF(ISERROR(VLOOKUP(#REF!,localizacao,2,FALSE)),\"\",VLOOKUP(#REF!,localizacao,2,FALSE))","v":""},null,"",null,""]
[null,"",null,{"$f":"IF(ISERROR(VLOOKUP(#REF!,localizacao,2,FALSE)),\"\",VLOOKUP(#REF!,localizacao,2,FALSE))","v":""},null,"",null,""]
[null,"",null,{"$f":"IF(ISERROR(VLOOKUP(#REF!,localizacao,2,FALSE)),\"\",VLOOKUP(#REF!,localizacao,2,FALSE))","v":""},null,"",null,""]
[null,"",null,{"$f":"IF(ISERROR(VLOOKUP(#REF!,localizacao,2,FALSE)),\"\",VLOOKUP(#REF!,localizacao,2,FALSE))","v":""},null,"",null,""]
[null,"",null,{"$f":"IF(ISERROR(VLOOKUP(#REF!,localizacao,2,FALSE)),\"\",VLOOKUP(#REF!,localizacao,2,FALSE))","v":""},null,"",null,""]
[null,"",null,{"$f":"IF(ISERROR(VLOOKUP(#REF!,localizacao,2,FALSE)),\"\",VLOOKUP(#REF!,localizacao,2,FALSE))","v":""},null,"",null,""]
[null,"",null,{"$f":"IF(ISERROR(VLOOKUP(#REF!,localizacao,2,FALSE)),\"\",VLOOKUP(#REF!,localizacao,2,FALSE))","v":""},null,"",null,""]
[null,"",null,{"$f":"IF(ISERROR(VLOOKUP(#REF!,localizacao,2,FALSE)),\"\",VLOOKUP(#REF!,localizacao,2,FALSE))","v":""},null,"",null,""]
[null,"",null,{"$f":"IF(ISERROR(VLOOKUP(#REF!,localizacao,2,FALSE)),\"\",VLOOKUP(#REF!,localizacao,2,FALSE))","v":""},null,"",null,""]
[null,"",null,{"$f":"IF(ISERROR(VLOOKUP(#REF!,localizacao,2,FALSE)),\"\",VLOOKUP(#REF!,localizacao,2,FALSE))","v":""},null,"",null,""]
[null,"",null,{"$f":"IF(ISERROR(VLOOKUP(#REF!,localizacao,2,FALSE)),\"\",VLOOKUP(#REF!,localizacao,2,FALSE))","v":""},null,"",null,""]
[null,"",null,{"$f":"IF(ISERROR(VLOOKUP(#REF!,localizacao,2,FALSE)),\"\",VLOOKUP(#REF!,localizacao,2,FALSE))","v":""},null,"",null,""]
[null,"",null,{"$f":"IF(ISERROR(VLOOKUP(#REF!,localizacao,2,FALSE)),\"\",VLOOKUP(#REF!,localizacao,2,FALSE))","v":""},null,"",null,""]
[null,"",null,{"$f":"IF(ISERROR(VLOOKUP(#REF!,localizacao,2,FALSE)),\"\",VLOOKUP(#REF!,localizacao,2,FALSE))","v":""},null,"",null,""]
[null,"",null,{"$f":"IF(ISERROR(VLOOKUP(#REF!,localizacao,2,FALSE)),\"\",VLOOKUP(#REF!,localizacao,2,FALSE))","v":""},null,"",null,""]
[null,"",null,{"$f":"IF(ISERROR(VLOOKUP(#REF!,localizacao,2,FALSE)),\"\",VLOOKUP(#REF!,localizacao,2,FALSE))","v":""},null,"",null,""]
[null,"",null,{"$f":"IF(ISERROR(VLOOKUP(#REF!,localizacao,2,FALSE)),\"\",VLOOKUP(#REF!,localizacao,2,FALSE))","v":""},null,"",null,""]
[null,"",null,{"$f":"IF(ISERROR(VLOOKUP(#REF!,localizacao,2,FALSE)),\"\",VLOOKUP(#REF!,localizacao,2,FALSE))","v":""},null,"",null,""]
[null,"",null,{"$f":"IF(ISERROR(VLOOKUP(#REF!,localizacao,2,FALSE)),\"\",VLOOKUP(#REF!,localizacao,2,FALSE))","v":""},null,"",null,""]
[null,"",null,{"$f":"IF(ISERROR(VLOOKUP(#REF!,localizacao,2,FALSE)),\"\",VLOOKUP(#REF!,localizacao,2,FALSE))","v":""},null,"",null,""]
[null,"",null,{"$f":"IF(ISERROR(VLOOKUP(#REF!,localizacao,2,FALSE)),\"\",VLOOKUP(#REF!,localizacao,2,FALSE))","v":""},null,"",null,""]
[null,"",null,{"$f":"IF(ISERROR(VLOOKUP(#REF!,localizacao,2,FALSE)),\"\",VLOOKUP(#REF!,localizacao,2,FALSE))","v":""},null,"",null,""]
[null,"",null,{"$f":"IF(ISERROR(VLOOKUP(#REF!,localizacao,2,FALSE)),\"\",VLOOKUP(#REF!,localizacao,2,FALSE))","v":""},null,"",null,""]
[null,"",null,{"$f":"IF(ISERROR(VLOOKUP(#REF!,localizacao,2,FALSE)),\"\",VLOOKUP(#REF!,localizacao,2,FALSE))","v":""},null,"",null,""]
[null,"",null,{"$f":"IF(ISERROR(VLOOKUP(#REF!,localizacao,2,FALSE)),\"\",VLOOKUP(#REF!,localizacao,2,FALSE))","v":""},null,"",null,""]
[null,"",null,{"$f":"IF(ISERROR(VLOOKUP(#REF!,localizacao,2,FALSE)),\"\",VLOOKUP(#REF!,localizacao,2,FALSE))","v":""},null,"",null,""]
[null,"",null,{"$f":"IF(ISERROR(VLOOKUP(#REF!,localizacao,2,FALSE)),\"\",VLOOKUP(#REF!,localizacao,2,FALSE))","v":""},null,"",null,""]
[null,"",null,{"$f":"IF(ISERROR(VLOOKUP(#REF!,localizacao,2,FALSE)),\"\",VLOOKUP(#REF!,localizacao,2,FALSE))","v":""},null,{"$f":"IF(ISERROR(VLOOKUP(G2374,componentes,2,FALSE)),\"\",VLOOKUP(G2374,componentes,2,FALSE))","v":""},null,{"$f":"IF(ISERROR(VLOOKUP(I2374,rubricas,2,FALSE)),\"\",VLOOKUP(I2374,rubricas,2,FALSE))","v":""}]
[null,{"$f":"IF(C2375<>\"\",+B2374+1,\"\")","v":""},null,{"$f":"IF(ISERROR(VLOOKUP(#REF!,localizacao,2,FALSE)),\"\",VLOOKUP(#REF!,localizacao,2,FALSE))","v":""},null,"",null,""]
[null,"",null,{"$f":"IF(ISERROR(VLOOKUP(#REF!,localizacao,2,FALSE)),\"\",VLOOKUP(#REF!,localizacao,2,FALSE))","v":""},null,"",null,""]
[null,"",null,{"$f":"IF(ISERROR(VLOOKUP(#REF!,localizacao,2,FALSE)),\"\",VLOOKUP(#REF!,localizacao,2,FALSE))","v":""},null,"",null,""]
[null,"",null,{"$f":"IF(ISERROR(VLOOKUP(#REF!,localizacao,2,FALSE)),\"\",VLOOKUP(#REF!,localizacao,2,FALSE))","v":""},null,"",null,""]
[null,"",null,{"$f":"IF(ISERROR(VLOOKUP(#REF!,localizacao,2,FALSE)),\"\",VLOOKUP(#REF!,localizacao,2,FALSE))","v":""},null,"",null,""]
[null,"",null,{"$f":"IF(ISERROR(VLOOKUP(#REF!,localizacao,2,FALSE)),\"\",VLOOKUP(#REF!,localizacao,2,FALSE))","v":""},null,"",null,""]
[null,"",null,{"$f":"IF(ISERROR(VLOOKUP(#REF!,localizacao,2,FALSE)),\"\",VLOOKUP(#REF!,localizacao,2,FALSE))","v":""},null,"",null,""]
[null,"",null,{"$f":"IF(ISERROR(VLOOKUP(#REF!,localizacao,2,FALSE)),\"\",VLOOKUP(#REF!,localizacao,2,FALSE))","v":""},null,"",null,""]
[null,"",null,{"$f":"IF(ISERROR(VLOOKUP(#REF!,localizacao,2,FALSE)),\"\",VLOOKUP(#REF!,localizacao,2,FALSE))","v":""},null,"",null,""]
[null,"",null,{"$f":"IF(ISERROR(VLOOKUP(#REF!,localizacao,2,FALSE)),\"\",VLOOKUP(#REF!,localizacao,2,FALSE))","v":""},null,"",null,""]
[null,"",null,{"$f":"IF(ISERROR(VLOOKUP(#REF!,localizacao,2,FALSE)),\"\",VLOOKUP(#REF!,localizacao,2,FALSE))","v":""},null,"",null,""]
[null,"",null,{"$f":"IF(ISERROR(VLOOKUP(#REF!,localizacao,2,FALSE)),\"\",VLOOKUP(#REF!,localizacao,2,FALSE))","v":""},null,"",null,""]
[null,"",null,{"$f":"IF(ISERROR(VLOOKUP(#REF!,localizacao,2,FALSE)),\"\",VLOOKUP(#REF!,localizacao,2,FALSE))","v":""},null,"",null,""]
[null,"",null,{"$f":"IF(ISERROR(VLOOKUP(#REF!,localizacao,2,FALSE)),\"\",VLOOKUP(#REF!,localizacao,2,FALSE))","v":""},null,"",null,""]
[null,"",null,{"$f":"IF(ISERROR(VLOOKUP(#REF!,localizacao,2,FALSE)),\"\",VLOOKUP(#REF!,localizacao,2,FALSE))","v":""},null,"",null,""]
[null,"",null,{"$f":"IF(ISERROR(VLOOKUP(#REF!,localizacao,2,FALSE)),\"\",VLOOKUP(#REF!,localizacao,2,FALSE))","v":""},null,"",null,""]
[null,"",null,{"$f":"IF(ISERROR(VLOOKUP(#REF!,localizacao,2,FALSE)),\"\",VLOOKUP(#REF!,localizacao,2,FALSE))","v":""},null,"",null,""]
[null,"",null,{"$f":"IF(ISERROR(VLOOKUP(#REF!,localizacao,2,FALSE)),\"\",VLOOKUP(#REF!,localizacao,2,FALSE))","v":""},null,"",null,""]
[null,"",null,{"$f":"IF(ISERROR(VLOOKUP(#REF!,localizacao,2,FALSE)),\"\",VLOOKUP(#REF!,localizacao,2,FALSE))","v":""},null,"",null,""]
[null,"",null,{"$f":"IF(ISERROR(VLOOKUP(#REF!,localizacao,2,FALSE)),\"\",VLOOKUP(#REF!,localizacao,2,FALSE))","v":""},null,"",null,""]
[null,"",null,{"$f":"IF(ISERROR(VLOOKUP(#REF!,localizacao,2,FALSE)),\"\",VLOOKUP(#REF!,localizacao,2,FALSE))","v":""},null,"",null,""]
[null,"",null,{"$f":"IF(ISERROR(VLOOKUP(#REF!,localizacao,2,FALSE)),\"\",VLOOKUP(#REF!,localizacao,2,FALSE))","v":""},null,"",null,""]
[null,"",null,{"$f":"IF(ISERROR(VLOOKUP(#REF!,localizacao,2,FALSE)),\"\",VLOOKUP(#REF!,localizacao,2,FALSE))","v":""},null,"",null,""]
[null,"",null,{"$f":"IF(ISERROR(VLOOKUP(#REF!,localizacao,2,FALSE)),\"\",VLOOKUP(#REF!,localizacao,2,FALSE))","v":""},null,"",null,""]
[null,"",null,{"$f":"IF(ISERROR(VLOOKUP(#REF!,localizacao,2,FALSE)),\"\",VLOOKUP(#REF!,localizacao,2,FALSE))","v":""},null,"",null,""]
[null,"",null,{"$f":"IF(ISERROR(VLOOKUP(#REF!,localizacao,2,FALSE)),\"\",VLOOKUP(#REF!,localizacao,2,FALSE))","v":""},null,"",null,""]
[null,"",null,{"$f":"IF(ISERROR(VLOOKUP(#REF!,localizacao,2,FALSE)),\"\",VLOOKUP(#REF!,localizacao,2,FALSE))","v":""},null,"",null,""]
[null,"",null,{"$f":"IF(ISERROR(VLOOKUP(#REF!,localizacao,2,FALSE)),\"\",VLOOKUP(#REF!,localizacao,2,FALSE))","v":""},null,"",null,""]
[null,"",null,{"$f":"IF(ISERROR(VLOOKUP(#REF!,localizacao,2,FALSE)),\"\",VLOOKUP(#REF!,localizacao,2,FALSE))","v":""},null,"",null,""]
[null,"",null,{"$f":"IF(ISERROR(VLOOKUP(#REF!,localizacao,2,FALSE)),\"\",VLOOKUP(#REF!,localizacao,2,FALSE))","v":""},null,"",null,""]
[null,"",null,{"$f":"IF(ISERROR(VLOOKUP(#REF!,localizacao,2,FALSE)),\"\",VLOOKUP(#REF!,localizacao,2,FALSE))","v":""},null,"",null,""]
[null,"",null,{"$f":"IF(ISERROR(VLOOKUP(#REF!,localizacao,2,FALSE)),\"\",VLOOKUP(#REF!,localizacao,2,FALSE))","v":""},null,"",null,""]
[null,"",null,{"$f":"IF(ISERROR(VLOOKUP(#REF!,localizacao,2,FALSE)),\"\",VLOOKUP(#REF!,localizacao,2,FALSE))","v":""},null,"",null,""]
[null,"",null,{"$f":"IF(ISERROR(VLOOKUP(#REF!,localizacao,2,FALSE)),\"\",VLOOKUP(#REF!,localizacao,2,FALSE))","v":""},null,"",null,""]
[null,"",null,{"$f":"IF(ISERROR(VLOOKUP(#REF!,localizacao,2,FALSE)),\"\",VLOOKUP(#REF!,localizacao,2,FALSE))","v":""},null,"",null,""]
[null,"",null,{"$f":"IF(ISERROR(VLOOKUP(#REF!,localizacao,2,FALSE)),\"\",VLOOKUP(#REF!,localizacao,2,FALSE))","v":""},null,"",null,""]
[null,"",null,{"$f":"IF(ISERROR(VLOOKUP(#REF!,localizacao,2,FALSE)),\"\",VLOOKUP(#REF!,localizacao,2,FALSE))","v":""},null,"",null,""]
[null,"",null,{"$f":"IF(ISERROR(VLOOKUP(#REF!,localizacao,2,FALSE)),\"\",VLOOKUP(#REF!,localizacao,2,FALSE))","v":""},null,"",null,""]
[null,"",null,{"$f":"IF(ISERROR(VLOOKUP(#REF!,localizacao,2,FALSE)),\"\",VLOOKUP(#REF!,localizacao,2,FALSE))","v":""},null,"",null,""]
[null,"",null,{"$f":"IF(ISERROR(VLOOKUP(#REF!,localizacao,2,FALSE)),\"\",VLOOKUP(#REF!,localizacao,2,FALSE))","v":""},null,"",null,""]
[null,"",null,{"$f":"IF(ISERROR(VLOOKUP(#REF!,localizacao,2,FALSE)),\"\",VLOOKUP(#REF!,localizacao,2,FALSE))","v":""},null,"",null,""]
[null,"",null,{"$f":"IF(ISERROR(VLOOKUP(#REF!,localizacao,2,FALSE)),\"\",VLOOKUP(#REF!,localizacao,2,FALSE))","v":""},null,"",null,""]
[null,"",null,{"$f":"IF(ISERROR(VLOOKUP(#REF!,localizacao,2,FALSE)),\"\",VLOOKUP(#REF!,localizacao,2,FALSE))","v":""},null,"",null,""]
[null,"",null,{"$f":"IF(ISERROR(VLOOKUP(#REF!,localizacao,2,FALSE)),\"\",VLOOKUP(#REF!,localizacao,2,FALSE))","v":""},null,"",null,""]
[null,"",null,{"$f":"IF(ISERROR(VLOOKUP(#REF!,localizacao,2,FALSE)),\"\",VLOOKUP(#REF!,localizacao,2,FALSE))","v":""},null,"",null,""]
[null,"",null,{"$f":"IF(ISERROR(VLOOKUP(#REF!,localizacao,2,FALSE)),\"\",VLOOKUP(#REF!,localizacao,2,FALSE))","v":""},null,"",null,""]
[null,"",null,{"$f":"IF(ISERROR(VLOOKUP(#REF!,localizacao,2,FALSE)),\"\",VLOOKUP(#REF!,localizacao,2,FALSE))","v":""},null,"",null,""]
[null,"",null,{"$f":"IF(ISERROR(VLOOKUP(#REF!,localizacao,2,FALSE)),\"\",VLOOKUP(#REF!,localizacao,2,FALSE))","v":""},null,"",null,""]
[null,"",null,{"$f":"IF(ISERROR(VLOOKUP(#REF!,localizacao,2,FALSE)),\"\",VLOOKUP(#REF!,localizacao,2,FALSE))","v":""},null,"",null,""]
[null,"",null,{"$f":"IF(ISERROR(VLOOKUP(#REF!,localizacao,2,FALSE)),\"\",VLOOKUP(#REF!,localizacao,2,FALSE))","v":""},null,"",null,""]
[null,"",null,{"$f":"IF(ISERROR(VLOOKUP(#REF!,localizacao,2,FALSE)),\"\",VLOOKUP(#REF!,localizacao,2,FALSE))","v":""},null,"",null,""]
[null,"",null,{"$f":"IF(ISERROR(VLOOKUP(#REF!,localizacao,2,FALSE)),\"\",VLOOKUP(#REF!,localizacao,2,FALSE))","v":""},null,"",null,""]
[null,"",null,{"$f":"IF(ISERROR(VLOOKUP(#REF!,localizacao,2,FALSE)),\"\",VLOOKUP(#REF!,localizacao,2,FALSE))","v":""},null,"",null,""]
[null,"",null,{"$f":"IF(ISERROR(VLOOKUP(#REF!,localizacao,2,FALSE)),\"\",VLOOKUP(#REF!,localizacao,2,FALSE))","v":""},null,"",null,""]
[null,"",null,{"$f":"IF(ISERROR(VLOOKUP(#REF!,localizacao,2,FALSE)),\"\",VLOOKUP(#REF!,localizacao,2,FALSE))","v":""},null,"",null,""]
[null,"",null,{"$f":"IF(ISERROR(VLOOKUP(#REF!,localizacao,2,FALSE)),\"\",VLOOKUP(#REF!,localizacao,2,FALSE))","v":""},null,"",null,""]
[null,"",null,{"$f":"IF(ISERROR(VLOOKUP(#REF!,localizacao,2,FALSE)),\"\",VLOOKUP(#REF!,localizacao,2,FALSE))","v":""},null,"",null,""]
[null,"",null,{"$f":"IF(ISERROR(VLOOKUP(#REF!,localizacao,2,FALSE)),\"\",VLOOKUP(#REF!,localizacao,2,FALSE))","v":""},null,"",null,""]
[null,"",null,{"$f":"IF(ISERROR(VLOOKUP(#REF!,localizacao,2,FALSE)),\"\",VLOOKUP(#REF!,localizacao,2,FALSE))","v":""},null,"",null,""]
[null,"",null,{"$f":"IF(ISERROR(VLOOKUP(#REF!,localizacao,2,FALSE)),\"\",VLOOKUP(#REF!,localizacao,2,FALSE))","v":""},null,"",null,""]
[null,"",null,{"$f":"IF(ISERROR(VLOOKUP(#REF!,localizacao,2,FALSE)),\"\",VLOOKUP(#REF!,localizacao,2,FALSE))","v":""},null,"",null,""]
[null,"",null,{"$f":"IF(ISERROR(VLOOKUP(#REF!,localizacao,2,FALSE)),\"\",VLOOKUP(#REF!,localizacao,2,FALSE))","v":""},null,"",null,""]
[null,"",null,{"$f":"IF(ISERROR(VLOOKUP(#REF!,localizacao,2,FALSE)),\"\",VLOOKUP(#REF!,localizacao,2,FALSE))","v":""},null,"",null,""]
[null,"",null,{"$f":"IF(ISERROR(VLOOKUP(#REF!,localizacao,2,FALSE)),\"\",VLOOKUP(#REF!,localizacao,2,FALSE))","v":""},null,{"$f":"IF(ISERROR(VLOOKUP(G2438,componentes,2,FALSE)),\"\",VLOOKUP(G2438,componentes,2,FALSE))","v":""},null,{"$f":"IF(ISERROR(VLOOKUP(I2438,rubricas,2,FALSE)),\"\",VLOOKUP(I2438,rubricas,2,FALSE))","v":""}]
[null,{"$f":"IF(C2439<>\"\",+B2438+1,\"\")","v":""},null,{"$f":"IF(ISERROR(VLOOKUP(#REF!,localizacao,2,FALSE)),\"\",VLOOKUP(#REF!,localizacao,2,FALSE))","v":""},null,"",null,""]
[null,"",null,{"$f":"IF(ISERROR(VLOOKUP(#REF!,localizacao,2,FALSE)),\"\",VLOOKUP(#REF!,localizacao,2,FALSE))","v":""},null,"",null,""]
[null,"",null,{"$f":"IF(ISERROR(VLOOKUP(#REF!,localizacao,2,FALSE)),\"\",VLOOKUP(#REF!,localizacao,2,FALSE))","v":""},null,"",null,""]
[null,"",null,{"$f":"IF(ISERROR(VLOOKUP(#REF!,localizacao,2,FALSE)),\"\",VLOOKUP(#REF!,localizacao,2,FALSE))","v":""},null,"",null,""]
[null,"",null,{"$f":"IF(ISERROR(VLOOKUP(#REF!,localizacao,2,FALSE)),\"\",VLOOKUP(#REF!,localizacao,2,FALSE))","v":""},null,"",null,""]
[null,"",null,{"$f":"IF(ISERROR(VLOOKUP(#REF!,localizacao,2,FALSE)),\"\",VLOOKUP(#REF!,localizacao,2,FALSE))","v":""},null,"",null,""]
[null,"",null,{"$f":"IF(ISERROR(VLOOKUP(#REF!,localizacao,2,FALSE)),\"\",VLOOKUP(#REF!,localizacao,2,FALSE))","v":""},null,"",null,""]
[null,"",null,{"$f":"IF(ISERROR(VLOOKUP(#REF!,localizacao,2,FALSE)),\"\",VLOOKUP(#REF!,localizacao,2,FALSE))","v":""},null,"",null,""]
[null,"",null,{"$f":"IF(ISERROR(VLOOKUP(#REF!,localizacao,2,FALSE)),\"\",VLOOKUP(#REF!,localizacao,2,FALSE))","v":""},null,"",null,""]
[null,"",null,{"$f":"IF(ISERROR(VLOOKUP(#REF!,localizacao,2,FALSE)),\"\",VLOOKUP(#REF!,localizacao,2,FALSE))","v":""},null,"",null,""]
[null,"",null,{"$f":"IF(ISERROR(VLOOKUP(#REF!,localizacao,2,FALSE)),\"\",VLOOKUP(#REF!,localizacao,2,FALSE))","v":""},null,"",null,""]
[null,"",null,{"$f":"IF(ISERROR(VLOOKUP(#REF!,localizacao,2,FALSE)),\"\",VLOOKUP(#REF!,localizacao,2,FALSE))","v":""},null,"",null,""]
[null,"",null,{"$f":"IF(ISERROR(VLOOKUP(#REF!,localizacao,2,FALSE)),\"\",VLOOKUP(#REF!,localizacao,2,FALSE))","v":""},null,"",null,""]
[null,"",null,{"$f":"IF(ISERROR(VLOOKUP(#REF!,localizacao,2,FALSE)),\"\",VLOOKUP(#REF!,localizacao,2,FALSE))","v":""},null,"",null,""]
[null,"",null,{"$f":"IF(ISERROR(VLOOKUP(#REF!,localizacao,2,FALSE)),\"\",VLOOKUP(#REF!,localizacao,2,FALSE))","v":""},null,"",null,""]
[null,"",null,{"$f":"IF(ISERROR(VLOOKUP(#REF!,localizacao,2,FALSE)),\"\",VLOOKUP(#REF!,localizacao,2,FALSE))","v":""},null,"",null,""]
[null,"",null,{"$f":"IF(ISERROR(VLOOKUP(#REF!,localizacao,2,FALSE)),\"\",VLOOKUP(#REF!,localizacao,2,FALSE))","v":""},null,"",null,""]
[null,"",null,{"$f":"IF(ISERROR(VLOOKUP(#REF!,localizacao,2,FALSE)),\"\",VLOOKUP(#REF!,localizacao,2,FALSE))","v":""},null,"",null,""]
[null,"",null,{"$f":"IF(ISERROR(VLOOKUP(#REF!,localizacao,2,FALSE)),\"\",VLOOKUP(#REF!,localizacao,2,FALSE))","v":""},null,"",null,""]
[null,"",null,{"$f":"IF(ISERROR(VLOOKUP(#REF!,localizacao,2,FALSE)),\"\",VLOOKUP(#REF!,localizacao,2,FALSE))","v":""},null,"",null,""]
[null,"",null,{"$f":"IF(ISERROR(VLOOKUP(#REF!,localizacao,2,FALSE)),\"\",VLOOKUP(#REF!,localizacao,2,FALSE))","v":""},null,"",null,""]
[null,"",null,{"$f":"IF(ISERROR(VLOOKUP(#REF!,localizacao,2,FALSE)),\"\",VLOOKUP(#REF!,localizacao,2,FALSE))","v":""},null,"",null,""]
[null,"",null,{"$f":"IF(ISERROR(VLOOKUP(#REF!,localizacao,2,FALSE)),\"\",VLOOKUP(#REF!,localizacao,2,FALSE))","v":""},null,"",null,""]
[null,"",null,{"$f":"IF(ISERROR(VLOOKUP(#REF!,localizacao,2,FALSE)),\"\",VLOOKUP(#REF!,localizacao,2,FALSE))","v":""},null,"",null,""]
[null,"",null,{"$f":"IF(ISERROR(VLOOKUP(#REF!,localizacao,2,FALSE)),\"\",VLOOKUP(#REF!,localizacao,2,FALSE))","v":""},null,"",null,""]
[null,"",null,{"$f":"IF(ISERROR(VLOOKUP(#REF!,localizacao,2,FALSE)),\"\",VLOOKUP(#REF!,localizacao,2,FALSE))","v":""},null,"",null,""]
[null,"",null,{"$f":"IF(ISERROR(VLOOKUP(#REF!,localizacao,2,FALSE)),\"\",VLOOKUP(#REF!,localizacao,2,FALSE))","v":""},null,"",null,""]
[null,"",null,{"$f":"IF(ISERROR(VLOOKUP(#REF!,localizacao,2,FALSE)),\"\",VLOOKUP(#REF!,localizacao,2,FALSE))","v":""},null,"",null,""]
[null,"",null,{"$f":"IF(ISERROR(VLOOKUP(#REF!,localizacao,2,FALSE)),\"\",VLOOKUP(#REF!,localizacao,2,FALSE))","v":""},null,"",null,""]
[null,"",null,{"$f":"IF(ISERROR(VLOOKUP(#REF!,localizacao,2,FALSE)),\"\",VLOOKUP(#REF!,localizacao,2,FALSE))","v":""},null,"",null,""]
[null,"",null,{"$f":"IF(ISERROR(VLOOKUP(#REF!,localizacao,2,FALSE)),\"\",VLOOKUP(#REF!,localizacao,2,FALSE))","v":""},null,"",null,""]
[null,"",null,{"$f":"IF(ISERROR(VLOOKUP(#REF!,localizacao,2,FALSE)),\"\",VLOOKUP(#REF!,localizacao,2,FALSE))","v":""},null,"",null,""]
[null,"",null,{"$f":"IF(ISERROR(VLOOKUP(#REF!,localizacao,2,FALSE)),\"\",VLOOKUP(#REF!,localizacao,2,FALSE))","v":""},null,"",null,""]
[null,"",null,{"$f":"IF(ISERROR(VLOOKUP(#REF!,localizacao,2,FALSE)),\"\",VLOOKUP(#REF!,localizacao,2,FALSE))","v":""},null,"",null,""]
[null,"",null,{"$f":"IF(ISERROR(VLOOKUP(#REF!,localizacao,2,FALSE)),\"\",VLOOKUP(#REF!,localizacao,2,FALSE))","v":""},null,"",null,""]
[null,"",null,{"$f":"IF(ISERROR(VLOOKUP(#REF!,localizacao,2,FALSE)),\"\",VLOOKUP(#REF!,localizacao,2,FALSE))","v":""},null,"",null,""]
[null,"",null,{"$f":"IF(ISERROR(VLOOKUP(#REF!,localizacao,2,FALSE)),\"\",VLOOKUP(#REF!,localizacao,2,FALSE))","v":""},null,"",null,""]
[null,"",null,{"$f":"IF(ISERROR(VLOOKUP(#REF!,localizacao,2,FALSE)),\"\",VLOOKUP(#REF!,localizacao,2,FALSE))","v":""},null,"",null,""]
[null,"",null,{"$f":"IF(ISERROR(VLOOKUP(#REF!,localizacao,2,FALSE)),\"\",VLOOKUP(#REF!,localizacao,2,FALSE))","v":""},null,"",null,""]
[null,"",null,{"$f":"IF(ISERROR(VLOOKUP(#REF!,localizacao,2,FALSE)),\"\",VLOOKUP(#REF!,localizacao,2,FALSE))","v":""},null,"",null,""]
[null,"",null,{"$f":"IF(ISERROR(VLOOKUP(#REF!,localizacao,2,FALSE)),\"\",VLOOKUP(#REF!,localizacao,2,FALSE))","v":""},null,"",null,""]
[null,"",null,{"$f":"IF(ISERROR(VLOOKUP(#REF!,localizacao,2,FALSE)),\"\",VLOOKUP(#REF!,localizacao,2,FALSE))","v":""},null,"",null,""]
[null,"",null,{"$f":"IF(ISERROR(VLOOKUP(#REF!,localizacao,2,FALSE)),\"\",VLOOKUP(#REF!,localizacao,2,FALSE))","v":""},null,"",null,""]
[null,"",null,{"$f":"IF(ISERROR(VLOOKUP(#REF!,localizacao,2,FALSE)),\"\",VLOOKUP(#REF!,localizacao,2,FALSE))","v":""},null,"",null,""]
[null,"",null,{"$f":"IF(ISERROR(VLOOKUP(#REF!,localizacao,2,FALSE)),\"\",VLOOKUP(#REF!,localizacao,2,FALSE))","v":""},null,"",null,""]
[null,"",null,{"$f":"IF(ISERROR(VLOOKUP(#REF!,localizacao,2,FALSE)),\"\",VLOOKUP(#REF!,localizacao,2,FALSE))","v":""},null,"",null,""]
[null,"",null,{"$f":"IF(ISERROR(VLOOKUP(#REF!,localizacao,2,FALSE)),\"\",VLOOKUP(#REF!,localizacao,2,FALSE))","v":""},null,"",null,""]
[null,"",null,{"$f":"IF(ISERROR(VLOOKUP(#REF!,localizacao,2,FALSE)),\"\",VLOOKUP(#REF!,localizacao,2,FALSE))","v":""},null,"",null,""]
[null,"",null,{"$f":"IF(ISERROR(VLOOKUP(#REF!,localizacao,2,FALSE)),\"\",VLOOKUP(#REF!,localizacao,2,FALSE))","v":""},null,"",null,""]
[null,"",null,{"$f":"IF(ISERROR(VLOOKUP(#REF!,localizacao,2,FALSE)),\"\",VLOOKUP(#REF!,localizacao,2,FALSE))","v":""},null,"",null,""]
[null,"",null,{"$f":"IF(ISERROR(VLOOKUP(#REF!,localizacao,2,FALSE)),\"\",VLOOKUP(#REF!,localizacao,2,FALSE))","v":""},null,"",null,""]
[null,"",null,{"$f":"IF(ISERROR(VLOOKUP(#REF!,localizacao,2,FALSE)),\"\",VLOOKUP(#REF!,localizacao,2,FALSE))","v":""},null,"",null,""]
[null,"",null,{"$f":"IF(ISERROR(VLOOKUP(#REF!,localizacao,2,FALSE)),\"\",VLOOKUP(#REF!,localizacao,2,FALSE))","v":""},null,"",null,""]
[null,"",null,{"$f":"IF(ISERROR(VLOOKUP(#REF!,localizacao,2,FALSE)),\"\",VLOOKUP(#REF!,localizacao,2,FALSE))","v":""},null,"",null,""]
[null,"",null,{"$f":"IF(ISERROR(VLOOKUP(#REF!,localizacao,2,FALSE)),\"\",VLOOKUP(#REF!,localizacao,2,FALSE))","v":""},null,"",null,""]
[null,"",null,{"$f":"IF(ISERROR(VLOOKUP(#REF!,localizacao,2,FALSE)),\"\",VLOOKUP(#REF!,localizacao,2,FALSE))","v":""},null,"",null,""]
[null,"",null,{"$f":"IF(ISERROR(VLOOKUP(#REF!,localizacao,2,FALSE)),\"\",VLOOKUP(#REF!,localizacao,2,FALSE))","v":""},null,"",null,""]
[null,"",null,{"$f":"IF(ISERROR(VLOOKUP(#REF!,localizacao,2,FALSE)),\"\",VLOOKUP(#REF!,localizacao,2,FALSE))","v":""},null,"",null,""]
[null,"",null,{"$f":"IF(ISERROR(VLOOKUP(#REF!,localizacao,2,FALSE)),\"\",VLOOKUP(#REF!,localizacao,2,FALSE))","v":""},null,"",null,""]
[null,"",null,{"$f":"IF(ISERROR(VLOOKUP(#REF!,localizacao,2,FALSE)),\"\",VLOOKUP(#REF!,localizacao,2,FALSE))","v":""},null,"",null,""]
[null,"",null,{"$f":"IF(ISERROR(VLOOKUP(#REF!,localizacao,2,FALSE)),\"\",VLOOKUP(#REF!,localizacao,2,FALSE))","v":""},null,"",null,""]
[null,"",null,{"$f":"IF(ISERROR(VLOOKUP(#REF!,localizacao,2,FALSE)),\"\",VLOOKUP(#REF!,localizacao,2,FALSE))","v":""},null,"",null,""]
[null,"",null,{"$f":"IF(ISERROR(VLOOKUP(#REF!,localizacao,2,FALSE)),\"\",VLOOKUP(#REF!,localizacao,2,FALSE))","v":""},null,"",null,""]
[null,"",null,{"$f":"IF(ISERROR(VLOOKUP(#REF!,localizacao,2,FALSE)),\"\",VLOOKUP(#REF!,localizacao,2,FALSE))","v":""},null,{"$f":"IF(ISERROR(VLOOKUP(G2502,componentes,2,FALSE)),\"\",VLOOKUP(G2502,componentes,2,FALSE))","v":""},null,{"$f":"IF(ISERROR(VLOOKUP(I2502,rubricas,2,FALSE)),\"\",VLOOKUP(I2502,rubricas,2,FALSE))","v":""}]
[null,{"$f":"IF(C2503<>\"\",+B2502+1,\"\")","v":""},null,{"$f":"IF(ISERROR(VLOOKUP(#REF!,localizacao,2,FALSE)),\"\",VLOOKUP(#REF!,localizacao,2,FALSE))","v":""},null,"",null,""]
[null,"",null,{"$f":"IF(ISERROR(VLOOKUP(#REF!,localizacao,2,FALSE)),\"\",VLOOKUP(#REF!,localizacao,2,FALSE))","v":""},null,"",null,""]
[null,"",null,{"$f":"IF(ISERROR(VLOOKUP(#REF!,localizacao,2,FALSE)),\"\",VLOOKUP(#REF!,localizacao,2,FALSE))","v":""},null,"",null,""]
[null,"",null,{"$f":"IF(ISERROR(VLOOKUP(#REF!,localizacao,2,FALSE)),\"\",VLOOKUP(#REF!,localizacao,2,FALSE))","v":""},null,"",null,""]
[null,"",null,{"$f":"IF(ISERROR(VLOOKUP(#REF!,localizacao,2,FALSE)),\"\",VLOOKUP(#REF!,localizacao,2,FALSE))","v":""},null,"",null,""]
[null,"",null,{"$f":"IF(ISERROR(VLOOKUP(#REF!,localizacao,2,FALSE)),\"\",VLOOKUP(#REF!,localizacao,2,FALSE))","v":""},null,"",null,""]
[null,"",null,{"$f":"IF(ISERROR(VLOOKUP(#REF!,localizacao,2,FALSE)),\"\",VLOOKUP(#REF!,localizacao,2,FALSE))","v":""},null,"",null,""]
[null,"",null,{"$f":"IF(ISERROR(VLOOKUP(#REF!,localizacao,2,FALSE)),\"\",VLOOKUP(#REF!,localizacao,2,FALSE))","v":""},null,"",null,""]
[null,"",null,{"$f":"IF(ISERROR(VLOOKUP(#REF!,localizacao,2,FALSE)),\"\",VLOOKUP(#REF!,localizacao,2,FALSE))","v":""},null,"",null,""]
[null,"",null,{"$f":"IF(ISERROR(VLOOKUP(#REF!,localizacao,2,FALSE)),\"\",VLOOKUP(#REF!,localizacao,2,FALSE))","v":""},null,"",null,""]
[null,"",null,{"$f":"IF(ISERROR(VLOOKUP(#REF!,localizacao,2,FALSE)),\"\",VLOOKUP(#REF!,localizacao,2,FALSE))","v":""},null,"",null,""]
[null,"",null,{"$f":"IF(ISERROR(VLOOKUP(#REF!,localizacao,2,FALSE)),\"\",VLOOKUP(#REF!,localizacao,2,FALSE))","v":""},null,"",null,""]
[null,"",null,{"$f":"IF(ISERROR(VLOOKUP(#REF!,localizacao,2,FALSE)),\"\",VLOOKUP(#REF!,localizacao,2,FALSE))","v":""},null,"",null,""]
[null,"",null,{"$f":"IF(ISERROR(VLOOKUP(#REF!,localizacao,2,FALSE)),\"\",VLOOKUP(#REF!,localizacao,2,FALSE))","v":""},null,"",null,""]
[null,"",null,{"$f":"IF(ISERROR(VLOOKUP(#REF!,localizacao,2,FALSE)),\"\",VLOOKUP(#REF!,localizacao,2,FALSE))","v":""},null,"",null,""]
[null,"",null,{"$f":"IF(ISERROR(VLOOKUP(#REF!,localizacao,2,FALSE)),\"\",VLOOKUP(#REF!,localizacao,2,FALSE))","v":""},null,"",null,""]
[null,"",null,{"$f":"IF(ISERROR(VLOOKUP(#REF!,localizacao,2,FALSE)),\"\",VLOOKUP(#REF!,localizacao,2,FALSE))","v":""},null,"",null,""]
[null,"",null,{"$f":"IF(ISERROR(VLOOKUP(#REF!,localizacao,2,FALSE)),\"\",VLOOKUP(#REF!,localizacao,2,FALSE))","v":""},null,"",null,""]
[null,"",null,{"$f":"IF(ISERROR(VLOOKUP(#REF!,localizacao,2,FALSE)),\"\",VLOOKUP(#REF!,localizacao,2,FALSE))","v":""},null,"",null,""]
[null,"",null,{"$f":"IF(ISERROR(VLOOKUP(#REF!,localizacao,2,FALSE)),\"\",VLOOKUP(#REF!,localizacao,2,FALSE))","v":""},null,"",null,""]
[null,"",null,{"$f":"IF(ISERROR(VLOOKUP(#REF!,localizacao,2,FALSE)),\"\",VLOOKUP(#REF!,localizacao,2,FALSE))","v":""},null,"",null,""]
[null,"",null,{"$f":"IF(ISERROR(VLOOKUP(#REF!,localizacao,2,FALSE)),\"\",VLOOKUP(#REF!,localizacao,2,FALSE))","v":""},null,"",null,""]
[null,"",null,{"$f":"IF(ISERROR(VLOOKUP(#REF!,localizacao,2,FALSE)),\"\",VLOOKUP(#REF!,localizacao,2,FALSE))","v":""},null,"",null,""]
[null,"",null,{"$f":"IF(ISERROR(VLOOKUP(#REF!,localizacao,2,FALSE)),\"\",VLOOKUP(#REF!,localizacao,2,FALSE))","v":""},null,"",null,""]
[null,"",null,{"$f":"IF(ISERROR(VLOOKUP(#REF!,localizacao,2,FALSE)),\"\",VLOOKUP(#REF!,localizacao,2,FALSE))","v":""},null,"",null,""]
[null,"",null,{"$f":"IF(ISERROR(VLOOKUP(#REF!,localizacao,2,FALSE)),\"\",VLOOKUP(#REF!,localizacao,2,FALSE))","v":""},null,"",null,""]
[null,"",null,{"$f":"IF(ISERROR(VLOOKUP(#REF!,localizacao,2,FALSE)),\"\",VLOOKUP(#REF!,localizacao,2,FALSE))","v":""},null,"",null,""]
[null,"",null,{"$f":"IF(ISERROR(VLOOKUP(#REF!,localizacao,2,FALSE)),\"\",VLOOKUP(#REF!,localizacao,2,FALSE))","v":""},null,"",null,""]
[null,"",null,{"$f":"IF(ISERROR(VLOOKUP(#REF!,localizacao,2,FALSE)),\"\",VLOOKUP(#REF!,localizacao,2,FALSE))","v":""},null,"",null,""]
[null,"",null,{"$f":"IF(ISERROR(VLOOKUP(#REF!,localizacao,2,FALSE)),\"\",VLOOKUP(#REF!,localizacao,2,FALSE))","v":""},null,"",null,""]
[null,"",null,{"$f":"IF(ISERROR(VLOOKUP(#REF!,localizacao,2,FALSE)),\"\",VLOOKUP(#REF!,localizacao,2,FALSE))","v":""},null,"",null,""]
[null,"",null,{"$f":"IF(ISERROR(VLOOKUP(#REF!,localizacao,2,FALSE)),\"\",VLOOKUP(#REF!,localizacao,2,FALSE))","v":""},null,"",null,""]
[null,"",null,{"$f":"IF(ISERROR(VLOOKUP(#REF!,localizacao,2,FALSE)),\"\",VLOOKUP(#REF!,localizacao,2,FALSE))","v":""},null,"",null,""]
[null,"",null,{"$f":"IF(ISERROR(VLOOKUP(#REF!,localizacao,2,FALSE)),\"\",VLOOKUP(#REF!,localizacao,2,FALSE))","v":""},null,"",null,""]
[null,"",null,{"$f":"IF(ISERROR(VLOOKUP(#REF!,localizacao,2,FALSE)),\"\",VLOOKUP(#REF!,localizacao,2,FALSE))","v":""},null,"",null,""]
[null,"",null,{"$f":"IF(ISERROR(VLOOKUP(#REF!,localizacao,2,FALSE)),\"\",VLOOKUP(#REF!,localizacao,2,FALSE))","v":""},null,"",null,""]
[null,"",null,{"$f":"IF(ISERROR(VLOOKUP(#REF!,localizacao,2,FALSE)),\"\",VLOOKUP(#REF!,localizacao,2,FALSE))","v":""},null,"",null,""]
[null,"",null,{"$f":"IF(ISERROR(VLOOKUP(#REF!,localizacao,2,FALSE)),\"\",VLOOKUP(#REF!,localizacao,2,FALSE))","v":""},null,"",null,""]
[null,"",null,{"$f":"IF(ISERROR(VLOOKUP(#REF!,localizacao,2,FALSE)),\"\",VLOOKUP(#REF!,localizacao,2,FALSE))","v":""},null,"",null,""]
[null,"",null,{"$f":"IF(ISERROR(VLOOKUP(#REF!,localizacao,2,FALSE)),\"\",VLOOKUP(#REF!,localizacao,2,FALSE))","v":""},null,"",null,""]
[null,"",null,{"$f":"IF(ISERROR(VLOOKUP(#REF!,localizacao,2,FALSE)),\"\",VLOOKUP(#REF!,localizacao,2,FALSE))","v":""},null,"",null,""]
[null,"",null,{"$f":"IF(ISERROR(VLOOKUP(#REF!,localizacao,2,FALSE)),\"\",VLOOKUP(#REF!,localizacao,2,FALSE))","v":""},null,"",null,""]
[null,"",null,{"$f":"IF(ISERROR(VLOOKUP(#REF!,localizacao,2,FALSE)),\"\",VLOOKUP(#REF!,localizacao,2,FALSE))","v":""},null,"",null,""]
[null,"",null,{"$f":"IF(ISERROR(VLOOKUP(#REF!,localizacao,2,FALSE)),\"\",VLOOKUP(#REF!,localizacao,2,FALSE))","v":""},null,"",null,""]
[null,"",null,{"$f":"IF(ISERROR(VLOOKUP(#REF!,localizacao,2,FALSE)),\"\",VLOOKUP(#REF!,localizacao,2,FALSE))","v":""},null,"",null,""]
[null,"",null,{"$f":"IF(ISERROR(VLOOKUP(#REF!,localizacao,2,FALSE)),\"\",VLOOKUP(#REF!,localizacao,2,FALSE))","v":""},null,"",null,""]
[null,"",null,{"$f":"IF(ISERROR(VLOOKUP(#REF!,localizacao,2,FALSE)),\"\",VLOOKUP(#REF!,localizacao,2,FALSE))","v":""},null,"",null,""]
[null,"",null,{"$f":"IF(ISERROR(VLOOKUP(#REF!,localizacao,2,FALSE)),\"\",VLOOKUP(#REF!,localizacao,2,FALSE))","v":""},null,"",null,""]
[null,"",null,{"$f":"IF(ISERROR(VLOOKUP(#REF!,localizacao,2,FALSE)),\"\",VLOOKUP(#REF!,localizacao,2,FALSE))","v":""},null,"",null,""]
[null,"",null,{"$f":"IF(ISERROR(VLOOKUP(#REF!,localizacao,2,FALSE)),\"\",VLOOKUP(#REF!,localizacao,2,FALSE))","v":""},null,"",null,""]
[null,"",null,{"$f":"IF(ISERROR(VLOOKUP(#REF!,localizacao,2,FALSE)),\"\",VLOOKUP(#REF!,localizacao,2,FALSE))","v":""},null,"",null,""]
[null,"",null,{"$f":"IF(ISERROR(VLOOKUP(#REF!,localizacao,2,FALSE)),\"\",VLOOKUP(#REF!,localizacao,2,FALSE))","v":""},null,"",null,""]
[null,"",null,{"$f":"IF(ISERROR(VLOOKUP(#REF!,localizacao,2,FALSE)),\"\",VLOOKUP(#REF!,localizacao,2,FALSE))","v":""},null,"",null,""]
[null,"",null,{"$f":"IF(ISERROR(VLOOKUP(#REF!,localizacao,2,FALSE)),\"\",VLOOKUP(#REF!,localizacao,2,FALSE))","v":""},null,"",null,""]
[null,"",null,{"$f":"IF(ISERROR(VLOOKUP(#REF!,localizacao,2,FALSE)),\"\",VLOOKUP(#REF!,localizacao,2,FALSE))","v":""},null,"",null,""]
[null,"",null,{"$f":"IF(ISERROR(VLOOKUP(#REF!,localizacao,2,FALSE)),\"\",VLOOKUP(#REF!,localizacao,2,FALSE))","v":""},null,"",null,""]
[null,"",null,{"$f":"IF(ISERROR(VLOOKUP(#REF!,localizacao,2,FALSE)),\"\",VLOOKUP(#REF!,localizacao,2,FALSE))","v":""},null,"",null,""]
[null,"",null,{"$f":"IF(ISERROR(VLOOKUP(#REF!,localizacao,2,FALSE)),\"\",VLOOKUP(#REF!,localizacao,2,FALSE))","v":""},null,"",null,""]
[null,"",null,{"$f":"IF(ISERROR(VLOOKUP(#REF!,localizacao,2,FALSE)),\"\",VLOOKUP(#REF!,localizacao,2,FALSE))","v":""},null,"",null,""]
[null,"",null,{"$f":"IF(ISERROR(VLOOKUP(#REF!,localizacao,2,FALSE)),\"\",VLOOKUP(#REF!,localizacao,2,FALSE))","v":""},null,"",null,""]
[null,"",null,{"$f":"IF(ISERROR(VLOOKUP(#REF!,localizacao,2,FALSE)),\"\",VLOOKUP(#REF!,localizacao,2,FALSE))","v":""},null,"",null,""]
[null,"",null,{"$f":"IF(ISERROR(VLOOKUP(#REF!,localizacao,2,FALSE)),\"\",VLOOKUP(#REF!,localizacao,2,FALSE))","v":""},null,"",null,""]
[null,"",null,{"$f":"IF(ISERROR(VLOOKUP(#REF!,localizacao,2,FALSE)),\"\",VLOOKUP(#REF!,localizacao,2,FALSE))","v":""},null,"",null,""]
[null,"",null,{"$f":"IF(ISERROR(VLOOKUP(#REF!,localizacao,2,FALSE)),\"\",VLOOKUP(#REF!,localizacao,2,FALSE))","v":""},null,{"$f":"IF(ISERROR(VLOOKUP(G2566,componentes,2,FALSE)),\"\",VLOOKUP(G2566,componentes,2,FALSE))","v":""},null,{"$f":"IF(ISERROR(VLOOKUP(I2566,rubricas,2,FALSE)),\"\",VLOOKUP(I2566,rubricas,2,FALSE))","v":""}]
[null,{"$f":"IF(C2567<>\"\",+B2566+1,\"\")","v":""},null,{"$f":"IF(ISERROR(VLOOKUP(#REF!,localizacao,2,FALSE)),\"\",VLOOKUP(#REF!,localizacao,2,FALSE))","v":""},null,"",null,""]
[null,"",null,{"$f":"IF(ISERROR(VLOOKUP(#REF!,localizacao,2,FALSE)),\"\",VLOOKUP(#REF!,localizacao,2,FALSE))","v":""},null,"",null,""]
[null,"",null,{"$f":"IF(ISERROR(VLOOKUP(#REF!,localizacao,2,FALSE)),\"\",VLOOKUP(#REF!,localizacao,2,FALSE))","v":""},null,"",null,""]
[null,"",null,{"$f":"IF(ISERROR(VLOOKUP(#REF!,localizacao,2,FALSE)),\"\",VLOOKUP(#REF!,localizacao,2,FALSE))","v":""},null,"",null,""]
[null,"",null,{"$f":"IF(ISERROR(VLOOKUP(#REF!,localizacao,2,FALSE)),\"\",VLOOKUP(#REF!,localizacao,2,FALSE))","v":""},null,"",null,""]
[null,"",null,{"$f":"IF(ISERROR(VLOOKUP(#REF!,localizacao,2,FALSE)),\"\",VLOOKUP(#REF!,localizacao,2,FALSE))","v":""},null,"",null,""]
[null,"",null,{"$f":"IF(ISERROR(VLOOKUP(#REF!,localizacao,2,FALSE)),\"\",VLOOKUP(#REF!,localizacao,2,FALSE))","v":""},null,"",null,""]
[null,"",null,{"$f":"IF(ISERROR(VLOOKUP(#REF!,localizacao,2,FALSE)),\"\",VLOOKUP(#REF!,localizacao,2,FALSE))","v":""},null,"",null,""]
[null,"",null,{"$f":"IF(ISERROR(VLOOKUP(#REF!,localizacao,2,FALSE)),\"\",VLOOKUP(#REF!,localizacao,2,FALSE))","v":""},null,"",null,""]
[null,"",null,{"$f":"IF(ISERROR(VLOOKUP(#REF!,localizacao,2,FALSE)),\"\",VLOOKUP(#REF!,localizacao,2,FALSE))","v":""},null,"",null,""]
[null,"",null,{"$f":"IF(ISERROR(VLOOKUP(#REF!,localizacao,2,FALSE)),\"\",VLOOKUP(#REF!,localizacao,2,FALSE))","v":""},null,"",null,""]
[null,"",null,{"$f":"IF(ISERROR(VLOOKUP(#REF!,localizacao,2,FALSE)),\"\",VLOOKUP(#REF!,localizacao,2,FALSE))","v":""},null,"",null,""]
[null,"",null,{"$f":"IF(ISERROR(VLOOKUP(#REF!,localizacao,2,FALSE)),\"\",VLOOKUP(#REF!,localizacao,2,FALSE))","v":""},null,"",null,""]
[null,"",null,{"$f":"IF(ISERROR(VLOOKUP(#REF!,localizacao,2,FALSE)),\"\",VLOOKUP(#REF!,localizacao,2,FALSE))","v":""},null,"",null,""]
[null,"",null,{"$f":"IF(ISERROR(VLOOKUP(#REF!,localizacao,2,FALSE)),\"\",VLOOKUP(#REF!,localizacao,2,FALSE))","v":""},null,"",null,""]
[null,"",null,{"$f":"IF(ISERROR(VLOOKUP(#REF!,localizacao,2,FALSE)),\"\",VLOOKUP(#REF!,localizacao,2,FALSE))","v":""},null,"",null,""]
[null,"",null,{"$f":"IF(ISERROR(VLOOKUP(#REF!,localizacao,2,FALSE)),\"\",VLOOKUP(#REF!,localizacao,2,FALSE))","v":""},null,"",null,""]
[null,"",null,{"$f":"IF(ISERROR(VLOOKUP(#REF!,localizacao,2,FALSE)),\"\",VLOOKUP(#REF!,localizacao,2,FALSE))","v":""},null,"",null,""]
[null,"",null,{"$f":"IF(ISERROR(VLOOKUP(#REF!,localizacao,2,FALSE)),\"\",VLOOKUP(#REF!,localizacao,2,FALSE))","v":""},null,"",null,""]
[null,"",null,{"$f":"IF(ISERROR(VLOOKUP(#REF!,localizacao,2,FALSE)),\"\",VLOOKUP(#REF!,localizacao,2,FALSE))","v":""},null,"",null,""]
[null,"",null,{"$f":"IF(ISERROR(VLOOKUP(#REF!,localizacao,2,FALSE)),\"\",VLOOKUP(#REF!,localizacao,2,FALSE))","v":""},null,"",null,""]
[null,"",null,{"$f":"IF(ISERROR(VLOOKUP(#REF!,localizacao,2,FALSE)),\"\",VLOOKUP(#REF!,localizacao,2,FALSE))","v":""},null,"",null,""]
[null,"",null,{"$f":"IF(ISERROR(VLOOKUP(#REF!,localizacao,2,FALSE)),\"\",VLOOKUP(#REF!,localizacao,2,FALSE))","v":""},null,"",null,""]
[null,"",null,{"$f":"IF(ISERROR(VLOOKUP(#REF!,localizacao,2,FALSE)),\"\",VLOOKUP(#REF!,localizacao,2,FALSE))","v":""},null,"",null,""]
[null,"",null,{"$f":"IF(ISERROR(VLOOKUP(#REF!,localizacao,2,FALSE)),\"\",VLOOKUP(#REF!,localizacao,2,FALSE))","v":""},null,"",null,""]
[null,"",null,{"$f":"IF(ISERROR(VLOOKUP(#REF!,localizacao,2,FALSE)),\"\",VLOOKUP(#REF!,localizacao,2,FALSE))","v":""},null,"",null,""]
[null,"",null,{"$f":"IF(ISERROR(VLOOKUP(#REF!,localizacao,2,FALSE)),\"\",VLOOKUP(#REF!,localizacao,2,FALSE))","v":""},null,"",null,""]
[null,"",null,{"$f":"IF(ISERROR(VLOOKUP(#REF!,localizacao,2,FALSE)),\"\",VLOOKUP(#REF!,localizacao,2,FALSE))","v":""},null,"",null,""]
[null,"",null,{"$f":"IF(ISERROR(VLOOKUP(#REF!,localizacao,2,FALSE)),\"\",VLOOKUP(#REF!,localizacao,2,FALSE))","v":""},null,"",null,""]
[null,"",null,{"$f":"IF(ISERROR(VLOOKUP(#REF!,localizacao,2,FALSE)),\"\",VLOOKUP(#REF!,localizacao,2,FALSE))","v":""},null,"",null,""]
[null,"",null,{"$f":"IF(ISERROR(VLOOKUP(#REF!,localizacao,2,FALSE)),\"\",VLOOKUP(#REF!,localizacao,2,FALSE))","v":""},null,"",null,""]
[null,"",null,{"$f":"IF(ISERROR(VLOOKUP(#REF!,localizacao,2,FALSE)),\"\",VLOOKUP(#REF!,localizacao,2,FALSE))","v":""},null,"",null,""]
[null,"",null,{"$f":"IF(ISERROR(VLOOKUP(#REF!,localizacao,2,FALSE)),\"\",VLOOKUP(#REF!,localizacao,2,FALSE))","v":""},null,"",null,""]
[null,"",null,{"$f":"IF(ISERROR(VLOOKUP(#REF!,localizacao,2,FALSE)),\"\",VLOOKUP(#REF!,localizacao,2,FALSE))","v":""},null,"",null,""]
[null,"",null,{"$f":"IF(ISERROR(VLOOKUP(#REF!,localizacao,2,FALSE)),\"\",VLOOKUP(#REF!,localizacao,2,FALSE))","v":""},null,"",null,""]
[null,"",null,{"$f":"IF(ISERROR(VLOOKUP(#REF!,localizacao,2,FALSE)),\"\",VLOOKUP(#REF!,localizacao,2,FALSE))","v":""},null,"",null,""]
[null,"",null,{"$f":"IF(ISERROR(VLOOKUP(#REF!,localizacao,2,FALSE)),\"\",VLOOKUP(#REF!,localizacao,2,FALSE))","v":""},null,"",null,""]
[null,"",null,{"$f":"IF(ISERROR(VLOOKUP(#REF!,localizacao,2,FALSE)),\"\",VLOOKUP(#REF!,localizacao,2,FALSE))","v":""},null,"",null,""]
[null,"",null,{"$f":"IF(ISERROR(VLOOKUP(#REF!,localizacao,2,FALSE)),\"\",VLOOKUP(#REF!,localizacao,2,FALSE))","v":""},null,"",null,""]
[null,"",null,{"$f":"IF(ISERROR(VLOOKUP(#REF!,localizacao,2,FALSE)),\"\",VLOOKUP(#REF!,localizacao,2,FALSE))","v":""},null,"",null,""]
[null,"",null,{"$f":"IF(ISERROR(VLOOKUP(#REF!,localizacao,2,FALSE)),\"\",VLOOKUP(#REF!,localizacao,2,FALSE))","v":""},null,"",null,""]
[null,"",null,{"$f":"IF(ISERROR(VLOOKUP(#REF!,localizacao,2,FALSE)),\"\",VLOOKUP(#REF!,localizacao,2,FALSE))","v":""},null,"",null,""]
[null,"",null,{"$f":"IF(ISERROR(VLOOKUP(#REF!,localizacao,2,FALSE)),\"\",VLOOKUP(#REF!,localizacao,2,FALSE))","v":""},null,"",null,""]
[null,"",null,{"$f":"IF(ISERROR(VLOOKUP(#REF!,localizacao,2,FALSE)),\"\",VLOOKUP(#REF!,localizacao,2,FALSE))","v":""},null,"",null,""]
[null,"",null,{"$f":"IF(ISERROR(VLOOKUP(#REF!,localizacao,2,FALSE)),\"\",VLOOKUP(#REF!,localizacao,2,FALSE))","v":""},null,"",null,""]
[null,"",null,{"$f":"IF(ISERROR(VLOOKUP(#REF!,localizacao,2,FALSE)),\"\",VLOOKUP(#REF!,localizacao,2,FALSE))","v":""},null,"",null,""]
[null,"",null,{"$f":"IF(ISERROR(VLOOKUP(#REF!,localizacao,2,FALSE)),\"\",VLOOKUP(#REF!,localizacao,2,FALSE))","v":""},null,"",null,""]
[null,"",null,{"$f":"IF(ISERROR(VLOOKUP(#REF!,localizacao,2,FALSE)),\"\",VLOOKUP(#REF!,localizacao,2,FALSE))","v":""},null,"",null,""]
[null,"",null,{"$f":"IF(ISERROR(VLOOKUP(#REF!,localizacao,2,FALSE)),\"\",VLOOKUP(#REF!,localizacao,2,FALSE))","v":""},null,"",null,""]
[null,"",null,{"$f":"IF(ISERROR(VLOOKUP(#REF!,localizacao,2,FALSE)),\"\",VLOOKUP(#REF!,localizacao,2,FALSE))","v":""},null,"",null,""]
[null,"",null,{"$f":"IF(ISERROR(VLOOKUP(#REF!,localizacao,2,FALSE)),\"\",VLOOKUP(#REF!,localizacao,2,FALSE))","v":""},null,"",null,""]
[null,"",null,{"$f":"IF(ISERROR(VLOOKUP(#REF!,localizacao,2,FALSE)),\"\",VLOOKUP(#REF!,localizacao,2,FALSE))","v":""},null,"",null,""]
[null,"",null,{"$f":"IF(ISERROR(VLOOKUP(#REF!,localizacao,2,FALSE)),\"\",VLOOKUP(#REF!,localizacao,2,FALSE))","v":""},null,"",null,""]
[null,"",null,{"$f":"IF(ISERROR(VLOOKUP(#REF!,localizacao,2,FALSE)),\"\",VLOOKUP(#REF!,localizacao,2,FALSE))","v":""},null,"",null,""]
[null,"",null,{"$f":"IF(ISERROR(VLOOKUP(#REF!,localizacao,2,FALSE)),\"\",VLOOKUP(#REF!,localizacao,2,FALSE))","v":""},null,"",null,""]
[null,"",null,{"$f":"IF(ISERROR(VLOOKUP(#REF!,localizacao,2,FALSE)),\"\",VLOOKUP(#REF!,localizacao,2,FALSE))","v":""},null,"",null,""]
[null,"",null,{"$f":"IF(ISERROR(VLOOKUP(#REF!,localizacao,2,FALSE)),\"\",VLOOKUP(#REF!,localizacao,2,FALSE))","v":""},null,"",null,""]
[null,"",null,{"$f":"IF(ISERROR(VLOOKUP(#REF!,localizacao,2,FALSE)),\"\",VLOOKUP(#REF!,localizacao,2,FALSE))","v":""},null,"",null,""]
[null,"",null,{"$f":"IF(ISERROR(VLOOKUP(#REF!,localizacao,2,FALSE)),\"\",VLOOKUP(#REF!,localizacao,2,FALSE))","v":""},null,"",null,""]
[null,"",null,{"$f":"IF(ISERROR(VLOOKUP(#REF!,localizacao,2,FALSE)),\"\",VLOOKUP(#REF!,localizacao,2,FALSE))","v":""},null,"",null,""]
[null,"",null,{"$f":"IF(ISERROR(VLOOKUP(#REF!,localizacao,2,FALSE)),\"\",VLOOKUP(#REF!,localizacao,2,FALSE))","v":""},null,"",null,""]
[null,"",null,{"$f":"IF(ISERROR(VLOOKUP(#REF!,localizacao,2,FALSE)),\"\",VLOOKUP(#REF!,localizacao,2,FALSE))","v":""},null,"",null,""]
[null,"",null,{"$f":"IF(ISERROR(VLOOKUP(#REF!,localizacao,2,FALSE)),\"\",VLOOKUP(#REF!,localizacao,2,FALSE))","v":""},null,"",null,""]
[null,"",null,{"$f":"IF(ISERROR(VLOOKUP(#REF!,localizacao,2,FALSE)),\"\",VLOOKUP(#REF!,localizacao,2,FALSE))","v":""},null,{"$f":"IF(ISERROR(VLOOKUP(G2630,componentes,2,FALSE)),\"\",VLOOKUP(G2630,componentes,2,FALSE))","v":""},null,{"$f":"IF(ISERROR(VLOOKUP(I2630,rubricas,2,FALSE)),\"\",VLOOKUP(I2630,rubricas,2,FALSE))","v":""}]
[null,{"$f":"IF(C2631<>\"\",+B2630+1,\"\")","v":""},null,{"$f":"IF(ISERROR(VLOOKUP(#REF!,localizacao,2,FALSE)),\"\",VLOOKUP(#REF!,localizacao,2,FALSE))","v":""},null,"",null,""]
[null,"",null,{"$f":"IF(ISERROR(VLOOKUP(#REF!,localizacao,2,FALSE)),\"\",VLOOKUP(#REF!,localizacao,2,FALSE))","v":""},null,"",null,""]
[null,"",null,{"$f":"IF(ISERROR(VLOOKUP(#REF!,localizacao,2,FALSE)),\"\",VLOOKUP(#REF!,localizacao,2,FALSE))","v":""},null,"",null,""]
[null,"",null,{"$f":"IF(ISERROR(VLOOKUP(#REF!,localizacao,2,FALSE)),\"\",VLOOKUP(#REF!,localizacao,2,FALSE))","v":""},null,"",null,""]
[null,"",null,{"$f":"IF(ISERROR(VLOOKUP(#REF!,localizacao,2,FALSE)),\"\",VLOOKUP(#REF!,localizacao,2,FALSE))","v":""},null,"",null,""]
[null,"",null,{"$f":"IF(ISERROR(VLOOKUP(#REF!,localizacao,2,FALSE)),\"\",VLOOKUP(#REF!,localizacao,2,FALSE))","v":""},null,"",null,""]
[null,"",null,{"$f":"IF(ISERROR(VLOOKUP(#REF!,localizacao,2,FALSE)),\"\",VLOOKUP(#REF!,localizacao,2,FALSE))","v":""},null,"",null,""]
[null,"",null,{"$f":"IF(ISERROR(VLOOKUP(#REF!,localizacao,2,FALSE)),\"\",VLOOKUP(#REF!,localizacao,2,FALSE))","v":""},null,"",null,""]
[null,"",null,{"$f":"IF(ISERROR(VLOOKUP(#REF!,localizacao,2,FALSE)),\"\",VLOOKUP(#REF!,localizacao,2,FALSE))","v":""},null,"",null,""]
[null,"",null,{"$f":"IF(ISERROR(VLOOKUP(#REF!,localizacao,2,FALSE)),\"\",VLOOKUP(#REF!,localizacao,2,FALSE))","v":""},null,"",null,""]
[null,"",null,{"$f":"IF(ISERROR(VLOOKUP(#REF!,localizacao,2,FALSE)),\"\",VLOOKUP(#REF!,localizacao,2,FALSE))","v":""},null,"",null,""]
[null,"",null,{"$f":"IF(ISERROR(VLOOKUP(#REF!,localizacao,2,FALSE)),\"\",VLOOKUP(#REF!,localizacao,2,FALSE))","v":""},null,"",null,""]
[null,"",null,{"$f":"IF(ISERROR(VLOOKUP(#REF!,localizacao,2,FALSE)),\"\",VLOOKUP(#REF!,localizacao,2,FALSE))","v":""},null,"",null,""]
[null,"",null,{"$f":"IF(ISERROR(VLOOKUP(#REF!,localizacao,2,FALSE)),\"\",VLOOKUP(#REF!,localizacao,2,FALSE))","v":""},null,"",null,""]
[null,"",null,{"$f":"IF(ISERROR(VLOOKUP(#REF!,localizacao,2,FALSE)),\"\",VLOOKUP(#REF!,localizacao,2,FALSE))","v":""},null,"",null,""]
[null,"",null,{"$f":"IF(ISERROR(VLOOKUP(#REF!,localizacao,2,FALSE)),\"\",VLOOKUP(#REF!,localizacao,2,FALSE))","v":""},null,"",null,""]
[null,"",null,{"$f":"IF(ISERROR(VLOOKUP(#REF!,localizacao,2,FALSE)),\"\",VLOOKUP(#REF!,localizacao,2,FALSE))","v":""},null,"",null,""]
[null,"",null,{"$f":"IF(ISERROR(VLOOKUP(#REF!,localizacao,2,FALSE)),\"\",VLOOKUP(#REF!,localizacao,2,FALSE))","v":""},null,"",null,""]
[null,"",null,{"$f":"IF(ISERROR(VLOOKUP(#REF!,localizacao,2,FALSE)),\"\",VLOOKUP(#REF!,localizacao,2,FALSE))","v":""},null,"",null,""]
[null,"",null,{"$f":"IF(ISERROR(VLOOKUP(#REF!,localizacao,2,FALSE)),\"\",VLOOKUP(#REF!,localizacao,2,FALSE))","v":""},null,"",null,""]
[null,"",null,{"$f":"IF(ISERROR(VLOOKUP(#REF!,localizacao,2,FALSE)),\"\",VLOOKUP(#REF!,localizacao,2,FALSE))","v":""},null,"",null,""]
[null,"",null,{"$f":"IF(ISERROR(VLOOKUP(#REF!,localizacao,2,FALSE)),\"\",VLOOKUP(#REF!,localizacao,2,FALSE))","v":""},null,"",null,""]
[null,"",null,{"$f":"IF(ISERROR(VLOOKUP(#REF!,localizacao,2,FALSE)),\"\",VLOOKUP(#REF!,localizacao,2,FALSE))","v":""},null,"",null,""]
[null,"",null,{"$f":"IF(ISERROR(VLOOKUP(#REF!,localizacao,2,FALSE)),\"\",VLOOKUP(#REF!,localizacao,2,FALSE))","v":""},null,"",null,""]
[null,"",null,{"$f":"IF(ISERROR(VLOOKUP(#REF!,localizacao,2,FALSE)),\"\",VLOOKUP(#REF!,localizacao,2,FALSE))","v":""},null,"",null,""]
[null,"",null,{"$f":"IF(ISERROR(VLOOKUP(#REF!,localizacao,2,FALSE)),\"\",VLOOKUP(#REF!,localizacao,2,FALSE))","v":""},null,"",null,""]
[null,"",null,{"$f":"IF(ISERROR(VLOOKUP(#REF!,localizacao,2,FALSE)),\"\",VLOOKUP(#REF!,localizacao,2,FALSE))","v":""},null,"",null,""]
[null,"",null,{"$f":"IF(ISERROR(VLOOKUP(#REF!,localizacao,2,FALSE)),\"\",VLOOKUP(#REF!,localizacao,2,FALSE))","v":""},null,"",null,""]
[null,"",null,{"$f":"IF(ISERROR(VLOOKUP(#REF!,localizacao,2,FALSE)),\"\",VLOOKUP(#REF!,localizacao,2,FALSE))","v":""},null,"",null,""]
[null,"",null,{"$f":"IF(ISERROR(VLOOKUP(#REF!,localizacao,2,FALSE)),\"\",VLOOKUP(#REF!,localizacao,2,FALSE))","v":""},null,"",null,""]
[null,"",null,{"$f":"IF(ISERROR(VLOOKUP(#REF!,localizacao,2,FALSE)),\"\",VLOOKUP(#REF!,localizacao,2,FALSE))","v":""},null,"",null,""]
[null,"",null,{"$f":"IF(ISERROR(VLOOKUP(#REF!,localizacao,2,FALSE)),\"\",VLOOKUP(#REF!,localizacao,2,FALSE))","v":""},null,"",null,""]
[null,"",null,{"$f":"IF(ISERROR(VLOOKUP(#REF!,localizacao,2,FALSE)),\"\",VLOOKUP(#REF!,localizacao,2,FALSE))","v":""},null,"",null,""]
[null,"",null,{"$f":"IF(ISERROR(VLOOKUP(#REF!,localizacao,2,FALSE)),\"\",VLOOKUP(#REF!,localizacao,2,FALSE))","v":""},null,"",null,""]
[null,"",null,{"$f":"IF(ISERROR(VLOOKUP(#REF!,localizacao,2,FALSE)),\"\",VLOOKUP(#REF!,localizacao,2,FALSE))","v":""},null,"",null,""]
[null,"",null,{"$f":"IF(ISERROR(VLOOKUP(#REF!,localizacao,2,FALSE)),\"\",VLOOKUP(#REF!,localizacao,2,FALSE))","v":""},null,"",null,""]
[null,"",null,{"$f":"IF(ISERROR(VLOOKUP(#REF!,localizacao,2,FALSE)),\"\",VLOOKUP(#REF!,localizacao,2,FALSE))","v":""},null,"",null,""]
[null,"",null,{"$f":"IF(ISERROR(VLOOKUP(#REF!,localizacao,2,FALSE)),\"\",VLOOKUP(#REF!,localizacao,2,FALSE))","v":""},null,"",null,""]
[null,"",null,{"$f":"IF(ISERROR(VLOOKUP(#REF!,localizacao,2,FALSE)),\"\",VLOOKUP(#REF!,localizacao,2,FALSE))","v":""},null,"",null,""]
[null,"",null,{"$f":"IF(ISERROR(VLOOKUP(#REF!,localizacao,2,FALSE)),\"\",VLOOKUP(#REF!,localizacao,2,FALSE))","v":""},null,"",null,""]
[null,"",null,{"$f":"IF(ISERROR(VLOOKUP(#REF!,localizacao,2,FALSE)),\"\",VLOOKUP(#REF!,localizacao,2,FALSE))","v":""},null,"",null,""]
[null,"",null,{"$f":"IF(ISERROR(VLOOKUP(#REF!,localizacao,2,FALSE)),\"\",VLOOKUP(#REF!,localizacao,2,FALSE))","v":""},null,"",null,""]
[null,"",null,{"$f":"IF(ISERROR(VLOOKUP(#REF!,localizacao,2,FALSE)),\"\",VLOOKUP(#REF!,localizacao,2,FALSE))","v":""},null,"",null,""]
[null,"",null,{"$f":"IF(ISERROR(VLOOKUP(#REF!,localizacao,2,FALSE)),\"\",VLOOKUP(#REF!,localizacao,2,FALSE))","v":""},null,"",null,""]
[null,"",null,{"$f":"IF(ISERROR(VLOOKUP(#REF!,localizacao,2,FALSE)),\"\",VLOOKUP(#REF!,localizacao,2,FALSE))","v":""},null,"",null,""]
[null,"",null,{"$f":"IF(ISERROR(VLOOKUP(#REF!,localizacao,2,FALSE)),\"\",VLOOKUP(#REF!,localizacao,2,FALSE))","v":""},null,"",null,""]
[null,"",null,{"$f":"IF(ISERROR(VLOOKUP(#REF!,localizacao,2,FALSE)),\"\",VLOOKUP(#REF!,localizacao,2,FALSE))","v":""},null,"",null,""]
[null,"",null,{"$f":"IF(ISERROR(VLOOKUP(#REF!,localizacao,2,FALSE)),\"\",VLOOKUP(#REF!,localizacao,2,FALSE))","v":""},null,"",null,""]
[null,"",null,{"$f":"IF(ISERROR(VLOOKUP(#REF!,localizacao,2,FALSE)),\"\",VLOOKUP(#REF!,localizacao,2,FALSE))","v":""},null,"",null,""]
[null,"",null,{"$f":"IF(ISERROR(VLOOKUP(#REF!,localizacao,2,FALSE)),\"\",VLOOKUP(#REF!,localizacao,2,FALSE))","v":""},null,"",null,""]
[null,"",null,{"$f":"IF(ISERROR(VLOOKUP(#REF!,localizacao,2,FALSE)),\"\",VLOOKUP(#REF!,localizacao,2,FALSE))","v":""},null,"",null,""]
[null,"",null,{"$f":"IF(ISERROR(VLOOKUP(#REF!,localizacao,2,FALSE)),\"\",VLOOKUP(#REF!,localizacao,2,FALSE))","v":""},null,"",null,""]
[null,"",null,{"$f":"IF(ISERROR(VLOOKUP(#REF!,localizacao,2,FALSE)),\"\",VLOOKUP(#REF!,localizacao,2,FALSE))","v":""},null,"",null,""]
[null,"",null,{"$f":"IF(ISERROR(VLOOKUP(#REF!,localizacao,2,FALSE)),\"\",VLOOKUP(#REF!,localizacao,2,FALSE))","v":""},null,"",null,""]
[null,"",null,{"$f":"IF(ISERROR(VLOOKUP(#REF!,localizacao,2,FALSE)),\"\",VLOOKUP(#REF!,localizacao,2,FALSE))","v":""},null,"",null,""]
[null,"",null,{"$f":"IF(ISERROR(VLOOKUP(#REF!,localizacao,2,FALSE)),\"\",VLOOKUP(#REF!,localizacao,2,FALSE))","v":""},null,"",null,""]
[null,"",null,{"$f":"IF(ISERROR(VLOOKUP(#REF!,localizacao,2,FALSE)),\"\",VLOOKUP(#REF!,localizacao,2,FALSE))","v":""},null,"",null,""]
[null,"",null,{"$f":"IF(ISERROR(VLOOKUP(#REF!,localizacao,2,FALSE)),\"\",VLOOKUP(#REF!,localizacao,2,FALSE))","v":""},null,"",null,""]
[null,"",null,{"$f":"IF(ISERROR(VLOOKUP(#REF!,localizacao,2,FALSE)),\"\",VLOOKUP(#REF!,localizacao,2,FALSE))","v":""},null,"",null,""]
[null,"",null,{"$f":"IF(ISERROR(VLOOKUP(#REF!,localizacao,2,FALSE)),\"\",VLOOKUP(#REF!,localizacao,2,FALSE))","v":""},null,"",null,""]
[null,"",null,{"$f":"IF(ISERROR(VLOOKUP(#REF!,localizacao,2,FALSE)),\"\",VLOOKUP(#REF!,localizacao,2,FALSE))","v":""},null,"",null,""]
[null,"",null,{"$f":"IF(ISERROR(VLOOKUP(#REF!,localizacao,2,FALSE)),\"\",VLOOKUP(#REF!,localizacao,2,FALSE))","v":""},null,"",null,""]
[null,"",null,{"$f":"IF(ISERROR(VLOOKUP(#REF!,localizacao,2,FALSE)),\"\",VLOOKUP(#REF!,localizacao,2,FALSE))","v":""},null,"",null,""]
[null,"",null,{"$f":"IF(ISERROR(VLOOKUP(#REF!,localizacao,2,FALSE)),\"\",VLOOKUP(#REF!,localizacao,2,FALSE))","v":""},null,{"$f":"IF(ISERROR(VLOOKUP(G2694,componentes,2,FALSE)),\"\",VLOOKUP(G2694,componentes,2,FALSE))","v":""},null,{"$f":"IF(ISERROR(VLOOKUP(I2694,rubricas,2,FALSE)),\"\",VLOOKUP(I2694,rubricas,2,FALSE))","v":""}]
[null,{"$f":"IF(C2695<>\"\",+B2694+1,\"\")","v":""},null,{"$f":"IF(ISERROR(VLOOKUP(#REF!,localizacao,2,FALSE)),\"\",VLOOKUP(#REF!,localizacao,2,FALSE))","v":""},null,"",null,""]
[null,"",null,{"$f":"IF(ISERROR(VLOOKUP(#REF!,localizacao,2,FALSE)),\"\",VLOOKUP(#REF!,localizacao,2,FALSE))","v":""},null,"",null,""]
[null,"",null,{"$f":"IF(ISERROR(VLOOKUP(#REF!,localizacao,2,FALSE)),\"\",VLOOKUP(#REF!,localizacao,2,FALSE))","v":""},null,"",null,""]
[null,"",null,{"$f":"IF(ISERROR(VLOOKUP(#REF!,localizacao,2,FALSE)),\"\",VLOOKUP(#REF!,localizacao,2,FALSE))","v":""},null,"",null,""]
[null,"",null,{"$f":"IF(ISERROR(VLOOKUP(#REF!,localizacao,2,FALSE)),\"\",VLOOKUP(#REF!,localizacao,2,FALSE))","v":""},null,"",null,""]
[null,"",null,{"$f":"IF(ISERROR(VLOOKUP(#REF!,localizacao,2,FALSE)),\"\",VLOOKUP(#REF!,localizacao,2,FALSE))","v":""},null,"",null,""]
[null,"",null,{"$f":"IF(ISERROR(VLOOKUP(#REF!,localizacao,2,FALSE)),\"\",VLOOKUP(#REF!,localizacao,2,FALSE))","v":""},null,"",null,""]
[null,"",null,{"$f":"IF(ISERROR(VLOOKUP(#REF!,localizacao,2,FALSE)),\"\",VLOOKUP(#REF!,localizacao,2,FALSE))","v":""},null,"",null,""]
[null,"",null,{"$f":"IF(ISERROR(VLOOKUP(#REF!,localizacao,2,FALSE)),\"\",VLOOKUP(#REF!,localizacao,2,FALSE))","v":""},null,"",null,""]
[null,"",null,{"$f":"IF(ISERROR(VLOOKUP(#REF!,localizacao,2,FALSE)),\"\",VLOOKUP(#REF!,localizacao,2,FALSE))","v":""},null,"",null,""]
[null,"",null,{"$f":"IF(ISERROR(VLOOKUP(#REF!,localizacao,2,FALSE)),\"\",VLOOKUP(#REF!,localizacao,2,FALSE))","v":""},null,"",null,""]
[null,"",null,{"$f":"IF(ISERROR(VLOOKUP(#REF!,localizacao,2,FALSE)),\"\",VLOOKUP(#REF!,localizacao,2,FALSE))","v":""},null,"",null,""]
[null,"",null,{"$f":"IF(ISERROR(VLOOKUP(#REF!,localizacao,2,FALSE)),\"\",VLOOKUP(#REF!,localizacao,2,FALSE))","v":""},null,"",null,""]
[null,"",null,{"$f":"IF(ISERROR(VLOOKUP(#REF!,localizacao,2,FALSE)),\"\",VLOOKUP(#REF!,localizacao,2,FALSE))","v":""},null,"",null,""]
[null,"",null,{"$f":"IF(ISERROR(VLOOKUP(#REF!,localizacao,2,FALSE)),\"\",VLOOKUP(#REF!,localizacao,2,FALSE))","v":""},null,"",null,""]
[null,"",null,{"$f":"IF(ISERROR(VLOOKUP(#REF!,localizacao,2,FALSE)),\"\",VLOOKUP(#REF!,localizacao,2,FALSE))","v":""},null,"",null,""]
[null,"",null,{"$f":"IF(ISERROR(VLOOKUP(#REF!,localizacao,2,FALSE)),\"\",VLOOKUP(#REF!,localizacao,2,FALSE))","v":""},null,"",null,""]
[null,"",null,{"$f":"IF(ISERROR(VLOOKUP(#REF!,localizacao,2,FALSE)),\"\",VLOOKUP(#REF!,localizacao,2,FALSE))","v":""},null,"",null,""]
[null,"",null,{"$f":"IF(ISERROR(VLOOKUP(#REF!,localizacao,2,FALSE)),\"\",VLOOKUP(#REF!,localizacao,2,FALSE))","v":""},null,"",null,""]
[null,"",null,{"$f":"IF(ISERROR(VLOOKUP(#REF!,localizacao,2,FALSE)),\"\",VLOOKUP(#REF!,localizacao,2,FALSE))","v":""},null,"",null,""]
[null,"",null,{"$f":"IF(ISERROR(VLOOKUP(#REF!,localizacao,2,FALSE)),\"\",VLOOKUP(#REF!,localizacao,2,FALSE))","v":""},null,"",null,""]
[null,"",null,{"$f":"IF(ISERROR(VLOOKUP(#REF!,localizacao,2,FALSE)),\"\",VLOOKUP(#REF!,localizacao,2,FALSE))","v":""},null,"",null,""]
[null,"",null,{"$f":"IF(ISERROR(VLOOKUP(#REF!,localizacao,2,FALSE)),\"\",VLOOKUP(#REF!,localizacao,2,FALSE))","v":""},null,"",null,""]
[null,"",null,{"$f":"IF(ISERROR(VLOOKUP(#REF!,localizacao,2,FALSE)),\"\",VLOOKUP(#REF!,localizacao,2,FALSE))","v":""},null,"",null,""]
[null,"",null,{"$f":"IF(ISERROR(VLOOKUP(#REF!,localizacao,2,FALSE)),\"\",VLOOKUP(#REF!,localizacao,2,FALSE))","v":""},null,"",null,""]
[null,"",null,{"$f":"IF(ISERROR(VLOOKUP(#REF!,localizacao,2,FALSE)),\"\",VLOOKUP(#REF!,localizacao,2,FALSE))","v":""},null,"",null,""]
[null,"",null,{"$f":"IF(ISERROR(VLOOKUP(#REF!,localizacao,2,FALSE)),\"\",VLOOKUP(#REF!,localizacao,2,FALSE))","v":""},null,"",null,""]
[null,"",null,{"$f":"IF(ISERROR(VLOOKUP(#REF!,localizacao,2,FALSE)),\"\",VLOOKUP(#REF!,localizacao,2,FALSE))","v":""},null,"",null,""]
[null,"",null,{"$f":"IF(ISERROR(VLOOKUP(#REF!,localizacao,2,FALSE)),\"\",VLOOKUP(#REF!,localizacao,2,FALSE))","v":""},null,"",null,""]
[null,"",null,{"$f":"IF(ISERROR(VLOOKUP(#REF!,localizacao,2,FALSE)),\"\",VLOOKUP(#REF!,localizacao,2,FALSE))","v":""},null,"",null,""]
[null,"",null,{"$f":"IF(ISERROR(VLOOKUP(#REF!,localizacao,2,FALSE)),\"\",VLOOKUP(#REF!,localizacao,2,FALSE))","v":""},null,"",null,""]
[null,"",null,{"$f":"IF(ISERROR(VLOOKUP(#REF!,localizacao,2,FALSE)),\"\",VLOOKUP(#REF!,localizacao,2,FALSE))","v":""},null,"",null,""]
[null,"",null,{"$f":"IF(ISERROR(VLOOKUP(#REF!,localizacao,2,FALSE)),\"\",VLOOKUP(#REF!,localizacao,2,FALSE))","v":""},null,"",null,""]
[null,"",null,{"$f":"IF(ISERROR(VLOOKUP(#REF!,localizacao,2,FALSE)),\"\",VLOOKUP(#REF!,localizacao,2,FALSE))","v":""},null,"",null,""]
[null,"",null,{"$f":"IF(ISERROR(VLOOKUP(#REF!,localizacao,2,FALSE)),\"\",VLOOKUP(#REF!,localizacao,2,FALSE))","v":""},null,"",null,""]
[null,"",null,{"$f":"IF(ISERROR(VLOOKUP(#REF!,localizacao,2,FALSE)),\"\",VLOOKUP(#REF!,localizacao,2,FALSE))","v":""},null,"",null,""]
[null,"",null,{"$f":"IF(ISERROR(VLOOKUP(#REF!,localizacao,2,FALSE)),\"\",VLOOKUP(#REF!,localizacao,2,FALSE))","v":""},null,"",null,""]
[null,"",null,{"$f":"IF(ISERROR(VLOOKUP(#REF!,localizacao,2,FALSE)),\"\",VLOOKUP(#REF!,localizacao,2,FALSE))","v":""},null,"",null,""]
[null,"",null,{"$f":"IF(ISERROR(VLOOKUP(#REF!,localizacao,2,FALSE)),\"\",VLOOKUP(#REF!,localizacao,2,FALSE))","v":""},null,"",null,""]
[null,"",null,{"$f":"IF(ISERROR(VLOOKUP(#REF!,localizacao,2,FALSE)),\"\",VLOOKUP(#REF!,localizacao,2,FALSE))","v":""},null,"",null,""]
[null,"",null,{"$f":"IF(ISERROR(VLOOKUP(#REF!,localizacao,2,FALSE)),\"\",VLOOKUP(#REF!,localizacao,2,FALSE))","v":""},null,"",null,""]
[null,"",null,{"$f":"IF(ISERROR(VLOOKUP(#REF!,localizacao,2,FALSE)),\"\",VLOOKUP(#REF!,localizacao,2,FALSE))","v":""},null,"",null,""]
[null,"",null,{"$f":"IF(ISERROR(VLOOKUP(#REF!,localizacao,2,FALSE)),\"\",VLOOKUP(#REF!,localizacao,2,FALSE))","v":""},null,"",null,""]
[null,"",null,{"$f":"IF(ISERROR(VLOOKUP(#REF!,localizacao,2,FALSE)),\"\",VLOOKUP(#REF!,localizacao,2,FALSE))","v":""},null,"",null,""]
[null,"",null,{"$f":"IF(ISERROR(VLOOKUP(#REF!,localizacao,2,FALSE)),\"\",VLOOKUP(#REF!,localizacao,2,FALSE))","v":""},null,"",null,""]
[null,"",null,{"$f":"IF(ISERROR(VLOOKUP(#REF!,localizacao,2,FALSE)),\"\",VLOOKUP(#REF!,localizacao,2,FALSE))","v":""},null,"",null,""]
[null,"",null,{"$f":"IF(ISERROR(VLOOKUP(#REF!,localizacao,2,FALSE)),\"\",VLOOKUP(#REF!,localizacao,2,FALSE))","v":""},null,"",null,""]
[null,"",null,{"$f":"IF(ISERROR(VLOOKUP(#REF!,localizacao,2,FALSE)),\"\",VLOOKUP(#REF!,localizacao,2,FALSE))","v":""},null,"",null,""]
[null,"",null,{"$f":"IF(ISERROR(VLOOKUP(#REF!,localizacao,2,FALSE)),\"\",VLOOKUP(#REF!,localizacao,2,FALSE))","v":""},null,"",null,""]
[null,"",null,{"$f":"IF(ISERROR(VLOOKUP(#REF!,localizacao,2,FALSE)),\"\",VLOOKUP(#REF!,localizacao,2,FALSE))","v":""},null,"",null,""]
[null,"",null,{"$f":"IF(ISERROR(VLOOKUP(#REF!,localizacao,2,FALSE)),\"\",VLOOKUP(#REF!,localizacao,2,FALSE))","v":""},null,"",null,""]
[null,"",null,{"$f":"IF(ISERROR(VLOOKUP(#REF!,localizacao,2,FALSE)),\"\",VLOOKUP(#REF!,localizacao,2,FALSE))","v":""},null,"",null,""]
[null,"",null,{"$f":"IF(ISERROR(VLOOKUP(#REF!,localizacao,2,FALSE)),\"\",VLOOKUP(#REF!,localizacao,2,FALSE))","v":""},null,"",null,""]
[null,"",null,{"$f":"IF(ISERROR(VLOOKUP(#REF!,localizacao,2,FALSE)),\"\",VLOOKUP(#REF!,localizacao,2,FALSE))","v":""},null,"",null,""]
[null,"",null,{"$f":"IF(ISERROR(VLOOKUP(#REF!,localizacao,2,FALSE)),\"\",VLOOKUP(#REF!,localizacao,2,FALSE))","v":""},null,"",null,""]
[null,"",null,{"$f":"IF(ISERROR(VLOOKUP(#REF!,localizacao,2,FALSE)),\"\",VLOOKUP(#REF!,localizacao,2,FALSE))","v":""},null,"",null,""]
[null,"",null,{"$f":"IF(ISERROR(VLOOKUP(#REF!,localizacao,2,FALSE)),\"\",VLOOKUP(#REF!,localizacao,2,FALSE))","v":""},null,"",null,""]
[null,"",null,{"$f":"IF(ISERROR(VLOOKUP(#REF!,localizacao,2,FALSE)),\"\",VLOOKUP(#REF!,localizacao,2,FALSE))","v":""},null,"",null,""]
[null,"",null,{"$f":"IF(ISERROR(VLOOKUP(#REF!,localizacao,2,FALSE)),\"\",VLOOKUP(#REF!,localizacao,2,FALSE))","v":""},null,"",null,""]
[null,"",null,{"$f":"IF(ISERROR(VLOOKUP(#REF!,localizacao,2,FALSE)),\"\",VLOOKUP(#REF!,localizacao,2,FALSE))","v":""},null,"",null,""]
[null,"",null,{"$f":"IF(ISERROR(VLOOKUP(#REF!,localizacao,2,FALSE)),\"\",VLOOKUP(#REF!,localizacao,2,FALSE))","v":""},null,"",null,""]
[null,"",null,{"$f":"IF(ISERROR(VLOOKUP(#REF!,localizacao,2,FALSE)),\"\",VLOOKUP(#REF!,localizacao,2,FALSE))","v":""},null,"",null,""]
[null,"",null,{"$f":"IF(ISERROR(VLOOKUP(#REF!,localizacao,2,FALSE)),\"\",VLOOKUP(#REF!,localizacao,2,FALSE))","v":""},null,"",null,""]
[null,"",null,{"$f":"IF(ISERROR(VLOOKUP(#REF!,localizacao,2,FALSE)),\"\",VLOOKUP(#REF!,localizacao,2,FALSE))","v":""},null,{"$f":"IF(ISERROR(VLOOKUP(G2758,componentes,2,FALSE)),\"\",VLOOKUP(G2758,componentes,2,FALSE))","v":""},null,{"$f":"IF(ISERROR(VLOOKUP(I2758,rubricas,2,FALSE)),\"\",VLOOKUP(I2758,rubricas,2,FALSE))","v":""}]
[null,{"$f":"IF(C2759<>\"\",+B2758+1,\"\")","v":""},null,{"$f":"IF(ISERROR(VLOOKUP(#REF!,localizacao,2,FALSE)),\"\",VLOOKUP(#REF!,localizacao,2,FALSE))","v":""},null,"",null,""]
[null,"",null,{"$f":"IF(ISERROR(VLOOKUP(#REF!,localizacao,2,FALSE)),\"\",VLOOKUP(#REF!,localizacao,2,FALSE))","v":""},null,"",null,""]
[null,"",null,{"$f":"IF(ISERROR(VLOOKUP(#REF!,localizacao,2,FALSE)),\"\",VLOOKUP(#REF!,localizacao,2,FALSE))","v":""},null,"",null,""]
[null,"",null,{"$f":"IF(ISERROR(VLOOKUP(#REF!,localizacao,2,FALSE)),\"\",VLOOKUP(#REF!,localizacao,2,FALSE))","v":""},null,"",null,""]
[null,"",null,{"$f":"IF(ISERROR(VLOOKUP(#REF!,localizacao,2,FALSE)),\"\",VLOOKUP(#REF!,localizacao,2,FALSE))","v":""},null,"",null,""]
[null,"",null,{"$f":"IF(ISERROR(VLOOKUP(#REF!,localizacao,2,FALSE)),\"\",VLOOKUP(#REF!,localizacao,2,FALSE))","v":""},null,"",null,""]
[null,"",null,{"$f":"IF(ISERROR(VLOOKUP(#REF!,localizacao,2,FALSE)),\"\",VLOOKUP(#REF!,localizacao,2,FALSE))","v":""},null,"",null,""]
[null,"",null,{"$f":"IF(ISERROR(VLOOKUP(#REF!,localizacao,2,FALSE)),\"\",VLOOKUP(#REF!,localizacao,2,FALSE))","v":""},null,"",null,""]
[null,"",null,{"$f":"IF(ISERROR(VLOOKUP(#REF!,localizacao,2,FALSE)),\"\",VLOOKUP(#REF!,localizacao,2,FALSE))","v":""},null,"",null,""]
[null,"",null,{"$f":"IF(ISERROR(VLOOKUP(#REF!,localizacao,2,FALSE)),\"\",VLOOKUP(#REF!,localizacao,2,FALSE))","v":""},null,"",null,""]
[null,"",null,{"$f":"IF(ISERROR(VLOOKUP(#REF!,localizacao,2,FALSE)),\"\",VLOOKUP(#REF!,localizacao,2,FALSE))","v":""},null,"",null,""]
[null,"",null,{"$f":"IF(ISERROR(VLOOKUP(#REF!,localizacao,2,FALSE)),\"\",VLOOKUP(#REF!,localizacao,2,FALSE))","v":""},null,"",null,""]
[null,"",null,{"$f":"IF(ISERROR(VLOOKUP(#REF!,localizacao,2,FALSE)),\"\",VLOOKUP(#REF!,localizacao,2,FALSE))","v":""},null,"",null,""]
[null,"",null,{"$f":"IF(ISERROR(VLOOKUP(#REF!,localizacao,2,FALSE)),\"\",VLOOKUP(#REF!,localizacao,2,FALSE))","v":""},null,"",null,""]
[null,"",null,{"$f":"IF(ISERROR(VLOOKUP(#REF!,localizacao,2,FALSE)),\"\",VLOOKUP(#REF!,localizacao,2,FALSE))","v":""},null,"",null,""]
[null,"",null,{"$f":"IF(ISERROR(VLOOKUP(#REF!,localizacao,2,FALSE)),\"\",VLOOKUP(#REF!,localizacao,2,FALSE))","v":""},null,"",null,""]
[null,"",null,{"$f":"IF(ISERROR(VLOOKUP(#REF!,localizacao,2,FALSE)),\"\",VLOOKUP(#REF!,localizacao,2,FALSE))","v":""},null,"",null,""]
[null,"",null,{"$f":"IF(ISERROR(VLOOKUP(#REF!,localizacao,2,FALSE)),\"\",VLOOKUP(#REF!,localizacao,2,FALSE))","v":""},null,"",null,""]
[null,"",null,{"$f":"IF(ISERROR(VLOOKUP(#REF!,localizacao,2,FALSE)),\"\",VLOOKUP(#REF!,localizacao,2,FALSE))","v":""},null,"",null,""]
[null,"",null,{"$f":"IF(ISERROR(VLOOKUP(#REF!,localizacao,2,FALSE)),\"\",VLOOKUP(#REF!,localizacao,2,FALSE))","v":""},null,"",null,""]
[null,"",null,{"$f":"IF(ISERROR(VLOOKUP(#REF!,localizacao,2,FALSE)),\"\",VLOOKUP(#REF!,localizacao,2,FALSE))","v":""},null,"",null,""]
[null,"",null,{"$f":"IF(ISERROR(VLOOKUP(#REF!,localizacao,2,FALSE)),\"\",VLOOKUP(#REF!,localizacao,2,FALSE))","v":""},null,"",null,""]
[null,"",null,{"$f":"IF(ISERROR(VLOOKUP(#REF!,localizacao,2,FALSE)),\"\",VLOOKUP(#REF!,localizacao,2,FALSE))","v":""},null,"",null,""]
[null,"",null,{"$f":"IF(ISERROR(VLOOKUP(#REF!,localizacao,2,FALSE)),\"\",VLOOKUP(#REF!,localizacao,2,FALSE))","v":""},null,"",null,""]
[null,"",null,{"$f":"IF(ISERROR(VLOOKUP(#REF!,localizacao,2,FALSE)),\"\",VLOOKUP(#REF!,localizacao,2,FALSE))","v":""},null,"",null,""]
[null,"",null,{"$f":"IF(ISERROR(VLOOKUP(#REF!,localizacao,2,FALSE)),\"\",VLOOKUP(#REF!,localizacao,2,FALSE))","v":""},null,"",null,""]
[null,"",null,{"$f":"IF(ISERROR(VLOOKUP(#REF!,localizacao,2,FALSE)),\"\",VLOOKUP(#REF!,localizacao,2,FALSE))","v":""},null,"",null,""]
[null,"",null,{"$f":"IF(ISERROR(VLOOKUP(#REF!,localizacao,2,FALSE)),\"\",VLOOKUP(#REF!,localizacao,2,FALSE))","v":""},null,"",null,""]
[null,"",null,{"$f":"IF(ISERROR(VLOOKUP(#REF!,localizacao,2,FALSE)),\"\",VLOOKUP(#REF!,localizacao,2,FALSE))","v":""},null,"",null,""]
[null,"",null,{"$f":"IF(ISERROR(VLOOKUP(#REF!,localizacao,2,FALSE)),\"\",VLOOKUP(#REF!,localizacao,2,FALSE))","v":""},null,"",null,""]
[null,"",null,{"$f":"IF(ISERROR(VLOOKUP(#REF!,localizacao,2,FALSE)),\"\",VLOOKUP(#REF!,localizacao,2,FALSE))","v":""},null,"",null,""]
[null,"",null,{"$f":"IF(ISERROR(VLOOKUP(#REF!,localizacao,2,FALSE)),\"\",VLOOKUP(#REF!,localizacao,2,FALSE))","v":""},null,"",null,""]
[null,"",null,{"$f":"IF(ISERROR(VLOOKUP(#REF!,localizacao,2,FALSE)),\"\",VLOOKUP(#REF!,localizacao,2,FALSE))","v":""},null,"",null,""]
[null,"",null,{"$f":"IF(ISERROR(VLOOKUP(#REF!,localizacao,2,FALSE)),\"\",VLOOKUP(#REF!,localizacao,2,FALSE))","v":""},null,"",null,""]
[null,"",null,{"$f":"IF(ISERROR(VLOOKUP(#REF!,localizacao,2,FALSE)),\"\",VLOOKUP(#REF!,localizacao,2,FALSE))","v":""},null,"",null,""]
[null,"",null,{"$f":"IF(ISERROR(VLOOKUP(#REF!,localizacao,2,FALSE)),\"\",VLOOKUP(#REF!,localizacao,2,FALSE))","v":""},null,"",null,""]
[null,"",null,{"$f":"IF(ISERROR(VLOOKUP(#REF!,localizacao,2,FALSE)),\"\",VLOOKUP(#REF!,localizacao,2,FALSE))","v":""},null,"",null,""]
[null,"",null,{"$f":"IF(ISERROR(VLOOKUP(#REF!,localizacao,2,FALSE)),\"\",VLOOKUP(#REF!,localizacao,2,FALSE))","v":""},null,"",null,""]
[null,"",null,{"$f":"IF(ISERROR(VLOOKUP(#REF!,localizacao,2,FALSE)),\"\",VLOOKUP(#REF!,localizacao,2,FALSE))","v":""},null,"",null,""]
[null,"",null,{"$f":"IF(ISERROR(VLOOKUP(#REF!,localizacao,2,FALSE)),\"\",VLOOKUP(#REF!,localizacao,2,FALSE))","v":""},null,"",null,""]
[null,"",null,{"$f":"IF(ISERROR(VLOOKUP(#REF!,localizacao,2,FALSE)),\"\",VLOOKUP(#REF!,localizacao,2,FALSE))","v":""},null,"",null,""]
[null,"",null,{"$f":"IF(ISERROR(VLOOKUP(#REF!,localizacao,2,FALSE)),\"\",VLOOKUP(#REF!,localizacao,2,FALSE))","v":""},null,"",null,""]
[null,"",null,{"$f":"IF(ISERROR(VLOOKUP(#REF!,localizacao,2,FALSE)),\"\",VLOOKUP(#REF!,localizacao,2,FALSE))","v":""},null,"",null,""]
[null,"",null,{"$f":"IF(ISERROR(VLOOKUP(#REF!,localizacao,2,FALSE)),\"\",VLOOKUP(#REF!,localizacao,2,FALSE))","v":""},null,"",null,""]
[null,"",null,{"$f":"IF(ISERROR(VLOOKUP(#REF!,localizacao,2,FALSE)),\"\",VLOOKUP(#REF!,localizacao,2,FALSE))","v":""},null,"",null,""]
[null,"",null,{"$f":"IF(ISERROR(VLOOKUP(#REF!,localizacao,2,FALSE)),\"\",VLOOKUP(#REF!,localizacao,2,FALSE))","v":""},null,"",null,""]
[null,"",null,{"$f":"IF(ISERROR(VLOOKUP(#REF!,localizacao,2,FALSE)),\"\",VLOOKUP(#REF!,localizacao,2,FALSE))","v":""},null,"",null,""]
[null,"",null,{"$f":"IF(ISERROR(VLOOKUP(#REF!,localizacao,2,FALSE)),\"\",VLOOKUP(#REF!,localizacao,2,FALSE))","v":""},null,"",null,""]
[null,"",null,{"$f":"IF(ISERROR(VLOOKUP(#REF!,localizacao,2,FALSE)),\"\",VLOOKUP(#REF!,localizacao,2,FALSE))","v":""},null,"",null,""]
[null,"",null,{"$f":"IF(ISERROR(VLOOKUP(#REF!,localizacao,2,FALSE)),\"\",VLOOKUP(#REF!,localizacao,2,FALSE))","v":""},null,"",null,""]
[null,"",null,{"$f":"IF(ISERROR(VLOOKUP(#REF!,localizacao,2,FALSE)),\"\",VLOOKUP(#REF!,localizacao,2,FALSE))","v":""},null,"",null,""]
[null,"",null,{"$f":"IF(ISERROR(VLOOKUP(#REF!,localizacao,2,FALSE)),\"\",VLOOKUP(#REF!,localizacao,2,FALSE))","v":""},null,"",null,""]
[null,"",null,{"$f":"IF(ISERROR(VLOOKUP(#REF!,localizacao,2,FALSE)),\"\",VLOOKUP(#REF!,localizacao,2,FALSE))","v":""},null,"",null,""]
[null,"",null,{"$f":"IF(ISERROR(VLOOKUP(#REF!,localizacao,2,FALSE)),\"\",VLOOKUP(#REF!,localizacao,2,FALSE))","v":""},null,"",null,""]
[null,"",null,{"$f":"IF(ISERROR(VLOOKUP(#REF!,localizacao,2,FALSE)),\"\",VLOOKUP(#REF!,localizacao,2,FALSE))","v":""},null,"",null,""]
[null,"",null,{"$f":"IF(ISERROR(VLOOKUP(#REF!,localizacao,2,FALSE)),\"\",VLOOKUP(#REF!,localizacao,2,FALSE))","v":""},null,"",null,""]
[null,"",null,{"$f":"IF(ISERROR(VLOOKUP(#REF!,localizacao,2,FALSE)),\"\",VLOOKUP(#REF!,localizacao,2,FALSE))","v":""},null,"",null,""]
[null,"",null,{"$f":"IF(ISERROR(VLOOKUP(#REF!,localizacao,2,FALSE)),\"\",VLOOKUP(#REF!,localizacao,2,FALSE))","v":""},null,"",null,""]
[null,"",null,{"$f":"IF(ISERROR(VLOOKUP(#REF!,localizacao,2,FALSE)),\"\",VLOOKUP(#REF!,localizacao,2,FALSE))","v":""},null,"",null,""]
[null,"",null,{"$f":"IF(ISERROR(VLOOKUP(#REF!,localizacao,2,FALSE)),\"\",VLOOKUP(#REF!,localizacao,2,FALSE))","v":""},null,"",null,""]
[null,"",null,{"$f":"IF(ISERROR(VLOOKUP(#REF!,localizacao,2,FALSE)),\"\",VLOOKUP(#REF!,localizacao,2,FALSE))","v":""},null,"",null,""]
[null,"",null,{"$f":"IF(ISERROR(VLOOKUP(#REF!,localizacao,2,FALSE)),\"\",VLOOKUP(#REF!,localizacao,2,FALSE))","v":""},null,"",null,""]
[null,"",null,{"$f":"IF(ISERROR(VLOOKUP(#REF!,localizacao,2,FALSE)),\"\",VLOOKUP(#REF!,localizacao,2,FALSE))","v":""},null,"",null,""]
[null,"",null,{"$f":"IF(ISERROR(VLOOKUP(#REF!,localizacao,2,FALSE)),\"\",VLOOKUP(#REF!,localizacao,2,FALSE))","v":""},null,{"$f":"IF(ISERROR(VLOOKUP(G2822,componentes,2,FALSE)),\"\",VLOOKUP(G2822,componentes,2,FALSE))","v":""},null,{"$f":"IF(ISERROR(VLOOKUP(I2822,rubricas,2,FALSE)),\"\",VLOOKUP(I2822,rubricas,2,FALSE))","v":""}]
[null,{"$f":"IF(C2823<>\"\",+B2822+1,\"\")","v":""},null,{"$f":"IF(ISERROR(VLOOKUP(#REF!,localizacao,2,FALSE)),\"\",VLOOKUP(#REF!,localizacao,2,FALSE))","v":""},null,"",null,""]
[null,"",null,{"$f":"IF(ISERROR(VLOOKUP(#REF!,localizacao,2,FALSE)),\"\",VLOOKUP(#REF!,localizacao,2,FALSE))","v":""},null,"",null,""]
[null,"",null,{"$f":"IF(ISERROR(VLOOKUP(#REF!,localizacao,2,FALSE)),\"\",VLOOKUP(#REF!,localizacao,2,FALSE))","v":""},null,"",null,""]
[null,"",null,{"$f":"IF(ISERROR(VLOOKUP(#REF!,localizacao,2,FALSE)),\"\",VLOOKUP(#REF!,localizacao,2,FALSE))","v":""},null,"",null,""]
[null,"",null,{"$f":"IF(ISERROR(VLOOKUP(#REF!,localizacao,2,FALSE)),\"\",VLOOKUP(#REF!,localizacao,2,FALSE))","v":""},null,"",null,""]
[null,"",null,{"$f":"IF(ISERROR(VLOOKUP(#REF!,localizacao,2,FALSE)),\"\",VLOOKUP(#REF!,localizacao,2,FALSE))","v":""},null,"",null,""]
[null,"",null,{"$f":"IF(ISERROR(VLOOKUP(#REF!,localizacao,2,FALSE)),\"\",VLOOKUP(#REF!,localizacao,2,FALSE))","v":""},null,"",null,""]
[null,"",null,{"$f":"IF(ISERROR(VLOOKUP(#REF!,localizacao,2,FALSE)),\"\",VLOOKUP(#REF!,localizacao,2,FALSE))","v":""},null,"",null,""]
[null,"",null,{"$f":"IF(ISERROR(VLOOKUP(#REF!,localizacao,2,FALSE)),\"\",VLOOKUP(#REF!,localizacao,2,FALSE))","v":""},null,"",null,""]
[null,"",null,{"$f":"IF(ISERROR(VLOOKUP(#REF!,localizacao,2,FALSE)),\"\",VLOOKUP(#REF!,localizacao,2,FALSE))","v":""},null,"",null,""]
[null,"",null,{"$f":"IF(ISERROR(VLOOKUP(#REF!,localizacao,2,FALSE)),\"\",VLOOKUP(#REF!,localizacao,2,FALSE))","v":""},null,"",null,""]
[null,"",null,{"$f":"IF(ISERROR(VLOOKUP(#REF!,localizacao,2,FALSE)),\"\",VLOOKUP(#REF!,localizacao,2,FALSE))","v":""},null,"",null,""]
[null,"",null,{"$f":"IF(ISERROR(VLOOKUP(#REF!,localizacao,2,FALSE)),\"\",VLOOKUP(#REF!,localizacao,2,FALSE))","v":""},null,"",null,""]
[null,"",null,{"$f":"IF(ISERROR(VLOOKUP(#REF!,localizacao,2,FALSE)),\"\",VLOOKUP(#REF!,localizacao,2,FALSE))","v":""},null,"",null,""]
[null,"",null,{"$f":"IF(ISERROR(VLOOKUP(#REF!,localizacao,2,FALSE)),\"\",VLOOKUP(#REF!,localizacao,2,FALSE))","v":""},null,"",null,""]
[null,"",null,{"$f":"IF(ISERROR(VLOOKUP(#REF!,localizacao,2,FALSE)),\"\",VLOOKUP(#REF!,localizacao,2,FALSE))","v":""},null,"",null,""]
[null,"",null,{"$f":"IF(ISERROR(VLOOKUP(#REF!,localizacao,2,FALSE)),\"\",VLOOKUP(#REF!,localizacao,2,FALSE))","v":""},null,"",null,""]
[null,"",null,{"$f":"IF(ISERROR(VLOOKUP(#REF!,localizacao,2,FALSE)),\"\",VLOOKUP(#REF!,localizacao,2,FALSE))","v":""},null,"",null,""]
[null,"",null,{"$f":"IF(ISERROR(VLOOKUP(#REF!,localizacao,2,FALSE)),\"\",VLOOKUP(#REF!,localizacao,2,FALSE))","v":""},null,"",null,""]
[null,"",null,{"$f":"IF(ISERROR(VLOOKUP(#REF!,localizacao,2,FALSE)),\"\",VLOOKUP(#REF!,localizacao,2,FALSE))","v":""},null,"",null,""]
[null,"",null,{"$f":"IF(ISERROR(VLOOKUP(#REF!,localizacao,2,FALSE)),\"\",VLOOKUP(#REF!,localizacao,2,FALSE))","v":""},null,"",null,""]
[null,"",null,{"$f":"IF(ISERROR(VLOOKUP(#REF!,localizacao,2,FALSE)),\"\",VLOOKUP(#REF!,localizacao,2,FALSE))","v":""},null,"",null,""]
[null,"",null,{"$f":"IF(ISERROR(VLOOKUP(#REF!,localizacao,2,FALSE)),\"\",VLOOKUP(#REF!,localizacao,2,FALSE))","v":""},null,"",null,""]
[null,"",null,{"$f":"IF(ISERROR(VLOOKUP(#REF!,localizacao,2,FALSE)),\"\",VLOOKUP(#REF!,localizacao,2,FALSE))","v":""},null,"",null,""]
[null,"",null,{"$f":"IF(ISERROR(VLOOKUP(#REF!,localizacao,2,FALSE)),\"\",VLOOKUP(#REF!,localizacao,2,FALSE))","v":""},null,"",null,""]
[null,"",null,{"$f":"IF(ISERROR(VLOOKUP(#REF!,localizacao,2,FALSE)),\"\",VLOOKUP(#REF!,localizacao,2,FALSE))","v":""},null,"",null,""]
[null,"",null,{"$f":"IF(ISERROR(VLOOKUP(#REF!,localizacao,2,FALSE)),\"\",VLOOKUP(#REF!,localizacao,2,FALSE))","v":""},null,"",null,""]
[null,"",null,{"$f":"IF(ISERROR(VLOOKUP(#REF!,localizacao,2,FALSE)),\"\",VLOOKUP(#REF!,localizacao,2,FALSE))","v":""},null,"",null,""]
[null,"",null,{"$f":"IF(ISERROR(VLOOKUP(#REF!,localizacao,2,FALSE)),\"\",VLOOKUP(#REF!,localizacao,2,FALSE))","v":""},null,"",null,""]
[null,"",null,{"$f":"IF(ISERROR(VLOOKUP(#REF!,localizacao,2,FALSE)),\"\",VLOOKUP(#REF!,localizacao,2,FALSE))","v":""},null,"",null,""]
[null,"",null,{"$f":"IF(ISERROR(VLOOKUP(#REF!,localizacao,2,FALSE)),\"\",VLOOKUP(#REF!,localizacao,2,FALSE))","v":""},null,"",null,""]
[null,"",null,{"$f":"IF(ISERROR(VLOOKUP(#REF!,localizacao,2,FALSE)),\"\",VLOOKUP(#REF!,localizacao,2,FALSE))","v":""},null,"",null,""]
[null,"",null,{"$f":"IF(ISERROR(VLOOKUP(#REF!,localizacao,2,FALSE)),\"\",VLOOKUP(#REF!,localizacao,2,FALSE))","v":""},null,"",null,""]
[null,"",null,{"$f":"IF(ISERROR(VLOOKUP(#REF!,localizacao,2,FALSE)),\"\",VLOOKUP(#REF!,localizacao,2,FALSE))","v":""},null,"",null,""]
[null,"",null,{"$f":"IF(ISERROR(VLOOKUP(#REF!,localizacao,2,FALSE)),\"\",VLOOKUP(#REF!,localizacao,2,FALSE))","v":""},null,"",null,""]
[null,"",null,{"$f":"IF(ISERROR(VLOOKUP(#REF!,localizacao,2,FALSE)),\"\",VLOOKUP(#REF!,localizacao,2,FALSE))","v":""},null,"",null,""]
[null,"",null,{"$f":"IF(ISERROR(VLOOKUP(#REF!,localizacao,2,FALSE)),\"\",VLOOKUP(#REF!,localizacao,2,FALSE))","v":""},null,"",null,""]
[null,"",null,{"$f":"IF(ISERROR(VLOOKUP(#REF!,localizacao,2,FALSE)),\"\",VLOOKUP(#REF!,localizacao,2,FALSE))","v":""},null,"",null,""]
[null,"",null,{"$f":"IF(ISERROR(VLOOKUP(#REF!,localizacao,2,FALSE)),\"\",VLOOKUP(#REF!,localizacao,2,FALSE))","v":""},null,"",null,""]
[null,"",null,{"$f":"IF(ISERROR(VLOOKUP(#REF!,localizacao,2,FALSE)),\"\",VLOOKUP(#REF!,localizacao,2,FALSE))","v":""},null,"",null,""]
[null,"",null,{"$f":"IF(ISERROR(VLOOKUP(#REF!,localizacao,2,FALSE)),\"\",VLOOKUP(#REF!,localizacao,2,FALSE))","v":""},null,"",null,""]
[null,"",null,{"$f":"IF(ISERROR(VLOOKUP(#REF!,localizacao,2,FALSE)),\"\",VLOOKUP(#REF!,localizacao,2,FALSE))","v":""},null,"",null,""]
[null,"",null,{"$f":"IF(ISERROR(VLOOKUP(#REF!,localizacao,2,FALSE)),\"\",VLOOKUP(#REF!,localizacao,2,FALSE))","v":""},null,"",null,""]
[null,"",null,{"$f":"IF(ISERROR(VLOOKUP(#REF!,localizacao,2,FALSE)),\"\",VLOOKUP(#REF!,localizacao,2,FALSE))","v":""},null,"",null,""]
[null,"",null,{"$f":"IF(ISERROR(VLOOKUP(#REF!,localizacao,2,FALSE)),\"\",VLOOKUP(#REF!,localizacao,2,FALSE))","v":""},null,"",null,""]
[null,"",null,{"$f":"IF(ISERROR(VLOOKUP(#REF!,localizacao,2,FALSE)),\"\",VLOOKUP(#REF!,localizacao,2,FALSE))","v":""},null,"",null,""]
[null,"",null,{"$f":"IF(ISERROR(VLOOKUP(#REF!,localizacao,2,FALSE)),\"\",VLOOKUP(#REF!,localizacao,2,FALSE))","v":""},null,"",null,""]
[null,"",null,{"$f":"IF(ISERROR(VLOOKUP(#REF!,localizacao,2,FALSE)),\"\",VLOOKUP(#REF!,localizacao,2,FALSE))","v":""},null,"",null,""]
[null,"",null,{"$f":"IF(ISERROR(VLOOKUP(#REF!,localizacao,2,FALSE)),\"\",VLOOKUP(#REF!,localizacao,2,FALSE))","v":""},null,"",null,""]
[null,"",null,{"$f":"IF(ISERROR(VLOOKUP(#REF!,localizacao,2,FALSE)),\"\",VLOOKUP(#REF!,localizacao,2,FALSE))","v":""},null,"",null,""]
[null,"",null,{"$f":"IF(ISERROR(VLOOKUP(#REF!,localizacao,2,FALSE)),\"\",VLOOKUP(#REF!,localizacao,2,FALSE))","v":""},null,"",null,""]
[null,"",null,{"$f":"IF(ISERROR(VLOOKUP(#REF!,localizacao,2,FALSE)),\"\",VLOOKUP(#REF!,localizacao,2,FALSE))","v":""},null,"",null,""]
[null,"",null,{"$f":"IF(ISERROR(VLOOKUP(#REF!,localizacao,2,FALSE)),\"\",VLOOKUP(#REF!,localizacao,2,FALSE))","v":""},null,"",null,""]
[null,"",null,{"$f":"IF(ISERROR(VLOOKUP(#REF!,localizacao,2,FALSE)),\"\",VLOOKUP(#REF!,localizacao,2,FALSE))","v":""},null,"",null,""]
[null,"",null,{"$f":"IF(ISERROR(VLOOKUP(#REF!,localizacao,2,FALSE)),\"\",VLOOKUP(#REF!,localizacao,2,FALSE))","v":""},null,"",null,""]
[null,"",null,{"$f":"IF(ISERROR(VLOOKUP(#REF!,localizacao,2,FALSE)),\"\",VLOOKUP(#REF!,localizacao,2,FALSE))","v":""},null,"",null,""]
[null,"",null,{"$f":"IF(ISERROR(VLOOKUP(#REF!,localizacao,2,FALSE)),\"\",VLOOKUP(#REF!,localizacao,2,FALSE))","v":""},null,"",null,""]
[null,"",null,{"$f":"IF(ISERROR(VLOOKUP(#REF!,localizacao,2,FALSE)),\"\",VLOOKUP(#REF!,localizacao,2,FALSE))","v":""},null,"",null,""]
[null,"",null,{"$f":"IF(ISERROR(VLOOKUP(#REF!,localizacao,2,FALSE)),\"\",VLOOKUP(#REF!,localizacao,2,FALSE))","v":""},null,"",null,""]
[null,"",null,{"$f":"IF(ISERROR(VLOOKUP(#REF!,localizacao,2,FALSE)),\"\",VLOOKUP(#REF!,localizacao,2,FALSE))","v":""},null,"",null,""]
[null,"",null,{"$f":"IF(ISERROR(VLOOKUP(#REF!,localizacao,2,FALSE)),\"\",VLOOKUP(#REF!,localizacao,2,FALSE))","v":""},null,"",null,""]
[null,"",null,{"$f":"IF(ISERROR(VLOOKUP(#REF!,localizacao,2,FALSE)),\"\",VLOOKUP(#REF!,localizacao,2,FALSE))","v":""},null,"",null,""]
[null,"",null,{"$f":"IF(ISERROR(VLOOKUP(#REF!,localizacao,2,FALSE)),\"\",VLOOKUP(#REF!,localizacao,2,FALSE))","v":""},null,"",null,""]
[null,"",null,{"$f":"IF(ISERROR(VLOOKUP(#REF!,localizacao,2,FALSE)),\"\",VLOOKUP(#REF!,localizacao,2,FALSE))","v":""},null,{"$f":"IF(ISERROR(VLOOKUP(G2886,componentes,2,FALSE)),\"\",VLOOKUP(G2886,componentes,2,FALSE))","v":""},null,{"$f":"IF(ISERROR(VLOOKUP(I2886,rubricas,2,FALSE)),\"\",VLOOKUP(I2886,rubricas,2,FALSE))","v":""}]
[null,{"$f":"IF(C2887<>\"\",+B2886+1,\"\")","v":""},null,{"$f":"IF(ISERROR(VLOOKUP(#REF!,localizacao,2,FALSE)),\"\",VLOOKUP(#REF!,localizacao,2,FALSE))","v":""},null,"",null,""]
[null,"",null,{"$f":"IF(ISERROR(VLOOKUP(#REF!,localizacao,2,FALSE)),\"\",VLOOKUP(#REF!,localizacao,2,FALSE))","v":""},null,"",null,""]
[null,"",null,{"$f":"IF(ISERROR(VLOOKUP(#REF!,localizacao,2,FALSE)),\"\",VLOOKUP(#REF!,localizacao,2,FALSE))","v":""},null,"",null,""]
[null,"",null,{"$f":"IF(ISERROR(VLOOKUP(#REF!,localizacao,2,FALSE)),\"\",VLOOKUP(#REF!,localizacao,2,FALSE))","v":""},null,"",null,""]
[null,"",null,{"$f":"IF(ISERROR(VLOOKUP(#REF!,localizacao,2,FALSE)),\"\",VLOOKUP(#REF!,localizacao,2,FALSE))","v":""},null,"",null,""]
[null,"",null,{"$f":"IF(ISERROR(VLOOKUP(#REF!,localizacao,2,FALSE)),\"\",VLOOKUP(#REF!,localizacao,2,FALSE))","v":""},null,"",null,""]
[null,"",null,{"$f":"IF(ISERROR(VLOOKUP(#REF!,localizacao,2,FALSE)),\"\",VLOOKUP(#REF!,localizacao,2,FALSE))","v":""},null,"",null,""]
[null,"",null,{"$f":"IF(ISERROR(VLOOKUP(#REF!,localizacao,2,FALSE)),\"\",VLOOKUP(#REF!,localizacao,2,FALSE))","v":""},null,"",null,""]
[null,"",null,{"$f":"IF(ISERROR(VLOOKUP(#REF!,localizacao,2,FALSE)),\"\",VLOOKUP(#REF!,localizacao,2,FALSE))","v":""},null,"",null,""]
[null,"",null,{"$f":"IF(ISERROR(VLOOKUP(#REF!,localizacao,2,FALSE)),\"\",VLOOKUP(#REF!,localizacao,2,FALSE))","v":""},null,"",null,""]
[null,"",null,{"$f":"IF(ISERROR(VLOOKUP(#REF!,localizacao,2,FALSE)),\"\",VLOOKUP(#REF!,localizacao,2,FALSE))","v":""},null,"",null,""]
[null,"",null,{"$f":"IF(ISERROR(VLOOKUP(#REF!,localizacao,2,FALSE)),\"\",VLOOKUP(#REF!,localizacao,2,FALSE))","v":""},null,"",null,""]
[null,"",null,{"$f":"IF(ISERROR(VLOOKUP(#REF!,localizacao,2,FALSE)),\"\",VLOOKUP(#REF!,localizacao,2,FALSE))","v":""},null,"",null,""]
[null,"",null,{"$f":"IF(ISERROR(VLOOKUP(#REF!,localizacao,2,FALSE)),\"\",VLOOKUP(#REF!,localizacao,2,FALSE))","v":""},null,"",null,""]
[null,"",null,{"$f":"IF(ISERROR(VLOOKUP(#REF!,localizacao,2,FALSE)),\"\",VLOOKUP(#REF!,localizacao,2,FALSE))","v":""},null,"",null,""]
[null,"",null,{"$f":"IF(ISERROR(VLOOKUP(#REF!,localizacao,2,FALSE)),\"\",VLOOKUP(#REF!,localizacao,2,FALSE))","v":""},null,"",null,""]
[null,"",null,{"$f":"IF(ISERROR(VLOOKUP(#REF!,localizacao,2,FALSE)),\"\",VLOOKUP(#REF!,localizacao,2,FALSE))","v":""},null,"",null,""]
[null,"",null,{"$f":"IF(ISERROR(VLOOKUP(#REF!,localizacao,2,FALSE)),\"\",VLOOKUP(#REF!,localizacao,2,FALSE))","v":""},null,"",null,""]
[null,"",null,{"$f":"IF(ISERROR(VLOOKUP(#REF!,localizacao,2,FALSE)),\"\",VLOOKUP(#REF!,localizacao,2,FALSE))","v":""},null,"",null,""]
[null,"",null,{"$f":"IF(ISERROR(VLOOKUP(#REF!,localizacao,2,FALSE)),\"\",VLOOKUP(#REF!,localizacao,2,FALSE))","v":""},null,"",null,""]
[null,"",null,{"$f":"IF(ISERROR(VLOOKUP(#REF!,localizacao,2,FALSE)),\"\",VLOOKUP(#REF!,localizacao,2,FALSE))","v":""},null,"",null,""]
[null,"",null,{"$f":"IF(ISERROR(VLOOKUP(#REF!,localizacao,2,FALSE)),\"\",VLOOKUP(#REF!,localizacao,2,FALSE))","v":""},null,"",null,""]
[null,"",null,{"$f":"IF(ISERROR(VLOOKUP(#REF!,localizacao,2,FALSE)),\"\",VLOOKUP(#REF!,localizacao,2,FALSE))","v":""},null,"",null,""]
[null,"",null,{"$f":"IF(ISERROR(VLOOKUP(#REF!,localizacao,2,FALSE)),\"\",VLOOKUP(#REF!,localizacao,2,FALSE))","v":""},null,"",null,""]
[null,"",null,{"$f":"IF(ISERROR(VLOOKUP(#REF!,localizacao,2,FALSE)),\"\",VLOOKUP(#REF!,localizacao,2,FALSE))","v":""},null,"",null,""]
[null,"",null,{"$f":"IF(ISERROR(VLOOKUP(#REF!,localizacao,2,FALSE)),\"\",VLOOKUP(#REF!,localizacao,2,FALSE))","v":""},null,"",null,""]
[null,"",null,{"$f":"IF(ISERROR(VLOOKUP(#REF!,localizacao,2,FALSE)),\"\",VLOOKUP(#REF!,localizacao,2,FALSE))","v":""},null,"",null,""]
[null,"",null,{"$f":"IF(ISERROR(VLOOKUP(#REF!,localizacao,2,FALSE)),\"\",VLOOKUP(#REF!,localizacao,2,FALSE))","v":""},null,"",null,""]
[null,"",null,{"$f":"IF(ISERROR(VLOOKUP(#REF!,localizacao,2,FALSE)),\"\",VLOOKUP(#REF!,localizacao,2,FALSE))","v":""},null,"",null,""]
[null,"",null,{"$f":"IF(ISERROR(VLOOKUP(#REF!,localizacao,2,FALSE)),\"\",VLOOKUP(#REF!,localizacao,2,FALSE))","v":""},null,"",null,""]
[null,"",null,{"$f":"IF(ISERROR(VLOOKUP(#REF!,localizacao,2,FALSE)),\"\",VLOOKUP(#REF!,localizacao,2,FALSE))","v":""},null,"",null,""]
[null,"",null,{"$f":"IF(ISERROR(VLOOKUP(#REF!,localizacao,2,FALSE)),\"\",VLOOKUP(#REF!,localizacao,2,FALSE))","v":""},null,"",null,""]
[null,"",null,{"$f":"IF(ISERROR(VLOOKUP(#REF!,localizacao,2,FALSE)),\"\",VLOOKUP(#REF!,localizacao,2,FALSE))","v":""},null,"",null,""]
[null,"",null,{"$f":"IF(ISERROR(VLOOKUP(#REF!,localizacao,2,FALSE)),\"\",VLOOKUP(#REF!,localizacao,2,FALSE))","v":""},null,"",null,""]
[null,"",null,{"$f":"IF(ISERROR(VLOOKUP(#REF!,localizacao,2,FALSE)),\"\",VLOOKUP(#REF!,localizacao,2,FALSE))","v":""},null,"",null,""]
[null,"",null,{"$f":"IF(ISERROR(VLOOKUP(#REF!,localizacao,2,FALSE)),\"\",VLOOKUP(#REF!,localizacao,2,FALSE))","v":""},null,"",null,""]
[null,"",null,{"$f":"IF(ISERROR(VLOOKUP(#REF!,localizacao,2,FALSE)),\"\",VLOOKUP(#REF!,localizacao,2,FALSE))","v":""},null,"",null,""]
[null,"",null,{"$f":"IF(ISERROR(VLOOKUP(#REF!,localizacao,2,FALSE)),\"\",VLOOKUP(#REF!,localizacao,2,FALSE))","v":""},null,"",null,""]
[null,"",null,{"$f":"IF(ISERROR(VLOOKUP(#REF!,localizacao,2,FALSE)),\"\",VLOOKUP(#REF!,localizacao,2,FALSE))","v":""},null,"",null,""]
[null,"",null,{"$f":"IF(ISERROR(VLOOKUP(#REF!,localizacao,2,FALSE)),\"\",VLOOKUP(#REF!,localizacao,2,FALSE))","v":""},null,"",null,""]
[null,"",null,{"$f":"IF(ISERROR(VLOOKUP(#REF!,localizacao,2,FALSE)),\"\",VLOOKUP(#REF!,localizacao,2,FALSE))","v":""},null,"",null,""]
[null,"",null,{"$f":"IF(ISERROR(VLOOKUP(#REF!,localizacao,2,FALSE)),\"\",VLOOKUP(#REF!,localizacao,2,FALSE))","v":""},null,"",null,""]
[null,"",null,{"$f":"IF(ISERROR(VLOOKUP(#REF!,localizacao,2,FALSE)),\"\",VLOOKUP(#REF!,localizacao,2,FALSE))","v":""},null,"",null,""]
[null,"",null,{"$f":"IF(ISERROR(VLOOKUP(#REF!,localizacao,2,FALSE)),\"\",VLOOKUP(#REF!,localizacao,2,FALSE))","v":""},null,"",null,""]
[null,"",null,{"$f":"IF(ISERROR(VLOOKUP(#REF!,localizacao,2,FALSE)),\"\",VLOOKUP(#REF!,localizacao,2,FALSE))","v":""},null,"",null,""]
[null,"",null,{"$f":"IF(ISERROR(VLOOKUP(#REF!,localizacao,2,FALSE)),\"\",VLOOKUP(#REF!,localizacao,2,FALSE))","v":""},null,"",null,""]
[null,"",null,{"$f":"IF(ISERROR(VLOOKUP(#REF!,localizacao,2,FALSE)),\"\",VLOOKUP(#REF!,localizacao,2,FALSE))","v":""},null,"",null,""]
[null,"",null,{"$f":"IF(ISERROR(VLOOKUP(#REF!,localizacao,2,FALSE)),\"\",VLOOKUP(#REF!,localizacao,2,FALSE))","v":""},null,"",null,""]
[null,"",null,{"$f":"IF(ISERROR(VLOOKUP(#REF!,localizacao,2,FALSE)),\"\",VLOOKUP(#REF!,localizacao,2,FALSE))","v":""},null,"",null,""]
[null,"",null,{"$f":"IF(ISERROR(VLOOKUP(#REF!,localizacao,2,FALSE)),\"\",VLOOKUP(#REF!,localizacao,2,FALSE))","v":""},null,"",null,""]
[null,"",null,{"$f":"IF(ISERROR(VLOOKUP(#REF!,localizacao,2,FALSE)),\"\",VLOOKUP(#REF!,localizacao,2,FALSE))","v":""},null,"",null,""]
[null,"",null,{"$f":"IF(ISERROR(VLOOKUP(#REF!,localizacao,2,FALSE)),\"\",VLOOKUP(#REF!,localizacao,2,FALSE))","v":""},null,"",null,""]
[null,"",null,{"$f":"IF(ISERROR(VLOOKUP(#REF!,localizacao,2,FALSE)),\"\",VLOOKUP(#REF!,localizacao,2,FALSE))","v":""},null,"",null,""]
[null,"",null,{"$f":"IF(ISERROR(VLOOKUP(#REF!,localizacao,2,FALSE)),\"\",VLOOKUP(#REF!,localizacao,2,FALSE))","v":""},null,"",null,""]
[null,"",null,{"$f":"IF(ISERROR(VLOOKUP(#REF!,localizacao,2,FALSE)),\"\",VLOOKUP(#REF!,localizacao,2,FALSE))","v":""},null,"",null,""]
[null,"",null,{"$f":"IF(ISERROR(VLOOKUP(#REF!,localizacao,2,FALSE)),\"\",VLOOKUP(#REF!,localizacao,2,FALSE))","v":""},null,"",null,""]
[null,"",null,{"$f":"IF(ISERROR(VLOOKUP(#REF!,localizacao,2,FALSE)),\"\",VLOOKUP(#REF!,localizacao,2,FALSE))","v":""},null,"",null,""]
[null,"",null,{"$f":"IF(ISERROR(VLOOKUP(#REF!,localizacao,2,FALSE)),\"\",VLOOKUP(#REF!,localizacao,2,FALSE))","v":""},null,"",null,""]
[null,"",null,{"$f":"IF(ISERROR(VLOOKUP(#REF!,localizacao,2,FALSE)),\"\",VLOOKUP(#REF!,localizacao,2,FALSE))","v":""},null,"",null,""]
[null,"",null,{"$f":"IF(ISERROR(VLOOKUP(#REF!,localizacao,2,FALSE)),\"\",VLOOKUP(#REF!,localizacao,2,FALSE))","v":""},null,"",null,""]
[null,"",null,{"$f":"IF(ISERROR(VLOOKUP(#REF!,localizacao,2,FALSE)),\"\",VLOOKUP(#REF!,localizacao,2,FALSE))","v":""},null,"",null,""]
[null,"",null,{"$f":"IF(ISERROR(VLOOKUP(#REF!,localizacao,2,FALSE)),\"\",VLOOKUP(#REF!,localizacao,2,FALSE))","v":""},null,"",null,""]
[null,"",null,{"$f":"IF(ISERROR(VLOOKUP(#REF!,localizacao,2,FALSE)),\"\",VLOOKUP(#REF!,localizacao,2,FALSE))","v":""},null,"",null,""]
[null,"",null,{"$f":"IF(ISERROR(VLOOKUP(#REF!,localizacao,2,FALSE)),\"\",VLOOKUP(#REF!,localizacao,2,FALSE))","v":""},null,{"$f":"IF(ISERROR(VLOOKUP(G2950,componentes,2,FALSE)),\"\",VLOOKUP(G2950,componentes,2,FALSE))","v":""},null,{"$f":"IF(ISERROR(VLOOKUP(I2950,rubricas,2,FALSE)),\"\",VLOOKUP(I2950,rubricas,2,FALSE))","v":""}]
[null,{"$f":"IF(C2951<>\"\",+B2950+1,\"\")","v":""},null,{"$f":"IF(ISERROR(VLOOKUP(#REF!,localizacao,2,FALSE)),\"\",VLOOKUP(#REF!,localizacao,2,FALSE))","v":""},null,"",null,""]
[null,"",null,{"$f":"IF(ISERROR(VLOOKUP(#REF!,localizacao,2,FALSE)),\"\",VLOOKUP(#REF!,localizacao,2,FALSE))","v":""},null,"",null,""]
[null,"",null,{"$f":"IF(ISERROR(VLOOKUP(#REF!,localizacao,2,FALSE)),\"\",VLOOKUP(#REF!,localizacao,2,FALSE))","v":""},null,"",null,""]
[null,"",null,{"$f":"IF(ISERROR(VLOOKUP(#REF!,localizacao,2,FALSE)),\"\",VLOOKUP(#REF!,localizacao,2,FALSE))","v":""},null,"",null,""]
[null,"",null,{"$f":"IF(ISERROR(VLOOKUP(#REF!,localizacao,2,FALSE)),\"\",VLOOKUP(#REF!,localizacao,2,FALSE))","v":""},null,"",null,""]
[null,"",null,{"$f":"IF(ISERROR(VLOOKUP(#REF!,localizacao,2,FALSE)),\"\",VLOOKUP(#REF!,localizacao,2,FALSE))","v":""},null,"",null,""]
[null,"",null,{"$f":"IF(ISERROR(VLOOKUP(#REF!,localizacao,2,FALSE)),\"\",VLOOKUP(#REF!,localizacao,2,FALSE))","v":""},null,"",null,""]
[null,"",null,{"$f":"IF(ISERROR(VLOOKUP(#REF!,localizacao,2,FALSE)),\"\",VLOOKUP(#REF!,localizacao,2,FALSE))","v":""},null,"",null,""]
[null,"",null,{"$f":"IF(ISERROR(VLOOKUP(#REF!,localizacao,2,FALSE)),\"\",VLOOKUP(#REF!,localizacao,2,FALSE))","v":""},null,"",null,""]
[null,"",null,{"$f":"IF(ISERROR(VLOOKUP(#REF!,localizacao,2,FALSE)),\"\",VLOOKUP(#REF!,localizacao,2,FALSE))","v":""},null,"",null,""]
[null,"",null,{"$f":"IF(ISERROR(VLOOKUP(#REF!,localizacao,2,FALSE)),\"\",VLOOKUP(#REF!,localizacao,2,FALSE))","v":""},null,"",null,""]
[null,"",null,{"$f":"IF(ISERROR(VLOOKUP(#REF!,localizacao,2,FALSE)),\"\",VLOOKUP(#REF!,localizacao,2,FALSE))","v":""},null,"",null,""]
[null,"",null,{"$f":"IF(ISERROR(VLOOKUP(#REF!,localizacao,2,FALSE)),\"\",VLOOKUP(#REF!,localizacao,2,FALSE))","v":""},null,"",null,""]
[null,"",null,{"$f":"IF(ISERROR(VLOOKUP(#REF!,localizacao,2,FALSE)),\"\",VLOOKUP(#REF!,localizacao,2,FALSE))","v":""},null,"",null,""]
[null,"",null,{"$f":"IF(ISERROR(VLOOKUP(#REF!,localizacao,2,FALSE)),\"\",VLOOKUP(#REF!,localizacao,2,FALSE))","v":""},null,"",null,""]
[null,"",null,{"$f":"IF(ISERROR(VLOOKUP(#REF!,localizacao,2,FALSE)),\"\",VLOOKUP(#REF!,localizacao,2,FALSE))","v":""},null,"",null,""]
[null,"",null,{"$f":"IF(ISERROR(VLOOKUP(#REF!,localizacao,2,FALSE)),\"\",VLOOKUP(#REF!,localizacao,2,FALSE))","v":""},null,"",null,""]
[null,"",null,{"$f":"IF(ISERROR(VLOOKUP(#REF!,localizacao,2,FALSE)),\"\",VLOOKUP(#REF!,localizacao,2,FALSE))","v":""},null,"",null,""]
[null,"",null,{"$f":"IF(ISERROR(VLOOKUP(#REF!,localizacao,2,FALSE)),\"\",VLOOKUP(#REF!,localizacao,2,FALSE))","v":""},null,"",null,""]
[null,"",null,{"$f":"IF(ISERROR(VLOOKUP(#REF!,localizacao,2,FALSE)),\"\",VLOOKUP(#REF!,localizacao,2,FALSE))","v":""},null,"",null,""]
[null,"",null,{"$f":"IF(ISERROR(VLOOKUP(#REF!,localizacao,2,FALSE)),\"\",VLOOKUP(#REF!,localizacao,2,FALSE))","v":""},null,"",null,""]
[null,"",null,{"$f":"IF(ISERROR(VLOOKUP(#REF!,localizacao,2,FALSE)),\"\",VLOOKUP(#REF!,localizacao,2,FALSE))","v":""},null,"",null,""]
[null,"",null,{"$f":"IF(ISERROR(VLOOKUP(#REF!,localizacao,2,FALSE)),\"\",VLOOKUP(#REF!,localizacao,2,FALSE))","v":""},null,"",null,""]
[null,"",null,{"$f":"IF(ISERROR(VLOOKUP(#REF!,localizacao,2,FALSE)),\"\",VLOOKUP(#REF!,localizacao,2,FALSE))","v":""},null,"",null,""]
[null,"",null,{"$f":"IF(ISERROR(VLOOKUP(#REF!,localizacao,2,FALSE)),\"\",VLOOKUP(#REF!,localizacao,2,FALSE))","v":""},null,"",null,""]
[null,"",null,{"$f":"IF(ISERROR(VLOOKUP(#REF!,localizacao,2,FALSE)),\"\",VLOOKUP(#REF!,localizacao,2,FALSE))","v":""},null,"",null,""]
[null,"",null,{"$f":"IF(ISERROR(VLOOKUP(#REF!,localizacao,2,FALSE)),\"\",VLOOKUP(#REF!,localizacao,2,FALSE))","v":""},null,"",null,""]
[null,"",null,{"$f":"IF(ISERROR(VLOOKUP(#REF!,localizacao,2,FALSE)),\"\",VLOOKUP(#REF!,localizacao,2,FALSE))","v":""},null,"",null,""]
[null,"",null,{"$f":"IF(ISERROR(VLOOKUP(#REF!,localizacao,2,FALSE)),\"\",VLOOKUP(#REF!,localizacao,2,FALSE))","v":""},null,"",null,""]
[null,"",null,{"$f":"IF(ISERROR(VLOOKUP(#REF!,localizacao,2,FALSE)),\"\",VLOOKUP(#REF!,localizacao,2,FALSE))","v":""},null,"",null,""]
[null,"",null,{"$f":"IF(ISERROR(VLOOKUP(#REF!,localizacao,2,FALSE)),\"\",VLOOKUP(#REF!,localizacao,2,FALSE))","v":""},null,"",null,""]
[null,"",null,{"$f":"IF(ISERROR(VLOOKUP(#REF!,localizacao,2,FALSE)),\"\",VLOOKUP(#REF!,localizacao,2,FALSE))","v":""},null,"",null,""]
[null,"",null,{"$f":"IF(ISERROR(VLOOKUP(#REF!,localizacao,2,FALSE)),\"\",VLOOKUP(#REF!,localizacao,2,FALSE))","v":""},null,"",null,""]
[null,"",null,{"$f":"IF(ISERROR(VLOOKUP(#REF!,localizacao,2,FALSE)),\"\",VLOOKUP(#REF!,localizacao,2,FALSE))","v":""},null,"",null,""]
[null,"",null,{"$f":"IF(ISERROR(VLOOKUP(#REF!,localizacao,2,FALSE)),\"\",VLOOKUP(#REF!,localizacao,2,FALSE))","v":""},null,"",null,""]
[null,"",null,{"$f":"IF(ISERROR(VLOOKUP(#REF!,localizacao,2,FALSE)),\"\",VLOOKUP(#REF!,localizacao,2,FALSE))","v":""},null,"",null,""]
[null,"",null,{"$f":"IF(ISERROR(VLOOKUP(#REF!,localizacao,2,FALSE)),\"\",VLOOKUP(#REF!,localizacao,2,FALSE))","v":""},null,"",null,""]
[null,"",null,{"$f":"IF(ISERROR(VLOOKUP(#REF!,localizacao,2,FALSE)),\"\",VLOOKUP(#REF!,localizacao,2,FALSE))","v":""},null,"",null,""]
[null,"",null,{"$f":"IF(ISERROR(VLOOKUP(#REF!,localizacao,2,FALSE)),\"\",VLOOKUP(#REF!,localizacao,2,FALSE))","v":""},null,"",null,""]
[null,"",null,{"$f":"IF(ISERROR(VLOOKUP(#REF!,localizacao,2,FALSE)),\"\",VLOOKUP(#REF!,localizacao,2,FALSE))","v":""},null,"",null,""]
[null,"",null,{"$f":"IF(ISERROR(VLOOKUP(#REF!,localizacao,2,FALSE)),\"\",VLOOKUP(#REF!,localizacao,2,FALSE))","v":""},null,"",null,""]
[null,"",null,{"$f":"IF(ISERROR(VLOOKUP(#REF!,localizacao,2,FALSE)),\"\",VLOOKUP(#REF!,localizacao,2,FALSE))","v":""},null,"",null,""]
[null,"",null,{"$f":"IF(ISERROR(VLOOKUP(#REF!,localizacao,2,FALSE)),\"\",VLOOKUP(#REF!,localizacao,2,FALSE))","v":""},null,"",null,""]
[null,"",null,{"$f":"IF(ISERROR(VLOOKUP(#REF!,localizacao,2,FALSE)),\"\",VLOOKUP(#REF!,localizacao,2,FALSE))","v":""},null,"",null,""]
[null,"",null,{"$f":"IF(ISERROR(VLOOKUP(#REF!,localizacao,2,FALSE)),\"\",VLOOKUP(#REF!,localizacao,2,FALSE))","v":""},null,"",null,""]
[null,"",null,{"$f":"IF(ISERROR(VLOOKUP(#REF!,localizacao,2,FALSE)),\"\",VLOOKUP(#REF!,localizacao,2,FALSE))","v":""},null,"",null,""]
[null,"",null,{"$f":"IF(ISERROR(VLOOKUP(#REF!,localizacao,2,FALSE)),\"\",VLOOKUP(#REF!,localizacao,2,FALSE))","v":""},null,"",null,""]
[null,"",null,{"$f":"IF(ISERROR(VLOOKUP(#REF!,localizacao,2,FALSE)),\"\",VLOOKUP(#REF!,localizacao,2,FALSE))","v":""},null,"",null,""]
[null,"",null,{"$f":"IF(ISERROR(VLOOKUP(#REF!,localizacao,2,FALSE)),\"\",VLOOKUP(#REF!,localizacao,2,FALSE))","v":""},null,"",null,""]
[null,"",null,{"$f":"IF(ISERROR(VLOOKUP(#REF!,localizacao,2,FALSE)),\"\",VLOOKUP(#REF!,localizacao,2,FALSE))","v":""},null,"",null,""]
[null,"",null,{"$f":"IF(ISERROR(VLOOKUP(#REF!,localizacao,2,FALSE)),\"\",VLOOKUP(#REF!,localizacao,2,FALSE))","v":""},null,"",null,""]
[null,"",null,{"$f":"IF(ISERROR(VLOOKUP(#REF!,localizacao,2,FALSE)),\"\",VLOOKUP(#REF!,localizacao,2,FALSE))","v":""},null,"",null,""]
[null,"",null,{"$f":"IF(ISERROR(VLOOKUP(#REF!,localizacao,2,FALSE)),\"\",VLOOKUP(#REF!,localizacao,2,FALSE))","v":""},null,"",null,""]
[null,"",null,{"$f":"IF(ISERROR(VLOOKUP(#REF!,localizacao,2,FALSE)),\"\",VLOOKUP(#REF!,localizacao,2,FALSE))","v":""},null,"",null,""]
[null,"",null,{"$f":"IF(ISERROR(VLOOKUP(#REF!,localizacao,2,FALSE)),\"\",VLOOKUP(#REF!,localizacao,2,FALSE))","v":""},null,"",null,""]
[null,"",null,{"$f":"IF(ISERROR(VLOOKUP(#REF!,localizacao,2,FALSE)),\"\",VLOOKUP(#REF!,localizacao,2,FALSE))","v":""},null,"",null,""]
[null,"",null,{"$f":"IF(ISERROR(VLOOKUP(#REF!,localizacao,2,FALSE)),\"\",VLOOKUP(#REF!,localizacao,2,FALSE))","v":""},null,"",null,""]
[null,"",null,{"$f":"IF(ISERROR(VLOOKUP(#REF!,localizacao,2,FALSE)),\"\",VLOOKUP(#REF!,localizacao,2,FALSE))","v":""},null,"",null,""]
[null,"",null,{"$f":"IF(ISERROR(VLOOKUP(#REF!,localizacao,2,FALSE)),\"\",VLOOKUP(#REF!,localizacao,2,FALSE))","v":""},null,"",null,""]
[null,"",null,{"$f":"IF(ISERROR(VLOOKUP(#REF!,localizacao,2,FALSE)),\"\",VLOOKUP(#REF!,localizacao,2,FALSE))","v":""},null,"",null,""]
[null,"",null,{"$f":"IF(ISERROR(VLOOKUP(#REF!,localizacao,2,FALSE)),\"\",VLOOKUP(#REF!,localizacao,2,FALSE))","v":""},null,"",null,""]
[null,"",null,{"$f":"IF(ISERROR(VLOOKUP(#REF!,localizacao,2,FALSE)),\"\",VLOOKUP(#REF!,localizacao,2,FALSE))","v":""},null,"",null,""]
[null,"",null,{"$f":"IF(ISERROR(VLOOKUP(#REF!,localizacao,2,FALSE)),\"\",VLOOKUP(#REF!,localizacao,2,FALSE))","v":""},null,"",null,""]
[null,"",null,{"$f":"IF(ISERROR(VLOOKUP(#REF!,localizacao,2,FALSE)),\"\",VLOOKUP(#REF!,localizacao,2,FALSE))","v":""},null,{"$f":"IF(ISERROR(VLOOKUP(G3014,componentes,2,FALSE)),\"\",VLOOKUP(G3014,componentes,2,FALSE))","v":""},null,{"$f":"IF(ISERROR(VLOOKUP(I3014,rubricas,2,FALSE)),\"\",VLOOKUP(I3014,rubricas,2,FALSE))","v":""}]
[null,{"$f":"IF(C3015<>\"\",+B3014+1,\"\")","v":""},null,{"$f":"IF(ISERROR(VLOOKUP(#REF!,localizacao,2,FALSE)),\"\",VLOOKUP(#REF!,localizacao,2,FALSE))","v":""},null,"",null,""]
[null,"",null,{"$f":"IF(ISERROR(VLOOKUP(#REF!,localizacao,2,FALSE)),\"\",VLOOKUP(#REF!,localizacao,2,FALSE))","v":""},null,"",null,""]
[null,"",null,{"$f":"IF(ISERROR(VLOOKUP(#REF!,localizacao,2,FALSE)),\"\",VLOOKUP(#REF!,localizacao,2,FALSE))","v":""},null,"",null,""]
[null,"",null,{"$f":"IF(ISERROR(VLOOKUP(#REF!,localizacao,2,FALSE)),\"\",VLOOKUP(#REF!,localizacao,2,FALSE))","v":""},null,"",null,""]
[null,"",null,{"$f":"IF(ISERROR(VLOOKUP(#REF!,localizacao,2,FALSE)),\"\",VLOOKUP(#REF!,localizacao,2,FALSE))","v":""},null,"",null,""]
[null,"",null,{"$f":"IF(ISERROR(VLOOKUP(#REF!,localizacao,2,FALSE)),\"\",VLOOKUP(#REF!,localizacao,2,FALSE))","v":""},null,"",null,""]
[null,"",null,{"$f":"IF(ISERROR(VLOOKUP(#REF!,localizacao,2,FALSE)),\"\",VLOOKUP(#REF!,localizacao,2,FALSE))","v":""},null,"",null,""]
[null,"",null,{"$f":"IF(ISERROR(VLOOKUP(#REF!,localizacao,2,FALSE)),\"\",VLOOKUP(#REF!,localizacao,2,FALSE))","v":""},null,"",null,""]
[null,"",null,{"$f":"IF(ISERROR(VLOOKUP(#REF!,localizacao,2,FALSE)),\"\",VLOOKUP(#REF!,localizacao,2,FALSE))","v":""},null,"",null,""]
[null,"",null,{"$f":"IF(ISERROR(VLOOKUP(#REF!,localizacao,2,FALSE)),\"\",VLOOKUP(#REF!,localizacao,2,FALSE))","v":""},null,"",null,""]
[null,"",null,{"$f":"IF(ISERROR(VLOOKUP(#REF!,localizacao,2,FALSE)),\"\",VLOOKUP(#REF!,localizacao,2,FALSE))","v":""},null,"",null,""]
[null,"",null,{"$f":"IF(ISERROR(VLOOKUP(#REF!,localizacao,2,FALSE)),\"\",VLOOKUP(#REF!,localizacao,2,FALSE))","v":""},null,"",null,""]
[null,"",null,{"$f":"IF(ISERROR(VLOOKUP(#REF!,localizacao,2,FALSE)),\"\",VLOOKUP(#REF!,localizacao,2,FALSE))","v":""},null,"",null,""]
[null,"",null,{"$f":"IF(ISERROR(VLOOKUP(#REF!,localizacao,2,FALSE)),\"\",VLOOKUP(#REF!,localizacao,2,FALSE))","v":""},null,"",null,""]
[null,"",null,{"$f":"IF(ISERROR(VLOOKUP(#REF!,localizacao,2,FALSE)),\"\",VLOOKUP(#REF!,localizacao,2,FALSE))","v":""},null,"",null,""]
[null,"",null,{"$f":"IF(ISERROR(VLOOKUP(#REF!,localizacao,2,FALSE)),\"\",VLOOKUP(#REF!,localizacao,2,FALSE))","v":""},null,"",null,""]
[null,"",null,{"$f":"IF(ISERROR(VLOOKUP(#REF!,localizacao,2,FALSE)),\"\",VLOOKUP(#REF!,localizacao,2,FALSE))","v":""},null,"",null,""]
[null,"",null,{"$f":"IF(ISERROR(VLOOKUP(#REF!,localizacao,2,FALSE)),\"\",VLOOKUP(#REF!,localizacao,2,FALSE))","v":""},null,"",null,""]
[null,"",null,{"$f":"IF(ISERROR(VLOOKUP(#REF!,localizacao,2,FALSE)),\"\",VLOOKUP(#REF!,localizacao,2,FALSE))","v":""},null,"",null,""]
[null,"",null,{"$f":"IF(ISERROR(VLOOKUP(#REF!,localizacao,2,FALSE)),\"\",VLOOKUP(#REF!,localizacao,2,FALSE))","v":""},null,"",null,""]
[null,"",null,{"$f":"IF(ISERROR(VLOOKUP(#REF!,localizacao,2,FALSE)),\"\",VLOOKUP(#REF!,localizacao,2,FALSE))","v":""},null,"",null,""]
[null,"",null,{"$f":"IF(ISERROR(VLOOKUP(#REF!,localizacao,2,FALSE)),\"\",VLOOKUP(#REF!,localizacao,2,FALSE))","v":""},null,"",null,""]
[null,"",null,{"$f":"IF(ISERROR(VLOOKUP(#REF!,localizacao,2,FALSE)),\"\",VLOOKUP(#REF!,localizacao,2,FALSE))","v":""},null,"",null,""]
[null,"",null,{"$f":"IF(ISERROR(VLOOKUP(#REF!,localizacao,2,FALSE)),\"\",VLOOKUP(#REF!,localizacao,2,FALSE))","v":""},null,"",null,""]
[null,"",null,{"$f":"IF(ISERROR(VLOOKUP(#REF!,localizacao,2,FALSE)),\"\",VLOOKUP(#REF!,localizacao,2,FALSE))","v":""},null,"",null,""]
[null,"",null,{"$f":"IF(ISERROR(VLOOKUP(#REF!,localizacao,2,FALSE)),\"\",VLOOKUP(#REF!,localizacao,2,FALSE))","v":""},null,"",null,""]
[null,"",null,{"$f":"IF(ISERROR(VLOOKUP(#REF!,localizacao,2,FALSE)),\"\",VLOOKUP(#REF!,localizacao,2,FALSE))","v":""},null,"",null,""]
[null,"",null,{"$f":"IF(ISERROR(VLOOKUP(#REF!,localizacao,2,FALSE)),\"\",VLOOKUP(#REF!,localizacao,2,FALSE))","v":""},null,"",null,""]
[null,"",null,{"$f":"IF(ISERROR(VLOOKUP(#REF!,localizacao,2,FALSE)),\"\",VLOOKUP(#REF!,localizacao,2,FALSE))","v":""},null,"",null,""]
[null,"",null,{"$f":"IF(ISERROR(VLOOKUP(#REF!,localizacao,2,FALSE)),\"\",VLOOKUP(#REF!,localizacao,2,FALSE))","v":""},null,"",null,""]
[null,"",null,{"$f":"IF(ISERROR(VLOOKUP(#REF!,localizacao,2,FALSE)),\"\",VLOOKUP(#REF!,localizacao,2,FALSE))","v":""},null,"",null,""]
[null,"",null,{"$f":"IF(ISERROR(VLOOKUP(#REF!,localizacao,2,FALSE)),\"\",VLOOKUP(#REF!,localizacao,2,FALSE))","v":""},null,"",null,""]
[null,"",null,{"$f":"IF(ISERROR(VLOOKUP(#REF!,localizacao,2,FALSE)),\"\",VLOOKUP(#REF!,localizacao,2,FALSE))","v":""},null,"",null,""]
[null,"",null,{"$f":"IF(ISERROR(VLOOKUP(#REF!,localizacao,2,FALSE)),\"\",VLOOKUP(#REF!,localizacao,2,FALSE))","v":""},null,"",null,""]
[null,"",null,{"$f":"IF(ISERROR(VLOOKUP(#REF!,localizacao,2,FALSE)),\"\",VLOOKUP(#REF!,localizacao,2,FALSE))","v":""},null,"",null,""]
[null,"",null,{"$f":"IF(ISERROR(VLOOKUP(#REF!,localizacao,2,FALSE)),\"\",VLOOKUP(#REF!,localizacao,2,FALSE))","v":""},null,"",null,""]
[null,"",null,{"$f":"IF(ISERROR(VLOOKUP(#REF!,localizacao,2,FALSE)),\"\",VLOOKUP(#REF!,localizacao,2,FALSE))","v":""},null,"",null,""]
[null,"",null,{"$f":"IF(ISERROR(VLOOKUP(#REF!,localizacao,2,FALSE)),\"\",VLOOKUP(#REF!,localizacao,2,FALSE))","v":""},null,"",null,""]
[null,"",null,{"$f":"IF(ISERROR(VLOOKUP(#REF!,localizacao,2,FALSE)),\"\",VLOOKUP(#REF!,localizacao,2,FALSE))","v":""},null,"",null,""]
[null,"",null,{"$f":"IF(ISERROR(VLOOKUP(#REF!,localizacao,2,FALSE)),\"\",VLOOKUP(#REF!,localizacao,2,FALSE))","v":""},null,"",null,""]
[null,"",null,{"$f":"IF(ISERROR(VLOOKUP(#REF!,localizacao,2,FALSE)),\"\",VLOOKUP(#REF!,localizacao,2,FALSE))","v":""},null,"",null,""]
[null,"",null,{"$f":"IF(ISERROR(VLOOKUP(#REF!,localizacao,2,FALSE)),\"\",VLOOKUP(#REF!,localizacao,2,FALSE))","v":""},null,"",null,""]
[null,"",null,{"$f":"IF(ISERROR(VLOOKUP(#REF!,localizacao,2,FALSE)),\"\",VLOOKUP(#REF!,localizacao,2,FALSE))","v":""},null,"",null,""]
[null,"",null,{"$f":"IF(ISERROR(VLOOKUP(#REF!,localizacao,2,FALSE)),\"\",VLOOKUP(#REF!,localizacao,2,FALSE))","v":""},null,"",null,""]
[null,"",null,{"$f":"IF(ISERROR(VLOOKUP(#REF!,localizacao,2,FALSE)),\"\",VLOOKUP(#REF!,localizacao,2,FALSE))","v":""},null,"",null,""]
[null,"",null,{"$f":"IF(ISERROR(VLOOKUP(#REF!,localizacao,2,FALSE)),\"\",VLOOKUP(#REF!,localizacao,2,FALSE))","v":""},null,"",null,""]
[null,"",null,{"$f":"IF(ISERROR(VLOOKUP(#REF!,localizacao,2,FALSE)),\"\",VLOOKUP(#REF!,localizacao,2,FALSE))","v":""},null,"",null,""]
[null,"",null,{"$f":"IF(ISERROR(VLOOKUP(#REF!,localizacao,2,FALSE)),\"\",VLOOKUP(#REF!,localizacao,2,FALSE))","v":""},null,"",null,""]
[null,"",null,{"$f":"IF(ISERROR(VLOOKUP(#REF!,localizacao,2,FALSE)),\"\",VLOOKUP(#REF!,localizacao,2,FALSE))","v":""},null,"",null,""]
[null,"",null,{"$f":"IF(ISERROR(VLOOKUP(#REF!,localizacao,2,FALSE)),\"\",VLOOKUP(#REF!,localizacao,2,FALSE))","v":""},null,"",null,""]
[null,"",null,{"$f":"IF(ISERROR(VLOOKUP(#REF!,localizacao,2,FALSE)),\"\",VLOOKUP(#REF!,localizacao,2,FALSE))","v":""},null,"",null,""]
[null,"",null,{"$f":"IF(ISERROR(VLOOKUP(#REF!,localizacao,2,FALSE)),\"\",VLOOKUP(#REF!,localizacao,2,FALSE))","v":""},null,"",null,""]
[null,"",null,{"$f":"IF(ISERROR(VLOOKUP(#REF!,localizacao,2,FALSE)),\"\",VLOOKUP(#REF!,localizacao,2,FALSE))","v":""},null,"",null,""]
[null,"",null,{"$f":"IF(ISERROR(VLOOKUP(#REF!,localizacao,2,FALSE)),\"\",VLOOKUP(#REF!,localizacao,2,FALSE))","v":""},null,"",null,""]
[null,"",null,{"$f":"IF(ISERROR(VLOOKUP(#REF!,localizacao,2,FALSE)),\"\",VLOOKUP(#REF!,localizacao,2,FALSE))","v":""},null,"",null,""]
[null,"",null,{"$f":"IF(ISERROR(VLOOKUP(#REF!,localizacao,2,FALSE)),\"\",VLOOKUP(#REF!,localizacao,2,FALSE))","v":""},null,"",null,""]
[null,"",null,{"$f":"IF(ISERROR(VLOOKUP(#REF!,localizacao,2,FALSE)),\"\",VLOOKUP(#REF!,localizacao,2,FALSE))","v":""},null,"",null,""]
[null,"",null,{"$f":"IF(ISERROR(VLOOKUP(#REF!,localizacao,2,FALSE)),\"\",VLOOKUP(#REF!,localizacao,2,FALSE))","v":""},null,"",null,""]
[null,"",null,{"$f":"IF(ISERROR(VLOOKUP(#REF!,localizacao,2,FALSE)),\"\",VLOOKUP(#REF!,localizacao,2,FALSE))","v":""},null,"",null,""]
[null,"",null,{"$f":"IF(ISERROR(VLOOKUP(#REF!,localizacao,2,FALSE)),\"\",VLOOKUP(#REF!,localizacao,2,FALSE))","v":""},null,"",null,""]
[null,"",null,{"$f":"IF(ISERROR(VLOOKUP(#REF!,localizacao,2,FALSE)),\"\",VLOOKUP(#REF!,localizacao,2,FALSE))","v":""},null,"",null,""]
[null,"",null,{"$f":"IF(ISERROR(VLOOKUP(#REF!,localizacao,2,FALSE)),\"\",VLOOKUP(#REF!,localizacao,2,FALSE))","v":""},null,"",null,""]
[null,"",null,{"$f":"IF(ISERROR(VLOOKUP(#REF!,localizacao,2,FALSE)),\"\",VLOOKUP(#REF!,localizacao,2,FALSE))","v":""},null,"",null,""]
[null,"",null,{"$f":"IF(ISERROR(VLOOKUP(#REF!,localizacao,2,FALSE)),\"\",VLOOKUP(#REF!,localizacao,2,FALSE))","v":""},null,{"$f":"IF(ISERROR(VLOOKUP(G3078,componentes,2,FALSE)),\"\",VLOOKUP(G3078,componentes,2,FALSE))","v":""},null,{"$f":"IF(ISERROR(VLOOKUP(I3078,rubricas,2,FALSE)),\"\",VLOOKUP(I3078,rubricas,2,FALSE))","v":""}]
[null,{"$f":"IF(C3079<>\"\",+B3078+1,\"\")","v":""},null,{"$f":"IF(ISERROR(VLOOKUP(#REF!,localizacao,2,FALSE)),\"\",VLOOKUP(#REF!,localizacao,2,FALSE))","v":""},null,"",null,""]
[null,"",null,{"$f":"IF(ISERROR(VLOOKUP(#REF!,localizacao,2,FALSE)),\"\",VLOOKUP(#REF!,localizacao,2,FALSE))","v":""},null,"",null,""]
[null,"",null,{"$f":"IF(ISERROR(VLOOKUP(#REF!,localizacao,2,FALSE)),\"\",VLOOKUP(#REF!,localizacao,2,FALSE))","v":""},null,"",null,""]
[null,"",null,{"$f":"IF(ISERROR(VLOOKUP(#REF!,localizacao,2,FALSE)),\"\",VLOOKUP(#REF!,localizacao,2,FALSE))","v":""},null,"",null,""]
[null,"",null,{"$f":"IF(ISERROR(VLOOKUP(#REF!,localizacao,2,FALSE)),\"\",VLOOKUP(#REF!,localizacao,2,FALSE))","v":""},null,"",null,""]
[null,"",null,{"$f":"IF(ISERROR(VLOOKUP(#REF!,localizacao,2,FALSE)),\"\",VLOOKUP(#REF!,localizacao,2,FALSE))","v":""},null,"",null,""]
[null,"",null,{"$f":"IF(ISERROR(VLOOKUP(#REF!,localizacao,2,FALSE)),\"\",VLOOKUP(#REF!,localizacao,2,FALSE))","v":""},null,"",null,""]
[null,"",null,{"$f":"IF(ISERROR(VLOOKUP(#REF!,localizacao,2,FALSE)),\"\",VLOOKUP(#REF!,localizacao,2,FALSE))","v":""},null,"",null,""]
[null,"",null,{"$f":"IF(ISERROR(VLOOKUP(#REF!,localizacao,2,FALSE)),\"\",VLOOKUP(#REF!,localizacao,2,FALSE))","v":""},null,"",null,""]
[null,"",null,{"$f":"IF(ISERROR(VLOOKUP(#REF!,localizacao,2,FALSE)),\"\",VLOOKUP(#REF!,localizacao,2,FALSE))","v":""},null,"",null,""]
[null,"",null,{"$f":"IF(ISERROR(VLOOKUP(#REF!,localizacao,2,FALSE)),\"\",VLOOKUP(#REF!,localizacao,2,FALSE))","v":""},null,"",null,""]
[null,"",null,{"$f":"IF(ISERROR(VLOOKUP(#REF!,localizacao,2,FALSE)),\"\",VLOOKUP(#REF!,localizacao,2,FALSE))","v":""},null,"",null,""]
[null,"",null,{"$f":"IF(ISERROR(VLOOKUP(#REF!,localizacao,2,FALSE)),\"\",VLOOKUP(#REF!,localizacao,2,FALSE))","v":""},null,"",null,""]
[null,"",null,{"$f":"IF(ISERROR(VLOOKUP(#REF!,localizacao,2,FALSE)),\"\",VLOOKUP(#REF!,localizacao,2,FALSE))","v":""},null,"",null,""]
[null,"",null,{"$f":"IF(ISERROR(VLOOKUP(#REF!,localizacao,2,FALSE)),\"\",VLOOKUP(#REF!,localizacao,2,FALSE))","v":""},null,"",null,""]
[null,"",null,{"$f":"IF(ISERROR(VLOOKUP(#REF!,localizacao,2,FALSE)),\"\",VLOOKUP(#REF!,localizacao,2,FALSE))","v":""},null,"",null,""]
[null,"",null,{"$f":"IF(ISERROR(VLOOKUP(#REF!,localizacao,2,FALSE)),\"\",VLOOKUP(#REF!,localizacao,2,FALSE))","v":""},null,"",null,""]
[null,"",null,{"$f":"IF(ISERROR(VLOOKUP(#REF!,localizacao,2,FALSE)),\"\",VLOOKUP(#REF!,localizacao,2,FALSE))","v":""},null,"",null,""]
[null,"",null,{"$f":"IF(ISERROR(VLOOKUP(#REF!,localizacao,2,FALSE)),\"\",VLOOKUP(#REF!,localizacao,2,FALSE))","v":""},null,"",null,""]
[null,"",null,{"$f":"IF(ISERROR(VLOOKUP(#REF!,localizacao,2,FALSE)),\"\",VLOOKUP(#REF!,localizacao,2,FALSE))","v":""},null,"",null,""]
[null,"",null,{"$f":"IF(ISERROR(VLOOKUP(#REF!,localizacao,2,FALSE)),\"\",VLOOKUP(#REF!,localizacao,2,FALSE))","v":""},null,"",null,""]
[null,"",null,{"$f":"IF(ISERROR(VLOOKUP(#REF!,localizacao,2,FALSE)),\"\",VLOOKUP(#REF!,localizacao,2,FALSE))","v":""},null,"",null,""]
[null,"",null,{"$f":"IF(ISERROR(VLOOKUP(#REF!,localizacao,2,FALSE)),\"\",VLOOKUP(#REF!,localizacao,2,FALSE))","v":""},null,"",null,""]
[null,"",null,{"$f":"IF(ISERROR(VLOOKUP(#REF!,localizacao,2,FALSE)),\"\",VLOOKUP(#REF!,localizacao,2,FALSE))","v":""},null,"",null,""]
[null,"",null,{"$f":"IF(ISERROR(VLOOKUP(#REF!,localizacao,2,FALSE)),\"\",VLOOKUP(#REF!,localizacao,2,FALSE))","v":""},null,"",null,""]
[null,"",null,{"$f":"IF(ISERROR(VLOOKUP(#REF!,localizacao,2,FALSE)),\"\",VLOOKUP(#REF!,localizacao,2,FALSE))","v":""},null,"",null,""]
[null,"",null,{"$f":"IF(ISERROR(VLOOKUP(#REF!,localizacao,2,FALSE)),\"\",VLOOKUP(#REF!,localizacao,2,FALSE))","v":""},null,"",null,""]
[null,"",null,{"$f":"IF(ISERROR(VLOOKUP(#REF!,localizacao,2,FALSE)),\"\",VLOOKUP(#REF!,localizacao,2,FALSE))","v":""},null,"",null,""]
[null,"",null,{"$f":"IF(ISERROR(VLOOKUP(#REF!,localizacao,2,FALSE)),\"\",VLOOKUP(#REF!,localizacao,2,FALSE))","v":""},null,"",null,""]
[null,"",null,{"$f":"IF(ISERROR(VLOOKUP(#REF!,localizacao,2,FALSE)),\"\",VLOOKUP(#REF!,localizacao,2,FALSE))","v":""},null,"",null,""]
[null,"",null,{"$f":"IF(ISERROR(VLOOKUP(#REF!,localizacao,2,FALSE)),\"\",VLOOKUP(#REF!,localizacao,2,FALSE))","v":""},null,"",null,""]
[null,"",null,{"$f":"IF(ISERROR(VLOOKUP(#REF!,localizacao,2,FALSE)),\"\",VLOOKUP(#REF!,localizacao,2,FALSE))","v":""},null,"",null,""]
[null,"",null,{"$f":"IF(ISERROR(VLOOKUP(#REF!,localizacao,2,FALSE)),\"\",VLOOKUP(#REF!,localizacao,2,FALSE))","v":""},null,"",null,""]
[null,"",null,{"$f":"IF(ISERROR(VLOOKUP(#REF!,localizacao,2,FALSE)),\"\",VLOOKUP(#REF!,localizacao,2,FALSE))","v":""},null,"",null,""]
[null,"",null,{"$f":"IF(ISERROR(VLOOKUP(#REF!,localizacao,2,FALSE)),\"\",VLOOKUP(#REF!,localizacao,2,FALSE))","v":""},null,"",null,""]
[null,"",null,{"$f":"IF(ISERROR(VLOOKUP(#REF!,localizacao,2,FALSE)),\"\",VLOOKUP(#REF!,localizacao,2,FALSE))","v":""},null,"",null,""]
[null,"",null,{"$f":"IF(ISERROR(VLOOKUP(#REF!,localizacao,2,FALSE)),\"\",VLOOKUP(#REF!,localizacao,2,FALSE))","v":""},null,"",null,""]
[null,"",null,{"$f":"IF(ISERROR(VLOOKUP(#REF!,localizacao,2,FALSE)),\"\",VLOOKUP(#REF!,localizacao,2,FALSE))","v":""},null,"",null,""]
[null,"",null,{"$f":"IF(ISERROR(VLOOKUP(#REF!,localizacao,2,FALSE)),\"\",VLOOKUP(#REF!,localizacao,2,FALSE))","v":""},null,"",null,""]
[null,"",null,{"$f":"IF(ISERROR(VLOOKUP(#REF!,localizacao,2,FALSE)),\"\",VLOOKUP(#REF!,localizacao,2,FALSE))","v":""},null,"",null,""]
[null,"",null,{"$f":"IF(ISERROR(VLOOKUP(#REF!,localizacao,2,FALSE)),\"\",VLOOKUP(#REF!,localizacao,2,FALSE))","v":""},null,"",null,""]
[null,"",null,{"$f":"IF(ISERROR(VLOOKUP(#REF!,localizacao,2,FALSE)),\"\",VLOOKUP(#REF!,localizacao,2,FALSE))","v":""},null,"",null,""]
[null,"",null,{"$f":"IF(ISERROR(VLOOKUP(#REF!,localizacao,2,FALSE)),\"\",VLOOKUP(#REF!,localizacao,2,FALSE))","v":""},null,"",null,""]
[null,"",null,{"$f":"IF(ISERROR(VLOOKUP(#REF!,localizacao,2,FALSE)),\"\",VLOOKUP(#REF!,localizacao,2,FALSE))","v":""},null,"",null,""]
[null,"",null,{"$f":"IF(ISERROR(VLOOKUP(#REF!,localizacao,2,FALSE)),\"\",VLOOKUP(#REF!,localizacao,2,FALSE))","v":""},null,"",null,""]
[null,"",null,{"$f":"IF(ISERROR(VLOOKUP(#REF!,localizacao,2,FALSE)),\"\",VLOOKUP(#REF!,localizacao,2,FALSE))","v":""},null,"",null,""]
[null,"",null,{"$f":"IF(ISERROR(VLOOKUP(#REF!,localizacao,2,FALSE)),\"\",VLOOKUP(#REF!,localizacao,2,FALSE))","v":""},null,"",null,""]
[null,"",null,{"$f":"IF(ISERROR(VLOOKUP(#REF!,localizacao,2,FALSE)),\"\",VLOOKUP(#REF!,localizacao,2,FALSE))","v":""},null,"",null,""]
[null,"",null,{"$f":"IF(ISERROR(VLOOKUP(#REF!,localizacao,2,FALSE)),\"\",VLOOKUP(#REF!,localizacao,2,FALSE))","v":""},null,"",null,""]
[null,"",null,{"$f":"IF(ISERROR(VLOOKUP(#REF!,localizacao,2,FALSE)),\"\",VLOOKUP(#REF!,localizacao,2,FALSE))","v":""},null,"",null,""]
[null,"",null,{"$f":"IF(ISERROR(VLOOKUP(#REF!,localizacao,2,FALSE)),\"\",VLOOKUP(#REF!,localizacao,2,FALSE))","v":""},null,"",null,""]
[null,"",null,{"$f":"IF(ISERROR(VLOOKUP(#REF!,localizacao,2,FALSE)),\"\",VLOOKUP(#REF!,localizacao,2,FALSE))","v":""},null,"",null,""]
[null,"",null,{"$f":"IF(ISERROR(VLOOKUP(#REF!,localizacao,2,FALSE)),\"\",VLOOKUP(#REF!,localizacao,2,FALSE))","v":""},null,"",null,""]
[null,"",null,{"$f":"IF(ISERROR(VLOOKUP(#REF!,localizacao,2,FALSE)),\"\",VLOOKUP(#REF!,localizacao,2,FALSE))","v":""},null,"",null,""]
[null,"",null,{"$f":"IF(ISERROR(VLOOKUP(#REF!,localizacao,2,FALSE)),\"\",VLOOKUP(#REF!,localizacao,2,FALSE))","v":""},null,"",null,""]
[null,"",null,{"$f":"IF(ISERROR(VLOOKUP(#REF!,localizacao,2,FALSE)),\"\",VLOOKUP(#REF!,localizacao,2,FALSE))","v":""},null,"",null,""]
[null,"",null,{"$f":"IF(ISERROR(VLOOKUP(#REF!,localizacao,2,FALSE)),\"\",VLOOKUP(#REF!,localizacao,2,FALSE))","v":""},null,"",null,""]
[null,"",null,{"$f":"IF(ISERROR(VLOOKUP(#REF!,localizacao,2,FALSE)),\"\",VLOOKUP(#REF!,localizacao,2,FALSE))","v":""},null,"",null,""]
[null,"",null,{"$f":"IF(ISERROR(VLOOKUP(#REF!,localizacao,2,FALSE)),\"\",VLOOKUP(#REF!,localizacao,2,FALSE))","v":""},null,"",null,""]
[null,"",null,{"$f":"IF(ISERROR(VLOOKUP(#REF!,localizacao,2,FALSE)),\"\",VLOOKUP(#REF!,localizacao,2,FALSE))","v":""},null,"",null,""]
[null,"",null,{"$f":"IF(ISERROR(VLOOKUP(#REF!,localizacao,2,FALSE)),\"\",VLOOKUP(#REF!,localizacao,2,FALSE))","v":""},null,"",null,""]
[null,"",null,{"$f":"IF(ISERROR(VLOOKUP(#REF!,localizacao,2,FALSE)),\"\",VLOOKUP(#REF!,localizacao,2,FALSE))","v":""},null,"",null,""]
[null,"",null,{"$f":"IF(ISERROR(VLOOKUP(#REF!,localizacao,2,FALSE)),\"\",VLOOKUP(#REF!,localizacao,2,FALSE))","v":""},null,"",null,""]
[null,"",null,{"$f":"IF(ISERROR(VLOOKUP(#REF!,localizacao,2,FALSE)),\"\",VLOOKUP(#REF!,localizacao,2,FALSE))","v":""},null,{"$f":"IF(ISERROR(VLOOKUP(G3142,componentes,2,FALSE)),\"\",VLOOKUP(G3142,componentes,2,FALSE))","v":""},null,{"$f":"IF(ISERROR(VLOOKUP(I3142,rubricas,2,FALSE)),\"\",VLOOKUP(I3142,rubricas,2,FALSE))","v":""}]
[null,{"$f":"IF(C3143<>\"\",+B3142+1,\"\")","v":""},null,{"$f":"IF(ISERROR(VLOOKUP(#REF!,localizacao,2,FALSE)),\"\",VLOOKUP(#REF!,localizacao,2,FALSE))","v":""},null,"",null,""]
[null,"",null,{"$f":"IF(ISERROR(VLOOKUP(#REF!,localizacao,2,FALSE)),\"\",VLOOKUP(#REF!,localizacao,2,FALSE))","v":""},null,"",null,""]
[null,"",null,{"$f":"IF(ISERROR(VLOOKUP(#REF!,localizacao,2,FALSE)),\"\",VLOOKUP(#REF!,localizacao,2,FALSE))","v":""},null,"",null,""]
[null,"",null,{"$f":"IF(ISERROR(VLOOKUP(#REF!,localizacao,2,FALSE)),\"\",VLOOKUP(#REF!,localizacao,2,FALSE))","v":""},null,"",null,""]
[null,"",null,{"$f":"IF(ISERROR(VLOOKUP(#REF!,localizacao,2,FALSE)),\"\",VLOOKUP(#REF!,localizacao,2,FALSE))","v":""},null,"",null,""]
[null,"",null,{"$f":"IF(ISERROR(VLOOKUP(#REF!,localizacao,2,FALSE)),\"\",VLOOKUP(#REF!,localizacao,2,FALSE))","v":""},null,"",null,""]
[null,"",null,{"$f":"IF(ISERROR(VLOOKUP(#REF!,localizacao,2,FALSE)),\"\",VLOOKUP(#REF!,localizacao,2,FALSE))","v":""},null,"",null,""]
[null,"",null,{"$f":"IF(ISERROR(VLOOKUP(#REF!,localizacao,2,FALSE)),\"\",VLOOKUP(#REF!,localizacao,2,FALSE))","v":""},null,"",null,""]
[null,"",null,{"$f":"IF(ISERROR(VLOOKUP(#REF!,localizacao,2,FALSE)),\"\",VLOOKUP(#REF!,localizacao,2,FALSE))","v":""},null,"",null,""]
[null,"",null,{"$f":"IF(ISERROR(VLOOKUP(#REF!,localizacao,2,FALSE)),\"\",VLOOKUP(#REF!,localizacao,2,FALSE))","v":""},null,"",null,""]
[null,"",null,{"$f":"IF(ISERROR(VLOOKUP(#REF!,localizacao,2,FALSE)),\"\",VLOOKUP(#REF!,localizacao,2,FALSE))","v":""},null,"",null,""]
[null,"",null,{"$f":"IF(ISERROR(VLOOKUP(#REF!,localizacao,2,FALSE)),\"\",VLOOKUP(#REF!,localizacao,2,FALSE))","v":""},null,"",null,""]
[null,"",null,{"$f":"IF(ISERROR(VLOOKUP(#REF!,localizacao,2,FALSE)),\"\",VLOOKUP(#REF!,localizacao,2,FALSE))","v":""},null,"",null,""]
[null,"",null,{"$f":"IF(ISERROR(VLOOKUP(#REF!,localizacao,2,FALSE)),\"\",VLOOKUP(#REF!,localizacao,2,FALSE))","v":""},null,"",null,""]
[null,"",null,{"$f":"IF(ISERROR(VLOOKUP(#REF!,localizacao,2,FALSE)),\"\",VLOOKUP(#REF!,localizacao,2,FALSE))","v":""},null,"",null,""]
[null,"",null,{"$f":"IF(ISERROR(VLOOKUP(#REF!,localizacao,2,FALSE)),\"\",VLOOKUP(#REF!,localizacao,2,FALSE))","v":""},null,"",null,""]
[null,"",null,{"$f":"IF(ISERROR(VLOOKUP(#REF!,localizacao,2,FALSE)),\"\",VLOOKUP(#REF!,localizacao,2,FALSE))","v":""},null,"",null,""]
[null,"",null,{"$f":"IF(ISERROR(VLOOKUP(#REF!,localizacao,2,FALSE)),\"\",VLOOKUP(#REF!,localizacao,2,FALSE))","v":""},null,"",null,""]
[null,"",null,{"$f":"IF(ISERROR(VLOOKUP(#REF!,localizacao,2,FALSE)),\"\",VLOOKUP(#REF!,localizacao,2,FALSE))","v":""},null,"",null,""]
[null,"",null,{"$f":"IF(ISERROR(VLOOKUP(#REF!,localizacao,2,FALSE)),\"\",VLOOKUP(#REF!,localizacao,2,FALSE))","v":""},null,"",null,""]
[null,"",null,{"$f":"IF(ISERROR(VLOOKUP(#REF!,localizacao,2,FALSE)),\"\",VLOOKUP(#REF!,localizacao,2,FALSE))","v":""},null,"",null,""]
[null,"",null,{"$f":"IF(ISERROR(VLOOKUP(#REF!,localizacao,2,FALSE)),\"\",VLOOKUP(#REF!,localizacao,2,FALSE))","v":""},null,"",null,""]
[null,"",null,{"$f":"IF(ISERROR(VLOOKUP(#REF!,localizacao,2,FALSE)),\"\",VLOOKUP(#REF!,localizacao,2,FALSE))","v":""},null,"",null,""]
[null,"",null,{"$f":"IF(ISERROR(VLOOKUP(#REF!,localizacao,2,FALSE)),\"\",VLOOKUP(#REF!,localizacao,2,FALSE))","v":""},null,"",null,""]
[null,"",null,{"$f":"IF(ISERROR(VLOOKUP(#REF!,localizacao,2,FALSE)),\"\",VLOOKUP(#REF!,localizacao,2,FALSE))","v":""},null,"",null,""]
[null,"",null,{"$f":"IF(ISERROR(VLOOKUP(#REF!,localizacao,2,FALSE)),\"\",VLOOKUP(#REF!,localizacao,2,FALSE))","v":""},null,"",null,""]
[null,"",null,{"$f":"IF(ISERROR(VLOOKUP(#REF!,localizacao,2,FALSE)),\"\",VLOOKUP(#REF!,localizacao,2,FALSE))","v":""},null,"",null,""]
[null,"",null,{"$f":"IF(ISERROR(VLOOKUP(#REF!,localizacao,2,FALSE)),\"\",VLOOKUP(#REF!,localizacao,2,FALSE))","v":""},null,"",null,""]
[null,"",null,{"$f":"IF(ISERROR(VLOOKUP(#REF!,localizacao,2,FALSE)),\"\",VLOOKUP(#REF!,localizacao,2,FALSE))","v":""},null,"",null,""]
[null,"",null,{"$f":"IF(ISERROR(VLOOKUP(#REF!,localizacao,2,FALSE)),\"\",VLOOKUP(#REF!,localizacao,2,FALSE))","v":""},null,"",null,""]
[null,"",null,{"$f":"IF(ISERROR(VLOOKUP(#REF!,localizacao,2,FALSE)),\"\",VLOOKUP(#REF!,localizacao,2,FALSE))","v":""},null,"",null,""]
[null,"",null,{"$f":"IF(ISERROR(VLOOKUP(#REF!,localizacao,2,FALSE)),\"\",VLOOKUP(#REF!,localizacao,2,FALSE))","v":""},null,"",null,""]
[null,"",null,{"$f":"IF(ISERROR(VLOOKUP(#REF!,localizacao,2,FALSE)),\"\",VLOOKUP(#REF!,localizacao,2,FALSE))","v":""},null,"",null,""]
[null,"",null,{"$f":"IF(ISERROR(VLOOKUP(#REF!,localizacao,2,FALSE)),\"\",VLOOKUP(#REF!,localizacao,2,FALSE))","v":""},null,"",null,""]
[null,"",null,{"$f":"IF(ISERROR(VLOOKUP(#REF!,localizacao,2,FALSE)),\"\",VLOOKUP(#REF!,localizacao,2,FALSE))","v":""},null,"",null,""]
[null,"",null,{"$f":"IF(ISERROR(VLOOKUP(#REF!,localizacao,2,FALSE)),\"\",VLOOKUP(#REF!,localizacao,2,FALSE))","v":""},null,"",null,""]
[null,"",null,{"$f":"IF(ISERROR(VLOOKUP(#REF!,localizacao,2,FALSE)),\"\",VLOOKUP(#REF!,localizacao,2,FALSE))","v":""},null,"",null,""]
[null,"",null,{"$f":"IF(ISERROR(VLOOKUP(#REF!,localizacao,2,FALSE)),\"\",VLOOKUP(#REF!,localizacao,2,FALSE))","v":""},null,"",null,""]
[null,"",null,{"$f":"IF(ISERROR(VLOOKUP(#REF!,localizacao,2,FALSE)),\"\",VLOOKUP(#REF!,localizacao,2,FALSE))","v":""},null,"",null,""]
[null,"",null,{"$f":"IF(ISERROR(VLOOKUP(#REF!,localizacao,2,FALSE)),\"\",VLOOKUP(#REF!,localizacao,2,FALSE))","v":""},null,"",null,""]
[null,"",null,{"$f":"IF(ISERROR(VLOOKUP(#REF!,localizacao,2,FALSE)),\"\",VLOOKUP(#REF!,localizacao,2,FALSE))","v":""},null,"",null,""]
[null,"",null,{"$f":"IF(ISERROR(VLOOKUP(#REF!,localizacao,2,FALSE)),\"\",VLOOKUP(#REF!,localizacao,2,FALSE))","v":""},null,"",null,""]
[null,"",null,{"$f":"IF(ISERROR(VLOOKUP(#REF!,localizacao,2,FALSE)),\"\",VLOOKUP(#REF!,localizacao,2,FALSE))","v":""},null,"",null,""]
[null,"",null,{"$f":"IF(ISERROR(VLOOKUP(#REF!,localizacao,2,FALSE)),\"\",VLOOKUP(#REF!,localizacao,2,FALSE))","v":""},null,"",null,""]
[null,"",null,{"$f":"IF(ISERROR(VLOOKUP(#REF!,localizacao,2,FALSE)),\"\",VLOOKUP(#REF!,localizacao,2,FALSE))","v":""},null,"",null,""]
[null,"",null,{"$f":"IF(ISERROR(VLOOKUP(#REF!,localizacao,2,FALSE)),\"\",VLOOKUP(#REF!,localizacao,2,FALSE))","v":""},null,"",null,""]
[null,"",null,{"$f":"IF(ISERROR(VLOOKUP(#REF!,localizacao,2,FALSE)),\"\",VLOOKUP(#REF!,localizacao,2,FALSE))","v":""},null,"",null,""]
[null,"",null,{"$f":"IF(ISERROR(VLOOKUP(#REF!,localizacao,2,FALSE)),\"\",VLOOKUP(#REF!,localizacao,2,FALSE))","v":""},null,"",null,""]
[null,"",null,{"$f":"IF(ISERROR(VLOOKUP(#REF!,localizacao,2,FALSE)),\"\",VLOOKUP(#REF!,localizacao,2,FALSE))","v":""},null,"",null,""]
[null,"",null,{"$f":"IF(ISERROR(VLOOKUP(#REF!,localizacao,2,FALSE)),\"\",VLOOKUP(#REF!,localizacao,2,FALSE))","v":""},null,"",null,""]
[null,"",null,{"$f":"IF(ISERROR(VLOOKUP(#REF!,localizacao,2,FALSE)),\"\",VLOOKUP(#REF!,localizacao,2,FALSE))","v":""},null,"",null,""]
[null,"",null,{"$f":"IF(ISERROR(VLOOKUP(#REF!,localizacao,2,FALSE)),\"\",VLOOKUP(#REF!,localizacao,2,FALSE))","v":""},null,"",null,""]
[null,"",null,{"$f":"IF(ISERROR(VLOOKUP(#REF!,localizacao,2,FALSE)),\"\",VLOOKUP(#REF!,localizacao,2,FALSE))","v":""},null,"",null,""]
[null,"",null,{"$f":"IF(ISERROR(VLOOKUP(#REF!,localizacao,2,FALSE)),\"\",VLOOKUP(#REF!,localizacao,2,FALSE))","v":""},null,"",null,""]
[null,"",null,{"$f":"IF(ISERROR(VLOOKUP(#REF!,localizacao,2,FALSE)),\"\",VLOOKUP(#REF!,localizacao,2,FALSE))","v":""},null,"",null,""]
[null,"",null,{"$f":"IF(ISERROR(VLOOKUP(#REF!,localizacao,2,FALSE)),\"\",VLOOKUP(#REF!,localizacao,2,FALSE))","v":""},null,"",null,""]
[null,"",null,{"$f":"IF(ISERROR(VLOOKUP(#REF!,localizacao,2,FALSE)),\"\",VLOOKUP(#REF!,localizacao,2,FALSE))","v":""},null,"",null,""]
[null,"",null,{"$f":"IF(ISERROR(VLOOKUP(#REF!,localizacao,2,FALSE)),\"\",VLOOKUP(#REF!,localizacao,2,FALSE))","v":""},null,"",null,""]
[null,"",null,{"$f":"IF(ISERROR(VLOOKUP(#REF!,localizacao,2,FALSE)),\"\",VLOOKUP(#REF!,localizacao,2,FALSE))","v":""},null,"",null,""]
[null,"",null,{"$f":"IF(ISERROR(VLOOKUP(#REF!,localizacao,2,FALSE)),\"\",VLOOKUP(#REF!,localizacao,2,FALSE))","v":""},null,"",null,""]
[null,"",null,{"$f":"IF(ISERROR(VLOOKUP(#REF!,localizacao,2,FALSE)),\"\",VLOOKUP(#REF!,localizacao,2,FALSE))","v":""},null,"",null,""]
[null,"",null,{"$f":"IF(ISERROR(VLOOKUP(#REF!,localizacao,2,FALSE)),\"\",VLOOKUP(#REF!,localizacao,2,FALSE))","v":""},null,"",null,""]
[null,"",null,{"$f":"IF(ISERROR(VLOOKUP(#REF!,localizacao,2,FALSE)),\"\",VLOOKUP(#REF!,localizacao,2,FALSE))","v":""},null,"",null,""]
[null,"",null,{"$f":"IF(ISERROR(VLOOKUP(#REF!,localizacao,2,FALSE)),\"\",VLOOKUP(#REF!,localizacao,2,FALSE))","v":""},null,{"$f":"IF(ISERROR(VLOOKUP(G3206,componentes,2,FALSE)),\"\",VLOOKUP(G3206,componentes,2,FALSE))","v":""},null,{"$f":"IF(ISERROR(VLOOKUP(I3206,rubricas,2,FALSE)),\"\",VLOOKUP(I3206,rubricas,2,FALSE))","v":""}]
[null,{"$f":"IF(C3207<>\"\",+B3206+1,\"\")","v":""},null,{"$f":"IF(ISERROR(VLOOKUP(#REF!,localizacao,2,FALSE)),\"\",VLOOKUP(#REF!,localizacao,2,FALSE))","v":""},null,"",null,""]
[null,"",null,{"$f":"IF(ISERROR(VLOOKUP(#REF!,localizacao,2,FALSE)),\"\",VLOOKUP(#REF!,localizacao,2,FALSE))","v":""},null,"",null,""]
[null,"",null,{"$f":"IF(ISERROR(VLOOKUP(#REF!,localizacao,2,FALSE)),\"\",VLOOKUP(#REF!,localizacao,2,FALSE))","v":""},null,"",null,""]
[null,"",null,{"$f":"IF(ISERROR(VLOOKUP(#REF!,localizacao,2,FALSE)),\"\",VLOOKUP(#REF!,localizacao,2,FALSE))","v":""},null,"",null,""]
[null,"",null,{"$f":"IF(ISERROR(VLOOKUP(#REF!,localizacao,2,FALSE)),\"\",VLOOKUP(#REF!,localizacao,2,FALSE))","v":""},null,"",null,""]
[null,"",null,{"$f":"IF(ISERROR(VLOOKUP(#REF!,localizacao,2,FALSE)),\"\",VLOOKUP(#REF!,localizacao,2,FALSE))","v":""},null,"",null,""]
[null,"",null,{"$f":"IF(ISERROR(VLOOKUP(#REF!,localizacao,2,FALSE)),\"\",VLOOKUP(#REF!,localizacao,2,FALSE))","v":""},null,"",null,""]
[null,"",null,{"$f":"IF(ISERROR(VLOOKUP(#REF!,localizacao,2,FALSE)),\"\",VLOOKUP(#REF!,localizacao,2,FALSE))","v":""},null,"",null,""]
[null,"",null,{"$f":"IF(ISERROR(VLOOKUP(#REF!,localizacao,2,FALSE)),\"\",VLOOKUP(#REF!,localizacao,2,FALSE))","v":""},null,"",null,""]
[null,"",null,{"$f":"IF(ISERROR(VLOOKUP(#REF!,localizacao,2,FALSE)),\"\",VLOOKUP(#REF!,localizacao,2,FALSE))","v":""},null,"",null,""]
[null,"",null,{"$f":"IF(ISERROR(VLOOKUP(#REF!,localizacao,2,FALSE)),\"\",VLOOKUP(#REF!,localizacao,2,FALSE))","v":""},null,"",null,""]
[null,"",null,{"$f":"IF(ISERROR(VLOOKUP(#REF!,localizacao,2,FALSE)),\"\",VLOOKUP(#REF!,localizacao,2,FALSE))","v":""},null,"",null,""]
[null,"",null,{"$f":"IF(ISERROR(VLOOKUP(#REF!,localizacao,2,FALSE)),\"\",VLOOKUP(#REF!,localizacao,2,FALSE))","v":""},null,"",null,""]
[null,"",null,{"$f":"IF(ISERROR(VLOOKUP(#REF!,localizacao,2,FALSE)),\"\",VLOOKUP(#REF!,localizacao,2,FALSE))","v":""},null,"",null,""]
[null,"",null,{"$f":"IF(ISERROR(VLOOKUP(#REF!,localizacao,2,FALSE)),\"\",VLOOKUP(#REF!,localizacao,2,FALSE))","v":""},null,"",null,""]
[null,"",null,{"$f":"IF(ISERROR(VLOOKUP(#REF!,localizacao,2,FALSE)),\"\",VLOOKUP(#REF!,localizacao,2,FALSE))","v":""},null,"",null,""]
[null,"",null,{"$f":"IF(ISERROR(VLOOKUP(#REF!,localizacao,2,FALSE)),\"\",VLOOKUP(#REF!,localizacao,2,FALSE))","v":""},null,"",null,""]
[null,"",null,{"$f":"IF(ISERROR(VLOOKUP(#REF!,localizacao,2,FALSE)),\"\",VLOOKUP(#REF!,localizacao,2,FALSE))","v":""},null,"",null,""]
[null,"",null,{"$f":"IF(ISERROR(VLOOKUP(#REF!,localizacao,2,FALSE)),\"\",VLOOKUP(#REF!,localizacao,2,FALSE))","v":""},null,"",null,""]
[null,"",null,{"$f":"IF(ISERROR(VLOOKUP(#REF!,localizacao,2,FALSE)),\"\",VLOOKUP(#REF!,localizacao,2,FALSE))","v":""},null,"",null,""]
[null,"",null,{"$f":"IF(ISERROR(VLOOKUP(#REF!,localizacao,2,FALSE)),\"\",VLOOKUP(#REF!,localizacao,2,FALSE))","v":""},null,"",null,""]
[null,"",null,{"$f":"IF(ISERROR(VLOOKUP(#REF!,localizacao,2,FALSE)),\"\",VLOOKUP(#REF!,localizacao,2,FALSE))","v":""},null,"",null,""]
[null,"",null,{"$f":"IF(ISERROR(VLOOKUP(#REF!,localizacao,2,FALSE)),\"\",VLOOKUP(#REF!,localizacao,2,FALSE))","v":""},null,"",null,""]
[null,"",null,{"$f":"IF(ISERROR(VLOOKUP(#REF!,localizacao,2,FALSE)),\"\",VLOOKUP(#REF!,localizacao,2,FALSE))","v":""},null,"",null,""]
[null,"",null,{"$f":"IF(ISERROR(VLOOKUP(#REF!,localizacao,2,FALSE)),\"\",VLOOKUP(#REF!,localizacao,2,FALSE))","v":""},null,"",null,""]
[null,"",null,{"$f":"IF(ISERROR(VLOOKUP(#REF!,localizacao,2,FALSE)),\"\",VLOOKUP(#REF!,localizacao,2,FALSE))","v":""},null,"",null,""]
[null,"",null,{"$f":"IF(ISERROR(VLOOKUP(#REF!,localizacao,2,FALSE)),\"\",VLOOKUP(#REF!,localizacao,2,FALSE))","v":""},null,"",null,""]
[null,"",null,{"$f":"IF(ISERROR(VLOOKUP(#REF!,localizacao,2,FALSE)),\"\",VLOOKUP(#REF!,localizacao,2,FALSE))","v":""},null,"",null,""]
[null,"",null,{"$f":"IF(ISERROR(VLOOKUP(#REF!,localizacao,2,FALSE)),\"\",VLOOKUP(#REF!,localizacao,2,FALSE))","v":""},null,"",null,""]
[null,"",null,{"$f":"IF(ISERROR(VLOOKUP(#REF!,localizacao,2,FALSE)),\"\",VLOOKUP(#REF!,localizacao,2,FALSE))","v":""},null,"",null,""]
[null,"",null,{"$f":"IF(ISERROR(VLOOKUP(#REF!,localizacao,2,FALSE)),\"\",VLOOKUP(#REF!,localizacao,2,FALSE))","v":""},null,"",null,""]
[null,"",null,{"$f":"IF(ISERROR(VLOOKUP(#REF!,localizacao,2,FALSE)),\"\",VLOOKUP(#REF!,localizacao,2,FALSE))","v":""},null,"",null,""]
[null,"",null,{"$f":"IF(ISERROR(VLOOKUP(#REF!,localizacao,2,FALSE)),\"\",VLOOKUP(#REF!,localizacao,2,FALSE))","v":""},null,"",null,""]
[null,"",null,{"$f":"IF(ISERROR(VLOOKUP(#REF!,localizacao,2,FALSE)),\"\",VLOOKUP(#REF!,localizacao,2,FALSE))","v":""},null,"",null,""]
[null,"",null,{"$f":"IF(ISERROR(VLOOKUP(#REF!,localizacao,2,FALSE)),\"\",VLOOKUP(#REF!,localizacao,2,FALSE))","v":""},null,"",null,""]
[null,"",null,{"$f":"IF(ISERROR(VLOOKUP(#REF!,localizacao,2,FALSE)),\"\",VLOOKUP(#REF!,localizacao,2,FALSE))","v":""},null,"",null,""]
[null,"",null,{"$f":"IF(ISERROR(VLOOKUP(#REF!,localizacao,2,FALSE)),\"\",VLOOKUP(#REF!,localizacao,2,FALSE))","v":""},null,"",null,""]
[null,"",null,{"$f":"IF(ISERROR(VLOOKUP(#REF!,localizacao,2,FALSE)),\"\",VLOOKUP(#REF!,localizacao,2,FALSE))","v":""},null,"",null,""]
[null,"",null,{"$f":"IF(ISERROR(VLOOKUP(#REF!,localizacao,2,FALSE)),\"\",VLOOKUP(#REF!,localizacao,2,FALSE))","v":""},null,"",null,""]
[null,"",null,{"$f":"IF(ISERROR(VLOOKUP(#REF!,localizacao,2,FALSE)),\"\",VLOOKUP(#REF!,localizacao,2,FALSE))","v":""},null,"",null,""]
[null,"",null,{"$f":"IF(ISERROR(VLOOKUP(#REF!,localizacao,2,FALSE)),\"\",VLOOKUP(#REF!,localizacao,2,FALSE))","v":""},null,"",null,""]
[null,"",null,{"$f":"IF(ISERROR(VLOOKUP(#REF!,localizacao,2,FALSE)),\"\",VLOOKUP(#REF!,localizacao,2,FALSE))","v":""},null,"",null,""]
[null,"",null,{"$f":"IF(ISERROR(VLOOKUP(#REF!,localizacao,2,FALSE)),\"\",VLOOKUP(#REF!,localizacao,2,FALSE))","v":""},null,"",null,""]
[null,"",null,{"$f":"IF(ISERROR(VLOOKUP(#REF!,localizacao,2,FALSE)),\"\",VLOOKUP(#REF!,localizacao,2,FALSE))","v":""},null,"",null,""]
[null,"",null,{"$f":"IF(ISERROR(VLOOKUP(#REF!,localizacao,2,FALSE)),\"\",VLOOKUP(#REF!,localizacao,2,FALSE))","v":""},null,"",null,""]
[null,"",null,{"$f":"IF(ISERROR(VLOOKUP(#REF!,localizacao,2,FALSE)),\"\",VLOOKUP(#REF!,localizacao,2,FALSE))","v":""},null,"",null,""]
[null,"",null,{"$f":"IF(ISERROR(VLOOKUP(#REF!,localizacao,2,FALSE)),\"\",VLOOKUP(#REF!,localizacao,2,FALSE))","v":""},null,"",null,""]
[null,"",null,{"$f":"IF(ISERROR(VLOOKUP(#REF!,localizacao,2,FALSE)),\"\",VLOOKUP(#REF!,localizacao,2,FALSE))","v":""},null,"",null,""]
[null,"",null,{"$f":"IF(ISERROR(VLOOKUP(#REF!,localizacao,2,FALSE)),\"\",VLOOKUP(#REF!,localizacao,2,FALSE))","v":""},null,"",null,""]
[null,"",null,{"$f":"IF(ISERROR(VLOOKUP(#REF!,localizacao,2,FALSE)),\"\",VLOOKUP(#REF!,localizacao,2,FALSE))","v":""},null,"",null,""]
[null,"",null,{"$f":"IF(ISERROR(VLOOKUP(#REF!,localizacao,2,FALSE)),\"\",VLOOKUP(#REF!,localizacao,2,FALSE))","v":""},null,"",null,""]
[null,"",null,{"$f":"IF(ISERROR(VLOOKUP(#REF!,localizacao,2,FALSE)),\"\",VLOOKUP(#REF!,localizacao,2,FALSE))","v":""},null,"",null,""]
[null,"",null,{"$f":"IF(ISERROR(VLOOKUP(#REF!,localizacao,2,FALSE)),\"\",VLOOKUP(#REF!,localizacao,2,FALSE))","v":""},null,"",null,""]
[null,"",null,{"$f":"IF(ISERROR(VLOOKUP(#REF!,localizacao,2,FALSE)),\"\",VLOOKUP(#REF!,localizacao,2,FALSE))","v":""},null,"",null,""]
[null,"",null,{"$f":"IF(ISERROR(VLOOKUP(#REF!,localizacao,2,FALSE)),\"\",VLOOKUP(#REF!,localizacao,2,FALSE))","v":""},null,"",null,""]
[null,"",null,{"$f":"IF(ISERROR(VLOOKUP(#REF!,localizacao,2,FALSE)),\"\",VLOOKUP(#REF!,localizacao,2,FALSE))","v":""},null,"",null,""]
[null,"",null,{"$f":"IF(ISERROR(VLOOKUP(#REF!,localizacao,2,FALSE)),\"\",VLOOKUP(#REF!,localizacao,2,FALSE))","v":""},null,"",null,""]
[null,"",null,{"$f":"IF(ISERROR(VLOOKUP(#REF!,localizacao,2,FALSE)),\"\",VLOOKUP(#REF!,localizacao,2,FALSE))","v":""},null,"",null,""]
[null,"",null,{"$f":"IF(ISERROR(VLOOKUP(#REF!,localizacao,2,FALSE)),\"\",VLOOKUP(#REF!,localizacao,2,FALSE))","v":""},null,"",null,""]
[null,"",null,{"$f":"IF(ISERROR(VLOOKUP(#REF!,localizacao,2,FALSE)),\"\",VLOOKUP(#REF!,localizacao,2,FALSE))","v":""},null,"",null,""]
[null,"",null,{"$f":"IF(ISERROR(VLOOKUP(#REF!,localizacao,2,FALSE)),\"\",VLOOKUP(#REF!,localizacao,2,FALSE))","v":""},null,"",null,""]
[null,"",null,{"$f":"IF(ISERROR(VLOOKUP(#REF!,localizacao,2,FALSE)),\"\",VLOOKUP(#REF!,localizacao,2,FALSE))","v":""},null,"",null,""]
[null,"",null,{"$f":"IF(ISERROR(VLOOKUP(#REF!,localizacao,2,FALSE)),\"\",VLOOKUP(#REF!,localizacao,2,FALSE))","v":""},null,"",null,""]
[null,"",null,{"$f":"IF(ISERROR(VLOOKUP(#REF!,localizacao,2,FALSE)),\"\",VLOOKUP(#REF!,localizacao,2,FALSE))","v":""},null,{"$f":"IF(ISERROR(VLOOKUP(G3270,componentes,2,FALSE)),\"\",VLOOKUP(G3270,componentes,2,FALSE))","v":""},null,{"$f":"IF(ISERROR(VLOOKUP(I3270,rubricas,2,FALSE)),\"\",VLOOKUP(I3270,rubricas,2,FALSE))","v":""}]
[null,{"$f":"IF(C3271<>\"\",+B3270+1,\"\")","v":""},null,{"$f":"IF(ISERROR(VLOOKUP(#REF!,localizacao,2,FALSE)),\"\",VLOOKUP(#REF!,localizacao,2,FALSE))","v":""},null,"",null,""]
[null,"",null,{"$f":"IF(ISERROR(VLOOKUP(#REF!,localizacao,2,FALSE)),\"\",VLOOKUP(#REF!,localizacao,2,FALSE))","v":""},null,"",null,""]
[null,"",null,{"$f":"IF(ISERROR(VLOOKUP(#REF!,localizacao,2,FALSE)),\"\",VLOOKUP(#REF!,localizacao,2,FALSE))","v":""},null,"",null,""]
[null,"",null,{"$f":"IF(ISERROR(VLOOKUP(#REF!,localizacao,2,FALSE)),\"\",VLOOKUP(#REF!,localizacao,2,FALSE))","v":""},null,"",null,""]
[null,"",null,{"$f":"IF(ISERROR(VLOOKUP(#REF!,localizacao,2,FALSE)),\"\",VLOOKUP(#REF!,localizacao,2,FALSE))","v":""},null,"",null,""]
[null,"",null,{"$f":"IF(ISERROR(VLOOKUP(#REF!,localizacao,2,FALSE)),\"\",VLOOKUP(#REF!,localizacao,2,FALSE))","v":""},null,"",null,""]
[null,"",null,{"$f":"IF(ISERROR(VLOOKUP(#REF!,localizacao,2,FALSE)),\"\",VLOOKUP(#REF!,localizacao,2,FALSE))","v":""},null,"",null,""]
[null,"",null,{"$f":"IF(ISERROR(VLOOKUP(#REF!,localizacao,2,FALSE)),\"\",VLOOKUP(#REF!,localizacao,2,FALSE))","v":""},null,"",null,""]
[null,"",null,{"$f":"IF(ISERROR(VLOOKUP(#REF!,localizacao,2,FALSE)),\"\",VLOOKUP(#REF!,localizacao,2,FALSE))","v":""},null,"",null,""]
[null,"",null,{"$f":"IF(ISERROR(VLOOKUP(#REF!,localizacao,2,FALSE)),\"\",VLOOKUP(#REF!,localizacao,2,FALSE))","v":""},null,"",null,""]
[null,"",null,{"$f":"IF(ISERROR(VLOOKUP(#REF!,localizacao,2,FALSE)),\"\",VLOOKUP(#REF!,localizacao,2,FALSE))","v":""},null,"",null,""]
[null,"",null,{"$f":"IF(ISERROR(VLOOKUP(#REF!,localizacao,2,FALSE)),\"\",VLOOKUP(#REF!,localizacao,2,FALSE))","v":""},null,"",null,""]
[null,"",null,{"$f":"IF(ISERROR(VLOOKUP(#REF!,localizacao,2,FALSE)),\"\",VLOOKUP(#REF!,localizacao,2,FALSE))","v":""},null,"",null,""]
[null,"",null,{"$f":"IF(ISERROR(VLOOKUP(#REF!,localizacao,2,FALSE)),\"\",VLOOKUP(#REF!,localizacao,2,FALSE))","v":""},null,"",null,""]
[null,"",null,{"$f":"IF(ISERROR(VLOOKUP(#REF!,localizacao,2,FALSE)),\"\",VLOOKUP(#REF!,localizacao,2,FALSE))","v":""},null,"",null,""]
[null,"",null,{"$f":"IF(ISERROR(VLOOKUP(#REF!,localizacao,2,FALSE)),\"\",VLOOKUP(#REF!,localizacao,2,FALSE))","v":""},null,"",null,""]
[null,"",null,{"$f":"IF(ISERROR(VLOOKUP(#REF!,localizacao,2,FALSE)),\"\",VLOOKUP(#REF!,localizacao,2,FALSE))","v":""},null,"",null,""]
[null,"",null,{"$f":"IF(ISERROR(VLOOKUP(#REF!,localizacao,2,FALSE)),\"\",VLOOKUP(#REF!,localizacao,2,FALSE))","v":""},null,"",null,""]
[null,"",null,{"$f":"IF(ISERROR(VLOOKUP(#REF!,localizacao,2,FALSE)),\"\",VLOOKUP(#REF!,localizacao,2,FALSE))","v":""},null,"",null,""]
[null,"",null,{"$f":"IF(ISERROR(VLOOKUP(#REF!,localizacao,2,FALSE)),\"\",VLOOKUP(#REF!,localizacao,2,FALSE))","v":""},null,"",null,""]
[null,"",null,{"$f":"IF(ISERROR(VLOOKUP(#REF!,localizacao,2,FALSE)),\"\",VLOOKUP(#REF!,localizacao,2,FALSE))","v":""},null,"",null,""]
[null,"",null,{"$f":"IF(ISERROR(VLOOKUP(#REF!,localizacao,2,FALSE)),\"\",VLOOKUP(#REF!,localizacao,2,FALSE))","v":""},null,"",null,""]
[null,"",null,{"$f":"IF(ISERROR(VLOOKUP(#REF!,localizacao,2,FALSE)),\"\",VLOOKUP(#REF!,localizacao,2,FALSE))","v":""},null,"",null,""]
[null,"",null,{"$f":"IF(ISERROR(VLOOKUP(#REF!,localizacao,2,FALSE)),\"\",VLOOKUP(#REF!,localizacao,2,FALSE))","v":""},null,"",null,""]
[null,"",null,{"$f":"IF(ISERROR(VLOOKUP(#REF!,localizacao,2,FALSE)),\"\",VLOOKUP(#REF!,localizacao,2,FALSE))","v":""},null,"",null,""]
[null,"",null,{"$f":"IF(ISERROR(VLOOKUP(#REF!,localizacao,2,FALSE)),\"\",VLOOKUP(#REF!,localizacao,2,FALSE))","v":""},null,"",null,""]
[null,"",null,{"$f":"IF(ISERROR(VLOOKUP(#REF!,localizacao,2,FALSE)),\"\",VLOOKUP(#REF!,localizacao,2,FALSE))","v":""},null,"",null,""]
[null,"",null,{"$f":"IF(ISERROR(VLOOKUP(#REF!,localizacao,2,FALSE)),\"\",VLOOKUP(#REF!,localizacao,2,FALSE))","v":""},null,"",null,""]
[null,"",null,{"$f":"IF(ISERROR(VLOOKUP(#REF!,localizacao,2,FALSE)),\"\",VLOOKUP(#REF!,localizacao,2,FALSE))","v":""},null,"",null,""]
[null,"",null,{"$f":"IF(ISERROR(VLOOKUP(#REF!,localizacao,2,FALSE)),\"\",VLOOKUP(#REF!,localizacao,2,FALSE))","v":""},null,"",null,""]
[null,"",null,{"$f":"IF(ISERROR(VLOOKUP(#REF!,localizacao,2,FALSE)),\"\",VLOOKUP(#REF!,localizacao,2,FALSE))","v":""},null,"",null,""]
[null,"",null,{"$f":"IF(ISERROR(VLOOKUP(#REF!,localizacao,2,FALSE)),\"\",VLOOKUP(#REF!,localizacao,2,FALSE))","v":""},null,"",null,""]
[null,"",null,{"$f":"IF(ISERROR(VLOOKUP(#REF!,localizacao,2,FALSE)),\"\",VLOOKUP(#REF!,localizacao,2,FALSE))","v":""},null,"",null,""]
[null,"",null,{"$f":"IF(ISERROR(VLOOKUP(#REF!,localizacao,2,FALSE)),\"\",VLOOKUP(#REF!,localizacao,2,FALSE))","v":""},null,"",null,""]
[null,"",null,{"$f":"IF(ISERROR(VLOOKUP(#REF!,localizacao,2,FALSE)),\"\",VLOOKUP(#REF!,localizacao,2,FALSE))","v":""},null,"",null,""]
[null,"",null,{"$f":"IF(ISERROR(VLOOKUP(#REF!,localizacao,2,FALSE)),\"\",VLOOKUP(#REF!,localizacao,2,FALSE))","v":""},null,"",null,""]
[null,"",null,{"$f":"IF(ISERROR(VLOOKUP(#REF!,localizacao,2,FALSE)),\"\",VLOOKUP(#REF!,localizacao,2,FALSE))","v":""},null,"",null,""]
[null,"",null,{"$f":"IF(ISERROR(VLOOKUP(#REF!,localizacao,2,FALSE)),\"\",VLOOKUP(#REF!,localizacao,2,FALSE))","v":""},null,"",null,""]
[null,"",null,{"$f":"IF(ISERROR(VLOOKUP(#REF!,localizacao,2,FALSE)),\"\",VLOOKUP(#REF!,localizacao,2,FALSE))","v":""},null,"",null,""]
[null,"",null,{"$f":"IF(ISERROR(VLOOKUP(#REF!,localizacao,2,FALSE)),\"\",VLOOKUP(#REF!,localizacao,2,FALSE))","v":""},null,"",null,""]
[null,"",null,{"$f":"IF(ISERROR(VLOOKUP(#REF!,localizacao,2,FALSE)),\"\",VLOOKUP(#REF!,localizacao,2,FALSE))","v":""},null,"",null,""]
[null,"",null,{"$f":"IF(ISERROR(VLOOKUP(#REF!,localizacao,2,FALSE)),\"\",VLOOKUP(#REF!,localizacao,2,FALSE))","v":""},null,"",null,""]
[null,"",null,{"$f":"IF(ISERROR(VLOOKUP(#REF!,localizacao,2,FALSE)),\"\",VLOOKUP(#REF!,localizacao,2,FALSE))","v":""},null,"",null,""]
[null,"",null,{"$f":"IF(ISERROR(VLOOKUP(#REF!,localizacao,2,FALSE)),\"\",VLOOKUP(#REF!,localizacao,2,FALSE))","v":""},null,"",null,""]
[null,"",null,{"$f":"IF(ISERROR(VLOOKUP(#REF!,localizacao,2,FALSE)),\"\",VLOOKUP(#REF!,localizacao,2,FALSE))","v":""},null,"",null,""]
[null,"",null,{"$f":"IF(ISERROR(VLOOKUP(#REF!,localizacao,2,FALSE)),\"\",VLOOKUP(#REF!,localizacao,2,FALSE))","v":""},null,"",null,""]
[null,"",null,{"$f":"IF(ISERROR(VLOOKUP(#REF!,localizacao,2,FALSE)),\"\",VLOOKUP(#REF!,localizacao,2,FALSE))","v":""},null,"",null,""]
[null,"",null,{"$f":"IF(ISERROR(VLOOKUP(#REF!,localizacao,2,FALSE)),\"\",VLOOKUP(#REF!,localizacao,2,FALSE))","v":""},null,"",null,""]
[null,"",null,{"$f":"IF(ISERROR(VLOOKUP(#REF!,localizacao,2,FALSE)),\"\",VLOOKUP(#REF!,localizacao,2,FALSE))","v":""},null,"",null,""]
[null,"",null,{"$f":"IF(ISERROR(VLOOKUP(#REF!,localizacao,2,FALSE)),\"\",VLOOKUP(#REF!,localizacao,2,FALSE))","v":""},null,"",null,""]
[null,"",null,{"$f":"IF(ISERROR(VLOOKUP(#REF!,localizacao,2,FALSE)),\"\",VLOOKUP(#REF!,localizacao,2,FALSE))","v":""},null,"",null,""]
[null,"",null,{"$f":"IF(ISERROR(VLOOKUP(#REF!,localizacao,2,FALSE)),\"\",VLOOKUP(#REF!,localizacao,2,FALSE))","v":""},null,"",null,""]
[null,"",null,{"$f":"IF(ISERROR(VLOOKUP(#REF!,localizacao,2,FALSE)),\"\",VLOOKUP(#REF!,localizacao,2,FALSE))","v":""},null,"",null,""]
[null,"",null,{"$f":"IF(ISERROR(VLOOKUP(#REF!,localizacao,2,FALSE)),\"\",VLOOKUP(#REF!,localizacao,2,FALSE))","v":""},null,"",null,""]
[null,"",null,{"$f":"IF(ISERROR(VLOOKUP(#REF!,localizacao,2,FALSE)),\"\",VLOOKUP(#REF!,localizacao,2,FALSE))","v":""},null,"",null,""]
[null,"",null,{"$f":"IF(ISERROR(VLOOKUP(#REF!,localizacao,2,FALSE)),\"\",VLOOKUP(#REF!,localizacao,2,FALSE))","v":""},null,"",null,""]
[null,"",null,{"$f":"IF(ISERROR(VLOOKUP(#REF!,localizacao,2,FALSE)),\"\",VLOOKUP(#REF!,localizacao,2,FALSE))","v":""},null,"",null,""]
[null,"",null,{"$f":"IF(ISERROR(VLOOKUP(#REF!,localizacao,2,FALSE)),\"\",VLOOKUP(#REF!,localizacao,2,FALSE))","v":""},null,"",null,""]
[null,"",null,{"$f":"IF(ISERROR(VLOOKUP(#REF!,localizacao,2,FALSE)),\"\",VLOOKUP(#REF!,localizacao,2,FALSE))","v":""},null,"",null,""]
[null,"",null,{"$f":"IF(ISERROR(VLOOKUP(#REF!,localizacao,2,FALSE)),\"\",VLOOKUP(#REF!,localizacao,2,FALSE))","v":""},null,"",null,""]
[null,"",null,{"$f":"IF(ISERROR(VLOOKUP(#REF!,localizacao,2,FALSE)),\"\",VLOOKUP(#REF!,localizacao,2,FALSE))","v":""},null,"",null,""]
[null,"",null,{"$f":"IF(ISERROR(VLOOKUP(#REF!,localizacao,2,FALSE)),\"\",VLOOKUP(#REF!,localizacao,2,FALSE))","v":""},null,"",null,""]
[null,"",null,{"$f":"IF(ISERROR(VLOOKUP(#REF!,localizacao,2,FALSE)),\"\",VLOOKUP(#REF!,localizacao,2,FALSE))","v":""},null,"",null,""]
[null,"",null,{"$f":"IF(ISERROR(VLOOKUP(#REF!,localizacao,2,FALSE)),\"\",VLOOKUP(#REF!,localizacao,2,FALSE))","v":""},null,{"$f":"IF(ISERROR(VLOOKUP(G3334,componentes,2,FALSE)),\"\",VLOOKUP(G3334,componentes,2,FALSE))","v":""},null,{"$f":"IF(ISERROR(VLOOKUP(I3334,rubricas,2,FALSE)),\"\",VLOOKUP(I3334,rubricas,2,FALSE))","v":""}]
[null,{"$f":"IF(C3335<>\"\",+B3334+1,\"\")","v":""},null,{"$f":"IF(ISERROR(VLOOKUP(#REF!,localizacao,2,FALSE)),\"\",VLOOKUP(#REF!,localizacao,2,FALSE))","v":""},null,"",null,""]
[null,"",null,{"$f":"IF(ISERROR(VLOOKUP(#REF!,localizacao,2,FALSE)),\"\",VLOOKUP(#REF!,localizacao,2,FALSE))","v":""},null,"",null,""]
[null,"",null,{"$f":"IF(ISERROR(VLOOKUP(#REF!,localizacao,2,FALSE)),\"\",VLOOKUP(#REF!,localizacao,2,FALSE))","v":""},null,"",null,""]
[null,"",null,{"$f":"IF(ISERROR(VLOOKUP(#REF!,localizacao,2,FALSE)),\"\",VLOOKUP(#REF!,localizacao,2,FALSE))","v":""},null,"",null,""]
[null,"",null,{"$f":"IF(ISERROR(VLOOKUP(#REF!,localizacao,2,FALSE)),\"\",VLOOKUP(#REF!,localizacao,2,FALSE))","v":""},null,"",null,""]
[null,"",null,{"$f":"IF(ISERROR(VLOOKUP(#REF!,localizacao,2,FALSE)),\"\",VLOOKUP(#REF!,localizacao,2,FALSE))","v":""},null,"",null,""]
[null,"",null,{"$f":"IF(ISERROR(VLOOKUP(#REF!,localizacao,2,FALSE)),\"\",VLOOKUP(#REF!,localizacao,2,FALSE))","v":""},null,"",null,""]
[null,"",null,{"$f":"IF(ISERROR(VLOOKUP(#REF!,localizacao,2,FALSE)),\"\",VLOOKUP(#REF!,localizacao,2,FALSE))","v":""},null,"",null,""]
[null,"",null,{"$f":"IF(ISERROR(VLOOKUP(#REF!,localizacao,2,FALSE)),\"\",VLOOKUP(#REF!,localizacao,2,FALSE))","v":""},null,"",null,""]
[null,"",null,{"$f":"IF(ISERROR(VLOOKUP(#REF!,localizacao,2,FALSE)),\"\",VLOOKUP(#REF!,localizacao,2,FALSE))","v":""},null,"",null,""]
[null,"",null,{"$f":"IF(ISERROR(VLOOKUP(#REF!,localizacao,2,FALSE)),\"\",VLOOKUP(#REF!,localizacao,2,FALSE))","v":""},null,"",null,""]
[null,"",null,{"$f":"IF(ISERROR(VLOOKUP(#REF!,localizacao,2,FALSE)),\"\",VLOOKUP(#REF!,localizacao,2,FALSE))","v":""},null,"",null,""]
[null,"",null,{"$f":"IF(ISERROR(VLOOKUP(#REF!,localizacao,2,FALSE)),\"\",VLOOKUP(#REF!,localizacao,2,FALSE))","v":""},null,"",null,""]
[null,"",null,{"$f":"IF(ISERROR(VLOOKUP(#REF!,localizacao,2,FALSE)),\"\",VLOOKUP(#REF!,localizacao,2,FALSE))","v":""},null,"",null,""]
[null,"",null,{"$f":"IF(ISERROR(VLOOKUP(#REF!,localizacao,2,FALSE)),\"\",VLOOKUP(#REF!,localizacao,2,FALSE))","v":""},null,"",null,""]
[null,"",null,{"$f":"IF(ISERROR(VLOOKUP(#REF!,localizacao,2,FALSE)),\"\",VLOOKUP(#REF!,localizacao,2,FALSE))","v":""},null,"",null,""]
[null,"",null,{"$f":"IF(ISERROR(VLOOKUP(#REF!,localizacao,2,FALSE)),\"\",VLOOKUP(#REF!,localizacao,2,FALSE))","v":""},null,"",null,""]
[null,"",null,{"$f":"IF(ISERROR(VLOOKUP(#REF!,localizacao,2,FALSE)),\"\",VLOOKUP(#REF!,localizacao,2,FALSE))","v":""},null,"",null,""]
[null,"",null,{"$f":"IF(ISERROR(VLOOKUP(#REF!,localizacao,2,FALSE)),\"\",VLOOKUP(#REF!,localizacao,2,FALSE))","v":""},null,"",null,""]
[null,"",null,{"$f":"IF(ISERROR(VLOOKUP(#REF!,localizacao,2,FALSE)),\"\",VLOOKUP(#REF!,localizacao,2,FALSE))","v":""},null,"",null,""]
[null,"",null,{"$f":"IF(ISERROR(VLOOKUP(#REF!,localizacao,2,FALSE)),\"\",VLOOKUP(#REF!,localizacao,2,FALSE))","v":""},null,"",null,""]
[null,"",null,{"$f":"IF(ISERROR(VLOOKUP(#REF!,localizacao,2,FALSE)),\"\",VLOOKUP(#REF!,localizacao,2,FALSE))","v":""},null,"",null,""]
[null,"",null,{"$f":"IF(ISERROR(VLOOKUP(#REF!,localizacao,2,FALSE)),\"\",VLOOKUP(#REF!,localizacao,2,FALSE))","v":""},null,"",null,""]
[null,"",null,{"$f":"IF(ISERROR(VLOOKUP(#REF!,localizacao,2,FALSE)),\"\",VLOOKUP(#REF!,localizacao,2,FALSE))","v":""},null,"",null,""]
[null,"",null,{"$f":"IF(ISERROR(VLOOKUP(#REF!,localizacao,2,FALSE)),\"\",VLOOKUP(#REF!,localizacao,2,FALSE))","v":""},null,"",null,""]
[null,"",null,{"$f":"IF(ISERROR(VLOOKUP(#REF!,localizacao,2,FALSE)),\"\",VLOOKUP(#REF!,localizacao,2,FALSE))","v":""},null,"",null,""]
[null,"",null,{"$f":"IF(ISERROR(VLOOKUP(#REF!,localizacao,2,FALSE)),\"\",VLOOKUP(#REF!,localizacao,2,FALSE))","v":""},null,"",null,""]
[null,"",null,{"$f":"IF(ISERROR(VLOOKUP(#REF!,localizacao,2,FALSE)),\"\",VLOOKUP(#REF!,localizacao,2,FALSE))","v":""},null,"",null,""]
[null,"",null,{"$f":"IF(ISERROR(VLOOKUP(#REF!,localizacao,2,FALSE)),\"\",VLOOKUP(#REF!,localizacao,2,FALSE))","v":""},null,"",null,""]
[null,"",null,{"$f":"IF(ISERROR(VLOOKUP(#REF!,localizacao,2,FALSE)),\"\",VLOOKUP(#REF!,localizacao,2,FALSE))","v":""},null,"",null,""]
[null,"",null,{"$f":"IF(ISERROR(VLOOKUP(#REF!,localizacao,2,FALSE)),\"\",VLOOKUP(#REF!,localizacao,2,FALSE))","v":""},null,"",null,""]
[null,"",null,{"$f":"IF(ISERROR(VLOOKUP(#REF!,localizacao,2,FALSE)),\"\",VLOOKUP(#REF!,localizacao,2,FALSE))","v":""},null,"",null,""]
[null,"",null,{"$f":"IF(ISERROR(VLOOKUP(#REF!,localizacao,2,FALSE)),\"\",VLOOKUP(#REF!,localizacao,2,FALSE))","v":""},null,"",null,""]
[null,"",null,{"$f":"IF(ISERROR(VLOOKUP(#REF!,localizacao,2,FALSE)),\"\",VLOOKUP(#REF!,localizacao,2,FALSE))","v":""},null,"",null,""]
[null,"",null,{"$f":"IF(ISERROR(VLOOKUP(#REF!,localizacao,2,FALSE)),\"\",VLOOKUP(#REF!,localizacao,2,FALSE))","v":""},null,"",null,""]
[null,"",null,{"$f":"IF(ISERROR(VLOOKUP(#REF!,localizacao,2,FALSE)),\"\",VLOOKUP(#REF!,localizacao,2,FALSE))","v":""},null,"",null,""]
[null,"",null,{"$f":"IF(ISERROR(VLOOKUP(#REF!,localizacao,2,FALSE)),\"\",VLOOKUP(#REF!,localizacao,2,FALSE))","v":""},null,"",null,""]
[null,"",null,{"$f":"IF(ISERROR(VLOOKUP(#REF!,localizacao,2,FALSE)),\"\",VLOOKUP(#REF!,localizacao,2,FALSE))","v":""},null,"",null,""]
[null,"",null,{"$f":"IF(ISERROR(VLOOKUP(#REF!,localizacao,2,FALSE)),\"\",VLOOKUP(#REF!,localizacao,2,FALSE))","v":""},null,"",null,""]
[null,"",null,{"$f":"IF(ISERROR(VLOOKUP(#REF!,localizacao,2,FALSE)),\"\",VLOOKUP(#REF!,localizacao,2,FALSE))","v":""},null,"",null,""]
[null,"",null,{"$f":"IF(ISERROR(VLOOKUP(#REF!,localizacao,2,FALSE)),\"\",VLOOKUP(#REF!,localizacao,2,FALSE))","v":""},null,"",null,""]
[null,"",null,{"$f":"IF(ISERROR(VLOOKUP(#REF!,localizacao,2,FALSE)),\"\",VLOOKUP(#REF!,localizacao,2,FALSE))","v":""},null,"",null,""]
[null,"",null,{"$f":"IF(ISERROR(VLOOKUP(#REF!,localizacao,2,FALSE)),\"\",VLOOKUP(#REF!,localizacao,2,FALSE))","v":""},null,"",null,""]
[null,"",null,{"$f":"IF(ISERROR(VLOOKUP(#REF!,localizacao,2,FALSE)),\"\",VLOOKUP(#REF!,localizacao,2,FALSE))","v":""},null,"",null,""]
[null,"",null,{"$f":"IF(ISERROR(VLOOKUP(#REF!,localizacao,2,FALSE)),\"\",VLOOKUP(#REF!,localizacao,2,FALSE))","v":""},null,"",null,""]
[null,"",null,{"$f":"IF(ISERROR(VLOOKUP(#REF!,localizacao,2,FALSE)),\"\",VLOOKUP(#REF!,localizacao,2,FALSE))","v":""},null,"",null,""]
[null,"",null,{"$f":"IF(ISERROR(VLOOKUP(#REF!,localizacao,2,FALSE)),\"\",VLOOKUP(#REF!,localizacao,2,FALSE))","v":""},null,"",null,""]
[null,"",null,{"$f":"IF(ISERROR(VLOOKUP(#REF!,localizacao,2,FALSE)),\"\",VLOOKUP(#REF!,localizacao,2,FALSE))","v":""},null,"",null,""]
[null,"",null,{"$f":"IF(ISERROR(VLOOKUP(#REF!,localizacao,2,FALSE)),\"\",VLOOKUP(#REF!,localizacao,2,FALSE))","v":""},null,"",null,""]
[null,"",null,{"$f":"IF(ISERROR(VLOOKUP(#REF!,localizacao,2,FALSE)),\"\",VLOOKUP(#REF!,localizacao,2,FALSE))","v":""},null,"",null,""]
[null,"",null,{"$f":"IF(ISERROR(VLOOKUP(#REF!,localizacao,2,FALSE)),\"\",VLOOKUP(#REF!,localizacao,2,FALSE))","v":""},null,"",null,""]
[null,"",null,{"$f":"IF(ISERROR(VLOOKUP(#REF!,localizacao,2,FALSE)),\"\",VLOOKUP(#REF!,localizacao,2,FALSE))","v":""},null,"",null,""]
[null,"",null,{"$f":"IF(ISERROR(VLOOKUP(#REF!,localizacao,2,FALSE)),\"\",VLOOKUP(#REF!,localizacao,2,FALSE))","v":""},null,"",null,""]
[null,"",null,{"$f":"IF(ISERROR(VLOOKUP(#REF!,localizacao,2,FALSE)),\"\",VLOOKUP(#REF!,localizacao,2,FALSE))","v":""},null,"",null,""]
[null,"",null,{"$f":"IF(ISERROR(VLOOKUP(#REF!,localizacao,2,FALSE)),\"\",VLOOKUP(#REF!,localizacao,2,FALSE))","v":""},null,"",null,""]
[null,"",null,{"$f":"IF(ISERROR(VLOOKUP(#REF!,localizacao,2,FALSE)),\"\",VLOOKUP(#REF!,localizacao,2,FALSE))","v":""},null,"",null,""]
[null,"",null,{"$f":"IF(ISERROR(VLOOKUP(#REF!,localizacao,2,FALSE)),\"\",VLOOKUP(#REF!,localizacao,2,FALSE))","v":""},null,"",null,""]
[null,"",null,{"$f":"IF(ISERROR(VLOOKUP(#REF!,localizacao,2,FALSE)),\"\",VLOOKUP(#REF!,localizacao,2,FALSE))","v":""},null,"",null,""]
[null,"",null,{"$f":"IF(ISERROR(VLOOKUP(#REF!,localizacao,2,FALSE)),\"\",VLOOKUP(#REF!,localizacao,2,FALSE))","v":""},null,"",null,""]
[null,"",null,{"$f":"IF(ISERROR(VLOOKUP(#REF!,localizacao,2,FALSE)),\"\",VLOOKUP(#REF!,localizacao,2,FALSE))","v":""},null,"",null,""]
[null,"",null,{"$f":"IF(ISERROR(VLOOKUP(#REF!,localizacao,2,FALSE)),\"\",VLOOKUP(#REF!,localizacao,2,FALSE))","v":""},null,"",null,""]
[null,"",null,{"$f":"IF(ISERROR(VLOOKUP(#REF!,localizacao,2,FALSE)),\"\",VLOOKUP(#REF!,localizacao,2,FALSE))","v":""},null,"",null,""]
[null,"",null,{"$f":"IF(ISERROR(VLOOKUP(#REF!,localizacao,2,FALSE)),\"\",VLOOKUP(#REF!,localizacao,2,FALSE))","v":""},null,"",null,""]
[null,"",null,{"$f":"IF(ISERROR(VLOOKUP(#REF!,localizacao,2,FALSE)),\"\",VLOOKUP(#REF!,localizacao,2,FALSE))","v":""},null,{"$f":"IF(ISERROR(VLOOKUP(G3398,componentes,2,FALSE)),\"\",VLOOKUP(G3398,componentes,2,FALSE))","v":""},null,{"$f":"IF(ISERROR(VLOOKUP(I3398,rubricas,2,FALSE)),\"\",VLOOKUP(I3398,rubricas,2,FALSE))","v":""}]
[null,{"$f":"IF(C3399<>\"\",+B3398+1,\"\")","v":""},null,{"$f":"IF(ISERROR(VLOOKUP(#REF!,localizacao,2,FALSE)),\"\",VLOOKUP(#REF!,localizacao,2,FALSE))","v":""},null,"",null,""]
[null,"",null,{"$f":"IF(ISERROR(VLOOKUP(#REF!,localizacao,2,FALSE)),\"\",VLOOKUP(#REF!,localizacao,2,FALSE))","v":""},null,"",null,""]
[null,"",null,{"$f":"IF(ISERROR(VLOOKUP(#REF!,localizacao,2,FALSE)),\"\",VLOOKUP(#REF!,localizacao,2,FALSE))","v":""},null,"",null,""]
[null,"",null,{"$f":"IF(ISERROR(VLOOKUP(#REF!,localizacao,2,FALSE)),\"\",VLOOKUP(#REF!,localizacao,2,FALSE))","v":""},null,"",null,""]
[null,"",null,{"$f":"IF(ISERROR(VLOOKUP(#REF!,localizacao,2,FALSE)),\"\",VLOOKUP(#REF!,localizacao,2,FALSE))","v":""},null,"",null,""]
[null,"",null,{"$f":"IF(ISERROR(VLOOKUP(#REF!,localizacao,2,FALSE)),\"\",VLOOKUP(#REF!,localizacao,2,FALSE))","v":""},null,"",null,""]
[null,"",null,{"$f":"IF(ISERROR(VLOOKUP(#REF!,localizacao,2,FALSE)),\"\",VLOOKUP(#REF!,localizacao,2,FALSE))","v":""},null,"",null,""]
[null,"",null,{"$f":"IF(ISERROR(VLOOKUP(#REF!,localizacao,2,FALSE)),\"\",VLOOKUP(#REF!,localizacao,2,FALSE))","v":""},null,"",null,""]
[null,"",null,{"$f":"IF(ISERROR(VLOOKUP(#REF!,localizacao,2,FALSE)),\"\",VLOOKUP(#REF!,localizacao,2,FALSE))","v":""},null,"",null,""]
[null,"",null,{"$f":"IF(ISERROR(VLOOKUP(#REF!,localizacao,2,FALSE)),\"\",VLOOKUP(#REF!,localizacao,2,FALSE))","v":""},null,"",null,""]
[null,"",null,{"$f":"IF(ISERROR(VLOOKUP(#REF!,localizacao,2,FALSE)),\"\",VLOOKUP(#REF!,localizacao,2,FALSE))","v":""},null,"",null,""]
[null,"",null,{"$f":"IF(ISERROR(VLOOKUP(#REF!,localizacao,2,FALSE)),\"\",VLOOKUP(#REF!,localizacao,2,FALSE))","v":""},null,"",null,""]
[null,"",null,{"$f":"IF(ISERROR(VLOOKUP(#REF!,localizacao,2,FALSE)),\"\",VLOOKUP(#REF!,localizacao,2,FALSE))","v":""},null,"",null,""]
[null,"",null,{"$f":"IF(ISERROR(VLOOKUP(#REF!,localizacao,2,FALSE)),\"\",VLOOKUP(#REF!,localizacao,2,FALSE))","v":""},null,"",null,""]
[null,"",null,{"$f":"IF(ISERROR(VLOOKUP(#REF!,localizacao,2,FALSE)),\"\",VLOOKUP(#REF!,localizacao,2,FALSE))","v":""},null,"",null,""]
[null,"",null,{"$f":"IF(ISERROR(VLOOKUP(#REF!,localizacao,2,FALSE)),\"\",VLOOKUP(#REF!,localizacao,2,FALSE))","v":""},null,"",null,""]
[null,"",null,{"$f":"IF(ISERROR(VLOOKUP(#REF!,localizacao,2,FALSE)),\"\",VLOOKUP(#REF!,localizacao,2,FALSE))","v":""},null,"",null,""]
[null,"",null,{"$f":"IF(ISERROR(VLOOKUP(#REF!,localizacao,2,FALSE)),\"\",VLOOKUP(#REF!,localizacao,2,FALSE))","v":""},null,"",null,""]
[null,"",null,{"$f":"IF(ISERROR(VLOOKUP(#REF!,localizacao,2,FALSE)),\"\",VLOOKUP(#REF!,localizacao,2,FALSE))","v":""},null,"",null,""]
[null,"",null,{"$f":"IF(ISERROR(VLOOKUP(#REF!,localizacao,2,FALSE)),\"\",VLOOKUP(#REF!,localizacao,2,FALSE))","v":""},null,"",null,""]
[null,"",null,{"$f":"IF(ISERROR(VLOOKUP(#REF!,localizacao,2,FALSE)),\"\",VLOOKUP(#REF!,localizacao,2,FALSE))","v":""},null,"",null,""]
[null,"",null,{"$f":"IF(ISERROR(VLOOKUP(#REF!,localizacao,2,FALSE)),\"\",VLOOKUP(#REF!,localizacao,2,FALSE))","v":""},null,"",null,""]
[null,"",null,{"$f":"IF(ISERROR(VLOOKUP(#REF!,localizacao,2,FALSE)),\"\",VLOOKUP(#REF!,localizacao,2,FALSE))","v":""},null,"",null,""]
[null,"",null,{"$f":"IF(ISERROR(VLOOKUP(#REF!,localizacao,2,FALSE)),\"\",VLOOKUP(#REF!,localizacao,2,FALSE))","v":""},null,"",null,""]
[null,"",null,{"$f":"IF(ISERROR(VLOOKUP(#REF!,localizacao,2,FALSE)),\"\",VLOOKUP(#REF!,localizacao,2,FALSE))","v":""},null,"",null,""]
[null,"",null,{"$f":"IF(ISERROR(VLOOKUP(#REF!,localizacao,2,FALSE)),\"\",VLOOKUP(#REF!,localizacao,2,FALSE))","v":""},null,"",null,""]
[null,"",null,{"$f":"IF(ISERROR(VLOOKUP(#REF!,localizacao,2,FALSE)),\"\",VLOOKUP(#REF!,localizacao,2,FALSE))","v":""},null,"",null,""]
[null,"",null,{"$f":"IF(ISERROR(VLOOKUP(#REF!,localizacao,2,FALSE)),\"\",VLOOKUP(#REF!,localizacao,2,FALSE))","v":""},null,"",null,""]
[null,"",null,{"$f":"IF(ISERROR(VLOOKUP(#REF!,localizacao,2,FALSE)),\"\",VLOOKUP(#REF!,localizacao,2,FALSE))","v":""},null,"",null,""]
[null,"",null,{"$f":"IF(ISERROR(VLOOKUP(#REF!,localizacao,2,FALSE)),\"\",VLOOKUP(#REF!,localizacao,2,FALSE))","v":""},null,"",null,""]
[null,"",null,{"$f":"IF(ISERROR(VLOOKUP(#REF!,localizacao,2,FALSE)),\"\",VLOOKUP(#REF!,localizacao,2,FALSE))","v":""},null,"",null,""]
[null,"",null,{"$f":"IF(ISERROR(VLOOKUP(#REF!,localizacao,2,FALSE)),\"\",VLOOKUP(#REF!,localizacao,2,FALSE))","v":""},null,"",null,""]
[null,"",null,{"$f":"IF(ISERROR(VLOOKUP(#REF!,localizacao,2,FALSE)),\"\",VLOOKUP(#REF!,localizacao,2,FALSE))","v":""},null,"",null,""]
[null,"",null,{"$f":"IF(ISERROR(VLOOKUP(#REF!,localizacao,2,FALSE)),\"\",VLOOKUP(#REF!,localizacao,2,FALSE))","v":""},null,"",null,""]
[null,"",null,{"$f":"IF(ISERROR(VLOOKUP(#REF!,localizacao,2,FALSE)),\"\",VLOOKUP(#REF!,localizacao,2,FALSE))","v":""},null,"",null,""]
[null,"",null,{"$f":"IF(ISERROR(VLOOKUP(#REF!,localizacao,2,FALSE)),\"\",VLOOKUP(#REF!,localizacao,2,FALSE))","v":""},null,"",null,""]
[null,"",null,{"$f":"IF(ISERROR(VLOOKUP(#REF!,localizacao,2,FALSE)),\"\",VLOOKUP(#REF!,localizacao,2,FALSE))","v":""},null,"",null,""]
[null,"",null,{"$f":"IF(ISERROR(VLOOKUP(#REF!,localizacao,2,FALSE)),\"\",VLOOKUP(#REF!,localizacao,2,FALSE))","v":""},null,"",null,""]
[null,"",null,{"$f":"IF(ISERROR(VLOOKUP(#REF!,localizacao,2,FALSE)),\"\",VLOOKUP(#REF!,localizacao,2,FALSE))","v":""},null,"",null,""]
[null,"",null,{"$f":"IF(ISERROR(VLOOKUP(#REF!,localizacao,2,FALSE)),\"\",VLOOKUP(#REF!,localizacao,2,FALSE))","v":""},null,"",null,""]
[null,"",null,{"$f":"IF(ISERROR(VLOOKUP(#REF!,localizacao,2,FALSE)),\"\",VLOOKUP(#REF!,localizacao,2,FALSE))","v":""},null,"",null,""]
[null,"",null,{"$f":"IF(ISERROR(VLOOKUP(#REF!,localizacao,2,FALSE)),\"\",VLOOKUP(#REF!,localizacao,2,FALSE))","v":""},null,"",null,""]
[null,"",null,{"$f":"IF(ISERROR(VLOOKUP(#REF!,localizacao,2,FALSE)),\"\",VLOOKUP(#REF!,localizacao,2,FALSE))","v":""},null,"",null,""]
[null,"",null,{"$f":"IF(ISERROR(VLOOKUP(#REF!,localizacao,2,FALSE)),\"\",VLOOKUP(#REF!,localizacao,2,FALSE))","v":""},null,"",null,""]
[null,"",null,{"$f":"IF(ISERROR(VLOOKUP(#REF!,localizacao,2,FALSE)),\"\",VLOOKUP(#REF!,localizacao,2,FALSE))","v":""},null,"",null,""]
[null,"",null,{"$f":"IF(ISERROR(VLOOKUP(#REF!,localizacao,2,FALSE)),\"\",VLOOKUP(#REF!,localizacao,2,FALSE))","v":""},null,"",null,""]
[null,"",null,{"$f":"IF(ISERROR(VLOOKUP(#REF!,localizacao,2,FALSE)),\"\",VLOOKUP(#REF!,localizacao,2,FALSE))","v":""},null,"",null,""]
[null,"",null,{"$f":"IF(ISERROR(VLOOKUP(#REF!,localizacao,2,FALSE)),\"\",VLOOKUP(#REF!,localizacao,2,FALSE))","v":""},null,"",null,""]
[null,"",null,{"$f":"IF(ISERROR(VLOOKUP(#REF!,localizacao,2,FALSE)),\"\",VLOOKUP(#REF!,localizacao,2,FALSE))","v":""},null,"",null,""]
[null,"",null,{"$f":"IF(ISERROR(VLOOKUP(#REF!,localizacao,2,FALSE)),\"\",VLOOKUP(#REF!,localizacao,2,FALSE))","v":""},null,"",null,""]
[null,"",null,{"$f":"IF(ISERROR(VLOOKUP(#REF!,localizacao,2,FALSE)),\"\",VLOOKUP(#REF!,localizacao,2,FALSE))","v":""},null,"",null,""]
[null,"",null,{"$f":"IF(ISERROR(VLOOKUP(#REF!,localizacao,2,FALSE)),\"\",VLOOKUP(#REF!,localizacao,2,FALSE))","v":""},null,"",null,""]
[null,"",null,{"$f":"IF(ISERROR(VLOOKUP(#REF!,localizacao,2,FALSE)),\"\",VLOOKUP(#REF!,localizacao,2,FALSE))","v":""},null,"",null,""]
[null,"",null,{"$f":"IF(ISERROR(VLOOKUP(#REF!,localizacao,2,FALSE)),\"\",VLOOKUP(#REF!,localizacao,2,FALSE))","v":""},null,"",null,""]
[null,"",null,{"$f":"IF(ISERROR(VLOOKUP(#REF!,localizacao,2,FALSE)),\"\",VLOOKUP(#REF!,localizacao,2,FALSE))","v":""},null,"",null,""]
[null,"",null,{"$f":"IF(ISERROR(VLOOKUP(#REF!,localizacao,2,FALSE)),\"\",VLOOKUP(#REF!,localizacao,2,FALSE))","v":""},null,"",null,""]
[null,"",null,{"$f":"IF(ISERROR(VLOOKUP(#REF!,localizacao,2,FALSE)),\"\",VLOOKUP(#REF!,localizacao,2,FALSE))","v":""},null,"",null,""]
[null,"",null,{"$f":"IF(ISERROR(VLOOKUP(#REF!,localizacao,2,FALSE)),\"\",VLOOKUP(#REF!,localizacao,2,FALSE))","v":""},null,"",null,""]
[null,"",null,{"$f":"IF(ISERROR(VLOOKUP(#REF!,localizacao,2,FALSE)),\"\",VLOOKUP(#REF!,localizacao,2,FALSE))","v":""},null,"",null,""]
[null,"",null,{"$f":"IF(ISERROR(VLOOKUP(#REF!,localizacao,2,FALSE)),\"\",VLOOKUP(#REF!,localizacao,2,FALSE))","v":""},null,"",null,""]
[null,"",null,{"$f":"IF(ISERROR(VLOOKUP(#REF!,localizacao,2,FALSE)),\"\",VLOOKUP(#REF!,localizacao,2,FALSE))","v":""},null,"",null,""]
[null,"",null,{"$f":"IF(ISERROR(VLOOKUP(#REF!,localizacao,2,FALSE)),\"\",VLOOKUP(#REF!,localizacao,2,FALSE))","v":""},null,"",null,""]
[null,"",null,{"$f":"IF(ISERROR(VLOOKUP(#REF!,localizacao,2,FALSE)),\"\",VLOOKUP(#REF!,localizacao,2,FALSE))","v":""},null,"",null,""]
[null,"",null,{"$f":"IF(ISERROR(VLOOKUP(#REF!,localizacao,2,FALSE)),\"\",VLOOKUP(#REF!,localizacao,2,FALSE))","v":""},null,{"$f":"IF(ISERROR(VLOOKUP(G3462,componentes,2,FALSE)),\"\",VLOOKUP(G3462,componentes,2,FALSE))","v":""},null,{"$f":"IF(ISERROR(VLOOKUP(I3462,rubricas,2,FALSE)),\"\",VLOOKUP(I3462,rubricas,2,FALSE))","v":""}]
[null,{"$f":"IF(C3463<>\"\",+B3462+1,\"\")","v":""},null,{"$f":"IF(ISERROR(VLOOKUP(#REF!,localizacao,2,FALSE)),\"\",VLOOKUP(#REF!,localizacao,2,FALSE))","v":""},null,"",null,""]
[null,"",null,{"$f":"IF(ISERROR(VLOOKUP(#REF!,localizacao,2,FALSE)),\"\",VLOOKUP(#REF!,localizacao,2,FALSE))","v":""},null,"",null,""]
[null,"",null,{"$f":"IF(ISERROR(VLOOKUP(#REF!,localizacao,2,FALSE)),\"\",VLOOKUP(#REF!,localizacao,2,FALSE))","v":""},null,"",null,""]
[null,"",null,{"$f":"IF(ISERROR(VLOOKUP(#REF!,localizacao,2,FALSE)),\"\",VLOOKUP(#REF!,localizacao,2,FALSE))","v":""},null,"",null,""]
[null,"",null,{"$f":"IF(ISERROR(VLOOKUP(#REF!,localizacao,2,FALSE)),\"\",VLOOKUP(#REF!,localizacao,2,FALSE))","v":""},null,"",null,""]
[null,"",null,{"$f":"IF(ISERROR(VLOOKUP(#REF!,localizacao,2,FALSE)),\"\",VLOOKUP(#REF!,localizacao,2,FALSE))","v":""},null,"",null,""]
[null,"",null,{"$f":"IF(ISERROR(VLOOKUP(#REF!,localizacao,2,FALSE)),\"\",VLOOKUP(#REF!,localizacao,2,FALSE))","v":""},null,"",null,""]
[null,"",null,{"$f":"IF(ISERROR(VLOOKUP(#REF!,localizacao,2,FALSE)),\"\",VLOOKUP(#REF!,localizacao,2,FALSE))","v":""},null,"",null,""]
[null,"",null,{"$f":"IF(ISERROR(VLOOKUP(#REF!,localizacao,2,FALSE)),\"\",VLOOKUP(#REF!,localizacao,2,FALSE))","v":""},null,"",null,""]
[null,"",null,{"$f":"IF(ISERROR(VLOOKUP(#REF!,localizacao,2,FALSE)),\"\",VLOOKUP(#REF!,localizacao,2,FALSE))","v":""},null,"",null,""]
[null,"",null,{"$f":"IF(ISERROR(VLOOKUP(#REF!,localizacao,2,FALSE)),\"\",VLOOKUP(#REF!,localizacao,2,FALSE))","v":""},null,"",null,""]
[null,"",null,{"$f":"IF(ISERROR(VLOOKUP(#REF!,localizacao,2,FALSE)),\"\",VLOOKUP(#REF!,localizacao,2,FALSE))","v":""},null,"",null,""]
[null,"",null,{"$f":"IF(ISERROR(VLOOKUP(#REF!,localizacao,2,FALSE)),\"\",VLOOKUP(#REF!,localizacao,2,FALSE))","v":""},null,"",null,""]
[null,"",null,{"$f":"IF(ISERROR(VLOOKUP(#REF!,localizacao,2,FALSE)),\"\",VLOOKUP(#REF!,localizacao,2,FALSE))","v":""},null,"",null,""]
[null,"",null,{"$f":"IF(ISERROR(VLOOKUP(#REF!,localizacao,2,FALSE)),\"\",VLOOKUP(#REF!,localizacao,2,FALSE))","v":""},null,"",null,""]
[null,"",null,{"$f":"IF(ISERROR(VLOOKUP(#REF!,localizacao,2,FALSE)),\"\",VLOOKUP(#REF!,localizacao,2,FALSE))","v":""},null,"",null,""]
[null,"",null,{"$f":"IF(ISERROR(VLOOKUP(#REF!,localizacao,2,FALSE)),\"\",VLOOKUP(#REF!,localizacao,2,FALSE))","v":""},null,"",null,""]
[null,"",null,{"$f":"IF(ISERROR(VLOOKUP(#REF!,localizacao,2,FALSE)),\"\",VLOOKUP(#REF!,localizacao,2,FALSE))","v":""},null,"",null,""]
[null,"",null,{"$f":"IF(ISERROR(VLOOKUP(#REF!,localizacao,2,FALSE)),\"\",VLOOKUP(#REF!,localizacao,2,FALSE))","v":""},null,"",null,""]
[null,"",null,{"$f":"IF(ISERROR(VLOOKUP(#REF!,localizacao,2,FALSE)),\"\",VLOOKUP(#REF!,localizacao,2,FALSE))","v":""},null,"",null,""]
[null,"",null,{"$f":"IF(ISERROR(VLOOKUP(#REF!,localizacao,2,FALSE)),\"\",VLOOKUP(#REF!,localizacao,2,FALSE))","v":""},null,"",null,""]
[null,"",null,{"$f":"IF(ISERROR(VLOOKUP(#REF!,localizacao,2,FALSE)),\"\",VLOOKUP(#REF!,localizacao,2,FALSE))","v":""},null,"",null,""]
[null,"",null,{"$f":"IF(ISERROR(VLOOKUP(#REF!,localizacao,2,FALSE)),\"\",VLOOKUP(#REF!,localizacao,2,FALSE))","v":""},null,"",null,""]
[null,"",null,{"$f":"IF(ISERROR(VLOOKUP(#REF!,localizacao,2,FALSE)),\"\",VLOOKUP(#REF!,localizacao,2,FALSE))","v":""},null,"",null,""]
[null,"",null,{"$f":"IF(ISERROR(VLOOKUP(#REF!,localizacao,2,FALSE)),\"\",VLOOKUP(#REF!,localizacao,2,FALSE))","v":""},null,"",null,""]
[null,"",null,{"$f":"IF(ISERROR(VLOOKUP(#REF!,localizacao,2,FALSE)),\"\",VLOOKUP(#REF!,localizacao,2,FALSE))","v":""},null,"",null,""]
[null,"",null,{"$f":"IF(ISERROR(VLOOKUP(#REF!,localizacao,2,FALSE)),\"\",VLOOKUP(#REF!,localizacao,2,FALSE))","v":""},null,"",null,""]
[null,"",null,{"$f":"IF(ISERROR(VLOOKUP(#REF!,localizacao,2,FALSE)),\"\",VLOOKUP(#REF!,localizacao,2,FALSE))","v":""},null,"",null,""]
[null,"",null,{"$f":"IF(ISERROR(VLOOKUP(#REF!,localizacao,2,FALSE)),\"\",VLOOKUP(#REF!,localizacao,2,FALSE))","v":""},null,"",null,""]
[null,"",null,{"$f":"IF(ISERROR(VLOOKUP(#REF!,localizacao,2,FALSE)),\"\",VLOOKUP(#REF!,localizacao,2,FALSE))","v":""},null,"",null,""]
[null,"",null,{"$f":"IF(ISERROR(VLOOKUP(#REF!,localizacao,2,FALSE)),\"\",VLOOKUP(#REF!,localizacao,2,FALSE))","v":""},null,"",null,""]
[null,"",null,{"$f":"IF(ISERROR(VLOOKUP(#REF!,localizacao,2,FALSE)),\"\",VLOOKUP(#REF!,localizacao,2,FALSE))","v":""},null,"",null,""]
[null,"",null,{"$f":"IF(ISERROR(VLOOKUP(#REF!,localizacao,2,FALSE)),\"\",VLOOKUP(#REF!,localizacao,2,FALSE))","v":""},null,"",null,""]
[null,"",null,{"$f":"IF(ISERROR(VLOOKUP(#REF!,localizacao,2,FALSE)),\"\",VLOOKUP(#REF!,localizacao,2,FALSE))","v":""},null,"",null,""]
[null,"",null,{"$f":"IF(ISERROR(VLOOKUP(#REF!,localizacao,2,FALSE)),\"\",VLOOKUP(#REF!,localizacao,2,FALSE))","v":""},null,"",null,""]
[null,"",null,{"$f":"IF(ISERROR(VLOOKUP(#REF!,localizacao,2,FALSE)),\"\",VLOOKUP(#REF!,localizacao,2,FALSE))","v":""},null,"",null,""]
[null,"",null,{"$f":"IF(ISERROR(VLOOKUP(#REF!,localizacao,2,FALSE)),\"\",VLOOKUP(#REF!,localizacao,2,FALSE))","v":""},null,"",null,""]
[null,"",null,{"$f":"IF(ISERROR(VLOOKUP(#REF!,localizacao,2,FALSE)),\"\",VLOOKUP(#REF!,localizacao,2,FALSE))","v":""},null,"",null,""]
[null,"",null,{"$f":"IF(ISERROR(VLOOKUP(#REF!,localizacao,2,FALSE)),\"\",VLOOKUP(#REF!,localizacao,2,FALSE))","v":""},null,"",null,""]
[null,"",null,{"$f":"IF(ISERROR(VLOOKUP(#REF!,localizacao,2,FALSE)),\"\",VLOOKUP(#REF!,localizacao,2,FALSE))","v":""},null,"",null,""]
[null,"",null,{"$f":"IF(ISERROR(VLOOKUP(#REF!,localizacao,2,FALSE)),\"\",VLOOKUP(#REF!,localizacao,2,FALSE))","v":""},null,"",null,""]
[null,"",null,{"$f":"IF(ISERROR(VLOOKUP(#REF!,localizacao,2,FALSE)),\"\",VLOOKUP(#REF!,localizacao,2,FALSE))","v":""},null,"",null,""]
[null,"",null,{"$f":"IF(ISERROR(VLOOKUP(#REF!,localizacao,2,FALSE)),\"\",VLOOKUP(#REF!,localizacao,2,FALSE))","v":""},null,"",null,""]
[null,"",null,{"$f":"IF(ISERROR(VLOOKUP(#REF!,localizacao,2,FALSE)),\"\",VLOOKUP(#REF!,localizacao,2,FALSE))","v":""},null,"",null,""]
[null,"",null,{"$f":"IF(ISERROR(VLOOKUP(#REF!,localizacao,2,FALSE)),\"\",VLOOKUP(#REF!,localizacao,2,FALSE))","v":""},null,"",null,""]
[null,"",null,{"$f":"IF(ISERROR(VLOOKUP(#REF!,localizacao,2,FALSE)),\"\",VLOOKUP(#REF!,localizacao,2,FALSE))","v":""},null,"",null,""]
[null,"",null,{"$f":"IF(ISERROR(VLOOKUP(#REF!,localizacao,2,FALSE)),\"\",VLOOKUP(#REF!,localizacao,2,FALSE))","v":""},null,"",null,""]
[null,"",null,{"$f":"IF(ISERROR(VLOOKUP(#REF!,localizacao,2,FALSE)),\"\",VLOOKUP(#REF!,localizacao,2,FALSE))","v":""},null,"",null,""]
[null,"",null,{"$f":"IF(ISERROR(VLOOKUP(#REF!,localizacao,2,FALSE)),\"\",VLOOKUP(#REF!,localizacao,2,FALSE))","v":""},null,"",null,""]
[null,"",null,{"$f":"IF(ISERROR(VLOOKUP(#REF!,localizacao,2,FALSE)),\"\",VLOOKUP(#REF!,localizacao,2,FALSE))","v":""},null,"",null,""]
[null,"",null,{"$f":"IF(ISERROR(VLOOKUP(#REF!,localizacao,2,FALSE)),\"\",VLOOKUP(#REF!,localizacao,2,FALSE))","v":""},null,"",null,""]
[null,"",null,{"$f":"IF(ISERROR(VLOOKUP(#REF!,localizacao,2,FALSE)),\"\",VLOOKUP(#REF!,localizacao,2,FALSE))","v":""},null,"",null,""]
[null,"",null,{"$f":"IF(ISERROR(VLOOKUP(#REF!,localizacao,2,FALSE)),\"\",VLOOKUP(#REF!,localizacao,2,FALSE))","v":""},null,"",null,""]
[null,"",null,{"$f":"IF(ISERROR(VLOOKUP(#REF!,localizacao,2,FALSE)),\"\",VLOOKUP(#REF!,localizacao,2,FALSE))","v":""},null,"",null,""]
[null,"",null,{"$f":"IF(ISERROR(VLOOKUP(#REF!,localizacao,2,FALSE)),\"\",VLOOKUP(#REF!,localizacao,2,FALSE))","v":""},null,"",null,""]
[null,"",null,{"$f":"IF(ISERROR(VLOOKUP(#REF!,localizacao,2,FALSE)),\"\",VLOOKUP(#REF!,localizacao,2,FALSE))","v":""},null,"",null,""]
[null,"",null,{"$f":"IF(ISERROR(VLOOKUP(#REF!,localizacao,2,FALSE)),\"\",VLOOKUP(#REF!,localizacao,2,FALSE))","v":""},null,"",null,""]
[null,"",null,{"$f":"IF(ISERROR(VLOOKUP(#REF!,localizacao,2,FALSE)),\"\",VLOOKUP(#REF!,localizacao,2,FALSE))","v":""},null,"",null,""]
[null,"",null,{"$f":"IF(ISERROR(VLOOKUP(#REF!,localizacao,2,FALSE)),\"\",VLOOKUP(#REF!,localizacao,2,FALSE))","v":""},null,"",null,""]
[null,"",null,{"$f":"IF(ISERROR(VLOOKUP(#REF!,localizacao,2,FALSE)),\"\",VLOOKUP(#REF!,localizacao,2,FALSE))","v":""},null,"",null,""]
[null,"",null,{"$f":"IF(ISERROR(VLOOKUP(#REF!,localizacao,2,FALSE)),\"\",VLOOKUP(#REF!,localizacao,2,FALSE))","v":""},null,"",null,""]
[null,"",null,{"$f":"IF(ISERROR(VLOOKUP(#REF!,localizacao,2,FALSE)),\"\",VLOOKUP(#REF!,localizacao,2,FALSE))","v":""},null,"",null,""]
[null,"",null,{"$f":"IF(ISERROR(VLOOKUP(#REF!,localizacao,2,FALSE)),\"\",VLOOKUP(#REF!,localizacao,2,FALSE))","v":""},null,"",null,""]
[null,"",null,{"$f":"IF(ISERROR(VLOOKUP(#REF!,localizacao,2,FALSE)),\"\",VLOOKUP(#REF!,localizacao,2,FALSE))","v":""},null,{"$f":"IF(ISERROR(VLOOKUP(G3526,componentes,2,FALSE)),\"\",VLOOKUP(G3526,componentes,2,FALSE))","v":""},null,{"$f":"IF(ISERROR(VLOOKUP(I3526,rubricas,2,FALSE)),\"\",VLOOKUP(I3526,rubricas,2,FALSE))","v":""}]
[null,{"$f":"IF(C3527<>\"\",+B3526+1,\"\")","v":""},null,{"$f":"IF(ISERROR(VLOOKUP(#REF!,localizacao,2,FALSE)),\"\",VLOOKUP(#REF!,localizacao,2,FALSE))","v":""},null,"",null,""]
[null,"",null,{"$f":"IF(ISERROR(VLOOKUP(#REF!,localizacao,2,FALSE)),\"\",VLOOKUP(#REF!,localizacao,2,FALSE))","v":""},null,"",null,""]
[null,"",null,{"$f":"IF(ISERROR(VLOOKUP(#REF!,localizacao,2,FALSE)),\"\",VLOOKUP(#REF!,localizacao,2,FALSE))","v":""},null,"",null,""]
[null,"",null,{"$f":"IF(ISERROR(VLOOKUP(#REF!,localizacao,2,FALSE)),\"\",VLOOKUP(#REF!,localizacao,2,FALSE))","v":""},null,"",null,""]
[null,"",null,{"$f":"IF(ISERROR(VLOOKUP(#REF!,localizacao,2,FALSE)),\"\",VLOOKUP(#REF!,localizacao,2,FALSE))","v":""},null,"",null,""]
[null,"",null,{"$f":"IF(ISERROR(VLOOKUP(#REF!,localizacao,2,FALSE)),\"\",VLOOKUP(#REF!,localizacao,2,FALSE))","v":""},null,"",null,""]
[null,"",null,{"$f":"IF(ISERROR(VLOOKUP(#REF!,localizacao,2,FALSE)),\"\",VLOOKUP(#REF!,localizacao,2,FALSE))","v":""},null,"",null,""]
[null,"",null,{"$f":"IF(ISERROR(VLOOKUP(#REF!,localizacao,2,FALSE)),\"\",VLOOKUP(#REF!,localizacao,2,FALSE))","v":""},null,"",null,""]
[null,"",null,{"$f":"IF(ISERROR(VLOOKUP(#REF!,localizacao,2,FALSE)),\"\",VLOOKUP(#REF!,localizacao,2,FALSE))","v":""},null,"",null,""]
[null,"",null,{"$f":"IF(ISERROR(VLOOKUP(#REF!,localizacao,2,FALSE)),\"\",VLOOKUP(#REF!,localizacao,2,FALSE))","v":""},null,"",null,""]
[null,"",null,{"$f":"IF(ISERROR(VLOOKUP(#REF!,localizacao,2,FALSE)),\"\",VLOOKUP(#REF!,localizacao,2,FALSE))","v":""},null,"",null,""]
[null,"",null,{"$f":"IF(ISERROR(VLOOKUP(#REF!,localizacao,2,FALSE)),\"\",VLOOKUP(#REF!,localizacao,2,FALSE))","v":""},null,"",null,""]
[null,"",null,{"$f":"IF(ISERROR(VLOOKUP(#REF!,localizacao,2,FALSE)),\"\",VLOOKUP(#REF!,localizacao,2,FALSE))","v":""},null,"",null,""]
[null,"",null,{"$f":"IF(ISERROR(VLOOKUP(#REF!,localizacao,2,FALSE)),\"\",VLOOKUP(#REF!,localizacao,2,FALSE))","v":""},null,"",null,""]
[null,"",null,{"$f":"IF(ISERROR(VLOOKUP(#REF!,localizacao,2,FALSE)),\"\",VLOOKUP(#REF!,localizacao,2,FALSE))","v":""},null,"",null,""]
[null,"",null,{"$f":"IF(ISERROR(VLOOKUP(#REF!,localizacao,2,FALSE)),\"\",VLOOKUP(#REF!,localizacao,2,FALSE))","v":""},null,"",null,""]
[null,"",null,{"$f":"IF(ISERROR(VLOOKUP(#REF!,localizacao,2,FALSE)),\"\",VLOOKUP(#REF!,localizacao,2,FALSE))","v":""},null,"",null,""]
[null,"",null,{"$f":"IF(ISERROR(VLOOKUP(#REF!,localizacao,2,FALSE)),\"\",VLOOKUP(#REF!,localizacao,2,FALSE))","v":""},null,"",null,""]
[null,"",null,{"$f":"IF(ISERROR(VLOOKUP(#REF!,localizacao,2,FALSE)),\"\",VLOOKUP(#REF!,localizacao,2,FALSE))","v":""},null,"",null,""]
[null,"",null,{"$f":"IF(ISERROR(VLOOKUP(#REF!,localizacao,2,FALSE)),\"\",VLOOKUP(#REF!,localizacao,2,FALSE))","v":""},null,"",null,""]
[null,"",null,{"$f":"IF(ISERROR(VLOOKUP(#REF!,localizacao,2,FALSE)),\"\",VLOOKUP(#REF!,localizacao,2,FALSE))","v":""},null,"",null,""]
[null,"",null,{"$f":"IF(ISERROR(VLOOKUP(#REF!,localizacao,2,FALSE)),\"\",VLOOKUP(#REF!,localizacao,2,FALSE))","v":""},null,"",null,""]
[null,"",null,{"$f":"IF(ISERROR(VLOOKUP(#REF!,localizacao,2,FALSE)),\"\",VLOOKUP(#REF!,localizacao,2,FALSE))","v":""},null,"",null,""]
[null,"",null,{"$f":"IF(ISERROR(VLOOKUP(#REF!,localizacao,2,FALSE)),\"\",VLOOKUP(#REF!,localizacao,2,FALSE))","v":""},null,"",null,""]
[null,"",null,{"$f":"IF(ISERROR(VLOOKUP(#REF!,localizacao,2,FALSE)),\"\",VLOOKUP(#REF!,localizacao,2,FALSE))","v":""},null,"",null,""]
[null,"",null,{"$f":"IF(ISERROR(VLOOKUP(#REF!,localizacao,2,FALSE)),\"\",VLOOKUP(#REF!,localizacao,2,FALSE))","v":""},null,"",null,""]
[null,"",null,{"$f":"IF(ISERROR(VLOOKUP(#REF!,localizacao,2,FALSE)),\"\",VLOOKUP(#REF!,localizacao,2,FALSE))","v":""},null,"",null,""]
[null,"",null,{"$f":"IF(ISERROR(VLOOKUP(#REF!,localizacao,2,FALSE)),\"\",VLOOKUP(#REF!,localizacao,2,FALSE))","v":""},null,"",null,""]
[null,"",null,{"$f":"IF(ISERROR(VLOOKUP(#REF!,localizacao,2,FALSE)),\"\",VLOOKUP(#REF!,localizacao,2,FALSE))","v":""},null,"",null,""]
[null,"",null,{"$f":"IF(ISERROR(VLOOKUP(#REF!,localizacao,2,FALSE)),\"\",VLOOKUP(#REF!,localizacao,2,FALSE))","v":""},null,"",null,""]
[null,"",null,{"$f":"IF(ISERROR(VLOOKUP(#REF!,localizacao,2,FALSE)),\"\",VLOOKUP(#REF!,localizacao,2,FALSE))","v":""},null,"",null,""]
[null,"",null,{"$f":"IF(ISERROR(VLOOKUP(#REF!,localizacao,2,FALSE)),\"\",VLOOKUP(#REF!,localizacao,2,FALSE))","v":""},null,"",null,""]
[null,"",null,{"$f":"IF(ISERROR(VLOOKUP(#REF!,localizacao,2,FALSE)),\"\",VLOOKUP(#REF!,localizacao,2,FALSE))","v":""},null,"",null,""]
[null,"",null,{"$f":"IF(ISERROR(VLOOKUP(#REF!,localizacao,2,FALSE)),\"\",VLOOKUP(#REF!,localizacao,2,FALSE))","v":""},null,"",null,""]
[null,"",null,{"$f":"IF(ISERROR(VLOOKUP(#REF!,localizacao,2,FALSE)),\"\",VLOOKUP(#REF!,localizacao,2,FALSE))","v":""},null,"",null,""]
[null,"",null,{"$f":"IF(ISERROR(VLOOKUP(#REF!,localizacao,2,FALSE)),\"\",VLOOKUP(#REF!,localizacao,2,FALSE))","v":""},null,"",null,""]
[null,"",null,{"$f":"IF(ISERROR(VLOOKUP(#REF!,localizacao,2,FALSE)),\"\",VLOOKUP(#REF!,localizacao,2,FALSE))","v":""},null,"",null,""]
[null,"",null,{"$f":"IF(ISERROR(VLOOKUP(#REF!,localizacao,2,FALSE)),\"\",VLOOKUP(#REF!,localizacao,2,FALSE))","v":""},null,"",null,""]
[null,"",null,{"$f":"IF(ISERROR(VLOOKUP(#REF!,localizacao,2,FALSE)),\"\",VLOOKUP(#REF!,localizacao,2,FALSE))","v":""},null,"",null,""]
[null,"",null,{"$f":"IF(ISERROR(VLOOKUP(#REF!,localizacao,2,FALSE)),\"\",VLOOKUP(#REF!,localizacao,2,FALSE))","v":""},null,"",null,""]
[null,"",null,{"$f":"IF(ISERROR(VLOOKUP(#REF!,localizacao,2,FALSE)),\"\",VLOOKUP(#REF!,localizacao,2,FALSE))","v":""},null,"",null,""]
[null,"",null,{"$f":"IF(ISERROR(VLOOKUP(#REF!,localizacao,2,FALSE)),\"\",VLOOKUP(#REF!,localizacao,2,FALSE))","v":""},null,"",null,""]
[null,"",null,{"$f":"IF(ISERROR(VLOOKUP(#REF!,localizacao,2,FALSE)),\"\",VLOOKUP(#REF!,localizacao,2,FALSE))","v":""},null,"",null,""]
[null,"",null,{"$f":"IF(ISERROR(VLOOKUP(#REF!,localizacao,2,FALSE)),\"\",VLOOKUP(#REF!,localizacao,2,FALSE))","v":""},null,"",null,""]
[null,"",null,{"$f":"IF(ISERROR(VLOOKUP(#REF!,localizacao,2,FALSE)),\"\",VLOOKUP(#REF!,localizacao,2,FALSE))","v":""},null,"",null,""]
[null,"",null,{"$f":"IF(ISERROR(VLOOKUP(#REF!,localizacao,2,FALSE)),\"\",VLOOKUP(#REF!,localizacao,2,FALSE))","v":""},null,"",null,""]
[null,"",null,{"$f":"IF(ISERROR(VLOOKUP(#REF!,localizacao,2,FALSE)),\"\",VLOOKUP(#REF!,localizacao,2,FALSE))","v":""},null,"",null,""]
[null,"",null,{"$f":"IF(ISERROR(VLOOKUP(#REF!,localizacao,2,FALSE)),\"\",VLOOKUP(#REF!,localizacao,2,FALSE))","v":""},null,"",null,""]
[null,"",null,{"$f":"IF(ISERROR(VLOOKUP(#REF!,localizacao,2,FALSE)),\"\",VLOOKUP(#REF!,localizacao,2,FALSE))","v":""},null,"",null,""]
[null,"",null,{"$f":"IF(ISERROR(VLOOKUP(#REF!,localizacao,2,FALSE)),\"\",VLOOKUP(#REF!,localizacao,2,FALSE))","v":""},null,"",null,""]
[null,"",null,{"$f":"IF(ISERROR(VLOOKUP(#REF!,localizacao,2,FALSE)),\"\",VLOOKUP(#REF!,localizacao,2,FALSE))","v":""},null,"",null,""]
[null,"",null,{"$f":"IF(ISERROR(VLOOKUP(#REF!,localizacao,2,FALSE)),\"\",VLOOKUP(#REF!,localizacao,2,FALSE))","v":""},null,"",null,""]
[null,"",null,{"$f":"IF(ISERROR(VLOOKUP(#REF!,localizacao,2,FALSE)),\"\",VLOOKUP(#REF!,localizacao,2,FALSE))","v":""},null,"",null,""]
[null,"",null,{"$f":"IF(ISERROR(VLOOKUP(#REF!,localizacao,2,FALSE)),\"\",VLOOKUP(#REF!,localizacao,2,FALSE))","v":""},null,"",null,""]
[null,"",null,{"$f":"IF(ISERROR(VLOOKUP(#REF!,localizacao,2,FALSE)),\"\",VLOOKUP(#REF!,localizacao,2,FALSE))","v":""},null,"",null,""]
[null,"",null,{"$f":"IF(ISERROR(VLOOKUP(#REF!,localizacao,2,FALSE)),\"\",VLOOKUP(#REF!,localizacao,2,FALSE))","v":""},null,"",null,""]
[null,"",null,{"$f":"IF(ISERROR(VLOOKUP(#REF!,localizacao,2,FALSE)),\"\",VLOOKUP(#REF!,localizacao,2,FALSE))","v":""},null,"",null,""]
[null,"",null,{"$f":"IF(ISERROR(VLOOKUP(#REF!,localizacao,2,FALSE)),\"\",VLOOKUP(#REF!,localizacao,2,FALSE))","v":""},null,"",null,""]
[null,"",null,{"$f":"IF(ISERROR(VLOOKUP(#REF!,localizacao,2,FALSE)),\"\",VLOOKUP(#REF!,localizacao,2,FALSE))","v":""},null,"",null,""]
[null,"",null,{"$f":"IF(ISERROR(VLOOKUP(#REF!,localizacao,2,FALSE)),\"\",VLOOKUP(#REF!,localizacao,2,FALSE))","v":""},null,"",null,""]
[null,"",null,{"$f":"IF(ISERROR(VLOOKUP(#REF!,localizacao,2,FALSE)),\"\",VLOOKUP(#REF!,localizacao,2,FALSE))","v":""},null,"",null,""]
[null,"",null,{"$f":"IF(ISERROR(VLOOKUP(#REF!,localizacao,2,FALSE)),\"\",VLOOKUP(#REF!,localizacao,2,FALSE))","v":""},null,"",null,""]
[null,"",null,{"$f":"IF(ISERROR(VLOOKUP(#REF!,localizacao,2,FALSE)),\"\",VLOOKUP(#REF!,localizacao,2,FALSE))","v":""},null,"",null,""]
[null,"",null,{"$f":"IF(ISERROR(VLOOKUP(#REF!,localizacao,2,FALSE)),\"\",VLOOKUP(#REF!,localizacao,2,FALSE))","v":""},null,{"$f":"IF(ISERROR(VLOOKUP(G3590,componentes,2,FALSE)),\"\",VLOOKUP(G3590,componentes,2,FALSE))","v":""},null,{"$f":"IF(ISERROR(VLOOKUP(I3590,rubricas,2,FALSE)),\"\",VLOOKUP(I3590,rubricas,2,FALSE))","v":""}]
[null,{"$f":"IF(C3591<>\"\",+B3590+1,\"\")","v":""},null,{"$f":"IF(ISERROR(VLOOKUP(#REF!,localizacao,2,FALSE)),\"\",VLOOKUP(#REF!,localizacao,2,FALSE))","v":""},null,"",null,""]
[null,"",null,{"$f":"IF(ISERROR(VLOOKUP(#REF!,localizacao,2,FALSE)),\"\",VLOOKUP(#REF!,localizacao,2,FALSE))","v":""},null,"",null,""]
[null,"",null,{"$f":"IF(ISERROR(VLOOKUP(#REF!,localizacao,2,FALSE)),\"\",VLOOKUP(#REF!,localizacao,2,FALSE))","v":""},null,"",null,""]
[null,"",null,{"$f":"IF(ISERROR(VLOOKUP(#REF!,localizacao,2,FALSE)),\"\",VLOOKUP(#REF!,localizacao,2,FALSE))","v":""},null,"",null,""]
[null,"",null,{"$f":"IF(ISERROR(VLOOKUP(#REF!,localizacao,2,FALSE)),\"\",VLOOKUP(#REF!,localizacao,2,FALSE))","v":""},null,"",null,""]
[null,"",null,{"$f":"IF(ISERROR(VLOOKUP(#REF!,localizacao,2,FALSE)),\"\",VLOOKUP(#REF!,localizacao,2,FALSE))","v":""},null,"",null,""]
[null,"",null,{"$f":"IF(ISERROR(VLOOKUP(#REF!,localizacao,2,FALSE)),\"\",VLOOKUP(#REF!,localizacao,2,FALSE))","v":""},null,"",null,""]
[null,"",null,{"$f":"IF(ISERROR(VLOOKUP(#REF!,localizacao,2,FALSE)),\"\",VLOOKUP(#REF!,localizacao,2,FALSE))","v":""},null,"",null,""]
[null,"",null,{"$f":"IF(ISERROR(VLOOKUP(#REF!,localizacao,2,FALSE)),\"\",VLOOKUP(#REF!,localizacao,2,FALSE))","v":""},null,"",null,""]
[null,"",null,{"$f":"IF(ISERROR(VLOOKUP(#REF!,localizacao,2,FALSE)),\"\",VLOOKUP(#REF!,localizacao,2,FALSE))","v":""},null,"",null,""]
[null,"",null,{"$f":"IF(ISERROR(VLOOKUP(#REF!,localizacao,2,FALSE)),\"\",VLOOKUP(#REF!,localizacao,2,FALSE))","v":""},null,"",null,""]
[null,"",null,{"$f":"IF(ISERROR(VLOOKUP(#REF!,localizacao,2,FALSE)),\"\",VLOOKUP(#REF!,localizacao,2,FALSE))","v":""},null,"",null,""]
[null,"",null,{"$f":"IF(ISERROR(VLOOKUP(#REF!,localizacao,2,FALSE)),\"\",VLOOKUP(#REF!,localizacao,2,FALSE))","v":""},null,"",null,""]
[null,"",null,{"$f":"IF(ISERROR(VLOOKUP(#REF!,localizacao,2,FALSE)),\"\",VLOOKUP(#REF!,localizacao,2,FALSE))","v":""},null,"",null,""]
[null,"",null,{"$f":"IF(ISERROR(VLOOKUP(#REF!,localizacao,2,FALSE)),\"\",VLOOKUP(#REF!,localizacao,2,FALSE))","v":""},null,"",null,""]
[null,"",null,{"$f":"IF(ISERROR(VLOOKUP(#REF!,localizacao,2,FALSE)),\"\",VLOOKUP(#REF!,localizacao,2,FALSE))","v":""},null,"",null,""]
[null,"",null,{"$f":"IF(ISERROR(VLOOKUP(#REF!,localizacao,2,FALSE)),\"\",VLOOKUP(#REF!,localizacao,2,FALSE))","v":""},null,"",null,""]
[null,"",null,{"$f":"IF(ISERROR(VLOOKUP(#REF!,localizacao,2,FALSE)),\"\",VLOOKUP(#REF!,localizacao,2,FALSE))","v":""},null,"",null,""]
[null,"",null,{"$f":"IF(ISERROR(VLOOKUP(#REF!,localizacao,2,FALSE)),\"\",VLOOKUP(#REF!,localizacao,2,FALSE))","v":""},null,"",null,""]
[null,"",null,{"$f":"IF(ISERROR(VLOOKUP(#REF!,localizacao,2,FALSE)),\"\",VLOOKUP(#REF!,localizacao,2,FALSE))","v":""},null,"",null,""]
[null,"",null,{"$f":"IF(ISERROR(VLOOKUP(#REF!,localizacao,2,FALSE)),\"\",VLOOKUP(#REF!,localizacao,2,FALSE))","v":""},null,"",null,""]
[null,"",null,{"$f":"IF(ISERROR(VLOOKUP(#REF!,localizacao,2,FALSE)),\"\",VLOOKUP(#REF!,localizacao,2,FALSE))","v":""},null,"",null,""]
[null,"",null,{"$f":"IF(ISERROR(VLOOKUP(#REF!,localizacao,2,FALSE)),\"\",VLOOKUP(#REF!,localizacao,2,FALSE))","v":""},null,"",null,""]
[null,"",null,{"$f":"IF(ISERROR(VLOOKUP(#REF!,localizacao,2,FALSE)),\"\",VLOOKUP(#REF!,localizacao,2,FALSE))","v":""},null,"",null,""]
[null,"",null,{"$f":"IF(ISERROR(VLOOKUP(#REF!,localizacao,2,FALSE)),\"\",VLOOKUP(#REF!,localizacao,2,FALSE))","v":""},null,"",null,""]
[null,"",null,{"$f":"IF(ISERROR(VLOOKUP(#REF!,localizacao,2,FALSE)),\"\",VLOOKUP(#REF!,localizacao,2,FALSE))","v":""},null,"",null,""]
[null,"",null,{"$f":"IF(ISERROR(VLOOKUP(#REF!,localizacao,2,FALSE)),\"\",VLOOKUP(#REF!,localizacao,2,FALSE))","v":""},null,"",null,""]
[null,"",null,{"$f":"IF(ISERROR(VLOOKUP(#REF!,localizacao,2,FALSE)),\"\",VLOOKUP(#REF!,localizacao,2,FALSE))","v":""},null,"",null,""]
[null,"",null,{"$f":"IF(ISERROR(VLOOKUP(#REF!,localizacao,2,FALSE)),\"\",VLOOKUP(#REF!,localizacao,2,FALSE))","v":""},null,"",null,""]
[null,"",null,{"$f":"IF(ISERROR(VLOOKUP(#REF!,localizacao,2,FALSE)),\"\",VLOOKUP(#REF!,localizacao,2,FALSE))","v":""},null,"",null,""]
[null,"",null,{"$f":"IF(ISERROR(VLOOKUP(#REF!,localizacao,2,FALSE)),\"\",VLOOKUP(#REF!,localizacao,2,FALSE))","v":""},null,"",null,""]
[null,"",null,{"$f":"IF(ISERROR(VLOOKUP(#REF!,localizacao,2,FALSE)),\"\",VLOOKUP(#REF!,localizacao,2,FALSE))","v":""},null,"",null,""]
[null,"",null,{"$f":"IF(ISERROR(VLOOKUP(#REF!,localizacao,2,FALSE)),\"\",VLOOKUP(#REF!,localizacao,2,FALSE))","v":""},null,"",null,""]
[null,"",null,{"$f":"IF(ISERROR(VLOOKUP(#REF!,localizacao,2,FALSE)),\"\",VLOOKUP(#REF!,localizacao,2,FALSE))","v":""},null,"",null,""]
[null,"",null,{"$f":"IF(ISERROR(VLOOKUP(#REF!,localizacao,2,FALSE)),\"\",VLOOKUP(#REF!,localizacao,2,FALSE))","v":""},null,"",null,""]
[null,"",null,{"$f":"IF(ISERROR(VLOOKUP(#REF!,localizacao,2,FALSE)),\"\",VLOOKUP(#REF!,localizacao,2,FALSE))","v":""},null,"",null,""]
[null,"",null,{"$f":"IF(ISERROR(VLOOKUP(#REF!,localizacao,2,FALSE)),\"\",VLOOKUP(#REF!,localizacao,2,FALSE))","v":""},null,"",null,""]
[null,"",null,{"$f":"IF(ISERROR(VLOOKUP(#REF!,localizacao,2,FALSE)),\"\",VLOOKUP(#REF!,localizacao,2,FALSE))","v":""},null,"",null,""]
[null,"",null,{"$f":"IF(ISERROR(VLOOKUP(#REF!,localizacao,2,FALSE)),\"\",VLOOKUP(#REF!,localizacao,2,FALSE))","v":""},null,"",null,""]
[null,"",null,{"$f":"IF(ISERROR(VLOOKUP(#REF!,localizacao,2,FALSE)),\"\",VLOOKUP(#REF!,localizacao,2,FALSE))","v":""},null,"",null,""]
[null,"",null,{"$f":"IF(ISERROR(VLOOKUP(#REF!,localizacao,2,FALSE)),\"\",VLOOKUP(#REF!,localizacao,2,FALSE))","v":""},null,"",null,""]
[null,"",null,{"$f":"IF(ISERROR(VLOOKUP(#REF!,localizacao,2,FALSE)),\"\",VLOOKUP(#REF!,localizacao,2,FALSE))","v":""},null,"",null,""]
[null,"",null,{"$f":"IF(ISERROR(VLOOKUP(#REF!,localizacao,2,FALSE)),\"\",VLOOKUP(#REF!,localizacao,2,FALSE))","v":""},null,"",null,""]
[null,"",null,{"$f":"IF(ISERROR(VLOOKUP(#REF!,localizacao,2,FALSE)),\"\",VLOOKUP(#REF!,localizacao,2,FALSE))","v":""},null,"",null,""]
[null,"",null,{"$f":"IF(ISERROR(VLOOKUP(#REF!,localizacao,2,FALSE)),\"\",VLOOKUP(#REF!,localizacao,2,FALSE))","v":""},null,"",null,""]
[null,"",null,{"$f":"IF(ISERROR(VLOOKUP(#REF!,localizacao,2,FALSE)),\"\",VLOOKUP(#REF!,localizacao,2,FALSE))","v":""},null,"",null,""]
[null,"",null,{"$f":"IF(ISERROR(VLOOKUP(#REF!,localizacao,2,FALSE)),\"\",VLOOKUP(#REF!,localizacao,2,FALSE))","v":""},null,"",null,""]
[null,"",null,{"$f":"IF(ISERROR(VLOOKUP(#REF!,localizacao,2,FALSE)),\"\",VLOOKUP(#REF!,localizacao,2,FALSE))","v":""},null,"",null,""]
[null,"",null,{"$f":"IF(ISERROR(VLOOKUP(#REF!,localizacao,2,FALSE)),\"\",VLOOKUP(#REF!,localizacao,2,FALSE))","v":""},null,"",null,""]
[null,"",null,{"$f":"IF(ISERROR(VLOOKUP(#REF!,localizacao,2,FALSE)),\"\",VLOOKUP(#REF!,localizacao,2,FALSE))","v":""},null,"",null,""]
[null,"",null,{"$f":"IF(ISERROR(VLOOKUP(#REF!,localizacao,2,FALSE)),\"\",VLOOKUP(#REF!,localizacao,2,FALSE))","v":""},null,"",null,""]
[null,"",null,{"$f":"IF(ISERROR(VLOOKUP(#REF!,localizacao,2,FALSE)),\"\",VLOOKUP(#REF!,localizacao,2,FALSE))","v":""},null,"",null,""]
[null,"",null,{"$f":"IF(ISERROR(VLOOKUP(#REF!,localizacao,2,FALSE)),\"\",VLOOKUP(#REF!,localizacao,2,FALSE))","v":""},null,"",null,""]
[null,"",null,{"$f":"IF(ISERROR(VLOOKUP(#REF!,localizacao,2,FALSE)),\"\",VLOOKUP(#REF!,localizacao,2,FALSE))","v":""},null,"",null,""]
[null,"",null,{"$f":"IF(ISERROR(VLOOKUP(#REF!,localizacao,2,FALSE)),\"\",VLOOKUP(#REF!,localizacao,2,FALSE))","v":""},null,"",null,""]
[null,"",null,{"$f":"IF(ISERROR(VLOOKUP(#REF!,localizacao,2,FALSE)),\"\",VLOOKUP(#REF!,localizacao,2,FALSE))","v":""},null,"",null,""]
[null,"",null,{"$f":"IF(ISERROR(VLOOKUP(#REF!,localizacao,2,FALSE)),\"\",VLOOKUP(#REF!,localizacao,2,FALSE))","v":""},null,"",null,""]
[null,"",null,{"$f":"IF(ISERROR(VLOOKUP(#REF!,localizacao,2,FALSE)),\"\",VLOOKUP(#REF!,localizacao,2,FALSE))","v":""},null,"",null,""]
[null,"",null,{"$f":"IF(ISERROR(VLOOKUP(#REF!,localizacao,2,FALSE)),\"\",VLOOKUP(#REF!,localizacao,2,FALSE))","v":""},null,"",null,""]
[null,"",null,{"$f":"IF(ISERROR(VLOOKUP(#REF!,localizacao,2,FALSE)),\"\",VLOOKUP(#REF!,localizacao,2,FALSE))","v":""},null,"",null,""]
[null,"",null,{"$f":"IF(ISERROR(VLOOKUP(#REF!,localizacao,2,FALSE)),\"\",VLOOKUP(#REF!,localizacao,2,FALSE))","v":""},null,"",null,""]
[null,"",null,{"$f":"IF(ISERROR(VLOOKUP(#REF!,localizacao,2,FALSE)),\"\",VLOOKUP(#REF!,localizacao,2,FALSE))","v":""},null,"",null,""]
[null,"",null,{"$f":"IF(ISERROR(VLOOKUP(#REF!,localizacao,2,FALSE)),\"\",VLOOKUP(#REF!,localizacao,2,FALSE))","v":""},null,"",null,""]
[null,"",null,{"$f":"IF(ISERROR(VLOOKUP(#REF!,localizacao,2,FALSE)),\"\",VLOOKUP(#REF!,localizacao,2,FALSE))","v":""},null,{"$f":"IF(ISERROR(VLOOKUP(G3654,componentes,2,FALSE)),\"\",VLOOKUP(G3654,componentes,2,FALSE))","v":""},null,{"$f":"IF(ISERROR(VLOOKUP(I3654,rubricas,2,FALSE)),\"\",VLOOKUP(I3654,rubricas,2,FALSE))","v":""}]
[null,{"$f":"IF(C3655<>\"\",+B3654+1,\"\")","v":""},null,{"$f":"IF(ISERROR(VLOOKUP(#REF!,localizacao,2,FALSE)),\"\",VLOOKUP(#REF!,localizacao,2,FALSE))","v":""},null,"",null,""]
[null,"",null,{"$f":"IF(ISERROR(VLOOKUP(#REF!,localizacao,2,FALSE)),\"\",VLOOKUP(#REF!,localizacao,2,FALSE))","v":""},null,"",null,""]
[null,"",null,{"$f":"IF(ISERROR(VLOOKUP(#REF!,localizacao,2,FALSE)),\"\",VLOOKUP(#REF!,localizacao,2,FALSE))","v":""},null,"",null,""]
[null,"",null,{"$f":"IF(ISERROR(VLOOKUP(#REF!,localizacao,2,FALSE)),\"\",VLOOKUP(#REF!,localizacao,2,FALSE))","v":""},null,"",null,""]
[null,"",null,{"$f":"IF(ISERROR(VLOOKUP(#REF!,localizacao,2,FALSE)),\"\",VLOOKUP(#REF!,localizacao,2,FALSE))","v":""},null,"",null,""]
[null,"",null,{"$f":"IF(ISERROR(VLOOKUP(#REF!,localizacao,2,FALSE)),\"\",VLOOKUP(#REF!,localizacao,2,FALSE))","v":""},null,"",null,""]
[null,"",null,{"$f":"IF(ISERROR(VLOOKUP(#REF!,localizacao,2,FALSE)),\"\",VLOOKUP(#REF!,localizacao,2,FALSE))","v":""},null,"",null,""]
[null,"",null,{"$f":"IF(ISERROR(VLOOKUP(#REF!,localizacao,2,FALSE)),\"\",VLOOKUP(#REF!,localizacao,2,FALSE))","v":""},null,"",null,""]
[null,"",null,{"$f":"IF(ISERROR(VLOOKUP(#REF!,localizacao,2,FALSE)),\"\",VLOOKUP(#REF!,localizacao,2,FALSE))","v":""},null,"",null,""]
[null,"",null,{"$f":"IF(ISERROR(VLOOKUP(#REF!,localizacao,2,FALSE)),\"\",VLOOKUP(#REF!,localizacao,2,FALSE))","v":""},null,"",null,""]
[null,"",null,{"$f":"IF(ISERROR(VLOOKUP(#REF!,localizacao,2,FALSE)),\"\",VLOOKUP(#REF!,localizacao,2,FALSE))","v":""},null,"",null,""]
[null,"",null,{"$f":"IF(ISERROR(VLOOKUP(#REF!,localizacao,2,FALSE)),\"\",VLOOKUP(#REF!,localizacao,2,FALSE))","v":""},null,"",null,""]
[null,"",null,{"$f":"IF(ISERROR(VLOOKUP(#REF!,localizacao,2,FALSE)),\"\",VLOOKUP(#REF!,localizacao,2,FALSE))","v":""},null,"",null,""]
[null,"",null,{"$f":"IF(ISERROR(VLOOKUP(#REF!,localizacao,2,FALSE)),\"\",VLOOKUP(#REF!,localizacao,2,FALSE))","v":""},null,"",null,""]
[null,"",null,{"$f":"IF(ISERROR(VLOOKUP(#REF!,localizacao,2,FALSE)),\"\",VLOOKUP(#REF!,localizacao,2,FALSE))","v":""},null,"",null,""]
[null,"",null,{"$f":"IF(ISERROR(VLOOKUP(#REF!,localizacao,2,FALSE)),\"\",VLOOKUP(#REF!,localizacao,2,FALSE))","v":""},null,"",null,""]
[null,"",null,{"$f":"IF(ISERROR(VLOOKUP(#REF!,localizacao,2,FALSE)),\"\",VLOOKUP(#REF!,localizacao,2,FALSE))","v":""},null,"",null,""]
[null,"",null,{"$f":"IF(ISERROR(VLOOKUP(#REF!,localizacao,2,FALSE)),\"\",VLOOKUP(#REF!,localizacao,2,FALSE))","v":""},null,"",null,""]
[null,"",null,{"$f":"IF(ISERROR(VLOOKUP(#REF!,localizacao,2,FALSE)),\"\",VLOOKUP(#REF!,localizacao,2,FALSE))","v":""},null,"",null,""]
[null,"",null,{"$f":"IF(ISERROR(VLOOKUP(#REF!,localizacao,2,FALSE)),\"\",VLOOKUP(#REF!,localizacao,2,FALSE))","v":""},null,"",null,""]
[null,"",null,{"$f":"IF(ISERROR(VLOOKUP(#REF!,localizacao,2,FALSE)),\"\",VLOOKUP(#REF!,localizacao,2,FALSE))","v":""},null,"",null,""]
[null,"",null,{"$f":"IF(ISERROR(VLOOKUP(#REF!,localizacao,2,FALSE)),\"\",VLOOKUP(#REF!,localizacao,2,FALSE))","v":""},null,"",null,""]
[null,"",null,{"$f":"IF(ISERROR(VLOOKUP(#REF!,localizacao,2,FALSE)),\"\",VLOOKUP(#REF!,localizacao,2,FALSE))","v":""},null,"",null,""]
[null,"",null,{"$f":"IF(ISERROR(VLOOKUP(#REF!,localizacao,2,FALSE)),\"\",VLOOKUP(#REF!,localizacao,2,FALSE))","v":""},null,"",null,""]
[null,"",null,{"$f":"IF(ISERROR(VLOOKUP(#REF!,localizacao,2,FALSE)),\"\",VLOOKUP(#REF!,localizacao,2,FALSE))","v":""},null,"",null,""]
[null,"",null,{"$f":"IF(ISERROR(VLOOKUP(#REF!,localizacao,2,FALSE)),\"\",VLOOKUP(#REF!,localizacao,2,FALSE))","v":""},null,"",null,""]
[null,"",null,{"$f":"IF(ISERROR(VLOOKUP(#REF!,localizacao,2,FALSE)),\"\",VLOOKUP(#REF!,localizacao,2,FALSE))","v":""},null,"",null,""]
[null,"",null,{"$f":"IF(ISERROR(VLOOKUP(#REF!,localizacao,2,FALSE)),\"\",VLOOKUP(#REF!,localizacao,2,FALSE))","v":""},null,"",null,""]
[null,"",null,{"$f":"IF(ISERROR(VLOOKUP(#REF!,localizacao,2,FALSE)),\"\",VLOOKUP(#REF!,localizacao,2,FALSE))","v":""},null,"",null,""]
[null,"",null,{"$f":"IF(ISERROR(VLOOKUP(#REF!,localizacao,2,FALSE)),\"\",VLOOKUP(#REF!,localizacao,2,FALSE))","v":""},null,"",null,""]
[null,"",null,{"$f":"IF(ISERROR(VLOOKUP(#REF!,localizacao,2,FALSE)),\"\",VLOOKUP(#REF!,localizacao,2,FALSE))","v":""},null,"",null,""]
[null,"",null,{"$f":"IF(ISERROR(VLOOKUP(#REF!,localizacao,2,FALSE)),\"\",VLOOKUP(#REF!,localizacao,2,FALSE))","v":""},null,"",null,""]
[null,"",null,{"$f":"IF(ISERROR(VLOOKUP(#REF!,localizacao,2,FALSE)),\"\",VLOOKUP(#REF!,localizacao,2,FALSE))","v":""},null,"",null,""]
[null,"",null,{"$f":"IF(ISERROR(VLOOKUP(#REF!,localizacao,2,FALSE)),\"\",VLOOKUP(#REF!,localizacao,2,FALSE))","v":""},null,"",null,""]
[null,"",null,{"$f":"IF(ISERROR(VLOOKUP(#REF!,localizacao,2,FALSE)),\"\",VLOOKUP(#REF!,localizacao,2,FALSE))","v":""},null,"",null,""]
[null,"",null,{"$f":"IF(ISERROR(VLOOKUP(#REF!,localizacao,2,FALSE)),\"\",VLOOKUP(#REF!,localizacao,2,FALSE))","v":""},null,"",null,""]
[null,"",null,{"$f":"IF(ISERROR(VLOOKUP(#REF!,localizacao,2,FALSE)),\"\",VLOOKUP(#REF!,localizacao,2,FALSE))","v":""},null,"",null,""]
[null,"",null,{"$f":"IF(ISERROR(VLOOKUP(#REF!,localizacao,2,FALSE)),\"\",VLOOKUP(#REF!,localizacao,2,FALSE))","v":""},null,"",null,""]
[null,"",null,{"$f":"IF(ISERROR(VLOOKUP(#REF!,localizacao,2,FALSE)),\"\",VLOOKUP(#REF!,localizacao,2,FALSE))","v":""},null,"",null,""]
[null,"",null,{"$f":"IF(ISERROR(VLOOKUP(#REF!,localizacao,2,FALSE)),\"\",VLOOKUP(#REF!,localizacao,2,FALSE))","v":""},null,"",null,""]
[null,"",null,{"$f":"IF(ISERROR(VLOOKUP(#REF!,localizacao,2,FALSE)),\"\",VLOOKUP(#REF!,localizacao,2,FALSE))","v":""},null,"",null,""]
[null,"",null,{"$f":"IF(ISERROR(VLOOKUP(#REF!,localizacao,2,FALSE)),\"\",VLOOKUP(#REF!,localizacao,2,FALSE))","v":""},null,"",null,""]
[null,"",null,{"$f":"IF(ISERROR(VLOOKUP(#REF!,localizacao,2,FALSE)),\"\",VLOOKUP(#REF!,localizacao,2,FALSE))","v":""},null,"",null,""]
[null,"",null,{"$f":"IF(ISERROR(VLOOKUP(#REF!,localizacao,2,FALSE)),\"\",VLOOKUP(#REF!,localizacao,2,FALSE))","v":""},null,"",null,""]
[null,"",null,{"$f":"IF(ISERROR(VLOOKUP(#REF!,localizacao,2,FALSE)),\"\",VLOOKUP(#REF!,localizacao,2,FALSE))","v":""},null,"",null,""]
[null,"",null,{"$f":"IF(ISERROR(VLOOKUP(#REF!,localizacao,2,FALSE)),\"\",VLOOKUP(#REF!,localizacao,2,FALSE))","v":""},null,"",null,""]
[null,"",null,{"$f":"IF(ISERROR(VLOOKUP(#REF!,localizacao,2,FALSE)),\"\",VLOOKUP(#REF!,localizacao,2,FALSE))","v":""},null,"",null,""]
[null,"",null,{"$f":"IF(ISERROR(VLOOKUP(#REF!,localizacao,2,FALSE)),\"\",VLOOKUP(#REF!,localizacao,2,FALSE))","v":""},null,"",null,""]
[null,"",null,{"$f":"IF(ISERROR(VLOOKUP(#REF!,localizacao,2,FALSE)),\"\",VLOOKUP(#REF!,localizacao,2,FALSE))","v":""},null,"",null,""]
[null,"",null,{"$f":"IF(ISERROR(VLOOKUP(#REF!,localizacao,2,FALSE)),\"\",VLOOKUP(#REF!,localizacao,2,FALSE))","v":""},null,"",null,""]
[null,"",null,{"$f":"IF(ISERROR(VLOOKUP(#REF!,localizacao,2,FALSE)),\"\",VLOOKUP(#REF!,localizacao,2,FALSE))","v":""},null,"",null,""]
[null,"",null,{"$f":"IF(ISERROR(VLOOKUP(#REF!,localizacao,2,FALSE)),\"\",VLOOKUP(#REF!,localizacao,2,FALSE))","v":""},null,"",null,""]
[null,"",null,{"$f":"IF(ISERROR(VLOOKUP(#REF!,localizacao,2,FALSE)),\"\",VLOOKUP(#REF!,localizacao,2,FALSE))","v":""},null,"",null,""]
[null,"",null,{"$f":"IF(ISERROR(VLOOKUP(#REF!,localizacao,2,FALSE)),\"\",VLOOKUP(#REF!,localizacao,2,FALSE))","v":""},null,"",null,""]
[null,"",null,{"$f":"IF(ISERROR(VLOOKUP(#REF!,localizacao,2,FALSE)),\"\",VLOOKUP(#REF!,localizacao,2,FALSE))","v":""},null,"",null,""]
[null,"",null,{"$f":"IF(ISERROR(VLOOKUP(#REF!,localizacao,2,FALSE)),\"\",VLOOKUP(#REF!,localizacao,2,FALSE))","v":""},null,"",null,""]
[null,"",null,{"$f":"IF(ISERROR(VLOOKUP(#REF!,localizacao,2,FALSE)),\"\",VLOOKUP(#REF!,localizacao,2,FALSE))","v":""},null,"",null,""]
[null,"",null,{"$f":"IF(ISERROR(VLOOKUP(#REF!,localizacao,2,FALSE)),\"\",VLOOKUP(#REF!,localizacao,2,FALSE))","v":""},null,"",null,""]
[null,"",null,{"$f":"IF(ISERROR(VLOOKUP(#REF!,localizacao,2,FALSE)),\"\",VLOOKUP(#REF!,localizacao,2,FALSE))","v":""},null,"",null,""]
[null,"",null,{"$f":"IF(ISERROR(VLOOKUP(#REF!,localizacao,2,FALSE)),\"\",VLOOKUP(#REF!,localizacao,2,FALSE))","v":""},null,"",null,""]
[null,"",null,{"$f":"IF(ISERROR(VLOOKUP(#REF!,localizacao,2,FALSE)),\"\",VLOOKUP(#REF!,localizacao,2,FALSE))","v":""},null,"",null,""]
[null,"",null,{"$f":"IF(ISERROR(VLOOKUP(#REF!,localizacao,2,FALSE)),\"\",VLOOKUP(#REF!,localizacao,2,FALSE))","v":""},null,"",null,""]
[null,"",null,{"$f":"IF(ISERROR(VLOOKUP(#REF!,localizacao,2,FALSE)),\"\",VLOOKUP(#REF!,localizacao,2,FALSE))","v":""},null,"",null,""]
[null,"",null,{"$f":"IF(ISERROR(VLOOKUP(#REF!,localizacao,2,FALSE)),\"\",VLOOKUP(#REF!,localizacao,2,FALSE))","v":""},null,{"$f":"IF(ISERROR(VLOOKUP(G3718,componentes,2,FALSE)),\"\",VLOOKUP(G3718,componentes,2,FALSE))","v":""},null,{"$f":"IF(ISERROR(VLOOKUP(I3718,rubricas,2,FALSE)),\"\",VLOOKUP(I3718,rubricas,2,FALSE))","v":""}]
[null,{"$f":"IF(C3719<>\"\",+B3718+1,\"\")","v":""},null,{"$f":"IF(ISERROR(VLOOKUP(#REF!,localizacao,2,FALSE)),\"\",VLOOKUP(#REF!,localizacao,2,FALSE))","v":""},null,"",null,""]
[null,"",null,{"$f":"IF(ISERROR(VLOOKUP(#REF!,localizacao,2,FALSE)),\"\",VLOOKUP(#REF!,localizacao,2,FALSE))","v":""},null,"",null,""]
[null,"",null,{"$f":"IF(ISERROR(VLOOKUP(#REF!,localizacao,2,FALSE)),\"\",VLOOKUP(#REF!,localizacao,2,FALSE))","v":""},null,"",null,""]
[null,"",null,{"$f":"IF(ISERROR(VLOOKUP(#REF!,localizacao,2,FALSE)),\"\",VLOOKUP(#REF!,localizacao,2,FALSE))","v":""},null,"",null,""]
[null,"",null,{"$f":"IF(ISERROR(VLOOKUP(#REF!,localizacao,2,FALSE)),\"\",VLOOKUP(#REF!,localizacao,2,FALSE))","v":""},null,"",null,""]
[null,"",null,{"$f":"IF(ISERROR(VLOOKUP(#REF!,localizacao,2,FALSE)),\"\",VLOOKUP(#REF!,localizacao,2,FALSE))","v":""},null,"",null,""]
[null,"",null,{"$f":"IF(ISERROR(VLOOKUP(#REF!,localizacao,2,FALSE)),\"\",VLOOKUP(#REF!,localizacao,2,FALSE))","v":""},null,"",null,""]
[null,"",null,{"$f":"IF(ISERROR(VLOOKUP(#REF!,localizacao,2,FALSE)),\"\",VLOOKUP(#REF!,localizacao,2,FALSE))","v":""},null,"",null,""]
[null,"",null,{"$f":"IF(ISERROR(VLOOKUP(#REF!,localizacao,2,FALSE)),\"\",VLOOKUP(#REF!,localizacao,2,FALSE))","v":""},null,"",null,""]
[null,"",null,{"$f":"IF(ISERROR(VLOOKUP(#REF!,localizacao,2,FALSE)),\"\",VLOOKUP(#REF!,localizacao,2,FALSE))","v":""},null,"",null,""]
[null,"",null,{"$f":"IF(ISERROR(VLOOKUP(#REF!,localizacao,2,FALSE)),\"\",VLOOKUP(#REF!,localizacao,2,FALSE))","v":""},null,"",null,""]
[null,"",null,{"$f":"IF(ISERROR(VLOOKUP(#REF!,localizacao,2,FALSE)),\"\",VLOOKUP(#REF!,localizacao,2,FALSE))","v":""},null,"",null,""]
[null,"",null,{"$f":"IF(ISERROR(VLOOKUP(#REF!,localizacao,2,FALSE)),\"\",VLOOKUP(#REF!,localizacao,2,FALSE))","v":""},null,"",null,""]
[null,"",null,{"$f":"IF(ISERROR(VLOOKUP(#REF!,localizacao,2,FALSE)),\"\",VLOOKUP(#REF!,localizacao,2,FALSE))","v":""},null,"",null,""]
[null,"",null,{"$f":"IF(ISERROR(VLOOKUP(#REF!,localizacao,2,FALSE)),\"\",VLOOKUP(#REF!,localizacao,2,FALSE))","v":""},null,"",null,""]
[null,"",null,{"$f":"IF(ISERROR(VLOOKUP(#REF!,localizacao,2,FALSE)),\"\",VLOOKUP(#REF!,localizacao,2,FALSE))","v":""},null,"",null,""]
[null,"",null,{"$f":"IF(ISERROR(VLOOKUP(#REF!,localizacao,2,FALSE)),\"\",VLOOKUP(#REF!,localizacao,2,FALSE))","v":""},null,"",null,""]
[null,"",null,{"$f":"IF(ISERROR(VLOOKUP(#REF!,localizacao,2,FALSE)),\"\",VLOOKUP(#REF!,localizacao,2,FALSE))","v":""},null,"",null,""]
[null,"",null,{"$f":"IF(ISERROR(VLOOKUP(#REF!,localizacao,2,FALSE)),\"\",VLOOKUP(#REF!,localizacao,2,FALSE))","v":""},null,"",null,""]
[null,"",null,{"$f":"IF(ISERROR(VLOOKUP(#REF!,localizacao,2,FALSE)),\"\",VLOOKUP(#REF!,localizacao,2,FALSE))","v":""},null,"",null,""]
[null,"",null,{"$f":"IF(ISERROR(VLOOKUP(#REF!,localizacao,2,FALSE)),\"\",VLOOKUP(#REF!,localizacao,2,FALSE))","v":""},null,"",null,""]
[null,"",null,{"$f":"IF(ISERROR(VLOOKUP(#REF!,localizacao,2,FALSE)),\"\",VLOOKUP(#REF!,localizacao,2,FALSE))","v":""},null,"",null,""]
[null,"",null,{"$f":"IF(ISERROR(VLOOKUP(#REF!,localizacao,2,FALSE)),\"\",VLOOKUP(#REF!,localizacao,2,FALSE))","v":""},null,"",null,""]
[null,"",null,{"$f":"IF(ISERROR(VLOOKUP(#REF!,localizacao,2,FALSE)),\"\",VLOOKUP(#REF!,localizacao,2,FALSE))","v":""},null,"",null,""]
[null,"",null,{"$f":"IF(ISERROR(VLOOKUP(#REF!,localizacao,2,FALSE)),\"\",VLOOKUP(#REF!,localizacao,2,FALSE))","v":""},null,"",null,""]
[null,"",null,{"$f":"IF(ISERROR(VLOOKUP(#REF!,localizacao,2,FALSE)),\"\",VLOOKUP(#REF!,localizacao,2,FALSE))","v":""},null,"",null,""]
[null,"",null,{"$f":"IF(ISERROR(VLOOKUP(#REF!,localizacao,2,FALSE)),\"\",VLOOKUP(#REF!,localizacao,2,FALSE))","v":""},null,"",null,""]
[null,"",null,{"$f":"IF(ISERROR(VLOOKUP(#REF!,localizacao,2,FALSE)),\"\",VLOOKUP(#REF!,localizacao,2,FALSE))","v":""},null,"",null,""]
[null,"",null,{"$f":"IF(ISERROR(VLOOKUP(#REF!,localizacao,2,FALSE)),\"\",VLOOKUP(#REF!,localizacao,2,FALSE))","v":""},null,"",null,""]
[null,"",null,{"$f":"IF(ISERROR(VLOOKUP(#REF!,localizacao,2,FALSE)),\"\",VLOOKUP(#REF!,localizacao,2,FALSE))","v":""},null,"",null,""]
[null,"",null,{"$f":"IF(ISERROR(VLOOKUP(#REF!,localizacao,2,FALSE)),\"\",VLOOKUP(#REF!,localizacao,2,FALSE))","v":""},null,"",null,""]
[null,"",null,{"$f":"IF(ISERROR(VLOOKUP(#REF!,localizacao,2,FALSE)),\"\",VLOOKUP(#REF!,localizacao,2,FALSE))","v":""},null,"",null,""]
[null,"",null,{"$f":"IF(ISERROR(VLOOKUP(#REF!,localizacao,2,FALSE)),\"\",VLOOKUP(#REF!,localizacao,2,FALSE))","v":""},null,"",null,""]
[null,"",null,{"$f":"IF(ISERROR(VLOOKUP(#REF!,localizacao,2,FALSE)),\"\",VLOOKUP(#REF!,localizacao,2,FALSE))","v":""},null,"",null,""]
[null,"",null,{"$f":"IF(ISERROR(VLOOKUP(#REF!,localizacao,2,FALSE)),\"\",VLOOKUP(#REF!,localizacao,2,FALSE))","v":""},null,"",null,""]
[null,"",null,{"$f":"IF(ISERROR(VLOOKUP(#REF!,localizacao,2,FALSE)),\"\",VLOOKUP(#REF!,localizacao,2,FALSE))","v":""},null,"",null,""]
[null,"",null,{"$f":"IF(ISERROR(VLOOKUP(#REF!,localizacao,2,FALSE)),\"\",VLOOKUP(#REF!,localizacao,2,FALSE))","v":""},null,"",null,""]
[null,"",null,{"$f":"IF(ISERROR(VLOOKUP(#REF!,localizacao,2,FALSE)),\"\",VLOOKUP(#REF!,localizacao,2,FALSE))","v":""},null,"",null,""]
[null,"",null,{"$f":"IF(ISERROR(VLOOKUP(#REF!,localizacao,2,FALSE)),\"\",VLOOKUP(#REF!,localizacao,2,FALSE))","v":""},null,"",null,""]
[null,"",null,{"$f":"IF(ISERROR(VLOOKUP(#REF!,localizacao,2,FALSE)),\"\",VLOOKUP(#REF!,localizacao,2,FALSE))","v":""},null,"",null,""]
[null,"",null,{"$f":"IF(ISERROR(VLOOKUP(#REF!,localizacao,2,FALSE)),\"\",VLOOKUP(#REF!,localizacao,2,FALSE))","v":""},null,"",null,""]
[null,"",null,{"$f":"IF(ISERROR(VLOOKUP(#REF!,localizacao,2,FALSE)),\"\",VLOOKUP(#REF!,localizacao,2,FALSE))","v":""},null,"",null,""]
[null,"",null,{"$f":"IF(ISERROR(VLOOKUP(#REF!,localizacao,2,FALSE)),\"\",VLOOKUP(#REF!,localizacao,2,FALSE))","v":""},null,"",null,""]
[null,"",null,{"$f":"IF(ISERROR(VLOOKUP(#REF!,localizacao,2,FALSE)),\"\",VLOOKUP(#REF!,localizacao,2,FALSE))","v":""},null,"",null,""]
[null,"",null,{"$f":"IF(ISERROR(VLOOKUP(#REF!,localizacao,2,FALSE)),\"\",VLOOKUP(#REF!,localizacao,2,FALSE))","v":""},null,"",null,""]
[null,"",null,{"$f":"IF(ISERROR(VLOOKUP(#REF!,localizacao,2,FALSE)),\"\",VLOOKUP(#REF!,localizacao,2,FALSE))","v":""},null,"",null,""]
[null,"",null,{"$f":"IF(ISERROR(VLOOKUP(#REF!,localizacao,2,FALSE)),\"\",VLOOKUP(#REF!,localizacao,2,FALSE))","v":""},null,"",null,""]
[null,"",null,{"$f":"IF(ISERROR(VLOOKUP(#REF!,localizacao,2,FALSE)),\"\",VLOOKUP(#REF!,localizacao,2,FALSE))","v":""},null,"",null,""]
[null,"",null,{"$f":"IF(ISERROR(VLOOKUP(#REF!,localizacao,2,FALSE)),\"\",VLOOKUP(#REF!,localizacao,2,FALSE))","v":""},null,"",null,""]
[null,"",null,{"$f":"IF(ISERROR(VLOOKUP(#REF!,localizacao,2,FALSE)),\"\",VLOOKUP(#REF!,localizacao,2,FALSE))","v":""},null,"",null,""]
[null,"",null,{"$f":"IF(ISERROR(VLOOKUP(#REF!,localizacao,2,FALSE)),\"\",VLOOKUP(#REF!,localizacao,2,FALSE))","v":""},null,"",null,""]
[null,"",null,{"$f":"IF(ISERROR(VLOOKUP(#REF!,localizacao,2,FALSE)),\"\",VLOOKUP(#REF!,localizacao,2,FALSE))","v":""},null,"",null,""]
[null,"",null,{"$f":"IF(ISERROR(VLOOKUP(#REF!,localizacao,2,FALSE)),\"\",VLOOKUP(#REF!,localizacao,2,FALSE))","v":""},null,"",null,""]
[null,"",null,{"$f":"IF(ISERROR(VLOOKUP(#REF!,localizacao,2,FALSE)),\"\",VLOOKUP(#REF!,localizacao,2,FALSE))","v":""},null,"",null,""]
[null,"",null,{"$f":"IF(ISERROR(VLOOKUP(#REF!,localizacao,2,FALSE)),\"\",VLOOKUP(#REF!,localizacao,2,FALSE))","v":""},null,"",null,""]
[null,"",null,{"$f":"IF(ISERROR(VLOOKUP(#REF!,localizacao,2,FALSE)),\"\",VLOOKUP(#REF!,localizacao,2,FALSE))","v":""},null,"",null,""]
[null,"",null,{"$f":"IF(ISERROR(VLOOKUP(#REF!,localizacao,2,FALSE)),\"\",VLOOKUP(#REF!,localizacao,2,FALSE))","v":""},null,"",null,""]
[null,"",null,{"$f":"IF(ISERROR(VLOOKUP(#REF!,localizacao,2,FALSE)),\"\",VLOOKUP(#REF!,localizacao,2,FALSE))","v":""},null,"",null,""]
[null,"",null,{"$f":"IF(ISERROR(VLOOKUP(#REF!,localizacao,2,FALSE)),\"\",VLOOKUP(#REF!,localizacao,2,FALSE))","v":""},null,"",null,""]
[null,"",null,{"$f":"IF(ISERROR(VLOOKUP(#REF!,localizacao,2,FALSE)),\"\",VLOOKUP(#REF!,localizacao,2,FALSE))","v":""},null,"",null,""]
[null,"",null,{"$f":"IF(ISERROR(VLOOKUP(#REF!,localizacao,2,FALSE)),\"\",VLOOKUP(#REF!,localizacao,2,FALSE))","v":""},null,"",null,""]
[null,"",null,{"$f":"IF(ISERROR(VLOOKUP(#REF!,localizacao,2,FALSE)),\"\",VLOOKUP(#REF!,localizacao,2,FALSE))","v":""},null,"",null,""]
[null,"",null,{"$f":"IF(ISERROR(VLOOKUP(#REF!,localizacao,2,FALSE)),\"\",VLOOKUP(#REF!,localizacao,2,FALSE))","v":""},null,"",null,""]
[null,"",null,{"$f":"IF(ISERROR(VLOOKUP(#REF!,localizacao,2,FALSE)),\"\",VLOOKUP(#REF!,localizacao,2,FALSE))","v":""},null,{"$f":"IF(ISERROR(VLOOKUP(G3782,componentes,2,FALSE)),\"\",VLOOKUP(G3782,componentes,2,FALSE))","v":""},null,{"$f":"IF(ISERROR(VLOOKUP(I3782,rubricas,2,FALSE)),\"\",VLOOKUP(I3782,rubricas,2,FALSE))","v":""}]
[null,{"$f":"IF(C3783<>\"\",+B3782+1,\"\")","v":""},null,{"$f":"IF(ISERROR(VLOOKUP(#REF!,localizacao,2,FALSE)),\"\",VLOOKUP(#REF!,localizacao,2,FALSE))","v":""},null,"",null,""]
[null,"",null,{"$f":"IF(ISERROR(VLOOKUP(#REF!,localizacao,2,FALSE)),\"\",VLOOKUP(#REF!,localizacao,2,FALSE))","v":""},null,"",null,""]
[null,"",null,{"$f":"IF(ISERROR(VLOOKUP(#REF!,localizacao,2,FALSE)),\"\",VLOOKUP(#REF!,localizacao,2,FALSE))","v":""},null,"",null,""]
[null,"",null,{"$f":"IF(ISERROR(VLOOKUP(#REF!,localizacao,2,FALSE)),\"\",VLOOKUP(#REF!,localizacao,2,FALSE))","v":""},null,"",null,""]
[null,"",null,{"$f":"IF(ISERROR(VLOOKUP(#REF!,localizacao,2,FALSE)),\"\",VLOOKUP(#REF!,localizacao,2,FALSE))","v":""},null,"",null,""]
[null,"",null,{"$f":"IF(ISERROR(VLOOKUP(#REF!,localizacao,2,FALSE)),\"\",VLOOKUP(#REF!,localizacao,2,FALSE))","v":""},null,"",null,""]
[null,"",null,{"$f":"IF(ISERROR(VLOOKUP(#REF!,localizacao,2,FALSE)),\"\",VLOOKUP(#REF!,localizacao,2,FALSE))","v":""},null,"",null,""]
[null,"",null,{"$f":"IF(ISERROR(VLOOKUP(#REF!,localizacao,2,FALSE)),\"\",VLOOKUP(#REF!,localizacao,2,FALSE))","v":""},null,"",null,""]
[null,"",null,{"$f":"IF(ISERROR(VLOOKUP(#REF!,localizacao,2,FALSE)),\"\",VLOOKUP(#REF!,localizacao,2,FALSE))","v":""},null,"",null,""]
[null,"",null,{"$f":"IF(ISERROR(VLOOKUP(#REF!,localizacao,2,FALSE)),\"\",VLOOKUP(#REF!,localizacao,2,FALSE))","v":""},null,"",null,""]
[null,"",null,{"$f":"IF(ISERROR(VLOOKUP(#REF!,localizacao,2,FALSE)),\"\",VLOOKUP(#REF!,localizacao,2,FALSE))","v":""},null,"",null,""]
[null,"",null,{"$f":"IF(ISERROR(VLOOKUP(#REF!,localizacao,2,FALSE)),\"\",VLOOKUP(#REF!,localizacao,2,FALSE))","v":""},null,"",null,""]
[null,"",null,{"$f":"IF(ISERROR(VLOOKUP(#REF!,localizacao,2,FALSE)),\"\",VLOOKUP(#REF!,localizacao,2,FALSE))","v":""},null,"",null,""]
[null,"",null,{"$f":"IF(ISERROR(VLOOKUP(#REF!,localizacao,2,FALSE)),\"\",VLOOKUP(#REF!,localizacao,2,FALSE))","v":""},null,"",null,""]
[null,"",null,{"$f":"IF(ISERROR(VLOOKUP(#REF!,localizacao,2,FALSE)),\"\",VLOOKUP(#REF!,localizacao,2,FALSE))","v":""},null,"",null,""]
[null,"",null,{"$f":"IF(ISERROR(VLOOKUP(#REF!,localizacao,2,FALSE)),\"\",VLOOKUP(#REF!,localizacao,2,FALSE))","v":""},null,"",null,""]
[null,"",null,{"$f":"IF(ISERROR(VLOOKUP(#REF!,localizacao,2,FALSE)),\"\",VLOOKUP(#REF!,localizacao,2,FALSE))","v":""},null,"",null,""]
[null,"",null,{"$f":"IF(ISERROR(VLOOKUP(#REF!,localizacao,2,FALSE)),\"\",VLOOKUP(#REF!,localizacao,2,FALSE))","v":""},null,"",null,""]
[null,"",null,{"$f":"IF(ISERROR(VLOOKUP(#REF!,localizacao,2,FALSE)),\"\",VLOOKUP(#REF!,localizacao,2,FALSE))","v":""},null,"",null,""]
[null,"",null,{"$f":"IF(ISERROR(VLOOKUP(#REF!,localizacao,2,FALSE)),\"\",VLOOKUP(#REF!,localizacao,2,FALSE))","v":""},null,"",null,""]
[null,"",null,{"$f":"IF(ISERROR(VLOOKUP(#REF!,localizacao,2,FALSE)),\"\",VLOOKUP(#REF!,localizacao,2,FALSE))","v":""},null,"",null,""]
[null,"",null,{"$f":"IF(ISERROR(VLOOKUP(#REF!,localizacao,2,FALSE)),\"\",VLOOKUP(#REF!,localizacao,2,FALSE))","v":""},null,"",null,""]
[null,"",null,{"$f":"IF(ISERROR(VLOOKUP(#REF!,localizacao,2,FALSE)),\"\",VLOOKUP(#REF!,localizacao,2,FALSE))","v":""},null,"",null,""]
[null,"",null,{"$f":"IF(ISERROR(VLOOKUP(#REF!,localizacao,2,FALSE)),\"\",VLOOKUP(#REF!,localizacao,2,FALSE))","v":""},null,"",null,""]
[null,"",null,{"$f":"IF(ISERROR(VLOOKUP(#REF!,localizacao,2,FALSE)),\"\",VLOOKUP(#REF!,localizacao,2,FALSE))","v":""},null,"",null,""]
[null,"",null,{"$f":"IF(ISERROR(VLOOKUP(#REF!,localizacao,2,FALSE)),\"\",VLOOKUP(#REF!,localizacao,2,FALSE))","v":""},null,"",null,""]
[null,"",null,{"$f":"IF(ISERROR(VLOOKUP(#REF!,localizacao,2,FALSE)),\"\",VLOOKUP(#REF!,localizacao,2,FALSE))","v":""},null,"",null,""]
[null,"",null,{"$f":"IF(ISERROR(VLOOKUP(#REF!,localizacao,2,FALSE)),\"\",VLOOKUP(#REF!,localizacao,2,FALSE))","v":""},null,"",null,""]
[null,"",null,{"$f":"IF(ISERROR(VLOOKUP(#REF!,localizacao,2,FALSE)),\"\",VLOOKUP(#REF!,localizacao,2,FALSE))","v":""},null,"",null,""]
[null,"",null,{"$f":"IF(ISERROR(VLOOKUP(#REF!,localizacao,2,FALSE)),\"\",VLOOKUP(#REF!,localizacao,2,FALSE))","v":""},null,"",null,""]
[null,"",null,{"$f":"IF(ISERROR(VLOOKUP(#REF!,localizacao,2,FALSE)),\"\",VLOOKUP(#REF!,localizacao,2,FALSE))","v":""},null,"",null,""]
[null,"",null,{"$f":"IF(ISERROR(VLOOKUP(#REF!,localizacao,2,FALSE)),\"\",VLOOKUP(#REF!,localizacao,2,FALSE))","v":""},null,"",null,""]
[null,"",null,{"$f":"IF(ISERROR(VLOOKUP(#REF!,localizacao,2,FALSE)),\"\",VLOOKUP(#REF!,localizacao,2,FALSE))","v":""},null,"",null,""]
[null,"",null,{"$f":"IF(ISERROR(VLOOKUP(#REF!,localizacao,2,FALSE)),\"\",VLOOKUP(#REF!,localizacao,2,FALSE))","v":""},null,"",null,""]
[null,"",null,{"$f":"IF(ISERROR(VLOOKUP(#REF!,localizacao,2,FALSE)),\"\",VLOOKUP(#REF!,localizacao,2,FALSE))","v":""},null,"",null,""]
[null,"",null,{"$f":"IF(ISERROR(VLOOKUP(#REF!,localizacao,2,FALSE)),\"\",VLOOKUP(#REF!,localizacao,2,FALSE))","v":""},null,"",null,""]
[null,"",null,{"$f":"IF(ISERROR(VLOOKUP(#REF!,localizacao,2,FALSE)),\"\",VLOOKUP(#REF!,localizacao,2,FALSE))","v":""},null,"",null,""]
[null,"",null,{"$f":"IF(ISERROR(VLOOKUP(#REF!,localizacao,2,FALSE)),\"\",VLOOKUP(#REF!,localizacao,2,FALSE))","v":""},null,"",null,""]
[null,"",null,{"$f":"IF(ISERROR(VLOOKUP(#REF!,localizacao,2,FALSE)),\"\",VLOOKUP(#REF!,localizacao,2,FALSE))","v":""},null,"",null,""]
[null,"",null,{"$f":"IF(ISERROR(VLOOKUP(#REF!,localizacao,2,FALSE)),\"\",VLOOKUP(#REF!,localizacao,2,FALSE))","v":""},null,"",null,""]
[null,"",null,{"$f":"IF(ISERROR(VLOOKUP(#REF!,localizacao,2,FALSE)),\"\",VLOOKUP(#REF!,localizacao,2,FALSE))","v":""},null,"",null,""]
[null,"",null,{"$f":"IF(ISERROR(VLOOKUP(#REF!,localizacao,2,FALSE)),\"\",VLOOKUP(#REF!,localizacao,2,FALSE))","v":""},null,"",null,""]
[null,"",null,{"$f":"IF(ISERROR(VLOOKUP(#REF!,localizacao,2,FALSE)),\"\",VLOOKUP(#REF!,localizacao,2,FALSE))","v":""},null,"",null,""]
[null,"",null,{"$f":"IF(ISERROR(VLOOKUP(#REF!,localizacao,2,FALSE)),\"\",VLOOKUP(#REF!,localizacao,2,FALSE))","v":""},null,"",null,""]
[null,"",null,{"$f":"IF(ISERROR(VLOOKUP(#REF!,localizacao,2,FALSE)),\"\",VLOOKUP(#REF!,localizacao,2,FALSE))","v":""},null,"",null,""]
[null,"",null,{"$f":"IF(ISERROR(VLOOKUP(#REF!,localizacao,2,FALSE)),\"\",VLOOKUP(#REF!,localizacao,2,FALSE))","v":""},null,"",null,""]
[null,"",null,{"$f":"IF(ISERROR(VLOOKUP(#REF!,localizacao,2,FALSE)),\"\",VLOOKUP(#REF!,localizacao,2,FALSE))","v":""},null,"",null,""]
[null,"",null,{"$f":"IF(ISERROR(VLOOKUP(#REF!,localizacao,2,FALSE)),\"\",VLOOKUP(#REF!,localizacao,2,FALSE))","v":""},null,"",null,""]
[null,"",null,{"$f":"IF(ISERROR(VLOOKUP(#REF!,localizacao,2,FALSE)),\"\",VLOOKUP(#REF!,localizacao,2,FALSE))","v":""},null,"",null,""]
[null,"",null,{"$f":"IF(ISERROR(VLOOKUP(#REF!,localizacao,2,FALSE)),\"\",VLOOKUP(#REF!,localizacao,2,FALSE))","v":""},null,"",null,""]
[null,"",null,{"$f":"IF(ISERROR(VLOOKUP(#REF!,localizacao,2,FALSE)),\"\",VLOOKUP(#REF!,localizacao,2,FALSE))","v":""},null,"",null,""]
[null,"",null,{"$f":"IF(ISERROR(VLOOKUP(#REF!,localizacao,2,FALSE)),\"\",VLOOKUP(#REF!,localizacao,2,FALSE))","v":""},null,"",null,""]
[null,"",null,{"$f":"IF(ISERROR(VLOOKUP(#REF!,localizacao,2,FALSE)),\"\",VLOOKUP(#REF!,localizacao,2,FALSE))","v":""},null,"",null,""]
[null,"",null,{"$f":"IF(ISERROR(VLOOKUP(#REF!,localizacao,2,FALSE)),\"\",VLOOKUP(#REF!,localizacao,2,FALSE))","v":""},null,"",null,""]
[null,"",null,{"$f":"IF(ISERROR(VLOOKUP(#REF!,localizacao,2,FALSE)),\"\",VLOOKUP(#REF!,localizacao,2,FALSE))","v":""},null,"",null,""]
[null,"",null,{"$f":"IF(ISERROR(VLOOKUP(#REF!,localizacao,2,FALSE)),\"\",VLOOKUP(#REF!,localizacao,2,FALSE))","v":""},null,"",null,""]
[null,"",null,{"$f":"IF(ISERROR(VLOOKUP(#REF!,localizacao,2,FALSE)),\"\",VLOOKUP(#REF!,localizacao,2,FALSE))","v":""},null,"",null,""]
[null,"",null,{"$f":"IF(ISERROR(VLOOKUP(#REF!,localizacao,2,FALSE)),\"\",VLOOKUP(#REF!,localizacao,2,FALSE))","v":""},null,"",null,""]
[null,"",null,{"$f":"IF(ISERROR(VLOOKUP(#REF!,localizacao,2,FALSE)),\"\",VLOOKUP(#REF!,localizacao,2,FALSE))","v":""},null,"",null,""]
[null,"",null,{"$f":"IF(ISERROR(VLOOKUP(#REF!,localizacao,2,FALSE)),\"\",VLOOKUP(#REF!,localizacao,2,FALSE))","v":""},null,"",null,""]
[null,"",null,{"$f":"IF(ISERROR(VLOOKUP(#REF!,localizacao,2,FALSE)),\"\",VLOOKUP(#REF!,localizacao,2,FALSE))","v":""},null,"",null,""]
[null,"",null,{"$f":"IF(ISERROR(VLOOKUP(#REF!,localizacao,2,FALSE)),\"\",VLOOKUP(#REF!,localizacao,2,FALSE))","v":""},null,"",null,""]
[null,"",null,{"$f":"IF(ISERROR(VLOOKUP(#REF!,localizacao,2,FALSE)),\"\",VLOOKUP(#REF!,localizacao,2,FALSE))","v":""},null,"",null,""]
[null,"",null,{"$f":"IF(ISERROR(VLOOKUP(#REF!,localizacao,2,FALSE)),\"\",VLOOKUP(#REF!,localizacao,2,FALSE))","v":""},null,{"$f":"IF(ISERROR(VLOOKUP(G3846,componentes,2,FALSE)),\"\",VLOOKUP(G3846,componentes,2,FALSE))","v":""},null,{"$f":"IF(ISERROR(VLOOKUP(I3846,rubricas,2,FALSE)),\"\",VLOOKUP(I3846,rubricas,2,FALSE))","v":""}]
[null,{"$f":"IF(C3847<>\"\",+B3846+1,\"\")","v":""},null,{"$f":"IF(ISERROR(VLOOKUP(#REF!,localizacao,2,FALSE)),\"\",VLOOKUP(#REF!,localizacao,2,FALSE))","v":""},null,"",null,""]
[null,"",null,{"$f":"IF(ISERROR(VLOOKUP(#REF!,localizacao,2,FALSE)),\"\",VLOOKUP(#REF!,localizacao,2,FALSE))","v":""},null,"",null,""]
[null,"",null,{"$f":"IF(ISERROR(VLOOKUP(#REF!,localizacao,2,FALSE)),\"\",VLOOKUP(#REF!,localizacao,2,FALSE))","v":""},null,"",null,""]
[null,"",null,{"$f":"IF(ISERROR(VLOOKUP(#REF!,localizacao,2,FALSE)),\"\",VLOOKUP(#REF!,localizacao,2,FALSE))","v":""},null,"",null,""]
[null,"",null,{"$f":"IF(ISERROR(VLOOKUP(#REF!,localizacao,2,FALSE)),\"\",VLOOKUP(#REF!,localizacao,2,FALSE))","v":""},null,"",null,""]
[null,"",null,{"$f":"IF(ISERROR(VLOOKUP(#REF!,localizacao,2,FALSE)),\"\",VLOOKUP(#REF!,localizacao,2,FALSE))","v":""},null,"",null,""]
[null,"",null,{"$f":"IF(ISERROR(VLOOKUP(#REF!,localizacao,2,FALSE)),\"\",VLOOKUP(#REF!,localizacao,2,FALSE))","v":""},null,"",null,""]
[null,"",null,{"$f":"IF(ISERROR(VLOOKUP(#REF!,localizacao,2,FALSE)),\"\",VLOOKUP(#REF!,localizacao,2,FALSE))","v":""},null,"",null,""]
[null,"",null,{"$f":"IF(ISERROR(VLOOKUP(#REF!,localizacao,2,FALSE)),\"\",VLOOKUP(#REF!,localizacao,2,FALSE))","v":""},null,"",null,""]
[null,"",null,{"$f":"IF(ISERROR(VLOOKUP(#REF!,localizacao,2,FALSE)),\"\",VLOOKUP(#REF!,localizacao,2,FALSE))","v":""},null,"",null,""]
[null,"",null,{"$f":"IF(ISERROR(VLOOKUP(#REF!,localizacao,2,FALSE)),\"\",VLOOKUP(#REF!,localizacao,2,FALSE))","v":""},null,"",null,""]
[null,"",null,{"$f":"IF(ISERROR(VLOOKUP(#REF!,localizacao,2,FALSE)),\"\",VLOOKUP(#REF!,localizacao,2,FALSE))","v":""},null,"",null,""]
[null,"",null,{"$f":"IF(ISERROR(VLOOKUP(#REF!,localizacao,2,FALSE)),\"\",VLOOKUP(#REF!,localizacao,2,FALSE))","v":""},null,"",null,""]
[null,"",null,{"$f":"IF(ISERROR(VLOOKUP(#REF!,localizacao,2,FALSE)),\"\",VLOOKUP(#REF!,localizacao,2,FALSE))","v":""},null,"",null,""]
[null,"",null,{"$f":"IF(ISERROR(VLOOKUP(#REF!,localizacao,2,FALSE)),\"\",VLOOKUP(#REF!,localizacao,2,FALSE))","v":""},null,"",null,""]
[null,"",null,{"$f":"IF(ISERROR(VLOOKUP(#REF!,localizacao,2,FALSE)),\"\",VLOOKUP(#REF!,localizacao,2,FALSE))","v":""},null,"",null,""]
[null,"",null,{"$f":"IF(ISERROR(VLOOKUP(#REF!,localizacao,2,FALSE)),\"\",VLOOKUP(#REF!,localizacao,2,FALSE))","v":""},null,"",null,""]
[null,"",null,{"$f":"IF(ISERROR(VLOOKUP(#REF!,localizacao,2,FALSE)),\"\",VLOOKUP(#REF!,localizacao,2,FALSE))","v":""},null,"",null,""]
[null,"",null,{"$f":"IF(ISERROR(VLOOKUP(#REF!,localizacao,2,FALSE)),\"\",VLOOKUP(#REF!,localizacao,2,FALSE))","v":""},null,"",null,""]
[null,"",null,{"$f":"IF(ISERROR(VLOOKUP(#REF!,localizacao,2,FALSE)),\"\",VLOOKUP(#REF!,localizacao,2,FALSE))","v":""},null,"",null,""]
[null,"",null,{"$f":"IF(ISERROR(VLOOKUP(#REF!,localizacao,2,FALSE)),\"\",VLOOKUP(#REF!,localizacao,2,FALSE))","v":""},null,"",null,""]
[null,"",null,{"$f":"IF(ISERROR(VLOOKUP(#REF!,localizacao,2,FALSE)),\"\",VLOOKUP(#REF!,localizacao,2,FALSE))","v":""},null,"",null,""]
[null,"",null,{"$f":"IF(ISERROR(VLOOKUP(#REF!,localizacao,2,FALSE)),\"\",VLOOKUP(#REF!,localizacao,2,FALSE))","v":""},null,"",null,""]
[null,"",null,{"$f":"IF(ISERROR(VLOOKUP(#REF!,localizacao,2,FALSE)),\"\",VLOOKUP(#REF!,localizacao,2,FALSE))","v":""},null,"",null,""]
[null,"",null,{"$f":"IF(ISERROR(VLOOKUP(#REF!,localizacao,2,FALSE)),\"\",VLOOKUP(#REF!,localizacao,2,FALSE))","v":""},null,"",null,""]
[null,"",null,{"$f":"IF(ISERROR(VLOOKUP(#REF!,localizacao,2,FALSE)),\"\",VLOOKUP(#REF!,localizacao,2,FALSE))","v":""},null,"",null,""]
[null,"",null,{"$f":"IF(ISERROR(VLOOKUP(#REF!,localizacao,2,FALSE)),\"\",VLOOKUP(#REF!,localizacao,2,FALSE))","v":""},null,"",null,""]
[null,"",null,{"$f":"IF(ISERROR(VLOOKUP(#REF!,localizacao,2,FALSE)),\"\",VLOOKUP(#REF!,localizacao,2,FALSE))","v":""},null,"",null,""]
[null,"",null,{"$f":"IF(ISERROR(VLOOKUP(#REF!,localizacao,2,FALSE)),\"\",VLOOKUP(#REF!,localizacao,2,FALSE))","v":""},null,"",null,""]
[null,"",null,{"$f":"IF(ISERROR(VLOOKUP(#REF!,localizacao,2,FALSE)),\"\",VLOOKUP(#REF!,localizacao,2,FALSE))","v":""},null,"",null,""]
[null,"",null,{"$f":"IF(ISERROR(VLOOKUP(#REF!,localizacao,2,FALSE)),\"\",VLOOKUP(#REF!,localizacao,2,FALSE))","v":""},null,"",null,""]
[null,"",null,{"$f":"IF(ISERROR(VLOOKUP(#REF!,localizacao,2,FALSE)),\"\",VLOOKUP(#REF!,localizacao,2,FALSE))","v":""},null,"",null,""]
[null,"",null,{"$f":"IF(ISERROR(VLOOKUP(#REF!,localizacao,2,FALSE)),\"\",VLOOKUP(#REF!,localizacao,2,FALSE))","v":""},null,"",null,""]
[null,"",null,{"$f":"IF(ISERROR(VLOOKUP(#REF!,localizacao,2,FALSE)),\"\",VLOOKUP(#REF!,localizacao,2,FALSE))","v":""},null,"",null,""]
[null,"",null,{"$f":"IF(ISERROR(VLOOKUP(#REF!,localizacao,2,FALSE)),\"\",VLOOKUP(#REF!,localizacao,2,FALSE))","v":""},null,"",null,""]
[null,"",null,{"$f":"IF(ISERROR(VLOOKUP(#REF!,localizacao,2,FALSE)),\"\",VLOOKUP(#REF!,localizacao,2,FALSE))","v":""},null,"",null,""]
[null,"",null,{"$f":"IF(ISERROR(VLOOKUP(#REF!,localizacao,2,FALSE)),\"\",VLOOKUP(#REF!,localizacao,2,FALSE))","v":""},null,"",null,""]
[null,"",null,{"$f":"IF(ISERROR(VLOOKUP(#REF!,localizacao,2,FALSE)),\"\",VLOOKUP(#REF!,localizacao,2,FALSE))","v":""},null,"",null,""]
[null,"",null,{"$f":"IF(ISERROR(VLOOKUP(#REF!,localizacao,2,FALSE)),\"\",VLOOKUP(#REF!,localizacao,2,FALSE))","v":""},null,"",null,""]
[null,"",null,{"$f":"IF(ISERROR(VLOOKUP(#REF!,localizacao,2,FALSE)),\"\",VLOOKUP(#REF!,localizacao,2,FALSE))","v":""},null,"",null,""]
[null,"",null,{"$f":"IF(ISERROR(VLOOKUP(#REF!,localizacao,2,FALSE)),\"\",VLOOKUP(#REF!,localizacao,2,FALSE))","v":""},null,"",null,""]
[null,"",null,{"$f":"IF(ISERROR(VLOOKUP(#REF!,localizacao,2,FALSE)),\"\",VLOOKUP(#REF!,localizacao,2,FALSE))","v":""},null,"",null,""]
[null,"",null,{"$f":"IF(ISERROR(VLOOKUP(#REF!,localizacao,2,FALSE)),\"\",VLOOKUP(#REF!,localizacao,2,FALSE))","v":""},null,"",null,""]
[null,"",null,{"$f":"IF(ISERROR(VLOOKUP(#REF!,localizacao,2,FALSE)),\"\",VLOOKUP(#REF!,localizacao,2,FALSE))","v":""},null,"",null,""]
[null,"",null,{"$f":"IF(ISERROR(VLOOKUP(#REF!,localizacao,2,FALSE)),\"\",VLOOKUP(#REF!,localizacao,2,FALSE))","v":""},null,"",null,""]
[null,"",null,{"$f":"IF(ISERROR(VLOOKUP(#REF!,localizacao,2,FALSE)),\"\",VLOOKUP(#REF!,localizacao,2,FALSE))","v":""},null,"",null,""]
[null,"",null,{"$f":"IF(ISERROR(VLOOKUP(#REF!,localizacao,2,FALSE)),\"\",VLOOKUP(#REF!,localizacao,2,FALSE))","v":""},null,"",null,""]
[null,"",null,{"$f":"IF(ISERROR(VLOOKUP(#REF!,localizacao,2,FALSE)),\"\",VLOOKUP(#REF!,localizacao,2,FALSE))","v":""},null,"",null,""]
[null,"",null,{"$f":"IF(ISERROR(VLOOKUP(#REF!,localizacao,2,FALSE)),\"\",VLOOKUP(#REF!,localizacao,2,FALSE))","v":""},null,"",null,""]
[null,"",null,{"$f":"IF(ISERROR(VLOOKUP(#REF!,localizacao,2,FALSE)),\"\",VLOOKUP(#REF!,localizacao,2,FALSE))","v":""},null,"",null,""]
[null,"",null,{"$f":"IF(ISERROR(VLOOKUP(#REF!,localizacao,2,FALSE)),\"\",VLOOKUP(#REF!,localizacao,2,FALSE))","v":""},null,"",null,""]
[null,"",null,{"$f":"IF(ISERROR(VLOOKUP(#REF!,localizacao,2,FALSE)),\"\",VLOOKUP(#REF!,localizacao,2,FALSE))","v":""},null,"",null,""]
[null,"",null,{"$f":"IF(ISERROR(VLOOKUP(#REF!,localizacao,2,FALSE)),\"\",VLOOKUP(#REF!,localizacao,2,FALSE))","v":""},null,"",null,""]
[null,"",null,{"$f":"IF(ISERROR(VLOOKUP(#REF!,localizacao,2,FALSE)),\"\",VLOOKUP(#REF!,localizacao,2,FALSE))","v":""},null,"",null,""]
[null,"",null,{"$f":"IF(ISERROR(VLOOKUP(#REF!,localizacao,2,FALSE)),\"\",VLOOKUP(#REF!,localizacao,2,FALSE))","v":""},null,"",null,""]
[null,"",null,{"$f":"IF(ISERROR(VLOOKUP(#REF!,localizacao,2,FALSE)),\"\",VLOOKUP(#REF!,localizacao,2,FALSE))","v":""},null,"",null,""]
[null,"",null,{"$f":"IF(ISERROR(VLOOKUP(#REF!,localizacao,2,FALSE)),\"\",VLOOKUP(#REF!,localizacao,2,FALSE))","v":""},null,"",null,""]
[null,"",null,{"$f":"IF(ISERROR(VLOOKUP(#REF!,localizacao,2,FALSE)),\"\",VLOOKUP(#REF!,localizacao,2,FALSE))","v":""},null,"",null,""]
[null,"",null,{"$f":"IF(ISERROR(VLOOKUP(#REF!,localizacao,2,FALSE)),\"\",VLOOKUP(#REF!,localizacao,2,FALSE))","v":""},null,"",null,""]
[null,"",null,{"$f":"IF(ISERROR(VLOOKUP(#REF!,localizacao,2,FALSE)),\"\",VLOOKUP(#REF!,localizacao,2,FALSE))","v":""},null,"",null,""]
[null,"",null,{"$f":"IF(ISERROR(VLOOKUP(#REF!,localizacao,2,FALSE)),\"\",VLOOKUP(#REF!,localizacao,2,FALSE))","v":""},null,"",null,""]
[null,"",null,{"$f":"IF(ISERROR(VLOOKUP(#REF!,localizacao,2,FALSE)),\"\",VLOOKUP(#REF!,localizacao,2,FALSE))","v":""},null,"",null,""]
[null,"",null,{"$f":"IF(ISERROR(VLOOKUP(#REF!,localizacao,2,FALSE)),\"\",VLOOKUP(#REF!,localizacao,2,FALSE))","v":""},null,"",null,""]
[null,"",null,{"$f":"IF(ISERROR(VLOOKUP(#REF!,localizacao,2,FALSE)),\"\",VLOOKUP(#REF!,localizacao,2,FALSE))","v":""},null,{"$f":"IF(ISERROR(VLOOKUP(G3910,componentes,2,FALSE)),\"\",VLOOKUP(G3910,componentes,2,FALSE))","v":""},null,{"$f":"IF(ISERROR(VLOOKUP(I3910,rubricas,2,FALSE)),\"\",VLOOKUP(I3910,rubricas,2,FALSE))","v":""}]
[null,{"$f":"IF(C3911<>\"\",+B3910+1,\"\")","v":""},null,{"$f":"IF(ISERROR(VLOOKUP(#REF!,localizacao,2,FALSE)),\"\",VLOOKUP(#REF!,localizacao,2,FALSE))","v":""},null,"",null,""]
[null,"",null,{"$f":"IF(ISERROR(VLOOKUP(#REF!,localizacao,2,FALSE)),\"\",VLOOKUP(#REF!,localizacao,2,FALSE))","v":""},null,"",null,""]
[null,"",null,{"$f":"IF(ISERROR(VLOOKUP(#REF!,localizacao,2,FALSE)),\"\",VLOOKUP(#REF!,localizacao,2,FALSE))","v":""},null,"",null,""]
[null,"",null,{"$f":"IF(ISERROR(VLOOKUP(#REF!,localizacao,2,FALSE)),\"\",VLOOKUP(#REF!,localizacao,2,FALSE))","v":""},null,"",null,""]
[null,"",null,{"$f":"IF(ISERROR(VLOOKUP(#REF!,localizacao,2,FALSE)),\"\",VLOOKUP(#REF!,localizacao,2,FALSE))","v":""},null,"",null,""]
[null,"",null,{"$f":"IF(ISERROR(VLOOKUP(#REF!,localizacao,2,FALSE)),\"\",VLOOKUP(#REF!,localizacao,2,FALSE))","v":""},null,"",null,""]
[null,"",null,{"$f":"IF(ISERROR(VLOOKUP(#REF!,localizacao,2,FALSE)),\"\",VLOOKUP(#REF!,localizacao,2,FALSE))","v":""},null,"",null,""]
[null,"",null,{"$f":"IF(ISERROR(VLOOKUP(#REF!,localizacao,2,FALSE)),\"\",VLOOKUP(#REF!,localizacao,2,FALSE))","v":""},null,"",null,""]
[null,"",null,{"$f":"IF(ISERROR(VLOOKUP(#REF!,localizacao,2,FALSE)),\"\",VLOOKUP(#REF!,localizacao,2,FALSE))","v":""},null,"",null,""]
[null,"",null,{"$f":"IF(ISERROR(VLOOKUP(#REF!,localizacao,2,FALSE)),\"\",VLOOKUP(#REF!,localizacao,2,FALSE))","v":""},null,"",null,""]
[null,"",null,{"$f":"IF(ISERROR(VLOOKUP(#REF!,localizacao,2,FALSE)),\"\",VLOOKUP(#REF!,localizacao,2,FALSE))","v":""},null,"",null,""]
[null,"",null,{"$f":"IF(ISERROR(VLOOKUP(#REF!,localizacao,2,FALSE)),\"\",VLOOKUP(#REF!,localizacao,2,FALSE))","v":""},null,"",null,""]
[null,"",null,{"$f":"IF(ISERROR(VLOOKUP(#REF!,localizacao,2,FALSE)),\"\",VLOOKUP(#REF!,localizacao,2,FALSE))","v":""},null,"",null,""]
[null,"",null,{"$f":"IF(ISERROR(VLOOKUP(#REF!,localizacao,2,FALSE)),\"\",VLOOKUP(#REF!,localizacao,2,FALSE))","v":""},null,"",null,""]
[null,"",null,{"$f":"IF(ISERROR(VLOOKUP(#REF!,localizacao,2,FALSE)),\"\",VLOOKUP(#REF!,localizacao,2,FALSE))","v":""},null,"",null,""]
[null,"",null,{"$f":"IF(ISERROR(VLOOKUP(#REF!,localizacao,2,FALSE)),\"\",VLOOKUP(#REF!,localizacao,2,FALSE))","v":""},null,"",null,""]
[null,"",null,{"$f":"IF(ISERROR(VLOOKUP(#REF!,localizacao,2,FALSE)),\"\",VLOOKUP(#REF!,localizacao,2,FALSE))","v":""},null,"",null,""]
[null,"",null,{"$f":"IF(ISERROR(VLOOKUP(#REF!,localizacao,2,FALSE)),\"\",VLOOKUP(#REF!,localizacao,2,FALSE))","v":""},null,"",null,""]
[null,"",null,{"$f":"IF(ISERROR(VLOOKUP(#REF!,localizacao,2,FALSE)),\"\",VLOOKUP(#REF!,localizacao,2,FALSE))","v":""},null,"",null,""]
[null,"",null,{"$f":"IF(ISERROR(VLOOKUP(#REF!,localizacao,2,FALSE)),\"\",VLOOKUP(#REF!,localizacao,2,FALSE))","v":""},null,"",null,""]
[null,"",null,{"$f":"IF(ISERROR(VLOOKUP(#REF!,localizacao,2,FALSE)),\"\",VLOOKUP(#REF!,localizacao,2,FALSE))","v":""},null,"",null,""]
[null,"",null,{"$f":"IF(ISERROR(VLOOKUP(#REF!,localizacao,2,FALSE)),\"\",VLOOKUP(#REF!,localizacao,2,FALSE))","v":""},null,"",null,""]
[null,"",null,{"$f":"IF(ISERROR(VLOOKUP(#REF!,localizacao,2,FALSE)),\"\",VLOOKUP(#REF!,localizacao,2,FALSE))","v":""},null,"",null,""]
[null,"",null,{"$f":"IF(ISERROR(VLOOKUP(#REF!,localizacao,2,FALSE)),\"\",VLOOKUP(#REF!,localizacao,2,FALSE))","v":""},null,"",null,""]
[null,"",null,{"$f":"IF(ISERROR(VLOOKUP(#REF!,localizacao,2,FALSE)),\"\",VLOOKUP(#REF!,localizacao,2,FALSE))","v":""},null,"",null,""]
[null,"",null,{"$f":"IF(ISERROR(VLOOKUP(#REF!,localizacao,2,FALSE)),\"\",VLOOKUP(#REF!,localizacao,2,FALSE))","v":""},null,"",null,""]
[null,"",null,{"$f":"IF(ISERROR(VLOOKUP(#REF!,localizacao,2,FALSE)),\"\",VLOOKUP(#REF!,localizacao,2,FALSE))","v":""},null,"",null,""]
[null,"",null,{"$f":"IF(ISERROR(VLOOKUP(#REF!,localizacao,2,FALSE)),\"\",VLOOKUP(#REF!,localizacao,2,FALSE))","v":""},null,"",null,""]
[null,"",null,{"$f":"IF(ISERROR(VLOOKUP(#REF!,localizacao,2,FALSE)),\"\",VLOOKUP(#REF!,localizacao,2,FALSE))","v":""},null,"",null,""]
[null,"",null,{"$f":"IF(ISERROR(VLOOKUP(#REF!,localizacao,2,FALSE)),\"\",VLOOKUP(#REF!,localizacao,2,FALSE))","v":""},null,"",null,""]
[null,"",null,{"$f":"IF(ISERROR(VLOOKUP(#REF!,localizacao,2,FALSE)),\"\",VLOOKUP(#REF!,localizacao,2,FALSE))","v":""},null,"",null,""]
[null,"",null,{"$f":"IF(ISERROR(VLOOKUP(#REF!,localizacao,2,FALSE)),\"\",VLOOKUP(#REF!,localizacao,2,FALSE))","v":""},null,"",null,""]
[null,"",null,{"$f":"IF(ISERROR(VLOOKUP(#REF!,localizacao,2,FALSE)),\"\",VLOOKUP(#REF!,localizacao,2,FALSE))","v":""},null,"",null,""]
[null,"",null,{"$f":"IF(ISERROR(VLOOKUP(#REF!,localizacao,2,FALSE)),\"\",VLOOKUP(#REF!,localizacao,2,FALSE))","v":""},null,"",null,""]
[null,"",null,{"$f":"IF(ISERROR(VLOOKUP(#REF!,localizacao,2,FALSE)),\"\",VLOOKUP(#REF!,localizacao,2,FALSE))","v":""},null,"",null,""]
[null,"",null,{"$f":"IF(ISERROR(VLOOKUP(#REF!,localizacao,2,FALSE)),\"\",VLOOKUP(#REF!,localizacao,2,FALSE))","v":""},null,"",null,""]
[null,"",null,{"$f":"IF(ISERROR(VLOOKUP(#REF!,localizacao,2,FALSE)),\"\",VLOOKUP(#REF!,localizacao,2,FALSE))","v":""},null,"",null,""]
[null,"",null,{"$f":"IF(ISERROR(VLOOKUP(#REF!,localizacao,2,FALSE)),\"\",VLOOKUP(#REF!,localizacao,2,FALSE))","v":""},null,"",null,""]
[null,"",null,{"$f":"IF(ISERROR(VLOOKUP(#REF!,localizacao,2,FALSE)),\"\",VLOOKUP(#REF!,localizacao,2,FALSE))","v":""},null,"",null,""]
[null,"",null,{"$f":"IF(ISERROR(VLOOKUP(#REF!,localizacao,2,FALSE)),\"\",VLOOKUP(#REF!,localizacao,2,FALSE))","v":""},null,"",null,""]
[null,"",null,{"$f":"IF(ISERROR(VLOOKUP(#REF!,localizacao,2,FALSE)),\"\",VLOOKUP(#REF!,localizacao,2,FALSE))","v":""},null,"",null,""]
[null,"",null,{"$f":"IF(ISERROR(VLOOKUP(#REF!,localizacao,2,FALSE)),\"\",VLOOKUP(#REF!,localizacao,2,FALSE))","v":""},null,"",null,""]
[null,"",null,{"$f":"IF(ISERROR(VLOOKUP(#REF!,localizacao,2,FALSE)),\"\",VLOOKUP(#REF!,localizacao,2,FALSE))","v":""},null,"",null,""]
[null,"",null,{"$f":"IF(ISERROR(VLOOKUP(#REF!,localizacao,2,FALSE)),\"\",VLOOKUP(#REF!,localizacao,2,FALSE))","v":""},null,"",null,""]
[null,"",null,{"$f":"IF(ISERROR(VLOOKUP(#REF!,localizacao,2,FALSE)),\"\",VLOOKUP(#REF!,localizacao,2,FALSE))","v":""},null,"",null,""]
[null,"",null,{"$f":"IF(ISERROR(VLOOKUP(#REF!,localizacao,2,FALSE)),\"\",VLOOKUP(#REF!,localizacao,2,FALSE))","v":""},null,"",null,""]
[null,"",null,{"$f":"IF(ISERROR(VLOOKUP(#REF!,localizacao,2,FALSE)),\"\",VLOOKUP(#REF!,localizacao,2,FALSE))","v":""},null,"",null,""]
[null,"",null,{"$f":"IF(ISERROR(VLOOKUP(#REF!,localizacao,2,FALSE)),\"\",VLOOKUP(#REF!,localizacao,2,FALSE))","v":""},null,"",null,""]
[null,"",null,{"$f":"IF(ISERROR(VLOOKUP(#REF!,localizacao,2,FALSE)),\"\",VLOOKUP(#REF!,localizacao,2,FALSE))","v":""},null,"",null,""]
[null,"",null,{"$f":"IF(ISERROR(VLOOKUP(#REF!,localizacao,2,FALSE)),\"\",VLOOKUP(#REF!,localizacao,2,FALSE))","v":""},null,"",null,""]
[null,"",null,{"$f":"IF(ISERROR(VLOOKUP(#REF!,localizacao,2,FALSE)),\"\",VLOOKUP(#REF!,localizacao,2,FALSE))","v":""},null,"",null,""]
[null,"",null,{"$f":"IF(ISERROR(VLOOKUP(#REF!,localizacao,2,FALSE)),\"\",VLOOKUP(#REF!,localizacao,2,FALSE))","v":""},null,"",null,""]
[null,"",null,{"$f":"IF(ISERROR(VLOOKUP(#REF!,localizacao,2,FALSE)),\"\",VLOOKUP(#REF!,localizacao,2,FALSE))","v":""},null,"",null,""]
[null,"",null,{"$f":"IF(ISERROR(VLOOKUP(#REF!,localizacao,2,FALSE)),\"\",VLOOKUP(#REF!,localizacao,2,FALSE))","v":""},null,"",null,""]
[null,"",null,{"$f":"IF(ISERROR(VLOOKUP(#REF!,localizacao,2,FALSE)),\"\",VLOOKUP(#REF!,localizacao,2,FALSE))","v":""},null,"",null,""]
[null,"",null,{"$f":"IF(ISERROR(VLOOKUP(#REF!,localizacao,2,FALSE)),\"\",VLOOKUP(#REF!,localizacao,2,FALSE))","v":""},null,"",null,""]
[null,"",null,{"$f":"IF(ISERROR(VLOOKUP(#REF!,localizacao,2,FALSE)),\"\",VLOOKUP(#REF!,localizacao,2,FALSE))","v":""},null,"",null,""]
[null,"",null,{"$f":"IF(ISERROR(VLOOKUP(#REF!,localizacao,2,FALSE)),\"\",VLOOKUP(#REF!,localizacao,2,FALSE))","v":""},null,"",null,""]
[null,"",null,{"$f":"IF(ISERROR(VLOOKUP(#REF!,localizacao,2,FALSE)),\"\",VLOOKUP(#REF!,localizacao,2,FALSE))","v":""},null,"",null,""]
[null,"",null,{"$f":"IF(ISERROR(VLOOKUP(#REF!,localizacao,2,FALSE)),\"\",VLOOKUP(#REF!,localizacao,2,FALSE))","v":""},null,"",null,""]
[null,"",null,{"$f":"IF(ISERROR(VLOOKUP(#REF!,localizacao,2,FALSE)),\"\",VLOOKUP(#REF!,localizacao,2,FALSE))","v":""},null,"",null,""]
[null,"",null,{"$f":"IF(ISERROR(VLOOKUP(#REF!,localizacao,2,FALSE)),\"\",VLOOKUP(#REF!,localizacao,2,FALSE))","v":""},null,"",null,""]
[null,"",null,{"$f":"IF(ISERROR(VLOOKUP(#REF!,localizacao,2,FALSE)),\"\",VLOOKUP(#REF!,localizacao,2,FALSE))","v":""},null,"",null,""]
[null,"",null,{"$f":"IF(ISERROR(VLOOKUP(#REF!,localizacao,2,FALSE)),\"\",VLOOKUP(#REF!,localizacao,2,FALSE))","v":""},null,{"$f":"IF(ISERROR(VLOOKUP(G3974,componentes,2,FALSE)),\"\",VLOOKUP(G3974,componentes,2,FALSE))","v":""},null,{"$f":"IF(ISERROR(VLOOKUP(I3974,rubricas,2,FALSE)),\"\",VLOOKUP(I3974,rubricas,2,FALSE))","v":""}]
[null,{"$f":"IF(C3975<>\"\",+B3974+1,\"\")","v":""},null,{"$f":"IF(ISERROR(VLOOKUP(#REF!,localizacao,2,FALSE)),\"\",VLOOKUP(#REF!,localizacao,2,FALSE))","v":""},null,"",null,""]
[null,"",null,{"$f":"IF(ISERROR(VLOOKUP(#REF!,localizacao,2,FALSE)),\"\",VLOOKUP(#REF!,localizacao,2,FALSE))","v":""},null,"",null,""]
[null,"",null,{"$f":"IF(ISERROR(VLOOKUP(#REF!,localizacao,2,FALSE)),\"\",VLOOKUP(#REF!,localizacao,2,FALSE))","v":""},null,"",null,""]
[null,"",null,{"$f":"IF(ISERROR(VLOOKUP(#REF!,localizacao,2,FALSE)),\"\",VLOOKUP(#REF!,localizacao,2,FALSE))","v":""},null,"",null,""]
[null,"",null,{"$f":"IF(ISERROR(VLOOKUP(#REF!,localizacao,2,FALSE)),\"\",VLOOKUP(#REF!,localizacao,2,FALSE))","v":""},null,"",null,""]
[null,"",null,{"$f":"IF(ISERROR(VLOOKUP(#REF!,localizacao,2,FALSE)),\"\",VLOOKUP(#REF!,localizacao,2,FALSE))","v":""},null,"",null,""]
[null,"",null,{"$f":"IF(ISERROR(VLOOKUP(#REF!,localizacao,2,FALSE)),\"\",VLOOKUP(#REF!,localizacao,2,FALSE))","v":""},null,"",null,""]
[null,"",null,{"$f":"IF(ISERROR(VLOOKUP(#REF!,localizacao,2,FALSE)),\"\",VLOOKUP(#REF!,localizacao,2,FALSE))","v":""},null,"",null,""]
[null,"",null,{"$f":"IF(ISERROR(VLOOKUP(#REF!,localizacao,2,FALSE)),\"\",VLOOKUP(#REF!,localizacao,2,FALSE))","v":""},null,"",null,""]
[null,"",null,{"$f":"IF(ISERROR(VLOOKUP(#REF!,localizacao,2,FALSE)),\"\",VLOOKUP(#REF!,localizacao,2,FALSE))","v":""},null,"",null,""]
[null,"",null,{"$f":"IF(ISERROR(VLOOKUP(#REF!,localizacao,2,FALSE)),\"\",VLOOKUP(#REF!,localizacao,2,FALSE))","v":""},null,"",null,""]
[null,"",null,{"$f":"IF(ISERROR(VLOOKUP(#REF!,localizacao,2,FALSE)),\"\",VLOOKUP(#REF!,localizacao,2,FALSE))","v":""},null,"",null,""]
[null,"",null,{"$f":"IF(ISERROR(VLOOKUP(#REF!,localizacao,2,FALSE)),\"\",VLOOKUP(#REF!,localizacao,2,FALSE))","v":""},null,"",null,""]
[null,"",null,{"$f":"IF(ISERROR(VLOOKUP(#REF!,localizacao,2,FALSE)),\"\",VLOOKUP(#REF!,localizacao,2,FALSE))","v":""},null,"",null,""]
[null,"",null,{"$f":"IF(ISERROR(VLOOKUP(#REF!,localizacao,2,FALSE)),\"\",VLOOKUP(#REF!,localizacao,2,FALSE))","v":""},null,"",null,""]
[null,"",null,{"$f":"IF(ISERROR(VLOOKUP(#REF!,localizacao,2,FALSE)),\"\",VLOOKUP(#REF!,localizacao,2,FALSE))","v":""},null,"",null,""]
[null,"",null,{"$f":"IF(ISERROR(VLOOKUP(#REF!,localizacao,2,FALSE)),\"\",VLOOKUP(#REF!,localizacao,2,FALSE))","v":""},null,"",null,""]
[null,"",null,{"$f":"IF(ISERROR(VLOOKUP(#REF!,localizacao,2,FALSE)),\"\",VLOOKUP(#REF!,localizacao,2,FALSE))","v":""},null,"",null,""]
[null,"",null,{"$f":"IF(ISERROR(VLOOKUP(#REF!,localizacao,2,FALSE)),\"\",VLOOKUP(#REF!,localizacao,2,FALSE))","v":""},null,"",null,""]
[null,"",null,{"$f":"IF(ISERROR(VLOOKUP(#REF!,localizacao,2,FALSE)),\"\",VLOOKUP(#REF!,localizacao,2,FALSE))","v":""},null,"",null,""]
[null,"",null,{"$f":"IF(ISERROR(VLOOKUP(#REF!,localizacao,2,FALSE)),\"\",VLOOKUP(#REF!,localizacao,2,FALSE))","v":""},null,"",null,""]
[null,"",null,{"$f":"IF(ISERROR(VLOOKUP(#REF!,localizacao,2,FALSE)),\"\",VLOOKUP(#REF!,localizacao,2,FALSE))","v":""},null,"",null,""]
[null,"",null,{"$f":"IF(ISERROR(VLOOKUP(#REF!,localizacao,2,FALSE)),\"\",VLOOKUP(#REF!,localizacao,2,FALSE))","v":""},null,"",null,""]
[null,"",null,{"$f":"IF(ISERROR(VLOOKUP(#REF!,localizacao,2,FALSE)),\"\",VLOOKUP(#REF!,localizacao,2,FALSE))","v":""},null,"",null,""]
[null,"",null,{"$f":"IF(ISERROR(VLOOKUP(#REF!,localizacao,2,FALSE)),\"\",VLOOKUP(#REF!,localizacao,2,FALSE))","v":""},null,"",null,""]
[null,"",null,{"$f":"IF(ISERROR(VLOOKUP(#REF!,localizacao,2,FALSE)),\"\",VLOOKUP(#REF!,localizacao,2,FALSE))","v":""},null,"",null,""]
[null,"",null,{"$f":"IF(ISERROR(VLOOKUP(#REF!,localizacao,2,FALSE)),\"\",VLOOKUP(#REF!,localizacao,2,FALSE))","v":""},null,"",null,""]
[null,"",null,{"$f":"IF(ISERROR(VLOOKUP(#REF!,localizacao,2,FALSE)),\"\",VLOOKUP(#REF!,localizacao,2,FALSE))","v":""},null,"",null,""]
[null,"",null,{"$f":"IF(ISERROR(VLOOKUP(#REF!,localizacao,2,FALSE)),\"\",VLOOKUP(#REF!,localizacao,2,FALSE))","v":""},null,"",null,""]
[null,"",null,{"$f":"IF(ISERROR(VLOOKUP(#REF!,localizacao,2,FALSE)),\"\",VLOOKUP(#REF!,localizacao,2,FALSE))","v":""},null,"",null,""]
[null,"",null,{"$f":"IF(ISERROR(VLOOKUP(#REF!,localizacao,2,FALSE)),\"\",VLOOKUP(#REF!,localizacao,2,FALSE))","v":""},null,"",null,""]
[null,"",null,{"$f":"IF(ISERROR(VLOOKUP(#REF!,localizacao,2,FALSE)),\"\",VLOOKUP(#REF!,localizacao,2,FALSE))","v":""},null,"",null,""]
[null,"",null,{"$f":"IF(ISERROR(VLOOKUP(#REF!,localizacao,2,FALSE)),\"\",VLOOKUP(#REF!,localizacao,2,FALSE))","v":""},null,"",null,""]
[null,"",null,{"$f":"IF(ISERROR(VLOOKUP(#REF!,localizacao,2,FALSE)),\"\",VLOOKUP(#REF!,localizacao,2,FALSE))","v":""},null,"",null,""]
[null,"",null,{"$f":"IF(ISERROR(VLOOKUP(#REF!,localizacao,2,FALSE)),\"\",VLOOKUP(#REF!,localizacao,2,FALSE))","v":""},null,"",null,""]
[null,"",null,{"$f":"IF(ISERROR(VLOOKUP(#REF!,localizacao,2,FALSE)),\"\",VLOOKUP(#REF!,localizacao,2,FALSE))","v":""},null,"",null,""]
[null,"",null,{"$f":"IF(ISERROR(VLOOKUP(#REF!,localizacao,2,FALSE)),\"\",VLOOKUP(#REF!,localizacao,2,FALSE))","v":""},null,"",null,""]
[null,"",null,{"$f":"IF(ISERROR(VLOOKUP(#REF!,localizacao,2,FALSE)),\"\",VLOOKUP(#REF!,localizacao,2,FALSE))","v":""},null,"",null,""]
[null,"",null,{"$f":"IF(ISERROR(VLOOKUP(#REF!,localizacao,2,FALSE)),\"\",VLOOKUP(#REF!,localizacao,2,FALSE))","v":""},null,"",null,""]
[null,"",null,{"$f":"IF(ISERROR(VLOOKUP(#REF!,localizacao,2,FALSE)),\"\",VLOOKUP(#REF!,localizacao,2,FALSE))","v":""},null,"",null,""]
[null,"",null,{"$f":"IF(ISERROR(VLOOKUP(#REF!,localizacao,2,FALSE)),\"\",VLOOKUP(#REF!,localizacao,2,FALSE))","v":""},null,"",null,""]
[null,"",null,{"$f":"IF(ISERROR(VLOOKUP(#REF!,localizacao,2,FALSE)),\"\",VLOOKUP(#REF!,localizacao,2,FALSE))","v":""},null,"",null,""]
[null,"",null,{"$f":"IF(ISERROR(VLOOKUP(#REF!,localizacao,2,FALSE)),\"\",VLOOKUP(#REF!,localizacao,2,FALSE))","v":""},null,"",null,""]
[null,"",null,{"$f":"IF(ISERROR(VLOOKUP(#REF!,localizacao,2,FALSE)),\"\",VLOOKUP(#REF!,localizacao,2,FALSE))","v":""},null,"",null,""]
[null,"",null,{"$f":"IF(ISERROR(VLOOKUP(#REF!,localizacao,2,FALSE)),\"\",VLOOKUP(#REF!,localizacao,2,FALSE))","v":""},null,"",null,""]
[null,"",null,{"$f":"IF(ISERROR(VLOOKUP(#REF!,localizacao,2,FALSE)),\"\",VLOOKUP(#REF!,localizacao,2,FALSE))","v":""},null,"",null,""]
[null,"",null,{"$f":"IF(ISERROR(VLOOKUP(#REF!,localizacao,2,FALSE)),\"\",VLOOKUP(#REF!,localizacao,2,FALSE))","v":""},null,"",null,""]
[null,"",null,{"$f":"IF(ISERROR(VLOOKUP(#REF!,localizacao,2,FALSE)),\"\",VLOOKUP(#REF!,localizacao,2,FALSE))","v":""},null,"",null,""]
[null,"",null,{"$f":"IF(ISERROR(VLOOKUP(#REF!,localizacao,2,FALSE)),\"\",VLOOKUP(#REF!,localizacao,2,FALSE))","v":""},null,"",null,""]
[null,"",null,{"$f":"IF(ISERROR(VLOOKUP(#REF!,localizacao,2,FALSE)),\"\",VLOOKUP(#REF!,localizacao,2,FALSE))","v":""},null,"",null,""]
[null,"",null,{"$f":"IF(ISERROR(VLOOKUP(#REF!,localizacao,2,FALSE)),\"\",VLOOKUP(#REF!,localizacao,2,FALSE))","v":""},null,"",null,""]
[null,"",null,{"$f":"IF(ISERROR(VLOOKUP(#REF!,localizacao,2,FALSE)),\"\",VLOOKUP(#REF!,localizacao,2,FALSE))","v":""},null,"",null,""]
[null,"",null,{"$f":"IF(ISERROR(VLOOKUP(#REF!,localizacao,2,FALSE)),\"\",VLOOKUP(#REF!,localizacao,2,FALSE))","v":""},null,"",null,""]
[null,"",null,{"$f":"IF(ISERROR(VLOOKUP(#REF!,localizacao,2,FALSE)),\"\",VLOOKUP(#REF!,localizacao,2,FALSE))","v":""},null,"",null,""]
[null,"",null,{"$f":"IF(ISERROR(VLOOKUP(#REF!,localizacao,2,FALSE)),\"\",VLOOKUP(#REF!,localizacao,2,FALSE))","v":""},null,"",null,""]
[null,"",null,{"$f":"IF(ISERROR(VLOOKUP(#REF!,localizacao,2,FALSE)),\"\",VLOOKUP(#REF!,localizacao,2,FALSE))","v":""},null,"",null,""]
[null,"",null,{"$f":"IF(ISERROR(VLOOKUP(#REF!,localizacao,2,FALSE)),\"\",VLOOKUP(#REF!,localizacao,2,FALSE))","v":""},null,"",null,""]
[null,"",null,{"$f":"IF(ISERROR(VLOOKUP(#REF!,localizacao,2,FALSE)),\"\",VLOOKUP(#REF!,localizacao,2,FALSE))","v":""},null,"",null,""]
[null,"",null,{"$f":"IF(ISERROR(VLOOKUP(#REF!,localizacao,2,FALSE)),\"\",VLOOKUP(#REF!,localizacao,2,FALSE))","v":""},null,"",null,""]
[null,"",null,{"$f":"IF(ISERROR(VLOOKUP(#REF!,localizacao,2,FALSE)),\"\",VLOOKUP(#REF!,localizacao,2,FALSE))","v":""},null,"",null,""]
[null,"",null,{"$f":"IF(ISERROR(VLOOKUP(#REF!,localizacao,2,FALSE)),\"\",VLOOKUP(#REF!,localizacao,2,FALSE))","v":""},null,"",null,""]
[null,"",null,{"$f":"IF(ISERROR(VLOOKUP(#REF!,localizacao,2,FALSE)),\"\",VLOOKUP(#REF!,localizacao,2,FALSE))","v":""},null,"",null,""]
[null,"",null,{"$f":"IF(ISERROR(VLOOKUP(#REF!,localizacao,2,FALSE)),\"\",VLOOKUP(#REF!,localizacao,2,FALSE))","v":""},null,"",null,""]
[null,"",null,{"$f":"IF(ISERROR(VLOOKUP(#REF!,localizacao,2,FALSE)),\"\",VLOOKUP(#REF!,localizacao,2,FALSE))","v":""},null,{"$f":"IF(ISERROR(VLOOKUP(G4038,componentes,2,FALSE)),\"\",VLOOKUP(G4038,componentes,2,FALSE))","v":""},null,{"$f":"IF(ISERROR(VLOOKUP(I4038,rubricas,2,FALSE)),\"\",VLOOKUP(I4038,rubricas,2,FALSE))","v":""}]
[null,{"$f":"IF(C4039<>\"\",+B4038+1,\"\")","v":""},null,{"$f":"IF(ISERROR(VLOOKUP(#REF!,localizacao,2,FALSE)),\"\",VLOOKUP(#REF!,localizacao,2,FALSE))","v":""},null,"",null,""]
[null,"",null,{"$f":"IF(ISERROR(VLOOKUP(#REF!,localizacao,2,FALSE)),\"\",VLOOKUP(#REF!,localizacao,2,FALSE))","v":""},null,"",null,""]
[null,"",null,{"$f":"IF(ISERROR(VLOOKUP(#REF!,localizacao,2,FALSE)),\"\",VLOOKUP(#REF!,localizacao,2,FALSE))","v":""},null,"",null,""]
[null,"",null,{"$f":"IF(ISERROR(VLOOKUP(#REF!,localizacao,2,FALSE)),\"\",VLOOKUP(#REF!,localizacao,2,FALSE))","v":""},null,"",null,""]
[null,"",null,{"$f":"IF(ISERROR(VLOOKUP(#REF!,localizacao,2,FALSE)),\"\",VLOOKUP(#REF!,localizacao,2,FALSE))","v":""},null,"",null,""]
[null,"",null,{"$f":"IF(ISERROR(VLOOKUP(#REF!,localizacao,2,FALSE)),\"\",VLOOKUP(#REF!,localizacao,2,FALSE))","v":""},null,"",null,""]
[null,"",null,{"$f":"IF(ISERROR(VLOOKUP(#REF!,localizacao,2,FALSE)),\"\",VLOOKUP(#REF!,localizacao,2,FALSE))","v":""},null,"",null,""]
[null,"",null,{"$f":"IF(ISERROR(VLOOKUP(#REF!,localizacao,2,FALSE)),\"\",VLOOKUP(#REF!,localizacao,2,FALSE))","v":""},null,"",null,""]
[null,"",null,{"$f":"IF(ISERROR(VLOOKUP(#REF!,localizacao,2,FALSE)),\"\",VLOOKUP(#REF!,localizacao,2,FALSE))","v":""},null,"",null,""]
[null,"",null,{"$f":"IF(ISERROR(VLOOKUP(#REF!,localizacao,2,FALSE)),\"\",VLOOKUP(#REF!,localizacao,2,FALSE))","v":""},null,"",null,""]
[null,"",null,{"$f":"IF(ISERROR(VLOOKUP(#REF!,localizacao,2,FALSE)),\"\",VLOOKUP(#REF!,localizacao,2,FALSE))","v":""},null,"",null,""]
[null,"",null,{"$f":"IF(ISERROR(VLOOKUP(#REF!,localizacao,2,FALSE)),\"\",VLOOKUP(#REF!,localizacao,2,FALSE))","v":""},null,"",null,""]
[null,"",null,{"$f":"IF(ISERROR(VLOOKUP(#REF!,localizacao,2,FALSE)),\"\",VLOOKUP(#REF!,localizacao,2,FALSE))","v":""},null,"",null,""]
[null,"",null,{"$f":"IF(ISERROR(VLOOKUP(#REF!,localizacao,2,FALSE)),\"\",VLOOKUP(#REF!,localizacao,2,FALSE))","v":""},null,"",null,""]
[null,"",null,{"$f":"IF(ISERROR(VLOOKUP(#REF!,localizacao,2,FALSE)),\"\",VLOOKUP(#REF!,localizacao,2,FALSE))","v":""},null,"",null,""]
[null,"",null,{"$f":"IF(ISERROR(VLOOKUP(#REF!,localizacao,2,FALSE)),\"\",VLOOKUP(#REF!,localizacao,2,FALSE))","v":""},null,"",null,""]
[null,"",null,{"$f":"IF(ISERROR(VLOOKUP(#REF!,localizacao,2,FALSE)),\"\",VLOOKUP(#REF!,localizacao,2,FALSE))","v":""},null,"",null,""]
[null,"",null,{"$f":"IF(ISERROR(VLOOKUP(#REF!,localizacao,2,FALSE)),\"\",VLOOKUP(#REF!,localizacao,2,FALSE))","v":""},null,"",null,""]
[null,"",null,{"$f":"IF(ISERROR(VLOOKUP(#REF!,localizacao,2,FALSE)),\"\",VLOOKUP(#REF!,localizacao,2,FALSE))","v":""},null,"",null,""]
[null,"",null,{"$f":"IF(ISERROR(VLOOKUP(#REF!,localizacao,2,FALSE)),\"\",VLOOKUP(#REF!,localizacao,2,FALSE))","v":""},null,"",null,""]
[null,"",null,{"$f":"IF(ISERROR(VLOOKUP(#REF!,localizacao,2,FALSE)),\"\",VLOOKUP(#REF!,localizacao,2,FALSE))","v":""},null,"",null,""]
[null,"",null,{"$f":"IF(ISERROR(VLOOKUP(#REF!,localizacao,2,FALSE)),\"\",VLOOKUP(#REF!,localizacao,2,FALSE))","v":""},null,"",null,""]
[null,"",null,{"$f":"IF(ISERROR(VLOOKUP(#REF!,localizacao,2,FALSE)),\"\",VLOOKUP(#REF!,localizacao,2,FALSE))","v":""},null,"",null,""]
[null,"",null,{"$f":"IF(ISERROR(VLOOKUP(#REF!,localizacao,2,FALSE)),\"\",VLOOKUP(#REF!,localizacao,2,FALSE))","v":""},null,"",null,""]
[null,"",null,{"$f":"IF(ISERROR(VLOOKUP(#REF!,localizacao,2,FALSE)),\"\",VLOOKUP(#REF!,localizacao,2,FALSE))","v":""},null,"",null,""]
[null,"",null,{"$f":"IF(ISERROR(VLOOKUP(#REF!,localizacao,2,FALSE)),\"\",VLOOKUP(#REF!,localizacao,2,FALSE))","v":""},null,"",null,""]
[null,"",null,{"$f":"IF(ISERROR(VLOOKUP(#REF!,localizacao,2,FALSE)),\"\",VLOOKUP(#REF!,localizacao,2,FALSE))","v":""},null,"",null,""]
[null,"",null,{"$f":"IF(ISERROR(VLOOKUP(#REF!,localizacao,2,FALSE)),\"\",VLOOKUP(#REF!,localizacao,2,FALSE))","v":""},null,"",null,""]
[null,"",null,{"$f":"IF(ISERROR(VLOOKUP(#REF!,localizacao,2,FALSE)),\"\",VLOOKUP(#REF!,localizacao,2,FALSE))","v":""},null,"",null,""]
[null,"",null,{"$f":"IF(ISERROR(VLOOKUP(#REF!,localizacao,2,FALSE)),\"\",VLOOKUP(#REF!,localizacao,2,FALSE))","v":""},null,"",null,""]
[null,"",null,{"$f":"IF(ISERROR(VLOOKUP(#REF!,localizacao,2,FALSE)),\"\",VLOOKUP(#REF!,localizacao,2,FALSE))","v":""},null,"",null,""]
[null,"",null,{"$f":"IF(ISERROR(VLOOKUP(#REF!,localizacao,2,FALSE)),\"\",VLOOKUP(#REF!,localizacao,2,FALSE))","v":""},null,"",null,""]
[null,"",null,{"$f":"IF(ISERROR(VLOOKUP(#REF!,localizacao,2,FALSE)),\"\",VLOOKUP(#REF!,localizacao,2,FALSE))","v":""},null,"",null,""]
[null,"",null,{"$f":"IF(ISERROR(VLOOKUP(#REF!,localizacao,2,FALSE)),\"\",VLOOKUP(#REF!,localizacao,2,FALSE))","v":""},null,"",null,""]
[null,"",null,{"$f":"IF(ISERROR(VLOOKUP(#REF!,localizacao,2,FALSE)),\"\",VLOOKUP(#REF!,localizacao,2,FALSE))","v":""},null,"",null,""]
[null,"",null,{"$f":"IF(ISERROR(VLOOKUP(#REF!,localizacao,2,FALSE)),\"\",VLOOKUP(#REF!,localizacao,2,FALSE))","v":""},null,"",null,""]
[null,"",null,{"$f":"IF(ISERROR(VLOOKUP(#REF!,localizacao,2,FALSE)),\"\",VLOOKUP(#REF!,localizacao,2,FALSE))","v":""},null,"",null,""]
[null,"",null,{"$f":"IF(ISERROR(VLOOKUP(#REF!,localizacao,2,FALSE)),\"\",VLOOKUP(#REF!,localizacao,2,FALSE))","v":""},null,"",null,""]
[null,"",null,{"$f":"IF(ISERROR(VLOOKUP(#REF!,localizacao,2,FALSE)),\"\",VLOOKUP(#REF!,localizacao,2,FALSE))","v":""},null,"",null,""]
[null,"",null,{"$f":"IF(ISERROR(VLOOKUP(#REF!,localizacao,2,FALSE)),\"\",VLOOKUP(#REF!,localizacao,2,FALSE))","v":""},null,"",null,""]
[null,"",null,{"$f":"IF(ISERROR(VLOOKUP(#REF!,localizacao,2,FALSE)),\"\",VLOOKUP(#REF!,localizacao,2,FALSE))","v":""},null,"",null,""]
[null,"",null,{"$f":"IF(ISERROR(VLOOKUP(#REF!,localizacao,2,FALSE)),\"\",VLOOKUP(#REF!,localizacao,2,FALSE))","v":""},null,"",null,""]
[null,"",null,{"$f":"IF(ISERROR(VLOOKUP(#REF!,localizacao,2,FALSE)),\"\",VLOOKUP(#REF!,localizacao,2,FALSE))","v":""},null,"",null,""]
[null,"",null,{"$f":"IF(ISERROR(VLOOKUP(#REF!,localizacao,2,FALSE)),\"\",VLOOKUP(#REF!,localizacao,2,FALSE))","v":""},null,"",null,""]
[null,"",null,{"$f":"IF(ISERROR(VLOOKUP(#REF!,localizacao,2,FALSE)),\"\",VLOOKUP(#REF!,localizacao,2,FALSE))","v":""},null,"",null,""]
[null,"",null,{"$f":"IF(ISERROR(VLOOKUP(#REF!,localizacao,2,FALSE)),\"\",VLOOKUP(#REF!,localizacao,2,FALSE))","v":""},null,"",null,""]
[null,"",null,{"$f":"IF(ISERROR(VLOOKUP(#REF!,localizacao,2,FALSE)),\"\",VLOOKUP(#REF!,localizacao,2,FALSE))","v":""},null,"",null,""]
[null,"",null,{"$f":"IF(ISERROR(VLOOKUP(#REF!,localizacao,2,FALSE)),\"\",VLOOKUP(#REF!,localizacao,2,FALSE))","v":""},null,"",null,""]
[null,"",null,{"$f":"IF(ISERROR(VLOOKUP(#REF!,localizacao,2,FALSE)),\"\",VLOOKUP(#REF!,localizacao,2,FALSE))","v":""},null,"",null,""]
[null,"",null,{"$f":"IF(ISERROR(VLOOKUP(#REF!,localizacao,2,FALSE)),\"\",VLOOKUP(#REF!,localizacao,2,FALSE))","v":""},null,"",null,""]
[null,"",null,{"$f":"IF(ISERROR(VLOOKUP(#REF!,localizacao,2,FALSE)),\"\",VLOOKUP(#REF!,localizacao,2,FALSE))","v":""},null,"",null,""]
[null,"",null,{"$f":"IF(ISERROR(VLOOKUP(#REF!,localizacao,2,FALSE)),\"\",VLOOKUP(#REF!,localizacao,2,FALSE))","v":""},null,"",null,""]
[null,"",null,{"$f":"IF(ISERROR(VLOOKUP(#REF!,localizacao,2,FALSE)),\"\",VLOOKUP(#REF!,localizacao,2,FALSE))","v":""},null,"",null,""]
[null,"",null,{"$f":"IF(ISERROR(VLOOKUP(#REF!,localizacao,2,FALSE)),\"\",VLOOKUP(#REF!,localizacao,2,FALSE))","v":""},null,"",null,""]
[null,"",null,{"$f":"IF(ISERROR(VLOOKUP(#REF!,localizacao,2,FALSE)),\"\",VLOOKUP(#REF!,localizacao,2,FALSE))","v":""},null,"",null,""]
[null,"",null,{"$f":"IF(ISERROR(VLOOKUP(#REF!,localizacao,2,FALSE)),\"\",VLOOKUP(#REF!,localizacao,2,FALSE))","v":""},null,"",null,""]
[null,"",null,{"$f":"IF(ISERROR(VLOOKUP(#REF!,localizacao,2,FALSE)),\"\",VLOOKUP(#REF!,localizacao,2,FALSE))","v":""},null,"",null,""]
[null,"",null,{"$f":"IF(ISERROR(VLOOKUP(#REF!,localizacao,2,FALSE)),\"\",VLOOKUP(#REF!,localizacao,2,FALSE))","v":""},null,"",null,""]
[null,"",null,{"$f":"IF(ISERROR(VLOOKUP(#REF!,localizacao,2,FALSE)),\"\",VLOOKUP(#REF!,localizacao,2,FALSE))","v":""},null,"",null,""]
[null,"",null,{"$f":"IF(ISERROR(VLOOKUP(#REF!,localizacao,2,FALSE)),\"\",VLOOKUP(#REF!,localizacao,2,FALSE))","v":""},null,"",null,""]
[null,"",null,{"$f":"IF(ISERROR(VLOOKUP(#REF!,localizacao,2,FALSE)),\"\",VLOOKUP(#REF!,localizacao,2,FALSE))","v":""},null,"",null,""]
[null,"",null,{"$f":"IF(ISERROR(VLOOKUP(#REF!,localizacao,2,FALSE)),\"\",VLOOKUP(#REF!,localizacao,2,FALSE))","v":""},null,"",null,""]
[null,"",null,{"$f":"IF(ISERROR(VLOOKUP(#REF!,localizacao,2,FALSE)),\"\",VLOOKUP(#REF!,localizacao,2,FALSE))","v":""},null,"",null,""]
[null,"",null,{"$f":"IF(ISERROR(VLOOKUP(#REF!,localizacao,2,FALSE)),\"\",VLOOKUP(#REF!,localizacao,2,FALSE))","v":""},null,{"$f":"IF(ISERROR(VLOOKUP(G4102,componentes,2,FALSE)),\"\",VLOOKUP(G4102,componentes,2,FALSE))","v":""},null,{"$f":"IF(ISERROR(VLOOKUP(I4102,rubricas,2,FALSE)),\"\",VLOOKUP(I4102,rubricas,2,FALSE))","v":""}]
[null,{"$f":"IF(C4103<>\"\",+B4102+1,\"\")","v":""},null,{"$f":"IF(ISERROR(VLOOKUP(#REF!,localizacao,2,FALSE)),\"\",VLOOKUP(#REF!,localizacao,2,FALSE))","v":""},null,"",null,""]
[null,"",null,{"$f":"IF(ISERROR(VLOOKUP(#REF!,localizacao,2,FALSE)),\"\",VLOOKUP(#REF!,localizacao,2,FALSE))","v":""},null,"",null,""]
[null,"",null,{"$f":"IF(ISERROR(VLOOKUP(#REF!,localizacao,2,FALSE)),\"\",VLOOKUP(#REF!,localizacao,2,FALSE))","v":""},null,"",null,""]
[null,"",null,{"$f":"IF(ISERROR(VLOOKUP(#REF!,localizacao,2,FALSE)),\"\",VLOOKUP(#REF!,localizacao,2,FALSE))","v":""},null,"",null,""]
[null,"",null,{"$f":"IF(ISERROR(VLOOKUP(#REF!,localizacao,2,FALSE)),\"\",VLOOKUP(#REF!,localizacao,2,FALSE))","v":""},null,"",null,""]
[null,"",null,{"$f":"IF(ISERROR(VLOOKUP(#REF!,localizacao,2,FALSE)),\"\",VLOOKUP(#REF!,localizacao,2,FALSE))","v":""},null,"",null,""]
[null,"",null,{"$f":"IF(ISERROR(VLOOKUP(#REF!,localizacao,2,FALSE)),\"\",VLOOKUP(#REF!,localizacao,2,FALSE))","v":""},null,"",null,""]
[null,"",null,{"$f":"IF(ISERROR(VLOOKUP(#REF!,localizacao,2,FALSE)),\"\",VLOOKUP(#REF!,localizacao,2,FALSE))","v":""},null,"",null,""]
[null,"",null,{"$f":"IF(ISERROR(VLOOKUP(#REF!,localizacao,2,FALSE)),\"\",VLOOKUP(#REF!,localizacao,2,FALSE))","v":""},null,"",null,""]
[null,"",null,{"$f":"IF(ISERROR(VLOOKUP(#REF!,localizacao,2,FALSE)),\"\",VLOOKUP(#REF!,localizacao,2,FALSE))","v":""},null,"",null,""]
[null,"",null,{"$f":"IF(ISERROR(VLOOKUP(#REF!,localizacao,2,FALSE)),\"\",VLOOKUP(#REF!,localizacao,2,FALSE))","v":""},null,"",null,""]
[null,"",null,{"$f":"IF(ISERROR(VLOOKUP(#REF!,localizacao,2,FALSE)),\"\",VLOOKUP(#REF!,localizacao,2,FALSE))","v":""},null,"",null,""]
[null,"",null,{"$f":"IF(ISERROR(VLOOKUP(#REF!,localizacao,2,FALSE)),\"\",VLOOKUP(#REF!,localizacao,2,FALSE))","v":""},null,"",null,""]
[null,"",null,{"$f":"IF(ISERROR(VLOOKUP(#REF!,localizacao,2,FALSE)),\"\",VLOOKUP(#REF!,localizacao,2,FALSE))","v":""},null,"",null,""]
[null,"",null,{"$f":"IF(ISERROR(VLOOKUP(#REF!,localizacao,2,FALSE)),\"\",VLOOKUP(#REF!,localizacao,2,FALSE))","v":""},null,"",null,""]
[null,"",null,{"$f":"IF(ISERROR(VLOOKUP(#REF!,localizacao,2,FALSE)),\"\",VLOOKUP(#REF!,localizacao,2,FALSE))","v":""},null,"",null,""]
[null,"",null,{"$f":"IF(ISERROR(VLOOKUP(#REF!,localizacao,2,FALSE)),\"\",VLOOKUP(#REF!,localizacao,2,FALSE))","v":""},null,"",null,""]
[null,"",null,{"$f":"IF(ISERROR(VLOOKUP(#REF!,localizacao,2,FALSE)),\"\",VLOOKUP(#REF!,localizacao,2,FALSE))","v":""},null,"",null,""]
[null,"",null,{"$f":"IF(ISERROR(VLOOKUP(#REF!,localizacao,2,FALSE)),\"\",VLOOKUP(#REF!,localizacao,2,FALSE))","v":""},null,"",null,""]
[null,"",null,{"$f":"IF(ISERROR(VLOOKUP(#REF!,localizacao,2,FALSE)),\"\",VLOOKUP(#REF!,localizacao,2,FALSE))","v":""},null,"",null,""]
[null,"",null,{"$f":"IF(ISERROR(VLOOKUP(#REF!,localizacao,2,FALSE)),\"\",VLOOKUP(#REF!,localizacao,2,FALSE))","v":""},null,"",null,""]
[null,"",null,{"$f":"IF(ISERROR(VLOOKUP(#REF!,localizacao,2,FALSE)),\"\",VLOOKUP(#REF!,localizacao,2,FALSE))","v":""},null,"",null,""]
[null,"",null,{"$f":"IF(ISERROR(VLOOKUP(#REF!,localizacao,2,FALSE)),\"\",VLOOKUP(#REF!,localizacao,2,FALSE))","v":""},null,"",null,""]
[null,"",null,{"$f":"IF(ISERROR(VLOOKUP(#REF!,localizacao,2,FALSE)),\"\",VLOOKUP(#REF!,localizacao,2,FALSE))","v":""},null,"",null,""]
[null,"",null,{"$f":"IF(ISERROR(VLOOKUP(#REF!,localizacao,2,FALSE)),\"\",VLOOKUP(#REF!,localizacao,2,FALSE))","v":""},null,"",null,""]
[null,"",null,{"$f":"IF(ISERROR(VLOOKUP(#REF!,localizacao,2,FALSE)),\"\",VLOOKUP(#REF!,localizacao,2,FALSE))","v":""},null,"",null,""]
[null,"",null,{"$f":"IF(ISERROR(VLOOKUP(#REF!,localizacao,2,FALSE)),\"\",VLOOKUP(#REF!,localizacao,2,FALSE))","v":""},null,"",null,""]
[null,"",null,{"$f":"IF(ISERROR(VLOOKUP(#REF!,localizacao,2,FALSE)),\"\",VLOOKUP(#REF!,localizacao,2,FALSE))","v":""},null,"",null,""]
[null,"",null,{"$f":"IF(ISERROR(VLOOKUP(#REF!,localizacao,2,FALSE)),\"\",VLOOKUP(#REF!,localizacao,2,FALSE))","v":""},null,"",null,""]
[null,"",null,{"$f":"IF(ISERROR(VLOOKUP(#REF!,localizacao,2,FALSE)),\"\",VLOOKUP(#REF!,localizacao,2,FALSE))","v":""},null,"",null,""]
[null,"",null,{"$f":"IF(ISERROR(VLOOKUP(#REF!,localizacao,2,FALSE)),\"\",VLOOKUP(#REF!,localizacao,2,FALSE))","v":""},null,"",null,""]
[null,"",null,{"$f":"IF(ISERROR(VLOOKUP(#REF!,localizacao,2,FALSE)),\"\",VLOOKUP(#REF!,localizacao,2,FALSE))","v":""},null,"",null,""]
[null,"",null,{"$f":"IF(ISERROR(VLOOKUP(#REF!,localizacao,2,FALSE)),\"\",VLOOKUP(#REF!,localizacao,2,FALSE))","v":""},null,"",null,""]
[null,"",null,{"$f":"IF(ISERROR(VLOOKUP(#REF!,localizacao,2,FALSE)),\"\",VLOOKUP(#REF!,localizacao,2,FALSE))","v":""},null,"",null,""]
[null,"",null,{"$f":"IF(ISERROR(VLOOKUP(#REF!,localizacao,2,FALSE)),\"\",VLOOKUP(#REF!,localizacao,2,FALSE))","v":""},null,"",null,""]
[null,"",null,{"$f":"IF(ISERROR(VLOOKUP(#REF!,localizacao,2,FALSE)),\"\",VLOOKUP(#REF!,localizacao,2,FALSE))","v":""},null,"",null,""]
[null,"",null,{"$f":"IF(ISERROR(VLOOKUP(#REF!,localizacao,2,FALSE)),\"\",VLOOKUP(#REF!,localizacao,2,FALSE))","v":""},null,"",null,""]
[null,"",null,{"$f":"IF(ISERROR(VLOOKUP(#REF!,localizacao,2,FALSE)),\"\",VLOOKUP(#REF!,localizacao,2,FALSE))","v":""},null,"",null,""]
[null,"",null,{"$f":"IF(ISERROR(VLOOKUP(#REF!,localizacao,2,FALSE)),\"\",VLOOKUP(#REF!,localizacao,2,FALSE))","v":""},null,"",null,""]
[null,"",null,{"$f":"IF(ISERROR(VLOOKUP(#REF!,localizacao,2,FALSE)),\"\",VLOOKUP(#REF!,localizacao,2,FALSE))","v":""},null,"",null,""]
[null,"",null,{"$f":"IF(ISERROR(VLOOKUP(#REF!,localizacao,2,FALSE)),\"\",VLOOKUP(#REF!,localizacao,2,FALSE))","v":""},null,"",null,""]
[null,"",null,{"$f":"IF(ISERROR(VLOOKUP(#REF!,localizacao,2,FALSE)),\"\",VLOOKUP(#REF!,localizacao,2,FALSE))","v":""},null,"",null,""]
[null,"",null,{"$f":"IF(ISERROR(VLOOKUP(#REF!,localizacao,2,FALSE)),\"\",VLOOKUP(#REF!,localizacao,2,FALSE))","v":""},null,"",null,""]
[null,"",null,{"$f":"IF(ISERROR(VLOOKUP(#REF!,localizacao,2,FALSE)),\"\",VLOOKUP(#REF!,localizacao,2,FALSE))","v":""},null,"",null,""]
[null,"",null,{"$f":"IF(ISERROR(VLOOKUP(#REF!,localizacao,2,FALSE)),\"\",VLOOKUP(#REF!,localizacao,2,FALSE))","v":""},null,"",null,""]
[null,"",null,{"$f":"IF(ISERROR(VLOOKUP(#REF!,localizacao,2,FALSE)),\"\",VLOOKUP(#REF!,localizacao,2,FALSE))","v":""},null,"",null,""]
[null,"",null,{"$f":"IF(ISERROR(VLOOKUP(#REF!,localizacao,2,FALSE)),\"\",VLOOKUP(#REF!,localizacao,2,FALSE))","v":""},null,"",null,""]
[null,"",null,{"$f":"IF(ISERROR(VLOOKUP(#REF!,localizacao,2,FALSE)),\"\",VLOOKUP(#REF!,localizacao,2,FALSE))","v":""},null,"",null,""]
[null,"",null,{"$f":"IF(ISERROR(VLOOKUP(#REF!,localizacao,2,FALSE)),\"\",VLOOKUP(#REF!,localizacao,2,FALSE))","v":""},null,"",null,""]
[null,"",null,{"$f":"IF(ISERROR(VLOOKUP(#REF!,localizacao,2,FALSE)),\"\",VLOOKUP(#REF!,localizacao,2,FALSE))","v":""},null,"",null,""]
[null,"",null,{"$f":"IF(ISERROR(VLOOKUP(#REF!,localizacao,2,FALSE)),\"\",VLOOKUP(#REF!,localizacao,2,FALSE))","v":""},null,"",null,""]
[null,"",null,{"$f":"IF(ISERROR(VLOOKUP(#REF!,localizacao,2,FALSE)),\"\",VLOOKUP(#REF!,localizacao,2,FALSE))","v":""},null,"",null,""]
[null,"",null,{"$f":"IF(ISERROR(VLOOKUP(#REF!,localizacao,2,FALSE)),\"\",VLOOKUP(#REF!,localizacao,2,FALSE))","v":""},null,"",null,""]
[null,"",null,{"$f":"IF(ISERROR(VLOOKUP(#REF!,localizacao,2,FALSE)),\"\",VLOOKUP(#REF!,localizacao,2,FALSE))","v":""},null,"",null,""]
[null,"",null,{"$f":"IF(ISERROR(VLOOKUP(#REF!,localizacao,2,FALSE)),\"\",VLOOKUP(#REF!,localizacao,2,FALSE))","v":""},null,"",null,""]
[null,"",null,{"$f":"IF(ISERROR(VLOOKUP(#REF!,localizacao,2,FALSE)),\"\",VLOOKUP(#REF!,localizacao,2,FALSE))","v":""},null,"",null,""]
[null,"",null,{"$f":"IF(ISERROR(VLOOKUP(#REF!,localizacao,2,FALSE)),\"\",VLOOKUP(#REF!,localizacao,2,FALSE))","v":""},null,"",null,""]
[null,"",null,{"$f":"IF(ISERROR(VLOOKUP(#REF!,localizacao,2,FALSE)),\"\",VLOOKUP(#REF!,localizacao,2,FALSE))","v":""},null,"",null,""]
[null,"",null,{"$f":"IF(ISERROR(VLOOKUP(#REF!,localizacao,2,FALSE)),\"\",VLOOKUP(#REF!,localizacao,2,FALSE))","v":""},null,"",null,""]
[null,"",null,{"$f":"IF(ISERROR(VLOOKUP(#REF!,localizacao,2,FALSE)),\"\",VLOOKUP(#REF!,localizacao,2,FALSE))","v":""},null,"",null,""]
[null,"",null,{"$f":"IF(ISERROR(VLOOKUP(#REF!,localizacao,2,FALSE)),\"\",VLOOKUP(#REF!,localizacao,2,FALSE))","v":""},null,"",null,""]
[null,"",null,{"$f":"IF(ISERROR(VLOOKUP(#REF!,localizacao,2,FALSE)),\"\",VLOOKUP(#REF!,localizacao,2,FALSE))","v":""},null,"",null,""]
[null,"",null,{"$f":"IF(ISERROR(VLOOKUP(#REF!,localizacao,2,FALSE)),\"\",VLOOKUP(#REF!,localizacao,2,FALSE))","v":""},null,"",null,""]
[null,"",null,{"$f":"IF(ISERROR(VLOOKUP(#REF!,localizacao,2,FALSE)),\"\",VLOOKUP(#REF!,localizacao,2,FALSE))","v":""},null,{"$f":"IF(ISERROR(VLOOKUP(G4166,componentes,2,FALSE)),\"\",VLOOKUP(G4166,componentes,2,FALSE))","v":""},null,{"$f":"IF(ISERROR(VLOOKUP(I4166,rubricas,2,FALSE)),\"\",VLOOKUP(I4166,rubricas,2,FALSE))","v":""}]
[null,{"$f":"IF(C4167<>\"\",+B4166+1,\"\")","v":""},null,{"$f":"IF(ISERROR(VLOOKUP(#REF!,localizacao,2,FALSE)),\"\",VLOOKUP(#REF!,localizacao,2,FALSE))","v":""},null,"",null,""]
[null,"",null,{"$f":"IF(ISERROR(VLOOKUP(#REF!,localizacao,2,FALSE)),\"\",VLOOKUP(#REF!,localizacao,2,FALSE))","v":""},null,"",null,""]
[null,"",null,{"$f":"IF(ISERROR(VLOOKUP(#REF!,localizacao,2,FALSE)),\"\",VLOOKUP(#REF!,localizacao,2,FALSE))","v":""},null,"",null,""]
[null,"",null,{"$f":"IF(ISERROR(VLOOKUP(#REF!,localizacao,2,FALSE)),\"\",VLOOKUP(#REF!,localizacao,2,FALSE))","v":""},null,"",null,""]
[null,"",null,{"$f":"IF(ISERROR(VLOOKUP(#REF!,localizacao,2,FALSE)),\"\",VLOOKUP(#REF!,localizacao,2,FALSE))","v":""},null,"",null,""]
[null,"",null,{"$f":"IF(ISERROR(VLOOKUP(#REF!,localizacao,2,FALSE)),\"\",VLOOKUP(#REF!,localizacao,2,FALSE))","v":""},null,"",null,""]
[null,"",null,{"$f":"IF(ISERROR(VLOOKUP(#REF!,localizacao,2,FALSE)),\"\",VLOOKUP(#REF!,localizacao,2,FALSE))","v":""},null,"",null,""]
[null,"",null,{"$f":"IF(ISERROR(VLOOKUP(#REF!,localizacao,2,FALSE)),\"\",VLOOKUP(#REF!,localizacao,2,FALSE))","v":""},null,"",null,""]
[null,"",null,{"$f":"IF(ISERROR(VLOOKUP(#REF!,localizacao,2,FALSE)),\"\",VLOOKUP(#REF!,localizacao,2,FALSE))","v":""},null,"",null,""]
[null,"",null,{"$f":"IF(ISERROR(VLOOKUP(#REF!,localizacao,2,FALSE)),\"\",VLOOKUP(#REF!,localizacao,2,FALSE))","v":""},null,"",null,""]
[null,"",null,{"$f":"IF(ISERROR(VLOOKUP(#REF!,localizacao,2,FALSE)),\"\",VLOOKUP(#REF!,localizacao,2,FALSE))","v":""},null,"",null,""]
[null,"",null,{"$f":"IF(ISERROR(VLOOKUP(#REF!,localizacao,2,FALSE)),\"\",VLOOKUP(#REF!,localizacao,2,FALSE))","v":""},null,"",null,""]
[null,"",null,{"$f":"IF(ISERROR(VLOOKUP(#REF!,localizacao,2,FALSE)),\"\",VLOOKUP(#REF!,localizacao,2,FALSE))","v":""},null,"",null,""]
[null,"",null,{"$f":"IF(ISERROR(VLOOKUP(#REF!,localizacao,2,FALSE)),\"\",VLOOKUP(#REF!,localizacao,2,FALSE))","v":""},null,"",null,""]
[null,"",null,{"$f":"IF(ISERROR(VLOOKUP(#REF!,localizacao,2,FALSE)),\"\",VLOOKUP(#REF!,localizacao,2,FALSE))","v":""},null,"",null,""]
[null,"",null,{"$f":"IF(ISERROR(VLOOKUP(#REF!,localizacao,2,FALSE)),\"\",VLOOKUP(#REF!,localizacao,2,FALSE))","v":""},null,"",null,""]
[null,"",null,{"$f":"IF(ISERROR(VLOOKUP(#REF!,localizacao,2,FALSE)),\"\",VLOOKUP(#REF!,localizacao,2,FALSE))","v":""},null,"",null,""]
[null,"",null,{"$f":"IF(ISERROR(VLOOKUP(#REF!,localizacao,2,FALSE)),\"\",VLOOKUP(#REF!,localizacao,2,FALSE))","v":""},null,"",null,""]
[null,"",null,{"$f":"IF(ISERROR(VLOOKUP(#REF!,localizacao,2,FALSE)),\"\",VLOOKUP(#REF!,localizacao,2,FALSE))","v":""},null,"",null,""]
[null,"",null,{"$f":"IF(ISERROR(VLOOKUP(#REF!,localizacao,2,FALSE)),\"\",VLOOKUP(#REF!,localizacao,2,FALSE))","v":""},null,"",null,""]
[null,"",null,{"$f":"IF(ISERROR(VLOOKUP(#REF!,localizacao,2,FALSE)),\"\",VLOOKUP(#REF!,localizacao,2,FALSE))","v":""},null,"",null,""]
[null,"",null,{"$f":"IF(ISERROR(VLOOKUP(#REF!,localizacao,2,FALSE)),\"\",VLOOKUP(#REF!,localizacao,2,FALSE))","v":""},null,"",null,""]
[null,"",null,{"$f":"IF(ISERROR(VLOOKUP(#REF!,localizacao,2,FALSE)),\"\",VLOOKUP(#REF!,localizacao,2,FALSE))","v":""},null,"",null,""]
[null,"",null,{"$f":"IF(ISERROR(VLOOKUP(#REF!,localizacao,2,FALSE)),\"\",VLOOKUP(#REF!,localizacao,2,FALSE))","v":""},null,"",null,""]
[null,"",null,{"$f":"IF(ISERROR(VLOOKUP(#REF!,localizacao,2,FALSE)),\"\",VLOOKUP(#REF!,localizacao,2,FALSE))","v":""},null,"",null,""]
[null,"",null,{"$f":"IF(ISERROR(VLOOKUP(#REF!,localizacao,2,FALSE)),\"\",VLOOKUP(#REF!,localizacao,2,FALSE))","v":""},null,"",null,""]
[null,"",null,{"$f":"IF(ISERROR(VLOOKUP(#REF!,localizacao,2,FALSE)),\"\",VLOOKUP(#REF!,localizacao,2,FALSE))","v":""},null,"",null,""]
[null,"",null,{"$f":"IF(ISERROR(VLOOKUP(#REF!,localizacao,2,FALSE)),\"\",VLOOKUP(#REF!,localizacao,2,FALSE))","v":""},null,"",null,""]
[null,"",null,{"$f":"IF(ISERROR(VLOOKUP(#REF!,localizacao,2,FALSE)),\"\",VLOOKUP(#REF!,localizacao,2,FALSE))","v":""},null,"",null,""]
[null,"",null,{"$f":"IF(ISERROR(VLOOKUP(#REF!,localizacao,2,FALSE)),\"\",VLOOKUP(#REF!,localizacao,2,FALSE))","v":""},null,"",null,""]
[null,"",null,{"$f":"IF(ISERROR(VLOOKUP(#REF!,localizacao,2,FALSE)),\"\",VLOOKUP(#REF!,localizacao,2,FALSE))","v":""},null,"",null,""]
[null,"",null,{"$f":"IF(ISERROR(VLOOKUP(#REF!,localizacao,2,FALSE)),\"\",VLOOKUP(#REF!,localizacao,2,FALSE))","v":""},null,"",null,""]
[null,"",null,{"$f":"IF(ISERROR(VLOOKUP(#REF!,localizacao,2,FALSE)),\"\",VLOOKUP(#REF!,localizacao,2,FALSE))","v":""},null,"",null,""]
[null,"",null,{"$f":"IF(ISERROR(VLOOKUP(#REF!,localizacao,2,FALSE)),\"\",VLOOKUP(#REF!,localizacao,2,FALSE))","v":""},null,"",null,""]
[null,"",null,{"$f":"IF(ISERROR(VLOOKUP(#REF!,localizacao,2,FALSE)),\"\",VLOOKUP(#REF!,localizacao,2,FALSE))","v":""},null,"",null,""]
[null,"",null,{"$f":"IF(ISERROR(VLOOKUP(#REF!,localizacao,2,FALSE)),\"\",VLOOKUP(#REF!,localizacao,2,FALSE))","v":""},null,"",null,""]
[null,"",null,{"$f":"IF(ISERROR(VLOOKUP(#REF!,localizacao,2,FALSE)),\"\",VLOOKUP(#REF!,localizacao,2,FALSE))","v":""},null,"",null,""]
[null,"",null,{"$f":"IF(ISERROR(VLOOKUP(#REF!,localizacao,2,FALSE)),\"\",VLOOKUP(#REF!,localizacao,2,FALSE))","v":""},null,"",null,""]
[null,"",null,{"$f":"IF(ISERROR(VLOOKUP(#REF!,localizacao,2,FALSE)),\"\",VLOOKUP(#REF!,localizacao,2,FALSE))","v":""},null,"",null,""]
[null,"",null,{"$f":"IF(ISERROR(VLOOKUP(#REF!,localizacao,2,FALSE)),\"\",VLOOKUP(#REF!,localizacao,2,FALSE))","v":""},null,"",null,""]
[null,"",null,{"$f":"IF(ISERROR(VLOOKUP(#REF!,localizacao,2,FALSE)),\"\",VLOOKUP(#REF!,localizacao,2,FALSE))","v":""},null,"",null,""]
[null,"",null,{"$f":"IF(ISERROR(VLOOKUP(#REF!,localizacao,2,FALSE)),\"\",VLOOKUP(#REF!,localizacao,2,FALSE))","v":""},null,"",null,""]
[null,"",null,{"$f":"IF(ISERROR(VLOOKUP(#REF!,localizacao,2,FALSE)),\"\",VLOOKUP(#REF!,localizacao,2,FALSE))","v":""},null,"",null,""]
[null,"",null,{"$f":"IF(ISERROR(VLOOKUP(#REF!,localizacao,2,FALSE)),\"\",VLOOKUP(#REF!,localizacao,2,FALSE))","v":""},null,"",null,""]
[null,"",null,{"$f":"IF(ISERROR(VLOOKUP(#REF!,localizacao,2,FALSE)),\"\",VLOOKUP(#REF!,localizacao,2,FALSE))","v":""},null,"",null,""]
[null,"",null,{"$f":"IF(ISERROR(VLOOKUP(#REF!,localizacao,2,FALSE)),\"\",VLOOKUP(#REF!,localizacao,2,FALSE))","v":""},null,"",null,""]
[null,"",null,{"$f":"IF(ISERROR(VLOOKUP(#REF!,localizacao,2,FALSE)),\"\",VLOOKUP(#REF!,localizacao,2,FALSE))","v":""},null,"",null,""]
[null,"",null,{"$f":"IF(ISERROR(VLOOKUP(#REF!,localizacao,2,FALSE)),\"\",VLOOKUP(#REF!,localizacao,2,FALSE))","v":""},null,"",null,""]
[null,"",null,{"$f":"IF(ISERROR(VLOOKUP(#REF!,localizacao,2,FALSE)),\"\",VLOOKUP(#REF!,localizacao,2,FALSE))","v":""},null,"",null,""]
[null,"",null,{"$f":"IF(ISERROR(VLOOKUP(#REF!,localizacao,2,FALSE)),\"\",VLOOKUP(#REF!,localizacao,2,FALSE))","v":""},null,"",null,""]
[null,"",null,{"$f":"IF(ISERROR(VLOOKUP(#REF!,localizacao,2,FALSE)),\"\",VLOOKUP(#REF!,localizacao,2,FALSE))","v":""},null,"",null,""]
[null,"",null,{"$f":"IF(ISERROR(VLOOKUP(#REF!,localizacao,2,FALSE)),\"\",VLOOKUP(#REF!,localizacao,2,FALSE))","v":""},null,"",null,""]
[null,"",null,{"$f":"IF(ISERROR(VLOOKUP(#REF!,localizacao,2,FALSE)),\"\",VLOOKUP(#REF!,localizacao,2,FALSE))","v":""},null,"",null,""]
[null,"",null,{"$f":"IF(ISERROR(VLOOKUP(#REF!,localizacao,2,FALSE)),\"\",VLOOKUP(#REF!,localizacao,2,FALSE))","v":""},null,"",null,""]
[null,"",null,{"$f":"IF(ISERROR(VLOOKUP(#REF!,localizacao,2,FALSE)),\"\",VLOOKUP(#REF!,localizacao,2,FALSE))","v":""},null,"",null,""]
[null,"",null,{"$f":"IF(ISERROR(VLOOKUP(#REF!,localizacao,2,FALSE)),\"\",VLOOKUP(#REF!,localizacao,2,FALSE))","v":""},null,"",null,""]
[null,"",null,{"$f":"IF(ISERROR(VLOOKUP(#REF!,localizacao,2,FALSE)),\"\",VLOOKUP(#REF!,localizacao,2,FALSE))","v":""},null,"",null,""]
[null,"",null,{"$f":"IF(ISERROR(VLOOKUP(#REF!,localizacao,2,FALSE)),\"\",VLOOKUP(#REF!,localizacao,2,FALSE))","v":""},null,"",null,""]
[null,"",null,{"$f":"IF(ISERROR(VLOOKUP(#REF!,localizacao,2,FALSE)),\"\",VLOOKUP(#REF!,localizacao,2,FALSE))","v":""},null,"",null,""]
[null,"",null,{"$f":"IF(ISERROR(VLOOKUP(#REF!,localizacao,2,FALSE)),\"\",VLOOKUP(#REF!,localizacao,2,FALSE))","v":""},null,"",null,""]
[null,"",null,{"$f":"IF(ISERROR(VLOOKUP(#REF!,localizacao,2,FALSE)),\"\",VLOOKUP(#REF!,localizacao,2,FALSE))","v":""},null,"",null,""]
[null,"",null,{"$f":"IF(ISERROR(VLOOKUP(#REF!,localizacao,2,FALSE)),\"\",VLOOKUP(#REF!,localizacao,2,FALSE))","v":""},null,"",null,""]
[null,"",null,{"$f":"IF(ISERROR(VLOOKUP(#REF!,localizacao,2,FALSE)),\"\",VLOOKUP(#REF!,localizacao,2,FALSE))","v":""},null,"",null,""]
[null,"",null,{"$f":"IF(ISERROR(VLOOKUP(#REF!,localizacao,2,FALSE)),\"\",VLOOKUP(#REF!,localizacao,2,FALSE))","v":""},null,{"$f":"IF(ISERROR(VLOOKUP(G4230,componentes,2,FALSE)),\"\",VLOOKUP(G4230,componentes,2,FALSE))","v":""},null,{"$f":"IF(ISERROR(VLOOKUP(I4230,rubricas,2,FALSE)),\"\",VLOOKUP(I4230,rubricas,2,FALSE))","v":""}]
[null,{"$f":"IF(C4231<>\"\",+B4230+1,\"\")","v":""},null,{"$f":"IF(ISERROR(VLOOKUP(#REF!,localizacao,2,FALSE)),\"\",VLOOKUP(#REF!,localizacao,2,FALSE))","v":""},null,"",null,""]
[null,"",null,{"$f":"IF(ISERROR(VLOOKUP(#REF!,localizacao,2,FALSE)),\"\",VLOOKUP(#REF!,localizacao,2,FALSE))","v":""},null,"",null,""]
[null,"",null,{"$f":"IF(ISERROR(VLOOKUP(#REF!,localizacao,2,FALSE)),\"\",VLOOKUP(#REF!,localizacao,2,FALSE))","v":""},null,"",null,""]
[null,"",null,{"$f":"IF(ISERROR(VLOOKUP(#REF!,localizacao,2,FALSE)),\"\",VLOOKUP(#REF!,localizacao,2,FALSE))","v":""},null,"",null,""]
[null,"",null,{"$f":"IF(ISERROR(VLOOKUP(#REF!,localizacao,2,FALSE)),\"\",VLOOKUP(#REF!,localizacao,2,FALSE))","v":""},null,"",null,""]
[null,"",null,{"$f":"IF(ISERROR(VLOOKUP(#REF!,localizacao,2,FALSE)),\"\",VLOOKUP(#REF!,localizacao,2,FALSE))","v":""},null,"",null,""]
[null,"",null,{"$f":"IF(ISERROR(VLOOKUP(#REF!,localizacao,2,FALSE)),\"\",VLOOKUP(#REF!,localizacao,2,FALSE))","v":""},null,"",null,""]
[null,"",null,{"$f":"IF(ISERROR(VLOOKUP(#REF!,localizacao,2,FALSE)),\"\",VLOOKUP(#REF!,localizacao,2,FALSE))","v":""},null,"",null,""]
[null,"",null,{"$f":"IF(ISERROR(VLOOKUP(#REF!,localizacao,2,FALSE)),\"\",VLOOKUP(#REF!,localizacao,2,FALSE))","v":""},null,"",null,""]
[null,"",null,{"$f":"IF(ISERROR(VLOOKUP(#REF!,localizacao,2,FALSE)),\"\",VLOOKUP(#REF!,localizacao,2,FALSE))","v":""},null,"",null,""]
[null,"",null,{"$f":"IF(ISERROR(VLOOKUP(#REF!,localizacao,2,FALSE)),\"\",VLOOKUP(#REF!,localizacao,2,FALSE))","v":""},null,"",null,""]
[null,"",null,{"$f":"IF(ISERROR(VLOOKUP(#REF!,localizacao,2,FALSE)),\"\",VLOOKUP(#REF!,localizacao,2,FALSE))","v":""},null,"",null,""]
[null,"",null,{"$f":"IF(ISERROR(VLOOKUP(#REF!,localizacao,2,FALSE)),\"\",VLOOKUP(#REF!,localizacao,2,FALSE))","v":""},null,"",null,""]
[null,"",null,{"$f":"IF(ISERROR(VLOOKUP(#REF!,localizacao,2,FALSE)),\"\",VLOOKUP(#REF!,localizacao,2,FALSE))","v":""},null,"",null,""]
[null,"",null,{"$f":"IF(ISERROR(VLOOKUP(#REF!,localizacao,2,FALSE)),\"\",VLOOKUP(#REF!,localizacao,2,FALSE))","v":""},null,"",null,""]
[null,"",null,{"$f":"IF(ISERROR(VLOOKUP(#REF!,localizacao,2,FALSE)),\"\",VLOOKUP(#REF!,localizacao,2,FALSE))","v":""},null,"",null,""]
[null,"",null,{"$f":"IF(ISERROR(VLOOKUP(#REF!,localizacao,2,FALSE)),\"\",VLOOKUP(#REF!,localizacao,2,FALSE))","v":""},null,"",null,""]
[null,"",null,{"$f":"IF(ISERROR(VLOOKUP(#REF!,localizacao,2,FALSE)),\"\",VLOOKUP(#REF!,localizacao,2,FALSE))","v":""},null,"",null,""]
[null,"",null,{"$f":"IF(ISERROR(VLOOKUP(#REF!,localizacao,2,FALSE)),\"\",VLOOKUP(#REF!,localizacao,2,FALSE))","v":""},null,"",null,""]
[null,"",null,{"$f":"IF(ISERROR(VLOOKUP(#REF!,localizacao,2,FALSE)),\"\",VLOOKUP(#REF!,localizacao,2,FALSE))","v":""},null,"",null,""]
[null,"",null,{"$f":"IF(ISERROR(VLOOKUP(#REF!,localizacao,2,FALSE)),\"\",VLOOKUP(#REF!,localizacao,2,FALSE))","v":""},null,"",null,""]
[null,"",null,{"$f":"IF(ISERROR(VLOOKUP(#REF!,localizacao,2,FALSE)),\"\",VLOOKUP(#REF!,localizacao,2,FALSE))","v":""},null,"",null,""]
[null,"",null,{"$f":"IF(ISERROR(VLOOKUP(#REF!,localizacao,2,FALSE)),\"\",VLOOKUP(#REF!,localizacao,2,FALSE))","v":""},null,"",null,""]
[null,"",null,{"$f":"IF(ISERROR(VLOOKUP(#REF!,localizacao,2,FALSE)),\"\",VLOOKUP(#REF!,localizacao,2,FALSE))","v":""},null,"",null,""]
[null,"",null,{"$f":"IF(ISERROR(VLOOKUP(#REF!,localizacao,2,FALSE)),\"\",VLOOKUP(#REF!,localizacao,2,FALSE))","v":""},null,"",null,""]
[null,"",null,{"$f":"IF(ISERROR(VLOOKUP(#REF!,localizacao,2,FALSE)),\"\",VLOOKUP(#REF!,localizacao,2,FALSE))","v":""},null,"",null,""]
[null,"",null,{"$f":"IF(ISERROR(VLOOKUP(#REF!,localizacao,2,FALSE)),\"\",VLOOKUP(#REF!,localizacao,2,FALSE))","v":""},null,"",null,""]
[null,"",null,{"$f":"IF(ISERROR(VLOOKUP(#REF!,localizacao,2,FALSE)),\"\",VLOOKUP(#REF!,localizacao,2,FALSE))","v":""},null,"",null,""]
[null,"",null,{"$f":"IF(ISERROR(VLOOKUP(#REF!,localizacao,2,FALSE)),\"\",VLOOKUP(#REF!,localizacao,2,FALSE))","v":""},null,"",null,""]
[null,"",null,{"$f":"IF(ISERROR(VLOOKUP(#REF!,localizacao,2,FALSE)),\"\",VLOOKUP(#REF!,localizacao,2,FALSE))","v":""},null,"",null,""]
[null,"",null,{"$f":"IF(ISERROR(VLOOKUP(#REF!,localizacao,2,FALSE)),\"\",VLOOKUP(#REF!,localizacao,2,FALSE))","v":""},null,"",null,""]
[null,"",null,{"$f":"IF(ISERROR(VLOOKUP(#REF!,localizacao,2,FALSE)),\"\",VLOOKUP(#REF!,localizacao,2,FALSE))","v":""},null,"",null,""]
[null,"",null,{"$f":"IF(ISERROR(VLOOKUP(#REF!,localizacao,2,FALSE)),\"\",VLOOKUP(#REF!,localizacao,2,FALSE))","v":""},null,"",null,""]
[null,"",null,{"$f":"IF(ISERROR(VLOOKUP(#REF!,localizacao,2,FALSE)),\"\",VLOOKUP(#REF!,localizacao,2,FALSE))","v":""},null,"",null,""]
[null,"",null,{"$f":"IF(ISERROR(VLOOKUP(#REF!,localizacao,2,FALSE)),\"\",VLOOKUP(#REF!,localizacao,2,FALSE))","v":""},null,"",null,""]
[null,"",null,{"$f":"IF(ISERROR(VLOOKUP(#REF!,localizacao,2,FALSE)),\"\",VLOOKUP(#REF!,localizacao,2,FALSE))","v":""},null,"",null,""]
[null,"",null,{"$f":"IF(ISERROR(VLOOKUP(#REF!,localizacao,2,FALSE)),\"\",VLOOKUP(#REF!,localizacao,2,FALSE))","v":""},null,"",null,""]
[null,"",null,{"$f":"IF(ISERROR(VLOOKUP(#REF!,localizacao,2,FALSE)),\"\",VLOOKUP(#REF!,localizacao,2,FALSE))","v":""},null,"",null,""]
[null,"",null,{"$f":"IF(ISERROR(VLOOKUP(#REF!,localizacao,2,FALSE)),\"\",VLOOKUP(#REF!,localizacao,2,FALSE))","v":""},null,"",null,""]
[null,"",null,{"$f":"IF(ISERROR(VLOOKUP(#REF!,localizacao,2,FALSE)),\"\",VLOOKUP(#REF!,localizacao,2,FALSE))","v":""},null,"",null,""]
[null,"",null,{"$f":"IF(ISERROR(VLOOKUP(#REF!,localizacao,2,FALSE)),\"\",VLOOKUP(#REF!,localizacao,2,FALSE))","v":""},null,"",null,""]
[null,"",null,{"$f":"IF(ISERROR(VLOOKUP(#REF!,localizacao,2,FALSE)),\"\",VLOOKUP(#REF!,localizacao,2,FALSE))","v":""},null,"",null,""]
[null,"",null,{"$f":"IF(ISERROR(VLOOKUP(#REF!,localizacao,2,FALSE)),\"\",VLOOKUP(#REF!,localizacao,2,FALSE))","v":""},null,"",null,""]
[null,"",null,{"$f":"IF(ISERROR(VLOOKUP(#REF!,localizacao,2,FALSE)),\"\",VLOOKUP(#REF!,localizacao,2,FALSE))","v":""},null,"",null,""]
[null,"",null,{"$f":"IF(ISERROR(VLOOKUP(#REF!,localizacao,2,FALSE)),\"\",VLOOKUP(#REF!,localizacao,2,FALSE))","v":""},null,"",null,""]
[null,"",null,{"$f":"IF(ISERROR(VLOOKUP(#REF!,localizacao,2,FALSE)),\"\",VLOOKUP(#REF!,localizacao,2,FALSE))","v":""},null,"",null,""]
[null,"",null,{"$f":"IF(ISERROR(VLOOKUP(#REF!,localizacao,2,FALSE)),\"\",VLOOKUP(#REF!,localizacao,2,FALSE))","v":""},null,"",null,""]
[null,"",null,{"$f":"IF(ISERROR(VLOOKUP(#REF!,localizacao,2,FALSE)),\"\",VLOOKUP(#REF!,localizacao,2,FALSE))","v":""},null,"",null,""]
[null,"",null,{"$f":"IF(ISERROR(VLOOKUP(#REF!,localizacao,2,FALSE)),\"\",VLOOKUP(#REF!,localizacao,2,FALSE))","v":""},null,"",null,""]
[null,"",null,{"$f":"IF(ISERROR(VLOOKUP(#REF!,localizacao,2,FALSE)),\"\",VLOOKUP(#REF!,localizacao,2,FALSE))","v":""},null,"",null,""]
[null,"",null,{"$f":"IF(ISERROR(VLOOKUP(#REF!,localizacao,2,FALSE)),\"\",VLOOKUP(#REF!,localizacao,2,FALSE))","v":""},null,"",null,""]
[null,"",null,{"$f":"IF(ISERROR(VLOOKUP(#REF!,localizacao,2,FALSE)),\"\",VLOOKUP(#REF!,localizacao,2,FALSE))","v":""},null,"",null,""]
[null,"",null,{"$f":"IF(ISERROR(VLOOKUP(#REF!,localizacao,2,FALSE)),\"\",VLOOKUP(#REF!,localizacao,2,FALSE))","v":""},null,"",null,""]
[null,"",null,{"$f":"IF(ISERROR(VLOOKUP(#REF!,localizacao,2,FALSE)),\"\",VLOOKUP(#REF!,localizacao,2,FALSE))","v":""},null,"",null,""]
[null,"",null,{"$f":"IF(ISERROR(VLOOKUP(#REF!,localizacao,2,FALSE)),\"\",VLOOKUP(#REF!,localizacao,2,FALSE))","v":""},null,"",null,""]
[null,"",null,{"$f":"IF(ISERROR(VLOOKUP(#REF!,localizacao,2,FALSE)),\"\",VLOOKUP(#REF!,localizacao,2,FALSE))","v":""},null,"",null,""]
[null,"",null,{"$f":"IF(ISERROR(VLOOKUP(#REF!,localizacao,2,FALSE)),\"\",VLOOKUP(#REF!,localizacao,2,FALSE))","v":""},null,"",null,""]
[null,"",null,{"$f":"IF(ISERROR(VLOOKUP(#REF!,localizacao,2,FALSE)),\"\",VLOOKUP(#REF!,localizacao,2,FALSE))","v":""},null,"",null,""]
[null,"",null,{"$f":"IF(ISERROR(VLOOKUP(#REF!,localizacao,2,FALSE)),\"\",VLOOKUP(#REF!,localizacao,2,FALSE))","v":""},null,"",null,""]
[null,"",null,{"$f":"IF(ISERROR(VLOOKUP(#REF!,localizacao,2,FALSE)),\"\",VLOOKUP(#REF!,localizacao,2,FALSE))","v":""},null,"",null,""]
[null,"",null,{"$f":"IF(ISERROR(VLOOKUP(#REF!,localizacao,2,FALSE)),\"\",VLOOKUP(#REF!,localizacao,2,FALSE))","v":""},null,"",null,""]
[null,"",null,{"$f":"IF(ISERROR(VLOOKUP(#REF!,localizacao,2,FALSE)),\"\",VLOOKUP(#REF!,localizacao,2,FALSE))","v":""},null,"",null,""]
[null,"",null,{"$f":"IF(ISERROR(VLOOKUP(#REF!,localizacao,2,FALSE)),\"\",VLOOKUP(#REF!,localizacao,2,FALSE))","v":""},null,"",null,""]
[null,"",null,{"$f":"IF(ISERROR(VLOOKUP(#REF!,localizacao,2,FALSE)),\"\",VLOOKUP(#REF!,localizacao,2,FALSE))","v":""},null,{"$f":"IF(ISERROR(VLOOKUP(G4294,componentes,2,FALSE)),\"\",VLOOKUP(G4294,componentes,2,FALSE))","v":""},null,{"$f":"IF(ISERROR(VLOOKUP(I4294,rubricas,2,FALSE)),\"\",VLOOKUP(I4294,rubricas,2,FALSE))","v":""}]
[null,{"$f":"IF(C4295<>\"\",+B4294+1,\"\")","v":""},null,{"$f":"IF(ISERROR(VLOOKUP(#REF!,localizacao,2,FALSE)),\"\",VLOOKUP(#REF!,localizacao,2,FALSE))","v":""},null,"",null,""]
[null,"",null,{"$f":"IF(ISERROR(VLOOKUP(#REF!,localizacao,2,FALSE)),\"\",VLOOKUP(#REF!,localizacao,2,FALSE))","v":""},null,"",null,""]
[null,"",null,{"$f":"IF(ISERROR(VLOOKUP(#REF!,localizacao,2,FALSE)),\"\",VLOOKUP(#REF!,localizacao,2,FALSE))","v":""},null,"",null,""]
[null,"",null,{"$f":"IF(ISERROR(VLOOKUP(#REF!,localizacao,2,FALSE)),\"\",VLOOKUP(#REF!,localizacao,2,FALSE))","v":""},null,"",null,""]
[null,"",null,{"$f":"IF(ISERROR(VLOOKUP(#REF!,localizacao,2,FALSE)),\"\",VLOOKUP(#REF!,localizacao,2,FALSE))","v":""},null,"",null,""]
[null,"",null,{"$f":"IF(ISERROR(VLOOKUP(#REF!,localizacao,2,FALSE)),\"\",VLOOKUP(#REF!,localizacao,2,FALSE))","v":""},null,"",null,""]
[null,"",null,{"$f":"IF(ISERROR(VLOOKUP(#REF!,localizacao,2,FALSE)),\"\",VLOOKUP(#REF!,localizacao,2,FALSE))","v":""},null,"",null,""]
[null,"",null,{"$f":"IF(ISERROR(VLOOKUP(#REF!,localizacao,2,FALSE)),\"\",VLOOKUP(#REF!,localizacao,2,FALSE))","v":""},null,"",null,""]
[null,"",null,{"$f":"IF(ISERROR(VLOOKUP(#REF!,localizacao,2,FALSE)),\"\",VLOOKUP(#REF!,localizacao,2,FALSE))","v":""},null,"",null,""]
[null,"",null,{"$f":"IF(ISERROR(VLOOKUP(#REF!,localizacao,2,FALSE)),\"\",VLOOKUP(#REF!,localizacao,2,FALSE))","v":""},null,"",null,""]
[null,"",null,{"$f":"IF(ISERROR(VLOOKUP(#REF!,localizacao,2,FALSE)),\"\",VLOOKUP(#REF!,localizacao,2,FALSE))","v":""},null,"",null,""]
[null,"",null,{"$f":"IF(ISERROR(VLOOKUP(#REF!,localizacao,2,FALSE)),\"\",VLOOKUP(#REF!,localizacao,2,FALSE))","v":""},null,"",null,""]
[null,"",null,{"$f":"IF(ISERROR(VLOOKUP(#REF!,localizacao,2,FALSE)),\"\",VLOOKUP(#REF!,localizacao,2,FALSE))","v":""},null,"",null,""]
[null,"",null,{"$f":"IF(ISERROR(VLOOKUP(#REF!,localizacao,2,FALSE)),\"\",VLOOKUP(#REF!,localizacao,2,FALSE))","v":""},null,"",null,""]
[null,"",null,{"$f":"IF(ISERROR(VLOOKUP(#REF!,localizacao,2,FALSE)),\"\",VLOOKUP(#REF!,localizacao,2,FALSE))","v":""},null,"",null,""]
[null,"",null,{"$f":"IF(ISERROR(VLOOKUP(#REF!,localizacao,2,FALSE)),\"\",VLOOKUP(#REF!,localizacao,2,FALSE))","v":""},null,"",null,""]
[null,"",null,{"$f":"IF(ISERROR(VLOOKUP(#REF!,localizacao,2,FALSE)),\"\",VLOOKUP(#REF!,localizacao,2,FALSE))","v":""},null,"",null,""]
[null,"",null,{"$f":"IF(ISERROR(VLOOKUP(#REF!,localizacao,2,FALSE)),\"\",VLOOKUP(#REF!,localizacao,2,FALSE))","v":""},null,"",null,""]
[null,"",null,{"$f":"IF(ISERROR(VLOOKUP(#REF!,localizacao,2,FALSE)),\"\",VLOOKUP(#REF!,localizacao,2,FALSE))","v":""},null,"",null,""]
[null,"",null,{"$f":"IF(ISERROR(VLOOKUP(#REF!,localizacao,2,FALSE)),\"\",VLOOKUP(#REF!,localizacao,2,FALSE))","v":""},null,"",null,""]
[null,"",null,{"$f":"IF(ISERROR(VLOOKUP(#REF!,localizacao,2,FALSE)),\"\",VLOOKUP(#REF!,localizacao,2,FALSE))","v":""},null,"",null,""]
[null,"",null,{"$f":"IF(ISERROR(VLOOKUP(#REF!,localizacao,2,FALSE)),\"\",VLOOKUP(#REF!,localizacao,2,FALSE))","v":""},null,"",null,""]
[null,"",null,{"$f":"IF(ISERROR(VLOOKUP(#REF!,localizacao,2,FALSE)),\"\",VLOOKUP(#REF!,localizacao,2,FALSE))","v":""},null,"",null,""]
[null,"",null,{"$f":"IF(ISERROR(VLOOKUP(#REF!,localizacao,2,FALSE)),\"\",VLOOKUP(#REF!,localizacao,2,FALSE))","v":""},null,"",null,""]
[null,"",null,{"$f":"IF(ISERROR(VLOOKUP(#REF!,localizacao,2,FALSE)),\"\",VLOOKUP(#REF!,localizacao,2,FALSE))","v":""},null,"",null,""]
[null,"",null,{"$f":"IF(ISERROR(VLOOKUP(#REF!,localizacao,2,FALSE)),\"\",VLOOKUP(#REF!,localizacao,2,FALSE))","v":""},null,"",null,""]
[null,"",null,{"$f":"IF(ISERROR(VLOOKUP(#REF!,localizacao,2,FALSE)),\"\",VLOOKUP(#REF!,localizacao,2,FALSE))","v":""},null,"",null,""]
[null,"",null,{"$f":"IF(ISERROR(VLOOKUP(#REF!,localizacao,2,FALSE)),\"\",VLOOKUP(#REF!,localizacao,2,FALSE))","v":""},null,"",null,""]
[null,"",null,{"$f":"IF(ISERROR(VLOOKUP(#REF!,localizacao,2,FALSE)),\"\",VLOOKUP(#REF!,localizacao,2,FALSE))","v":""},null,"",null,""]
[null,"",null,{"$f":"IF(ISERROR(VLOOKUP(#REF!,localizacao,2,FALSE)),\"\",VLOOKUP(#REF!,localizacao,2,FALSE))","v":""},null,"",null,""]
[null,"",null,{"$f":"IF(ISERROR(VLOOKUP(#REF!,localizacao,2,FALSE)),\"\",VLOOKUP(#REF!,localizacao,2,FALSE))","v":""},null,"",null,""]
[null,"",null,{"$f":"IF(ISERROR(VLOOKUP(#REF!,localizacao,2,FALSE)),\"\",VLOOKUP(#REF!,localizacao,2,FALSE))","v":""},null,"",null,""]
[null,"",null,{"$f":"IF(ISERROR(VLOOKUP(#REF!,localizacao,2,FALSE)),\"\",VLOOKUP(#REF!,localizacao,2,FALSE))","v":""},null,"",null,""]
[null,"",null,{"$f":"IF(ISERROR(VLOOKUP(#REF!,localizacao,2,FALSE)),\"\",VLOOKUP(#REF!,localizacao,2,FALSE))","v":""},null,"",null,""]
[null,"",null,{"$f":"IF(ISERROR(VLOOKUP(#REF!,localizacao,2,FALSE)),\"\",VLOOKUP(#REF!,localizacao,2,FALSE))","v":""},null,"",null,""]
[null,"",null,{"$f":"IF(ISERROR(VLOOKUP(#REF!,localizacao,2,FALSE)),\"\",VLOOKUP(#REF!,localizacao,2,FALSE))","v":""},null,"",null,""]
[null,"",null,{"$f":"IF(ISERROR(VLOOKUP(#REF!,localizacao,2,FALSE)),\"\",VLOOKUP(#REF!,localizacao,2,FALSE))","v":""},null,"",null,""]
[null,"",null,{"$f":"IF(ISERROR(VLOOKUP(#REF!,localizacao,2,FALSE)),\"\",VLOOKUP(#REF!,localizacao,2,FALSE))","v":""},null,"",null,""]
[null,"",null,{"$f":"IF(ISERROR(VLOOKUP(#REF!,localizacao,2,FALSE)),\"\",VLOOKUP(#REF!,localizacao,2,FALSE))","v":""},null,"",null,""]
[null,"",null,{"$f":"IF(ISERROR(VLOOKUP(#REF!,localizacao,2,FALSE)),\"\",VLOOKUP(#REF!,localizacao,2,FALSE))","v":""},null,"",null,""]
[null,"",null,{"$f":"IF(ISERROR(VLOOKUP(#REF!,localizacao,2,FALSE)),\"\",VLOOKUP(#REF!,localizacao,2,FALSE))","v":""},null,"",null,""]
[null,"",null,{"$f":"IF(ISERROR(VLOOKUP(#REF!,localizacao,2,FALSE)),\"\",VLOOKUP(#REF!,localizacao,2,FALSE))","v":""},null,"",null,""]
[null,"",null,{"$f":"IF(ISERROR(VLOOKUP(#REF!,localizacao,2,FALSE)),\"\",VLOOKUP(#REF!,localizacao,2,FALSE))","v":""},null,"",null,""]
[null,"",null,{"$f":"IF(ISERROR(VLOOKUP(#REF!,localizacao,2,FALSE)),\"\",VLOOKUP(#REF!,localizacao,2,FALSE))","v":""},null,"",null,""]
[null,"",null,{"$f":"IF(ISERROR(VLOOKUP(#REF!,localizacao,2,FALSE)),\"\",VLOOKUP(#REF!,localizacao,2,FALSE))","v":""},null,"",null,""]
[null,"",null,{"$f":"IF(ISERROR(VLOOKUP(#REF!,localizacao,2,FALSE)),\"\",VLOOKUP(#REF!,localizacao,2,FALSE))","v":""},null,"",null,""]
[null,"",null,{"$f":"IF(ISERROR(VLOOKUP(#REF!,localizacao,2,FALSE)),\"\",VLOOKUP(#REF!,localizacao,2,FALSE))","v":""},null,"",null,""]
[null,"",null,{"$f":"IF(ISERROR(VLOOKUP(#REF!,localizacao,2,FALSE)),\"\",VLOOKUP(#REF!,localizacao,2,FALSE))","v":""},null,"",null,""]
[null,"",null,{"$f":"IF(ISERROR(VLOOKUP(#REF!,localizacao,2,FALSE)),\"\",VLOOKUP(#REF!,localizacao,2,FALSE))","v":""},null,"",null,""]
[null,"",null,{"$f":"IF(ISERROR(VLOOKUP(#REF!,localizacao,2,FALSE)),\"\",VLOOKUP(#REF!,localizacao,2,FALSE))","v":""},null,"",null,""]
[null,"",null,{"$f":"IF(ISERROR(VLOOKUP(#REF!,localizacao,2,FALSE)),\"\",VLOOKUP(#REF!,localizacao,2,FALSE))","v":""},null,"",null,""]
[null,"",null,{"$f":"IF(ISERROR(VLOOKUP(#REF!,localizacao,2,FALSE)),\"\",VLOOKUP(#REF!,localizacao,2,FALSE))","v":""},null,"",null,""]
[null,"",null,{"$f":"IF(ISERROR(VLOOKUP(#REF!,localizacao,2,FALSE)),\"\",VLOOKUP(#REF!,localizacao,2,FALSE))","v":""},null,"",null,""]
[null,"",null,{"$f":"IF(ISERROR(VLOOKUP(#REF!,localizacao,2,FALSE)),\"\",VLOOKUP(#REF!,localizacao,2,FALSE))","v":""},null,"",null,""]
[null,"",null,{"$f":"IF(ISERROR(VLOOKUP(#REF!,localizacao,2,FALSE)),\"\",VLOOKUP(#REF!,localizacao,2,FALSE))","v":""},null,"",null,""]
[null,"",null,{"$f":"IF(ISERROR(VLOOKUP(#REF!,localizacao,2,FALSE)),\"\",VLOOKUP(#REF!,localizacao,2,FALSE))","v":""},null,"",null,""]
[null,"",null,{"$f":"IF(ISERROR(VLOOKUP(#REF!,localizacao,2,FALSE)),\"\",VLOOKUP(#REF!,localizacao,2,FALSE))","v":""},null,"",null,""]
[null,"",null,{"$f":"IF(ISERROR(VLOOKUP(#REF!,localizacao,2,FALSE)),\"\",VLOOKUP(#REF!,localizacao,2,FALSE))","v":""},null,"",null,""]
[null,"",null,{"$f":"IF(ISERROR(VLOOKUP(#REF!,localizacao,2,FALSE)),\"\",VLOOKUP(#REF!,localizacao,2,FALSE))","v":""},null,"",null,""]
[null,"",null,{"$f":"IF(ISERROR(VLOOKUP(#REF!,localizacao,2,FALSE)),\"\",VLOOKUP(#REF!,localizacao,2,FALSE))","v":""},null,"",null,""]
[null,"",null,{"$f":"IF(ISERROR(VLOOKUP(#REF!,localizacao,2,FALSE)),\"\",VLOOKUP(#REF!,localizacao,2,FALSE))","v":""},null,"",null,""]
[null,"",null,{"$f":"IF(ISERROR(VLOOKUP(#REF!,localizacao,2,FALSE)),\"\",VLOOKUP(#REF!,localizacao,2,FALSE))","v":""},null,"",null,""]
[null,"",null,{"$f":"IF(ISERROR(VLOOKUP(#REF!,localizacao,2,FALSE)),\"\",VLOOKUP(#REF!,localizacao,2,FALSE))","v":""},null,"",null,""]
[null,"",null,{"$f":"IF(ISERROR(VLOOKUP(#REF!,localizacao,2,FALSE)),\"\",VLOOKUP(#REF!,localizacao,2,FALSE))","v":""},null,{"$f":"IF(ISERROR(VLOOKUP(G4358,componentes,2,FALSE)),\"\",VLOOKUP(G4358,componentes,2,FALSE))","v":""},null,{"$f":"IF(ISERROR(VLOOKUP(I4358,rubricas,2,FALSE)),\"\",VLOOKUP(I4358,rubricas,2,FALSE))","v":""}]
[null,{"$f":"IF(C4359<>\"\",+B4358+1,\"\")","v":""},null,{"$f":"IF(ISERROR(VLOOKUP(#REF!,localizacao,2,FALSE)),\"\",VLOOKUP(#REF!,localizacao,2,FALSE))","v":""},null,"",null,""]
[null,"",null,{"$f":"IF(ISERROR(VLOOKUP(#REF!,localizacao,2,FALSE)),\"\",VLOOKUP(#REF!,localizacao,2,FALSE))","v":""},null,"",null,""]
[null,"",null,{"$f":"IF(ISERROR(VLOOKUP(#REF!,localizacao,2,FALSE)),\"\",VLOOKUP(#REF!,localizacao,2,FALSE))","v":""},null,"",null,""]
[null,"",null,{"$f":"IF(ISERROR(VLOOKUP(#REF!,localizacao,2,FALSE)),\"\",VLOOKUP(#REF!,localizacao,2,FALSE))","v":""},null,"",null,""]
[null,"",null,{"$f":"IF(ISERROR(VLOOKUP(#REF!,localizacao,2,FALSE)),\"\",VLOOKUP(#REF!,localizacao,2,FALSE))","v":""},null,"",null,""]
[null,"",null,{"$f":"IF(ISERROR(VLOOKUP(#REF!,localizacao,2,FALSE)),\"\",VLOOKUP(#REF!,localizacao,2,FALSE))","v":""},null,"",null,""]
[null,"",null,{"$f":"IF(ISERROR(VLOOKUP(#REF!,localizacao,2,FALSE)),\"\",VLOOKUP(#REF!,localizacao,2,FALSE))","v":""},null,"",null,""]
[null,"",null,{"$f":"IF(ISERROR(VLOOKUP(#REF!,localizacao,2,FALSE)),\"\",VLOOKUP(#REF!,localizacao,2,FALSE))","v":""},null,"",null,""]
[null,"",null,{"$f":"IF(ISERROR(VLOOKUP(#REF!,localizacao,2,FALSE)),\"\",VLOOKUP(#REF!,localizacao,2,FALSE))","v":""},null,"",null,""]
[null,"",null,{"$f":"IF(ISERROR(VLOOKUP(#REF!,localizacao,2,FALSE)),\"\",VLOOKUP(#REF!,localizacao,2,FALSE))","v":""},null,"",null,""]
[null,"",null,{"$f":"IF(ISERROR(VLOOKUP(#REF!,localizacao,2,FALSE)),\"\",VLOOKUP(#REF!,localizacao,2,FALSE))","v":""},null,"",null,""]
[null,"",null,{"$f":"IF(ISERROR(VLOOKUP(#REF!,localizacao,2,FALSE)),\"\",VLOOKUP(#REF!,localizacao,2,FALSE))","v":""},null,"",null,""]
[null,"",null,{"$f":"IF(ISERROR(VLOOKUP(#REF!,localizacao,2,FALSE)),\"\",VLOOKUP(#REF!,localizacao,2,FALSE))","v":""},null,"",null,""]
[null,"",null,{"$f":"IF(ISERROR(VLOOKUP(#REF!,localizacao,2,FALSE)),\"\",VLOOKUP(#REF!,localizacao,2,FALSE))","v":""},null,"",null,""]
[null,"",null,{"$f":"IF(ISERROR(VLOOKUP(#REF!,localizacao,2,FALSE)),\"\",VLOOKUP(#REF!,localizacao,2,FALSE))","v":""},null,"",null,""]
[null,"",null,{"$f":"IF(ISERROR(VLOOKUP(#REF!,localizacao,2,FALSE)),\"\",VLOOKUP(#REF!,localizacao,2,FALSE))","v":""},null,"",null,""]
[null,"",null,{"$f":"IF(ISERROR(VLOOKUP(#REF!,localizacao,2,FALSE)),\"\",VLOOKUP(#REF!,localizacao,2,FALSE))","v":""},null,"",null,""]
[null,"",null,{"$f":"IF(ISERROR(VLOOKUP(#REF!,localizacao,2,FALSE)),\"\",VLOOKUP(#REF!,localizacao,2,FALSE))","v":""},null,"",null,""]
[null,"",null,{"$f":"IF(ISERROR(VLOOKUP(#REF!,localizacao,2,FALSE)),\"\",VLOOKUP(#REF!,localizacao,2,FALSE))","v":""},null,"",null,""]
[null,"",null,{"$f":"IF(ISERROR(VLOOKUP(#REF!,localizacao,2,FALSE)),\"\",VLOOKUP(#REF!,localizacao,2,FALSE))","v":""},null,"",null,""]
[null,"",null,{"$f":"IF(ISERROR(VLOOKUP(#REF!,localizacao,2,FALSE)),\"\",VLOOKUP(#REF!,localizacao,2,FALSE))","v":""},null,"",null,""]
[null,"",null,{"$f":"IF(ISERROR(VLOOKUP(#REF!,localizacao,2,FALSE)),\"\",VLOOKUP(#REF!,localizacao,2,FALSE))","v":""},null,"",null,""]
[null,"",null,{"$f":"IF(ISERROR(VLOOKUP(#REF!,localizacao,2,FALSE)),\"\",VLOOKUP(#REF!,localizacao,2,FALSE))","v":""},null,"",null,""]
[null,"",null,{"$f":"IF(ISERROR(VLOOKUP(#REF!,localizacao,2,FALSE)),\"\",VLOOKUP(#REF!,localizacao,2,FALSE))","v":""},null,"",null,""]
[null,"",null,{"$f":"IF(ISERROR(VLOOKUP(#REF!,localizacao,2,FALSE)),\"\",VLOOKUP(#REF!,localizacao,2,FALSE))","v":""},null,"",null,""]
[null,"",null,{"$f":"IF(ISERROR(VLOOKUP(#REF!,localizacao,2,FALSE)),\"\",VLOOKUP(#REF!,localizacao,2,FALSE))","v":""},null,"",null,""]
[null,"",null,{"$f":"IF(ISERROR(VLOOKUP(#REF!,localizacao,2,FALSE)),\"\",VLOOKUP(#REF!,localizacao,2,FALSE))","v":""},null,"",null,""]
[null,"",null,{"$f":"IF(ISERROR(VLOOKUP(#REF!,localizacao,2,FALSE)),\"\",VLOOKUP(#REF!,localizacao,2,FALSE))","v":""},null,"",null,""]
[null,"",null,{"$f":"IF(ISERROR(VLOOKUP(#REF!,localizacao,2,FALSE)),\"\",VLOOKUP(#REF!,localizacao,2,FALSE))","v":""},null,"",null,""]
[null,"",null,{"$f":"IF(ISERROR(VLOOKUP(#REF!,localizacao,2,FALSE)),\"\",VLOOKUP(#REF!,localizacao,2,FALSE))","v":""},null,"",null,""]
[null,"",null,{"$f":"IF(ISERROR(VLOOKUP(#REF!,localizacao,2,FALSE)),\"\",VLOOKUP(#REF!,localizacao,2,FALSE))","v":""},null,"",null,""]
[null,"",null,{"$f":"IF(ISERROR(VLOOKUP(#REF!,localizacao,2,FALSE)),\"\",VLOOKUP(#REF!,localizacao,2,FALSE))","v":""},null,"",null,""]
[null,"",null,{"$f":"IF(ISERROR(VLOOKUP(#REF!,localizacao,2,FALSE)),\"\",VLOOKUP(#REF!,localizacao,2,FALSE))","v":""},null,"",null,""]
[null,"",null,{"$f":"IF(ISERROR(VLOOKUP(#REF!,localizacao,2,FALSE)),\"\",VLOOKUP(#REF!,localizacao,2,FALSE))","v":""},null,"",null,""]
[null,"",null,{"$f":"IF(ISERROR(VLOOKUP(#REF!,localizacao,2,FALSE)),\"\",VLOOKUP(#REF!,localizacao,2,FALSE))","v":""},null,"",null,""]
[null,"",null,{"$f":"IF(ISERROR(VLOOKUP(#REF!,localizacao,2,FALSE)),\"\",VLOOKUP(#REF!,localizacao,2,FALSE))","v":""},null,"",null,""]
[null,"",null,{"$f":"IF(ISERROR(VLOOKUP(#REF!,localizacao,2,FALSE)),\"\",VLOOKUP(#REF!,localizacao,2,FALSE))","v":""},null,"",null,""]
[null,"",null,{"$f":"IF(ISERROR(VLOOKUP(#REF!,localizacao,2,FALSE)),\"\",VLOOKUP(#REF!,localizacao,2,FALSE))","v":""},null,"",null,""]
[null,"",null,{"$f":"IF(ISERROR(VLOOKUP(#REF!,localizacao,2,FALSE)),\"\",VLOOKUP(#REF!,localizacao,2,FALSE))","v":""},null,"",null,""]
[null,"",null,{"$f":"IF(ISERROR(VLOOKUP(#REF!,localizacao,2,FALSE)),\"\",VLOOKUP(#REF!,localizacao,2,FALSE))","v":""},null,"",null,""]
[null,"",null,{"$f":"IF(ISERROR(VLOOKUP(#REF!,localizacao,2,FALSE)),\"\",VLOOKUP(#REF!,localizacao,2,FALSE))","v":""},null,"",null,""]
[null,"",null,{"$f":"IF(ISERROR(VLOOKUP(#REF!,localizacao,2,FALSE)),\"\",VLOOKUP(#REF!,localizacao,2,FALSE))","v":""},null,"",null,""]
[null,"",null,{"$f":"IF(ISERROR(VLOOKUP(#REF!,localizacao,2,FALSE)),\"\",VLOOKUP(#REF!,localizacao,2,FALSE))","v":""},null,"",null,""]
[null,"",null,{"$f":"IF(ISERROR(VLOOKUP(#REF!,localizacao,2,FALSE)),\"\",VLOOKUP(#REF!,localizacao,2,FALSE))","v":""},null,"",null,""]
[null,"",null,{"$f":"IF(ISERROR(VLOOKUP(#REF!,localizacao,2,FALSE)),\"\",VLOOKUP(#REF!,localizacao,2,FALSE))","v":""},null,"",null,""]
[null,"",null,{"$f":"IF(ISERROR(VLOOKUP(#REF!,localizacao,2,FALSE)),\"\",VLOOKUP(#REF!,localizacao,2,FALSE))","v":""},null,"",null,""]
[null,"",null,{"$f":"IF(ISERROR(VLOOKUP(#REF!,localizacao,2,FALSE)),\"\",VLOOKUP(#REF!,localizacao,2,FALSE))","v":""},null,"",null,""]
[null,"",null,{"$f":"IF(ISERROR(VLOOKUP(#REF!,localizacao,2,FALSE)),\"\",VLOOKUP(#REF!,localizacao,2,FALSE))","v":""},null,"",null,""]
[null,"",null,{"$f":"IF(ISERROR(VLOOKUP(#REF!,localizacao,2,FALSE)),\"\",VLOOKUP(#REF!,localizacao,2,FALSE))","v":""},null,"",null,""]
[null,"",null,{"$f":"IF(ISERROR(VLOOKUP(#REF!,localizacao,2,FALSE)),\"\",VLOOKUP(#REF!,localizacao,2,FALSE))","v":""},null,"",null,""]
[null,"",null,{"$f":"IF(ISERROR(VLOOKUP(#REF!,localizacao,2,FALSE)),\"\",VLOOKUP(#REF!,localizacao,2,FALSE))","v":""},null,"",null,""]
[null,"",null,{"$f":"IF(ISERROR(VLOOKUP(#REF!,localizacao,2,FALSE)),\"\",VLOOKUP(#REF!,localizacao,2,FALSE))","v":""},null,"",null,""]
[null,"",null,{"$f":"IF(ISERROR(VLOOKUP(#REF!,localizacao,2,FALSE)),\"\",VLOOKUP(#REF!,localizacao,2,FALSE))","v":""},null,"",null,""]
[null,"",null,{"$f":"IF(ISERROR(VLOOKUP(#REF!,localizacao,2,FALSE)),\"\",VLOOKUP(#REF!,localizacao,2,FALSE))","v":""},null,"",null,""]
[null,"",null,{"$f":"IF(ISERROR(VLOOKUP(#REF!,localizacao,2,FALSE)),\"\",VLOOKUP(#REF!,localizacao,2,FALSE))","v":""},null,"",null,""]
[null,"",null,{"$f":"IF(ISERROR(VLOOKUP(#REF!,localizacao,2,FALSE)),\"\",VLOOKUP(#REF!,localizacao,2,FALSE))","v":""},null,"",null,""]
[null,"",null,{"$f":"IF(ISERROR(VLOOKUP(#REF!,localizacao,2,FALSE)),\"\",VLOOKUP(#REF!,localizacao,2,FALSE))","v":""},null,"",null,""]
[null,"",null,{"$f":"IF(ISERROR(VLOOKUP(#REF!,localizacao,2,FALSE)),\"\",VLOOKUP(#REF!,localizacao,2,FALSE))","v":""},null,"",null,""]
[null,"",null,{"$f":"IF(ISERROR(VLOOKUP(#REF!,localizacao,2,FALSE)),\"\",VLOOKUP(#REF!,localizacao,2,FALSE))","v":""},null,"",null,""]
[null,"",null,{"$f":"IF(ISERROR(VLOOKUP(#REF!,localizacao,2,FALSE)),\"\",VLOOKUP(#REF!,localizacao,2,FALSE))","v":""},null,"",null,""]
[null,"",null,{"$f":"IF(ISERROR(VLOOKUP(#REF!,localizacao,2,FALSE)),\"\",VLOOKUP(#REF!,localizacao,2,FALSE))","v":""},null,"",null,""]
[null,"",null,{"$f":"IF(ISERROR(VLOOKUP(#REF!,localizacao,2,FALSE)),\"\",VLOOKUP(#REF!,localizacao,2,FALSE))","v":""},null,"",null,""]
[null,"",null,{"$f":"IF(ISERROR(VLOOKUP(#REF!,localizacao,2,FALSE)),\"\",VLOOKUP(#REF!,localizacao,2,FALSE))","v":""},null,"",null,""]
[null,"",null,{"$f":"IF(ISERROR(VLOOKUP(#REF!,localizacao,2,FALSE)),\"\",VLOOKUP(#REF!,localizacao,2,FALSE))","v":""},null,{"$f":"IF(ISERROR(VLOOKUP(G4422,componentes,2,FALSE)),\"\",VLOOKUP(G4422,componentes,2,FALSE))","v":""},null,{"$f":"IF(ISERROR(VLOOKUP(I4422,rubricas,2,FALSE)),\"\",VLOOKUP(I4422,rubricas,2,FALSE))","v":""}]
[null,{"$f":"IF(C4423<>\"\",+B4422+1,\"\")","v":""},null,{"$f":"IF(ISERROR(VLOOKUP(#REF!,localizacao,2,FALSE)),\"\",VLOOKUP(#REF!,localizacao,2,FALSE))","v":""},null,"",null,""]
[null,"",null,{"$f":"IF(ISERROR(VLOOKUP(#REF!,localizacao,2,FALSE)),\"\",VLOOKUP(#REF!,localizacao,2,FALSE))","v":""},null,"",null,""]
[null,"",null,{"$f":"IF(ISERROR(VLOOKUP(#REF!,localizacao,2,FALSE)),\"\",VLOOKUP(#REF!,localizacao,2,FALSE))","v":""},null,"",null,""]
[null,"",null,{"$f":"IF(ISERROR(VLOOKUP(#REF!,localizacao,2,FALSE)),\"\",VLOOKUP(#REF!,localizacao,2,FALSE))","v":""},null,"",null,""]
[null,"",null,{"$f":"IF(ISERROR(VLOOKUP(#REF!,localizacao,2,FALSE)),\"\",VLOOKUP(#REF!,localizacao,2,FALSE))","v":""},null,"",null,""]
[null,"",null,{"$f":"IF(ISERROR(VLOOKUP(#REF!,localizacao,2,FALSE)),\"\",VLOOKUP(#REF!,localizacao,2,FALSE))","v":""},null,"",null,""]
[null,"",null,{"$f":"IF(ISERROR(VLOOKUP(#REF!,localizacao,2,FALSE)),\"\",VLOOKUP(#REF!,localizacao,2,FALSE))","v":""},null,"",null,""]
[null,"",null,{"$f":"IF(ISERROR(VLOOKUP(#REF!,localizacao,2,FALSE)),\"\",VLOOKUP(#REF!,localizacao,2,FALSE))","v":""},null,"",null,""]
[null,"",null,{"$f":"IF(ISERROR(VLOOKUP(#REF!,localizacao,2,FALSE)),\"\",VLOOKUP(#REF!,localizacao,2,FALSE))","v":""},null,"",null,""]
[null,"",null,{"$f":"IF(ISERROR(VLOOKUP(#REF!,localizacao,2,FALSE)),\"\",VLOOKUP(#REF!,localizacao,2,FALSE))","v":""},null,"",null,""]
[null,"",null,{"$f":"IF(ISERROR(VLOOKUP(#REF!,localizacao,2,FALSE)),\"\",VLOOKUP(#REF!,localizacao,2,FALSE))","v":""},null,"",null,""]
[null,"",null,{"$f":"IF(ISERROR(VLOOKUP(#REF!,localizacao,2,FALSE)),\"\",VLOOKUP(#REF!,localizacao,2,FALSE))","v":""},null,"",null,""]
[null,"",null,{"$f":"IF(ISERROR(VLOOKUP(#REF!,localizacao,2,FALSE)),\"\",VLOOKUP(#REF!,localizacao,2,FALSE))","v":""},null,"",null,""]
[null,"",null,{"$f":"IF(ISERROR(VLOOKUP(#REF!,localizacao,2,FALSE)),\"\",VLOOKUP(#REF!,localizacao,2,FALSE))","v":""},null,"",null,""]
[null,"",null,{"$f":"IF(ISERROR(VLOOKUP(#REF!,localizacao,2,FALSE)),\"\",VLOOKUP(#REF!,localizacao,2,FALSE))","v":""},null,"",null,""]
[null,"",null,{"$f":"IF(ISERROR(VLOOKUP(#REF!,localizacao,2,FALSE)),\"\",VLOOKUP(#REF!,localizacao,2,FALSE))","v":""},null,"",null,""]
[null,"",null,{"$f":"IF(ISERROR(VLOOKUP(#REF!,localizacao,2,FALSE)),\"\",VLOOKUP(#REF!,localizacao,2,FALSE))","v":""},null,"",null,""]
[null,"",null,{"$f":"IF(ISERROR(VLOOKUP(#REF!,localizacao,2,FALSE)),\"\",VLOOKUP(#REF!,localizacao,2,FALSE))","v":""},null,"",null,""]
[null,"",null,{"$f":"IF(ISERROR(VLOOKUP(#REF!,localizacao,2,FALSE)),\"\",VLOOKUP(#REF!,localizacao,2,FALSE))","v":""},null,"",null,""]
[null,"",null,{"$f":"IF(ISERROR(VLOOKUP(#REF!,localizacao,2,FALSE)),\"\",VLOOKUP(#REF!,localizacao,2,FALSE))","v":""},null,"",null,""]
[null,"",null,{"$f":"IF(ISERROR(VLOOKUP(#REF!,localizacao,2,FALSE)),\"\",VLOOKUP(#REF!,localizacao,2,FALSE))","v":""},null,"",null,""]
[null,"",null,{"$f":"IF(ISERROR(VLOOKUP(#REF!,localizacao,2,FALSE)),\"\",VLOOKUP(#REF!,localizacao,2,FALSE))","v":""},null,"",null,""]
[null,"",null,{"$f":"IF(ISERROR(VLOOKUP(#REF!,localizacao,2,FALSE)),\"\",VLOOKUP(#REF!,localizacao,2,FALSE))","v":""},null,"",null,""]
[null,"",null,{"$f":"IF(ISERROR(VLOOKUP(#REF!,localizacao,2,FALSE)),\"\",VLOOKUP(#REF!,localizacao,2,FALSE))","v":""},null,"",null,""]
[null,"",null,{"$f":"IF(ISERROR(VLOOKUP(#REF!,localizacao,2,FALSE)),\"\",VLOOKUP(#REF!,localizacao,2,FALSE))","v":""},null,"",null,""]
[null,"",null,{"$f":"IF(ISERROR(VLOOKUP(#REF!,localizacao,2,FALSE)),\"\",VLOOKUP(#REF!,localizacao,2,FALSE))","v":""},null,"",null,""]
[null,"",null,{"$f":"IF(ISERROR(VLOOKUP(#REF!,localizacao,2,FALSE)),\"\",VLOOKUP(#REF!,localizacao,2,FALSE))","v":""},null,"",null,""]
[null,"",null,{"$f":"IF(ISERROR(VLOOKUP(#REF!,localizacao,2,FALSE)),\"\",VLOOKUP(#REF!,localizacao,2,FALSE))","v":""},null,"",null,""]
[null,"",null,{"$f":"IF(ISERROR(VLOOKUP(#REF!,localizacao,2,FALSE)),\"\",VLOOKUP(#REF!,localizacao,2,FALSE))","v":""},null,"",null,""]
[null,"",null,{"$f":"IF(ISERROR(VLOOKUP(#REF!,localizacao,2,FALSE)),\"\",VLOOKUP(#REF!,localizacao,2,FALSE))","v":""},null,"",null,""]
[null,"",null,{"$f":"IF(ISERROR(VLOOKUP(#REF!,localizacao,2,FALSE)),\"\",VLOOKUP(#REF!,localizacao,2,FALSE))","v":""},null,"",null,""]
[null,"",null,{"$f":"IF(ISERROR(VLOOKUP(#REF!,localizacao,2,FALSE)),\"\",VLOOKUP(#REF!,localizacao,2,FALSE))","v":""},null,"",null,""]
[null,"",null,{"$f":"IF(ISERROR(VLOOKUP(#REF!,localizacao,2,FALSE)),\"\",VLOOKUP(#REF!,localizacao,2,FALSE))","v":""},null,"",null,""]
[null,"",null,{"$f":"IF(ISERROR(VLOOKUP(#REF!,localizacao,2,FALSE)),\"\",VLOOKUP(#REF!,localizacao,2,FALSE))","v":""},null,"",null,""]
[null,"",null,{"$f":"IF(ISERROR(VLOOKUP(#REF!,localizacao,2,FALSE)),\"\",VLOOKUP(#REF!,localizacao,2,FALSE))","v":""},null,"",null,""]
[null,"",null,{"$f":"IF(ISERROR(VLOOKUP(#REF!,localizacao,2,FALSE)),\"\",VLOOKUP(#REF!,localizacao,2,FALSE))","v":""},null,"",null,""]
[null,"",null,{"$f":"IF(ISERROR(VLOOKUP(#REF!,localizacao,2,FALSE)),\"\",VLOOKUP(#REF!,localizacao,2,FALSE))","v":""},null,"",null,""]
[null,"",null,{"$f":"IF(ISERROR(VLOOKUP(#REF!,localizacao,2,FALSE)),\"\",VLOOKUP(#REF!,localizacao,2,FALSE))","v":""},null,"",null,""]
[null,"",null,{"$f":"IF(ISERROR(VLOOKUP(#REF!,localizacao,2,FALSE)),\"\",VLOOKUP(#REF!,localizacao,2,FALSE))","v":""},null,"",null,""]
[null,"",null,{"$f":"IF(ISERROR(VLOOKUP(#REF!,localizacao,2,FALSE)),\"\",VLOOKUP(#REF!,localizacao,2,FALSE))","v":""},null,"",null,""]
[null,"",null,{"$f":"IF(ISERROR(VLOOKUP(#REF!,localizacao,2,FALSE)),\"\",VLOOKUP(#REF!,localizacao,2,FALSE))","v":""},null,"",null,""]
[null,"",null,{"$f":"IF(ISERROR(VLOOKUP(#REF!,localizacao,2,FALSE)),\"\",VLOOKUP(#REF!,localizacao,2,FALSE))","v":""},null,"",null,""]
[null,"",null,{"$f":"IF(ISERROR(VLOOKUP(#REF!,localizacao,2,FALSE)),\"\",VLOOKUP(#REF!,localizacao,2,FALSE))","v":""},null,"",null,""]
[null,"",null,{"$f":"IF(ISERROR(VLOOKUP(#REF!,localizacao,2,FALSE)),\"\",VLOOKUP(#REF!,localizacao,2,FALSE))","v":""},null,"",null,""]
[null,"",null,{"$f":"IF(ISERROR(VLOOKUP(#REF!,localizacao,2,FALSE)),\"\",VLOOKUP(#REF!,localizacao,2,FALSE))","v":""},null,"",null,""]
[null,"",null,{"$f":"IF(ISERROR(VLOOKUP(#REF!,localizacao,2,FALSE)),\"\",VLOOKUP(#REF!,localizacao,2,FALSE))","v":""},null,"",null,""]
[null,"",null,{"$f":"IF(ISERROR(VLOOKUP(#REF!,localizacao,2,FALSE)),\"\",VLOOKUP(#REF!,localizacao,2,FALSE))","v":""},null,"",null,""]
[null,"",null,{"$f":"IF(ISERROR(VLOOKUP(#REF!,localizacao,2,FALSE)),\"\",VLOOKUP(#REF!,localizacao,2,FALSE))","v":""},null,"",null,""]
[null,"",null,{"$f":"IF(ISERROR(VLOOKUP(#REF!,localizacao,2,FALSE)),\"\",VLOOKUP(#REF!,localizacao,2,FALSE))","v":""},null,"",null,""]
[null,"",null,{"$f":"IF(ISERROR(VLOOKUP(#REF!,localizacao,2,FALSE)),\"\",VLOOKUP(#REF!,localizacao,2,FALSE))","v":""},null,"",null,""]
[null,"",null,{"$f":"IF(ISERROR(VLOOKUP(#REF!,localizacao,2,FALSE)),\"\",VLOOKUP(#REF!,localizacao,2,FALSE))","v":""},null,"",null,""]
[null,"",null,{"$f":"IF(ISERROR(VLOOKUP(#REF!,localizacao,2,FALSE)),\"\",VLOOKUP(#REF!,localizacao,2,FALSE))","v":""},null,"",null,""]
[null,"",null,{"$f":"IF(ISERROR(VLOOKUP(#REF!,localizacao,2,FALSE)),\"\",VLOOKUP(#REF!,localizacao,2,FALSE))","v":""},null,"",null,""]
[null,"",null,{"$f":"IF(ISERROR(VLOOKUP(#REF!,localizacao,2,FALSE)),\"\",VLOOKUP(#REF!,localizacao,2,FALSE))","v":""},null,"",null,""]
[null,"",null,{"$f":"IF(ISERROR(VLOOKUP(#REF!,localizacao,2,FALSE)),\"\",VLOOKUP(#REF!,localizacao,2,FALSE))","v":""},null,"",null,""]
[null,"",null,{"$f":"IF(ISERROR(VLOOKUP(#REF!,localizacao,2,FALSE)),\"\",VLOOKUP(#REF!,localizacao,2,FALSE))","v":""},null,"",null,""]
[null,"",null,{"$f":"IF(ISERROR(VLOOKUP(#REF!,localizacao,2,FALSE)),\"\",VLOOKUP(#REF!,localizacao,2,FALSE))","v":""},null,"",null,""]
[null,"",null,{"$f":"IF(ISERROR(VLOOKUP(#REF!,localizacao,2,FALSE)),\"\",VLOOKUP(#REF!,localizacao,2,FALSE))","v":""},null,"",null,""]
[null,"",null,{"$f":"IF(ISERROR(VLOOKUP(#REF!,localizacao,2,FALSE)),\"\",VLOOKUP(#REF!,localizacao,2,FALSE))","v":""},null,"",null,""]
[null,"",null,{"$f":"IF(ISERROR(VLOOKUP(#REF!,localizacao,2,FALSE)),\"\",VLOOKUP(#REF!,localizacao,2,FALSE))","v":""},null,"",null,""]
[null,"",null,{"$f":"IF(ISERROR(VLOOKUP(#REF!,localizacao,2,FALSE)),\"\",VLOOKUP(#REF!,localizacao,2,FALSE))","v":""},null,"",null,""]
[null,"",null,{"$f":"IF(ISERROR(VLOOKUP(#REF!,localizacao,2,FALSE)),\"\",VLOOKUP(#REF!,localizacao,2,FALSE))","v":""},null,"",null,""]
[null,"",null,{"$f":"IF(ISERROR(VLOOKUP(#REF!,localizacao,2,FALSE)),\"\",VLOOKUP(#REF!,localizacao,2,FALSE))","v":""},null,"",null,""]
[null,"",null,{"$f":"IF(ISERROR(VLOOKUP(#REF!,localizacao,2,FALSE)),\"\",VLOOKUP(#REF!,localizacao,2,FALSE))","v":""},null,{"$f":"IF(ISERROR(VLOOKUP(G4486,componentes,2,FALSE)),\"\",VLOOKUP(G4486,componentes,2,FALSE))","v":""},null,{"$f":"IF(ISERROR(VLOOKUP(I4486,rubricas,2,FALSE)),\"\",VLOOKUP(I4486,rubricas,2,FALSE))","v":""}]
[null,{"$f":"IF(C4487<>\"\",+B4486+1,\"\")","v":""},null,{"$f":"IF(ISERROR(VLOOKUP(#REF!,localizacao,2,FALSE)),\"\",VLOOKUP(#REF!,localizacao,2,FALSE))","v":""},null,"",null,""]
[null,"",null,{"$f":"IF(ISERROR(VLOOKUP(#REF!,localizacao,2,FALSE)),\"\",VLOOKUP(#REF!,localizacao,2,FALSE))","v":""},null,"",null,""]
[null,"",null,{"$f":"IF(ISERROR(VLOOKUP(#REF!,localizacao,2,FALSE)),\"\",VLOOKUP(#REF!,localizacao,2,FALSE))","v":""},null,"",null,""]
[null,"",null,{"$f":"IF(ISERROR(VLOOKUP(#REF!,localizacao,2,FALSE)),\"\",VLOOKUP(#REF!,localizacao,2,FALSE))","v":""},null,"",null,""]
[null,"",null,{"$f":"IF(ISERROR(VLOOKUP(#REF!,localizacao,2,FALSE)),\"\",VLOOKUP(#REF!,localizacao,2,FALSE))","v":""},null,"",null,""]
[null,"",null,{"$f":"IF(ISERROR(VLOOKUP(#REF!,localizacao,2,FALSE)),\"\",VLOOKUP(#REF!,localizacao,2,FALSE))","v":""},null,"",null,""]
[null,"",null,{"$f":"IF(ISERROR(VLOOKUP(#REF!,localizacao,2,FALSE)),\"\",VLOOKUP(#REF!,localizacao,2,FALSE))","v":""},null,"",null,""]
[null,"",null,{"$f":"IF(ISERROR(VLOOKUP(#REF!,localizacao,2,FALSE)),\"\",VLOOKUP(#REF!,localizacao,2,FALSE))","v":""},null,"",null,""]
[null,"",null,{"$f":"IF(ISERROR(VLOOKUP(#REF!,localizacao,2,FALSE)),\"\",VLOOKUP(#REF!,localizacao,2,FALSE))","v":""},null,"",null,""]
[null,"",null,{"$f":"IF(ISERROR(VLOOKUP(#REF!,localizacao,2,FALSE)),\"\",VLOOKUP(#REF!,localizacao,2,FALSE))","v":""},null,"",null,""]
[null,"",null,{"$f":"IF(ISERROR(VLOOKUP(#REF!,localizacao,2,FALSE)),\"\",VLOOKUP(#REF!,localizacao,2,FALSE))","v":""},null,"",null,""]
[null,"",null,{"$f":"IF(ISERROR(VLOOKUP(#REF!,localizacao,2,FALSE)),\"\",VLOOKUP(#REF!,localizacao,2,FALSE))","v":""},null,"",null,""]
[null,"",null,{"$f":"IF(ISERROR(VLOOKUP(#REF!,localizacao,2,FALSE)),\"\",VLOOKUP(#REF!,localizacao,2,FALSE))","v":""},null,"",null,""]
[null,"",null,{"$f":"IF(ISERROR(VLOOKUP(#REF!,localizacao,2,FALSE)),\"\",VLOOKUP(#REF!,localizacao,2,FALSE))","v":""},null,"",null,""]
[null,"",null,{"$f":"IF(ISERROR(VLOOKUP(#REF!,localizacao,2,FALSE)),\"\",VLOOKUP(#REF!,localizacao,2,FALSE))","v":""},null,"",null,""]
[null,"",null,{"$f":"IF(ISERROR(VLOOKUP(#REF!,localizacao,2,FALSE)),\"\",VLOOKUP(#REF!,localizacao,2,FALSE))","v":""},null,"",null,""]
[null,"",null,{"$f":"IF(ISERROR(VLOOKUP(#REF!,localizacao,2,FALSE)),\"\",VLOOKUP(#REF!,localizacao,2,FALSE))","v":""},null,"",null,""]
[null,"",null,{"$f":"IF(ISERROR(VLOOKUP(#REF!,localizacao,2,FALSE)),\"\",VLOOKUP(#REF!,localizacao,2,FALSE))","v":""},null,"",null,""]
[null,"",null,{"$f":"IF(ISERROR(VLOOKUP(#REF!,localizacao,2,FALSE)),\"\",VLOOKUP(#REF!,localizacao,2,FALSE))","v":""},null,"",null,""]
[null,"",null,{"$f":"IF(ISERROR(VLOOKUP(#REF!,localizacao,2,FALSE)),\"\",VLOOKUP(#REF!,localizacao,2,FALSE))","v":""},null,"",null,""]
[null,"",null,{"$f":"IF(ISERROR(VLOOKUP(#REF!,localizacao,2,FALSE)),\"\",VLOOKUP(#REF!,localizacao,2,FALSE))","v":""},null,"",null,""]
[null,"",null,{"$f":"IF(ISERROR(VLOOKUP(#REF!,localizacao,2,FALSE)),\"\",VLOOKUP(#REF!,localizacao,2,FALSE))","v":""},null,"",null,""]
[null,"",null,{"$f":"IF(ISERROR(VLOOKUP(#REF!,localizacao,2,FALSE)),\"\",VLOOKUP(#REF!,localizacao,2,FALSE))","v":""},null,"",null,""]
[null,"",null,{"$f":"IF(ISERROR(VLOOKUP(#REF!,localizacao,2,FALSE)),\"\",VLOOKUP(#REF!,localizacao,2,FALSE))","v":""},null,"",null,""]
[null,"",null,{"$f":"IF(ISERROR(VLOOKUP(#REF!,localizacao,2,FALSE)),\"\",VLOOKUP(#REF!,localizacao,2,FALSE))","v":""},null,"",null,""]
[null,"",null,{"$f":"IF(ISERROR(VLOOKUP(#REF!,localizacao,2,FALSE)),\"\",VLOOKUP(#REF!,localizacao,2,FALSE))","v":""},null,"",null,""]
[null,"",null,{"$f":"IF(ISERROR(VLOOKUP(#REF!,localizacao,2,FALSE)),\"\",VLOOKUP(#REF!,localizacao,2,FALSE))","v":""},null,"",null,""]
[null,"",null,{"$f":"IF(ISERROR(VLOOKUP(#REF!,localizacao,2,FALSE)),\"\",VLOOKUP(#REF!,localizacao,2,FALSE))","v":""},null,"",null,""]
[null,"",null,{"$f":"IF(ISERROR(VLOOKUP(#REF!,localizacao,2,FALSE)),\"\",VLOOKUP(#REF!,localizacao,2,FALSE))","v":""},null,"",null,""]
[null,"",null,{"$f":"IF(ISERROR(VLOOKUP(#REF!,localizacao,2,FALSE)),\"\",VLOOKUP(#REF!,localizacao,2,FALSE))","v":""},null,"",null,""]
[null,"",null,{"$f":"IF(ISERROR(VLOOKUP(#REF!,localizacao,2,FALSE)),\"\",VLOOKUP(#REF!,localizacao,2,FALSE))","v":""},null,"",null,""]
[null,"",null,{"$f":"IF(ISERROR(VLOOKUP(#REF!,localizacao,2,FALSE)),\"\",VLOOKUP(#REF!,localizacao,2,FALSE))","v":""},null,"",null,""]
[null,"",null,{"$f":"IF(ISERROR(VLOOKUP(#REF!,localizacao,2,FALSE)),\"\",VLOOKUP(#REF!,localizacao,2,FALSE))","v":""},null,"",null,""]
[null,"",null,{"$f":"IF(ISERROR(VLOOKUP(#REF!,localizacao,2,FALSE)),\"\",VLOOKUP(#REF!,localizacao,2,FALSE))","v":""},null,"",null,""]
[null,"",null,{"$f":"IF(ISERROR(VLOOKUP(#REF!,localizacao,2,FALSE)),\"\",VLOOKUP(#REF!,localizacao,2,FALSE))","v":""},null,"",null,""]
[null,"",null,{"$f":"IF(ISERROR(VLOOKUP(#REF!,localizacao,2,FALSE)),\"\",VLOOKUP(#REF!,localizacao,2,FALSE))","v":""},null,"",null,""]
[null,"",null,{"$f":"IF(ISERROR(VLOOKUP(#REF!,localizacao,2,FALSE)),\"\",VLOOKUP(#REF!,localizacao,2,FALSE))","v":""},null,"",null,""]
[null,"",null,{"$f":"IF(ISERROR(VLOOKUP(#REF!,localizacao,2,FALSE)),\"\",VLOOKUP(#REF!,localizacao,2,FALSE))","v":""},null,"",null,""]
[null,"",null,{"$f":"IF(ISERROR(VLOOKUP(#REF!,localizacao,2,FALSE)),\"\",VLOOKUP(#REF!,localizacao,2,FALSE))","v":""},null,"",null,""]
[null,"",null,{"$f":"IF(ISERROR(VLOOKUP(#REF!,localizacao,2,FALSE)),\"\",VLOOKUP(#REF!,localizacao,2,FALSE))","v":""},null,"",null,""]
[null,"",null,{"$f":"IF(ISERROR(VLOOKUP(#REF!,localizacao,2,FALSE)),\"\",VLOOKUP(#REF!,localizacao,2,FALSE))","v":""},null,"",null,""]
[null,"",null,{"$f":"IF(ISERROR(VLOOKUP(#REF!,localizacao,2,FALSE)),\"\",VLOOKUP(#REF!,localizacao,2,FALSE))","v":""},null,"",null,""]
[null,"",null,{"$f":"IF(ISERROR(VLOOKUP(#REF!,localizacao,2,FALSE)),\"\",VLOOKUP(#REF!,localizacao,2,FALSE))","v":""},null,"",null,""]
[null,"",null,{"$f":"IF(ISERROR(VLOOKUP(#REF!,localizacao,2,FALSE)),\"\",VLOOKUP(#REF!,localizacao,2,FALSE))","v":""},null,"",null,""]
[null,"",null,{"$f":"IF(ISERROR(VLOOKUP(#REF!,localizacao,2,FALSE)),\"\",VLOOKUP(#REF!,localizacao,2,FALSE))","v":""},null,"",null,""]
[null,"",null,{"$f":"IF(ISERROR(VLOOKUP(#REF!,localizacao,2,FALSE)),\"\",VLOOKUP(#REF!,localizacao,2,FALSE))","v":""},null,"",null,""]
[null,"",null,{"$f":"IF(ISERROR(VLOOKUP(#REF!,localizacao,2,FALSE)),\"\",VLOOKUP(#REF!,localizacao,2,FALSE))","v":""},null,"",null,""]
[null,"",null,{"$f":"IF(ISERROR(VLOOKUP(#REF!,localizacao,2,FALSE)),\"\",VLOOKUP(#REF!,localizacao,2,FALSE))","v":""},null,"",null,""]
[null,"",null,{"$f":"IF(ISERROR(VLOOKUP(#REF!,localizacao,2,FALSE)),\"\",VLOOKUP(#REF!,localizacao,2,FALSE))","v":""},null,"",null,""]
[null,"",null,{"$f":"IF(ISERROR(VLOOKUP(#REF!,localizacao,2,FALSE)),\"\",VLOOKUP(#REF!,localizacao,2,FALSE))","v":""},null,"",null,""]
[null,"",null,{"$f":"IF(ISERROR(VLOOKUP(#REF!,localizacao,2,FALSE)),\"\",VLOOKUP(#REF!,localizacao,2,FALSE))","v":""},null,"",null,""]
[null,"",null,{"$f":"IF(ISERROR(VLOOKUP(#REF!,localizacao,2,FALSE)),\"\",VLOOKUP(#REF!,localizacao,2,FALSE))","v":""},null,"",null,""]
[null,"",null,{"$f":"IF(ISERROR(VLOOKUP(#REF!,localizacao,2,FALSE)),\"\",VLOOKUP(#REF!,localizacao,2,FALSE))","v":""},null,"",null,""]
[null,"",null,{"$f":"IF(ISERROR(VLOOKUP(#REF!,localizacao,2,FALSE)),\"\",VLOOKUP(#REF!,localizacao,2,FALSE))","v":""},null,"",null,""]
[null,"",null,{"$f":"IF(ISERROR(VLOOKUP(#REF!,localizacao,2,FALSE)),\"\",VLOOKUP(#REF!,localizacao,2,FALSE))","v":""},null,"",null,""]
[null,"",null,{"$f":"IF(ISERROR(VLOOKUP(#REF!,localizacao,2,FALSE)),\"\",VLOOKUP(#REF!,localizacao,2,FALSE))","v":""},null,"",null,""]
[null,"",null,{"$f":"IF(ISERROR(VLOOKUP(#REF!,localizacao,2,FALSE)),\"\",VLOOKUP(#REF!,localizacao,2,FALSE))","v":""},null,"",null,""]
[null,"",null,{"$f":"IF(ISERROR(VLOOKUP(#REF!,localizacao,2,FALSE)),\"\",VLOOKUP(#REF!,localizacao,2,FALSE))","v":""},null,"",null,""]
[null,"",null,{"$f":"IF(ISERROR(VLOOKUP(#REF!,localizacao,2,FALSE)),\"\",VLOOKUP(#REF!,localizacao,2,FALSE))","v":""},null,"",null,""]
[null,"",null,{"$f":"IF(ISERROR(VLOOKUP(#REF!,localizacao,2,FALSE)),\"\",VLOOKUP(#REF!,localizacao,2,FALSE))","v":""},null,"",null,""]
[null,"",null,{"$f":"IF(ISERROR(VLOOKUP(#REF!,localizacao,2,FALSE)),\"\",VLOOKUP(#REF!,localizacao,2,FALSE))","v":""},null,"",null,""]
[null,"",null,{"$f":"IF(ISERROR(VLOOKUP(#REF!,localizacao,2,FALSE)),\"\",VLOOKUP(#REF!,localizacao,2,FALSE))","v":""},null,"",null,""]
[null,"",null,{"$f":"IF(ISERROR(VLOOKUP(#REF!,localizacao,2,FALSE)),\"\",VLOOKUP(#REF!,localizacao,2,FALSE))","v":""},null,"",null,""]
[null,"",null,{"$f":"IF(ISERROR(VLOOKUP(#REF!,localizacao,2,FALSE)),\"\",VLOOKUP(#REF!,localizacao,2,FALSE))","v":""},null,{"$f":"IF(ISERROR(VLOOKUP(G4550,componentes,2,FALSE)),\"\",VLOOKUP(G4550,componentes,2,FALSE))","v":""},null,{"$f":"IF(ISERROR(VLOOKUP(I4550,rubricas,2,FALSE)),\"\",VLOOKUP(I4550,rubricas,2,FALSE))","v":""}]
[null,{"$f":"IF(C4551<>\"\",+B4550+1,\"\")","v":""},null,{"$f":"IF(ISERROR(VLOOKUP(#REF!,localizacao,2,FALSE)),\"\",VLOOKUP(#REF!,localizacao,2,FALSE))","v":""},null,"",null,""]
[null,"",null,{"$f":"IF(ISERROR(VLOOKUP(#REF!,localizacao,2,FALSE)),\"\",VLOOKUP(#REF!,localizacao,2,FALSE))","v":""},null,"",null,""]
[null,"",null,{"$f":"IF(ISERROR(VLOOKUP(#REF!,localizacao,2,FALSE)),\"\",VLOOKUP(#REF!,localizacao,2,FALSE))","v":""},null,"",null,""]
[null,"",null,{"$f":"IF(ISERROR(VLOOKUP(#REF!,localizacao,2,FALSE)),\"\",VLOOKUP(#REF!,localizacao,2,FALSE))","v":""},null,"",null,""]
[null,"",null,{"$f":"IF(ISERROR(VLOOKUP(#REF!,localizacao,2,FALSE)),\"\",VLOOKUP(#REF!,localizacao,2,FALSE))","v":""},null,"",null,""]
[null,"",null,{"$f":"IF(ISERROR(VLOOKUP(#REF!,localizacao,2,FALSE)),\"\",VLOOKUP(#REF!,localizacao,2,FALSE))","v":""},null,"",null,""]
[null,"",null,{"$f":"IF(ISERROR(VLOOKUP(#REF!,localizacao,2,FALSE)),\"\",VLOOKUP(#REF!,localizacao,2,FALSE))","v":""},null,"",null,""]
[null,"",null,{"$f":"IF(ISERROR(VLOOKUP(#REF!,localizacao,2,FALSE)),\"\",VLOOKUP(#REF!,localizacao,2,FALSE))","v":""},null,"",null,""]
[null,"",null,{"$f":"IF(ISERROR(VLOOKUP(#REF!,localizacao,2,FALSE)),\"\",VLOOKUP(#REF!,localizacao,2,FALSE))","v":""},null,"",null,""]
[null,"",null,{"$f":"IF(ISERROR(VLOOKUP(#REF!,localizacao,2,FALSE)),\"\",VLOOKUP(#REF!,localizacao,2,FALSE))","v":""},null,"",null,""]
[null,"",null,{"$f":"IF(ISERROR(VLOOKUP(#REF!,localizacao,2,FALSE)),\"\",VLOOKUP(#REF!,localizacao,2,FALSE))","v":""},null,"",null,""]
[null,"",null,{"$f":"IF(ISERROR(VLOOKUP(#REF!,localizacao,2,FALSE)),\"\",VLOOKUP(#REF!,localizacao,2,FALSE))","v":""},null,"",null,""]
[null,"",null,{"$f":"IF(ISERROR(VLOOKUP(#REF!,localizacao,2,FALSE)),\"\",VLOOKUP(#REF!,localizacao,2,FALSE))","v":""},null,"",null,""]
[null,"",null,{"$f":"IF(ISERROR(VLOOKUP(#REF!,localizacao,2,FALSE)),\"\",VLOOKUP(#REF!,localizacao,2,FALSE))","v":""},null,"",null,""]
[null,"",null,{"$f":"IF(ISERROR(VLOOKUP(#REF!,localizacao,2,FALSE)),\"\",VLOOKUP(#REF!,localizacao,2,FALSE))","v":""},null,"",null,""]
[null,"",null,{"$f":"IF(ISERROR(VLOOKUP(#REF!,localizacao,2,FALSE)),\"\",VLOOKUP(#REF!,localizacao,2,FALSE))","v":""},null,"",null,""]
[null,"",null,{"$f":"IF(ISERROR(VLOOKUP(#REF!,localizacao,2,FALSE)),\"\",VLOOKUP(#REF!,localizacao,2,FALSE))","v":""},null,"",null,""]
[null,"",null,{"$f":"IF(ISERROR(VLOOKUP(#REF!,localizacao,2,FALSE)),\"\",VLOOKUP(#REF!,localizacao,2,FALSE))","v":""},null,"",null,""]
[null,"",null,{"$f":"IF(ISERROR(VLOOKUP(#REF!,localizacao,2,FALSE)),\"\",VLOOKUP(#REF!,localizacao,2,FALSE))","v":""},null,"",null,""]
[null,"",null,{"$f":"IF(ISERROR(VLOOKUP(#REF!,localizacao,2,FALSE)),\"\",VLOOKUP(#REF!,localizacao,2,FALSE))","v":""},null,"",null,""]
[null,"",null,{"$f":"IF(ISERROR(VLOOKUP(#REF!,localizacao,2,FALSE)),\"\",VLOOKUP(#REF!,localizacao,2,FALSE))","v":""},null,"",null,""]
[null,"",null,{"$f":"IF(ISERROR(VLOOKUP(#REF!,localizacao,2,FALSE)),\"\",VLOOKUP(#REF!,localizacao,2,FALSE))","v":""},null,"",null,""]
[null,"",null,{"$f":"IF(ISERROR(VLOOKUP(#REF!,localizacao,2,FALSE)),\"\",VLOOKUP(#REF!,localizacao,2,FALSE))","v":""},null,"",null,""]
[null,"",null,{"$f":"IF(ISERROR(VLOOKUP(#REF!,localizacao,2,FALSE)),\"\",VLOOKUP(#REF!,localizacao,2,FALSE))","v":""},null,"",null,""]
[null,"",null,{"$f":"IF(ISERROR(VLOOKUP(#REF!,localizacao,2,FALSE)),\"\",VLOOKUP(#REF!,localizacao,2,FALSE))","v":""},null,"",null,""]
[null,"",null,{"$f":"IF(ISERROR(VLOOKUP(#REF!,localizacao,2,FALSE)),\"\",VLOOKUP(#REF!,localizacao,2,FALSE))","v":""},null,"",null,""]
[null,"",null,{"$f":"IF(ISERROR(VLOOKUP(#REF!,localizacao,2,FALSE)),\"\",VLOOKUP(#REF!,localizacao,2,FALSE))","v":""},null,"",null,""]
[null,"",null,{"$f":"IF(ISERROR(VLOOKUP(#REF!,localizacao,2,FALSE)),\"\",VLOOKUP(#REF!,localizacao,2,FALSE))","v":""},null,"",null,""]
[null,"",null,{"$f":"IF(ISERROR(VLOOKUP(#REF!,localizacao,2,FALSE)),\"\",VLOOKUP(#REF!,localizacao,2,FALSE))","v":""},null,"",null,""]
[null,"",null,{"$f":"IF(ISERROR(VLOOKUP(#REF!,localizacao,2,FALSE)),\"\",VLOOKUP(#REF!,localizacao,2,FALSE))","v":""},null,"",null,""]
[null,"",null,{"$f":"IF(ISERROR(VLOOKUP(#REF!,localizacao,2,FALSE)),\"\",VLOOKUP(#REF!,localizacao,2,FALSE))","v":""},null,"",null,""]
[null,"",null,{"$f":"IF(ISERROR(VLOOKUP(#REF!,localizacao,2,FALSE)),\"\",VLOOKUP(#REF!,localizacao,2,FALSE))","v":""},null,"",null,""]
[null,"",null,{"$f":"IF(ISERROR(VLOOKUP(#REF!,localizacao,2,FALSE)),\"\",VLOOKUP(#REF!,localizacao,2,FALSE))","v":""},null,"",null,""]
[null,"",null,{"$f":"IF(ISERROR(VLOOKUP(#REF!,localizacao,2,FALSE)),\"\",VLOOKUP(#REF!,localizacao,2,FALSE))","v":""},null,"",null,""]
[null,"",null,{"$f":"IF(ISERROR(VLOOKUP(#REF!,localizacao,2,FALSE)),\"\",VLOOKUP(#REF!,localizacao,2,FALSE))","v":""},null,"",null,""]
[null,"",null,{"$f":"IF(ISERROR(VLOOKUP(#REF!,localizacao,2,FALSE)),\"\",VLOOKUP(#REF!,localizacao,2,FALSE))","v":""},null,"",null,""]
[null,"",null,{"$f":"IF(ISERROR(VLOOKUP(#REF!,localizacao,2,FALSE)),\"\",VLOOKUP(#REF!,localizacao,2,FALSE))","v":""},null,"",null,""]
[null,"",null,{"$f":"IF(ISERROR(VLOOKUP(#REF!,localizacao,2,FALSE)),\"\",VLOOKUP(#REF!,localizacao,2,FALSE))","v":""},null,"",null,""]
[null,"",null,{"$f":"IF(ISERROR(VLOOKUP(#REF!,localizacao,2,FALSE)),\"\",VLOOKUP(#REF!,localizacao,2,FALSE))","v":""},null,"",null,""]
[null,"",null,{"$f":"IF(ISERROR(VLOOKUP(#REF!,localizacao,2,FALSE)),\"\",VLOOKUP(#REF!,localizacao,2,FALSE))","v":""},null,"",null,""]
[null,"",null,{"$f":"IF(ISERROR(VLOOKUP(#REF!,localizacao,2,FALSE)),\"\",VLOOKUP(#REF!,localizacao,2,FALSE))","v":""},null,"",null,""]
[null,"",null,{"$f":"IF(ISERROR(VLOOKUP(#REF!,localizacao,2,FALSE)),\"\",VLOOKUP(#REF!,localizacao,2,FALSE))","v":""},null,"",null,""]
[null,"",null,{"$f":"IF(ISERROR(VLOOKUP(#REF!,localizacao,2,FALSE)),\"\",VLOOKUP(#REF!,localizacao,2,FALSE))","v":""},null,"",null,""]
[null,"",null,{"$f":"IF(ISERROR(VLOOKUP(#REF!,localizacao,2,FALSE)),\"\",VLOOKUP(#REF!,localizacao,2,FALSE))","v":""},null,"",null,""]
[null,"",null,{"$f":"IF(ISERROR(VLOOKUP(#REF!,localizacao,2,FALSE)),\"\",VLOOKUP(#REF!,localizacao,2,FALSE))","v":""},null,"",null,""]
[null,"",null,{"$f":"IF(ISERROR(VLOOKUP(#REF!,localizacao,2,FALSE)),\"\",VLOOKUP(#REF!,localizacao,2,FALSE))","v":""},null,"",null,""]
[null,"",null,{"$f":"IF(ISERROR(VLOOKUP(#REF!,localizacao,2,FALSE)),\"\",VLOOKUP(#REF!,localizacao,2,FALSE))","v":""},null,"",null,""]
[null,"",null,{"$f":"IF(ISERROR(VLOOKUP(#REF!,localizacao,2,FALSE)),\"\",VLOOKUP(#REF!,localizacao,2,FALSE))","v":""},null,"",null,""]
[null,"",null,{"$f":"IF(ISERROR(VLOOKUP(#REF!,localizacao,2,FALSE)),\"\",VLOOKUP(#REF!,localizacao,2,FALSE))","v":""},null,"",null,""]
[null,"",null,{"$f":"IF(ISERROR(VLOOKUP(#REF!,localizacao,2,FALSE)),\"\",VLOOKUP(#REF!,localizacao,2,FALSE))","v":""},null,"",null,""]
[null,"",null,{"$f":"IF(ISERROR(VLOOKUP(#REF!,localizacao,2,FALSE)),\"\",VLOOKUP(#REF!,localizacao,2,FALSE))","v":""},null,"",null,""]
[null,"",null,{"$f":"IF(ISERROR(VLOOKUP(#REF!,localizacao,2,FALSE)),\"\",VLOOKUP(#REF!,localizacao,2,FALSE))","v":""},null,"",null,""]
[null,"",null,{"$f":"IF(ISERROR(VLOOKUP(#REF!,localizacao,2,FALSE)),\"\",VLOOKUP(#REF!,localizacao,2,FALSE))","v":""},null,"",null,""]
[null,"",null,{"$f":"IF(ISERROR(VLOOKUP(#REF!,localizacao,2,FALSE)),\"\",VLOOKUP(#REF!,localizacao,2,FALSE))","v":""},null,"",null,""]
[null,"",null,{"$f":"IF(ISERROR(VLOOKUP(#REF!,localizacao,2,FALSE)),\"\",VLOOKUP(#REF!,localizacao,2,FALSE))","v":""},null,"",null,""]
[null,"",null,{"$f":"IF(ISERROR(VLOOKUP(#REF!,localizacao,2,FALSE)),\"\",VLOOKUP(#REF!,localizacao,2,FALSE))","v":""},null,"",null,""]
[null,"",null,{"$f":"IF(ISERROR(VLOOKUP(#REF!,localizacao,2,FALSE)),\"\",VLOOKUP(#REF!,localizacao,2,FALSE))","v":""},null,"",null,""]
[null,"",null,{"$f":"IF(ISERROR(VLOOKUP(#REF!,localizacao,2,FALSE)),\"\",VLOOKUP(#REF!,localizacao,2,FALSE))","v":""},null,"",null,""]
[null,"",null,{"$f":"IF(ISERROR(VLOOKUP(#REF!,localizacao,2,FALSE)),\"\",VLOOKUP(#REF!,localizacao,2,FALSE))","v":""},null,"",null,""]
[null,"",null,{"$f":"IF(ISERROR(VLOOKUP(#REF!,localizacao,2,FALSE)),\"\",VLOOKUP(#REF!,localizacao,2,FALSE))","v":""},null,"",null,""]
[null,"",null,{"$f":"IF(ISERROR(VLOOKUP(#REF!,localizacao,2,FALSE)),\"\",VLOOKUP(#REF!,localizacao,2,FALSE))","v":""},null,"",null,""]
[null,"",null,{"$f":"IF(ISERROR(VLOOKUP(#REF!,localizacao,2,FALSE)),\"\",VLOOKUP(#REF!,localizacao,2,FALSE))","v":""},null,"",null,""]
[null,"",null,{"$f":"IF(ISERROR(VLOOKUP(#REF!,localizacao,2,FALSE)),\"\",VLOOKUP(#REF!,localizacao,2,FALSE))","v":""},null,"",null,""]
[null,"",null,{"$f":"IF(ISERROR(VLOOKUP(#REF!,localizacao,2,FALSE)),\"\",VLOOKUP(#REF!,localizacao,2,FALSE))","v":""},null,{"$f":"IF(ISERROR(VLOOKUP(G4614,componentes,2,FALSE)),\"\",VLOOKUP(G4614,componentes,2,FALSE))","v":""},null,{"$f":"IF(ISERROR(VLOOKUP(I4614,rubricas,2,FALSE)),\"\",VLOOKUP(I4614,rubricas,2,FALSE))","v":""}]
[null,{"$f":"IF(C4615<>\"\",+B4614+1,\"\")","v":""},null,{"$f":"IF(ISERROR(VLOOKUP(#REF!,localizacao,2,FALSE)),\"\",VLOOKUP(#REF!,localizacao,2,FALSE))","v":""},null,"",null,""]
[null,"",null,{"$f":"IF(ISERROR(VLOOKUP(#REF!,localizacao,2,FALSE)),\"\",VLOOKUP(#REF!,localizacao,2,FALSE))","v":""},null,"",null,""]
[null,"",null,{"$f":"IF(ISERROR(VLOOKUP(#REF!,localizacao,2,FALSE)),\"\",VLOOKUP(#REF!,localizacao,2,FALSE))","v":""},null,"",null,""]
[null,"",null,{"$f":"IF(ISERROR(VLOOKUP(#REF!,localizacao,2,FALSE)),\"\",VLOOKUP(#REF!,localizacao,2,FALSE))","v":""},null,"",null,""]
[null,"",null,{"$f":"IF(ISERROR(VLOOKUP(#REF!,localizacao,2,FALSE)),\"\",VLOOKUP(#REF!,localizacao,2,FALSE))","v":""},null,"",null,""]
[null,"",null,{"$f":"IF(ISERROR(VLOOKUP(#REF!,localizacao,2,FALSE)),\"\",VLOOKUP(#REF!,localizacao,2,FALSE))","v":""},null,"",null,""]
[null,"",null,{"$f":"IF(ISERROR(VLOOKUP(#REF!,localizacao,2,FALSE)),\"\",VLOOKUP(#REF!,localizacao,2,FALSE))","v":""},null,"",null,""]
[null,"",null,{"$f":"IF(ISERROR(VLOOKUP(#REF!,localizacao,2,FALSE)),\"\",VLOOKUP(#REF!,localizacao,2,FALSE))","v":""},null,"",null,""]
[null,"",null,{"$f":"IF(ISERROR(VLOOKUP(#REF!,localizacao,2,FALSE)),\"\",VLOOKUP(#REF!,localizacao,2,FALSE))","v":""},null,"",null,""]
[null,"",null,{"$f":"IF(ISERROR(VLOOKUP(#REF!,localizacao,2,FALSE)),\"\",VLOOKUP(#REF!,localizacao,2,FALSE))","v":""},null,"",null,""]
[null,"",null,{"$f":"IF(ISERROR(VLOOKUP(#REF!,localizacao,2,FALSE)),\"\",VLOOKUP(#REF!,localizacao,2,FALSE))","v":""},null,"",null,""]
[null,"",null,{"$f":"IF(ISERROR(VLOOKUP(#REF!,localizacao,2,FALSE)),\"\",VLOOKUP(#REF!,localizacao,2,FALSE))","v":""},null,"",null,""]
[null,"",null,{"$f":"IF(ISERROR(VLOOKUP(#REF!,localizacao,2,FALSE)),\"\",VLOOKUP(#REF!,localizacao,2,FALSE))","v":""},null,"",null,""]
[null,"",null,{"$f":"IF(ISERROR(VLOOKUP(#REF!,localizacao,2,FALSE)),\"\",VLOOKUP(#REF!,localizacao,2,FALSE))","v":""},null,"",null,""]
[null,"",null,{"$f":"IF(ISERROR(VLOOKUP(#REF!,localizacao,2,FALSE)),\"\",VLOOKUP(#REF!,localizacao,2,FALSE))","v":""},null,"",null,""]
[null,"",null,{"$f":"IF(ISERROR(VLOOKUP(#REF!,localizacao,2,FALSE)),\"\",VLOOKUP(#REF!,localizacao,2,FALSE))","v":""},null,"",null,""]
[null,"",null,{"$f":"IF(ISERROR(VLOOKUP(#REF!,localizacao,2,FALSE)),\"\",VLOOKUP(#REF!,localizacao,2,FALSE))","v":""},null,"",null,""]
[null,"",null,{"$f":"IF(ISERROR(VLOOKUP(#REF!,localizacao,2,FALSE)),\"\",VLOOKUP(#REF!,localizacao,2,FALSE))","v":""},null,"",null,""]
[null,"",null,{"$f":"IF(ISERROR(VLOOKUP(#REF!,localizacao,2,FALSE)),\"\",VLOOKUP(#REF!,localizacao,2,FALSE))","v":""},null,"",null,""]
[null,"",null,{"$f":"IF(ISERROR(VLOOKUP(#REF!,localizacao,2,FALSE)),\"\",VLOOKUP(#REF!,localizacao,2,FALSE))","v":""},null,"",null,""]
[null,"",null,{"$f":"IF(ISERROR(VLOOKUP(#REF!,localizacao,2,FALSE)),\"\",VLOOKUP(#REF!,localizacao,2,FALSE))","v":""},null,"",null,""]
[null,"",null,{"$f":"IF(ISERROR(VLOOKUP(#REF!,localizacao,2,FALSE)),\"\",VLOOKUP(#REF!,localizacao,2,FALSE))","v":""},null,"",null,""]
[null,"",null,{"$f":"IF(ISERROR(VLOOKUP(#REF!,localizacao,2,FALSE)),\"\",VLOOKUP(#REF!,localizacao,2,FALSE))","v":""},null,"",null,""]
[null,"",null,{"$f":"IF(ISERROR(VLOOKUP(#REF!,localizacao,2,FALSE)),\"\",VLOOKUP(#REF!,localizacao,2,FALSE))","v":""},null,"",null,""]
[null,"",null,{"$f":"IF(ISERROR(VLOOKUP(#REF!,localizacao,2,FALSE)),\"\",VLOOKUP(#REF!,localizacao,2,FALSE))","v":""},null,"",null,""]
[null,"",null,{"$f":"IF(ISERROR(VLOOKUP(#REF!,localizacao,2,FALSE)),\"\",VLOOKUP(#REF!,localizacao,2,FALSE))","v":""},null,"",null,""]
[null,"",null,{"$f":"IF(ISERROR(VLOOKUP(#REF!,localizacao,2,FALSE)),\"\",VLOOKUP(#REF!,localizacao,2,FALSE))","v":""},null,"",null,""]
[null,"",null,{"$f":"IF(ISERROR(VLOOKUP(#REF!,localizacao,2,FALSE)),\"\",VLOOKUP(#REF!,localizacao,2,FALSE))","v":""},null,"",null,""]
[null,"",null,{"$f":"IF(ISERROR(VLOOKUP(#REF!,localizacao,2,FALSE)),\"\",VLOOKUP(#REF!,localizacao,2,FALSE))","v":""},null,"",null,""]
[null,"",null,{"$f":"IF(ISERROR(VLOOKUP(#REF!,localizacao,2,FALSE)),\"\",VLOOKUP(#REF!,localizacao,2,FALSE))","v":""},null,"",null,""]
[null,"",null,{"$f":"IF(ISERROR(VLOOKUP(#REF!,localizacao,2,FALSE)),\"\",VLOOKUP(#REF!,localizacao,2,FALSE))","v":""},null,"",null,""]
[null,"",null,{"$f":"IF(ISERROR(VLOOKUP(#REF!,localizacao,2,FALSE)),\"\",VLOOKUP(#REF!,localizacao,2,FALSE))","v":""},null,"",null,""]
[null,"",null,{"$f":"IF(ISERROR(VLOOKUP(#REF!,localizacao,2,FALSE)),\"\",VLOOKUP(#REF!,localizacao,2,FALSE))","v":""},null,"",null,""]
[null,"",null,{"$f":"IF(ISERROR(VLOOKUP(#REF!,localizacao,2,FALSE)),\"\",VLOOKUP(#REF!,localizacao,2,FALSE))","v":""},null,"",null,""]
[null,"",null,{"$f":"IF(ISERROR(VLOOKUP(#REF!,localizacao,2,FALSE)),\"\",VLOOKUP(#REF!,localizacao,2,FALSE))","v":""},null,"",null,""]
[null,"",null,{"$f":"IF(ISERROR(VLOOKUP(#REF!,localizacao,2,FALSE)),\"\",VLOOKUP(#REF!,localizacao,2,FALSE))","v":""},null,"",null,""]
[null,"",null,{"$f":"IF(ISERROR(VLOOKUP(#REF!,localizacao,2,FALSE)),\"\",VLOOKUP(#REF!,localizacao,2,FALSE))","v":""},null,"",null,""]
[null,"",null,{"$f":"IF(ISERROR(VLOOKUP(#REF!,localizacao,2,FALSE)),\"\",VLOOKUP(#REF!,localizacao,2,FALSE))","v":""},null,"",null,""]
[null,"",null,{"$f":"IF(ISERROR(VLOOKUP(#REF!,localizacao,2,FALSE)),\"\",VLOOKUP(#REF!,localizacao,2,FALSE))","v":""},null,"",null,""]
[null,"",null,{"$f":"IF(ISERROR(VLOOKUP(#REF!,localizacao,2,FALSE)),\"\",VLOOKUP(#REF!,localizacao,2,FALSE))","v":""},null,"",null,""]
[null,"",null,{"$f":"IF(ISERROR(VLOOKUP(#REF!,localizacao,2,FALSE)),\"\",VLOOKUP(#REF!,localizacao,2,FALSE))","v":""},null,"",null,""]
[null,"",null,{"$f":"IF(ISERROR(VLOOKUP(#REF!,localizacao,2,FALSE)),\"\",VLOOKUP(#REF!,localizacao,2,FALSE))","v":""},null,"",null,""]
[null,"",null,{"$f":"IF(ISERROR(VLOOKUP(#REF!,localizacao,2,FALSE)),\"\",VLOOKUP(#REF!,localizacao,2,FALSE))","v":""},null,"",null,""]
[null,"",null,{"$f":"IF(ISERROR(VLOOKUP(#REF!,localizacao,2,FALSE)),\"\",VLOOKUP(#REF!,localizacao,2,FALSE))","v":""},null,"",null,""]
[null,"",null,{"$f":"IF(ISERROR(VLOOKUP(#REF!,localizacao,2,FALSE)),\"\",VLOOKUP(#REF!,localizacao,2,FALSE))","v":""},null,"",null,""]
[null,"",null,{"$f":"IF(ISERROR(VLOOKUP(#REF!,localizacao,2,FALSE)),\"\",VLOOKUP(#REF!,localizacao,2,FALSE))","v":""},null,"",null,""]
[null,"",null,{"$f":"IF(ISERROR(VLOOKUP(#REF!,localizacao,2,FALSE)),\"\",VLOOKUP(#REF!,localizacao,2,FALSE))","v":""},null,"",null,""]
[null,"",null,{"$f":"IF(ISERROR(VLOOKUP(#REF!,localizacao,2,FALSE)),\"\",VLOOKUP(#REF!,localizacao,2,FALSE))","v":""},null,"",null,""]
[null,"",null,{"$f":"IF(ISERROR(VLOOKUP(#REF!,localizacao,2,FALSE)),\"\",VLOOKUP(#REF!,localizacao,2,FALSE))","v":""},null,"",null,""]
[null,"",null,{"$f":"IF(ISERROR(VLOOKUP(#REF!,localizacao,2,FALSE)),\"\",VLOOKUP(#REF!,localizacao,2,FALSE))","v":""},null,"",null,""]
[null,"",null,{"$f":"IF(ISERROR(VLOOKUP(#REF!,localizacao,2,FALSE)),\"\",VLOOKUP(#REF!,localizacao,2,FALSE))","v":""},null,"",null,""]
[null,"",null,{"$f":"IF(ISERROR(VLOOKUP(#REF!,localizacao,2,FALSE)),\"\",VLOOKUP(#REF!,localizacao,2,FALSE))","v":""},null,"",null,""]
[null,"",null,{"$f":"IF(ISERROR(VLOOKUP(#REF!,localizacao,2,FALSE)),\"\",VLOOKUP(#REF!,localizacao,2,FALSE))","v":""},null,"",null,""]
[null,"",null,{"$f":"IF(ISERROR(VLOOKUP(#REF!,localizacao,2,FALSE)),\"\",VLOOKUP(#REF!,localizacao,2,FALSE))","v":""},null,"",null,""]
[null,"",null,{"$f":"IF(ISERROR(VLOOKUP(#REF!,localizacao,2,FALSE)),\"\",VLOOKUP(#REF!,localizacao,2,FALSE))","v":""},null,"",null,""]
[null,"",null,{"$f":"IF(ISERROR(VLOOKUP(#REF!,localizacao,2,FALSE)),\"\",VLOOKUP(#REF!,localizacao,2,FALSE))","v":""},null,"",null,""]
[null,"",null,{"$f":"IF(ISERROR(VLOOKUP(#REF!,localizacao,2,FALSE)),\"\",VLOOKUP(#REF!,localizacao,2,FALSE))","v":""},null,"",null,""]
[null,"",null,{"$f":"IF(ISERROR(VLOOKUP(#REF!,localizacao,2,FALSE)),\"\",VLOOKUP(#REF!,localizacao,2,FALSE))","v":""},null,"",null,""]
[null,"",null,{"$f":"IF(ISERROR(VLOOKUP(#REF!,localizacao,2,FALSE)),\"\",VLOOKUP(#REF!,localizacao,2,FALSE))","v":""},null,"",null,""]
[null,"",null,{"$f":"IF(ISERROR(VLOOKUP(#REF!,localizacao,2,FALSE)),\"\",VLOOKUP(#REF!,localizacao,2,FALSE))","v":""},null,"",null,""]
[null,"",null,{"$f":"IF(ISERROR(VLOOKUP(#REF!,localizacao,2,FALSE)),\"\",VLOOKUP(#REF!,localizacao,2,FALSE))","v":""},null,"",null,""]
[null,"",null,{"$f":"IF(ISERROR(VLOOKUP(#REF!,localizacao,2,FALSE)),\"\",VLOOKUP(#REF!,localizacao,2,FALSE))","v":""},null,"",null,""]
[null,"",null,{"$f":"IF(ISERROR(VLOOKUP(#REF!,localizacao,2,FALSE)),\"\",VLOOKUP(#REF!,localizacao,2,FALSE))","v":""},null,"",null,""]
[null,"",null,{"$f":"IF(ISERROR(VLOOKUP(#REF!,localizacao,2,FALSE)),\"\",VLOOKUP(#REF!,localizacao,2,FALSE))","v":""},null,{"$f":"IF(ISERROR(VLOOKUP(G4678,componentes,2,FALSE)),\"\",VLOOKUP(G4678,componentes,2,FALSE))","v":""},null,{"$f":"IF(ISERROR(VLOOKUP(I4678,rubricas,2,FALSE)),\"\",VLOOKUP(I4678,rubricas,2,FALSE))","v":""}]
[null,{"$f":"IF(C4679<>\"\",+B4678+1,\"\")","v":""},null,{"$f":"IF(ISERROR(VLOOKUP(#REF!,localizacao,2,FALSE)),\"\",VLOOKUP(#REF!,localizacao,2,FALSE))","v":""},null,"",null,""]
[null,"",null,{"$f":"IF(ISERROR(VLOOKUP(#REF!,localizacao,2,FALSE)),\"\",VLOOKUP(#REF!,localizacao,2,FALSE))","v":""},null,"",null,""]
[null,"",null,{"$f":"IF(ISERROR(VLOOKUP(#REF!,localizacao,2,FALSE)),\"\",VLOOKUP(#REF!,localizacao,2,FALSE))","v":""},null,"",null,""]
[null,"",null,{"$f":"IF(ISERROR(VLOOKUP(#REF!,localizacao,2,FALSE)),\"\",VLOOKUP(#REF!,localizacao,2,FALSE))","v":""},null,"",null,""]
[null,"",null,{"$f":"IF(ISERROR(VLOOKUP(#REF!,localizacao,2,FALSE)),\"\",VLOOKUP(#REF!,localizacao,2,FALSE))","v":""},null,"",null,""]
[null,"",null,{"$f":"IF(ISERROR(VLOOKUP(#REF!,localizacao,2,FALSE)),\"\",VLOOKUP(#REF!,localizacao,2,FALSE))","v":""},null,"",null,""]
[null,"",null,{"$f":"IF(ISERROR(VLOOKUP(#REF!,localizacao,2,FALSE)),\"\",VLOOKUP(#REF!,localizacao,2,FALSE))","v":""},null,"",null,""]
[null,"",null,{"$f":"IF(ISERROR(VLOOKUP(#REF!,localizacao,2,FALSE)),\"\",VLOOKUP(#REF!,localizacao,2,FALSE))","v":""},null,"",null,""]
[null,"",null,{"$f":"IF(ISERROR(VLOOKUP(#REF!,localizacao,2,FALSE)),\"\",VLOOKUP(#REF!,localizacao,2,FALSE))","v":""},null,"",null,""]
[null,"",null,{"$f":"IF(ISERROR(VLOOKUP(#REF!,localizacao,2,FALSE)),\"\",VLOOKUP(#REF!,localizacao,2,FALSE))","v":""},null,"",null,""]
[null,"",null,{"$f":"IF(ISERROR(VLOOKUP(#REF!,localizacao,2,FALSE)),\"\",VLOOKUP(#REF!,localizacao,2,FALSE))","v":""},null,"",null,""]
[null,"",null,{"$f":"IF(ISERROR(VLOOKUP(#REF!,localizacao,2,FALSE)),\"\",VLOOKUP(#REF!,localizacao,2,FALSE))","v":""},null,"",null,""]
[null,"",null,{"$f":"IF(ISERROR(VLOOKUP(#REF!,localizacao,2,FALSE)),\"\",VLOOKUP(#REF!,localizacao,2,FALSE))","v":""},null,"",null,""]
[null,"",null,{"$f":"IF(ISERROR(VLOOKUP(#REF!,localizacao,2,FALSE)),\"\",VLOOKUP(#REF!,localizacao,2,FALSE))","v":""},null,"",null,""]
[null,"",null,{"$f":"IF(ISERROR(VLOOKUP(#REF!,localizacao,2,FALSE)),\"\",VLOOKUP(#REF!,localizacao,2,FALSE))","v":""},null,"",null,""]
[null,"",null,{"$f":"IF(ISERROR(VLOOKUP(#REF!,localizacao,2,FALSE)),\"\",VLOOKUP(#REF!,localizacao,2,FALSE))","v":""},null,"",null,""]
[null,"",null,{"$f":"IF(ISERROR(VLOOKUP(#REF!,localizacao,2,FALSE)),\"\",VLOOKUP(#REF!,localizacao,2,FALSE))","v":""},null,"",null,""]
[null,"",null,{"$f":"IF(ISERROR(VLOOKUP(#REF!,localizacao,2,FALSE)),\"\",VLOOKUP(#REF!,localizacao,2,FALSE))","v":""},null,"",null,""]
[null,"",null,{"$f":"IF(ISERROR(VLOOKUP(#REF!,localizacao,2,FALSE)),\"\",VLOOKUP(#REF!,localizacao,2,FALSE))","v":""},null,"",null,""]
[null,"",null,{"$f":"IF(ISERROR(VLOOKUP(#REF!,localizacao,2,FALSE)),\"\",VLOOKUP(#REF!,localizacao,2,FALSE))","v":""},null,"",null,""]
[null,"",null,{"$f":"IF(ISERROR(VLOOKUP(#REF!,localizacao,2,FALSE)),\"\",VLOOKUP(#REF!,localizacao,2,FALSE))","v":""},null,"",null,""]
[null,"",null,{"$f":"IF(ISERROR(VLOOKUP(#REF!,localizacao,2,FALSE)),\"\",VLOOKUP(#REF!,localizacao,2,FALSE))","v":""},null,"",null,""]
[null,"",null,{"$f":"IF(ISERROR(VLOOKUP(#REF!,localizacao,2,FALSE)),\"\",VLOOKUP(#REF!,localizacao,2,FALSE))","v":""},null,"",null,""]
[null,"",null,{"$f":"IF(ISERROR(VLOOKUP(#REF!,localizacao,2,FALSE)),\"\",VLOOKUP(#REF!,localizacao,2,FALSE))","v":""},null,"",null,""]
[null,"",null,{"$f":"IF(ISERROR(VLOOKUP(#REF!,localizacao,2,FALSE)),\"\",VLOOKUP(#REF!,localizacao,2,FALSE))","v":""},null,"",null,""]
[null,"",null,{"$f":"IF(ISERROR(VLOOKUP(#REF!,localizacao,2,FALSE)),\"\",VLOOKUP(#REF!,localizacao,2,FALSE))","v":""},null,"",null,""]
[null,"",null,{"$f":"IF(ISERROR(VLOOKUP(#REF!,localizacao,2,FALSE)),\"\",VLOOKUP(#REF!,localizacao,2,FALSE))","v":""},null,"",null,""]
[null,"",null,{"$f":"IF(ISERROR(VLOOKUP(#REF!,localizacao,2,FALSE)),\"\",VLOOKUP(#REF!,localizacao,2,FALSE))","v":""},null,"",null,""]
[null,"",null,{"$f":"IF(ISERROR(VLOOKUP(#REF!,localizacao,2,FALSE)),\"\",VLOOKUP(#REF!,localizacao,2,FALSE))","v":""},null,"",null,""]
[null,"",null,{"$f":"IF(ISERROR(VLOOKUP(#REF!,localizacao,2,FALSE)),\"\",VLOOKUP(#REF!,localizacao,2,FALSE))","v":""},null,"",null,""]
[null,"",null,{"$f":"IF(ISERROR(VLOOKUP(#REF!,localizacao,2,FALSE)),\"\",VLOOKUP(#REF!,localizacao,2,FALSE))","v":""},null,"",null,""]
[null,"",null,{"$f":"IF(ISERROR(VLOOKUP(#REF!,localizacao,2,FALSE)),\"\",VLOOKUP(#REF!,localizacao,2,FALSE))","v":""},null,"",null,""]
[null,"",null,{"$f":"IF(ISERROR(VLOOKUP(#REF!,localizacao,2,FALSE)),\"\",VLOOKUP(#REF!,localizacao,2,FALSE))","v":""},null,"",null,""]
[null,"",null,{"$f":"IF(ISERROR(VLOOKUP(#REF!,localizacao,2,FALSE)),\"\",VLOOKUP(#REF!,localizacao,2,FALSE))","v":""},null,"",null,""]
[null,"",null,{"$f":"IF(ISERROR(VLOOKUP(#REF!,localizacao,2,FALSE)),\"\",VLOOKUP(#REF!,localizacao,2,FALSE))","v":""},null,"",null,""]
[null,"",null,{"$f":"IF(ISERROR(VLOOKUP(#REF!,localizacao,2,FALSE)),\"\",VLOOKUP(#REF!,localizacao,2,FALSE))","v":""},null,"",null,""]
[null,"",null,{"$f":"IF(ISERROR(VLOOKUP(#REF!,localizacao,2,FALSE)),\"\",VLOOKUP(#REF!,localizacao,2,FALSE))","v":""},null,"",null,""]
[null,"",null,{"$f":"IF(ISERROR(VLOOKUP(#REF!,localizacao,2,FALSE)),\"\",VLOOKUP(#REF!,localizacao,2,FALSE))","v":""},null,"",null,""]
[null,"",null,{"$f":"IF(ISERROR(VLOOKUP(#REF!,localizacao,2,FALSE)),\"\",VLOOKUP(#REF!,localizacao,2,FALSE))","v":""},null,"",null,""]
[null,"",null,{"$f":"IF(ISERROR(VLOOKUP(#REF!,localizacao,2,FALSE)),\"\",VLOOKUP(#REF!,localizacao,2,FALSE))","v":""},null,"",null,""]
[null,"",null,{"$f":"IF(ISERROR(VLOOKUP(#REF!,localizacao,2,FALSE)),\"\",VLOOKUP(#REF!,localizacao,2,FALSE))","v":""},null,"",null,""]
[null,"",null,{"$f":"IF(ISERROR(VLOOKUP(#REF!,localizacao,2,FALSE)),\"\",VLOOKUP(#REF!,localizacao,2,FALSE))","v":""},null,"",null,""]
[null,"",null,{"$f":"IF(ISERROR(VLOOKUP(#REF!,localizacao,2,FALSE)),\"\",VLOOKUP(#REF!,localizacao,2,FALSE))","v":""},null,"",null,""]
[null,"",null,{"$f":"IF(ISERROR(VLOOKUP(#REF!,localizacao,2,FALSE)),\"\",VLOOKUP(#REF!,localizacao,2,FALSE))","v":""},null,"",null,""]
[null,"",null,{"$f":"IF(ISERROR(VLOOKUP(#REF!,localizacao,2,FALSE)),\"\",VLOOKUP(#REF!,localizacao,2,FALSE))","v":""},null,"",null,""]
[null,"",null,{"$f":"IF(ISERROR(VLOOKUP(#REF!,localizacao,2,FALSE)),\"\",VLOOKUP(#REF!,localizacao,2,FALSE))","v":""},null,"",null,""]
[null,"",null,{"$f":"IF(ISERROR(VLOOKUP(#REF!,localizacao,2,FALSE)),\"\",VLOOKUP(#REF!,localizacao,2,FALSE))","v":""},null,"",null,""]
[null,"",null,{"$f":"IF(ISERROR(VLOOKUP(#REF!,localizacao,2,FALSE)),\"\",VLOOKUP(#REF!,localizacao,2,FALSE))","v":""},null,"",null,""]
[null,"",null,{"$f":"IF(ISERROR(VLOOKUP(#REF!,localizacao,2,FALSE)),\"\",VLOOKUP(#REF!,localizacao,2,FALSE))","v":""},null,"",null,""]
[null,"",null,{"$f":"IF(ISERROR(VLOOKUP(#REF!,localizacao,2,FALSE)),\"\",VLOOKUP(#REF!,localizacao,2,FALSE))","v":""},null,"",null,""]
[null,"",null,{"$f":"IF(ISERROR(VLOOKUP(#REF!,localizacao,2,FALSE)),\"\",VLOOKUP(#REF!,localizacao,2,FALSE))","v":""},null,"",null,""]
[null,"",null,{"$f":"IF(ISERROR(VLOOKUP(#REF!,localizacao,2,FALSE)),\"\",VLOOKUP(#REF!,localizacao,2,FALSE))","v":""},null,"",null,""]
[null,"",null,{"$f":"IF(ISERROR(VLOOKUP(#REF!,localizacao,2,FALSE)),\"\",VLOOKUP(#REF!,localizacao,2,FALSE))","v":""},null,"",null,""]
[null,"",null,{"$f":"IF(ISERROR(VLOOKUP(#REF!,localizacao,2,FALSE)),\"\",VLOOKUP(#REF!,localizacao,2,FALSE))","v":""},null,"",null,""]
[null,"",null,{"$f":"IF(ISERROR(VLOOKUP(#REF!,localizacao,2,FALSE)),\"\",VLOOKUP(#REF!,localizacao,2,FALSE))","v":""},null,"",null,""]
[null,"",null,{"$f":"IF(ISERROR(VLOOKUP(#REF!,localizacao,2,FALSE)),\"\",VLOOKUP(#REF!,localizacao,2,FALSE))","v":""},null,"",null,""]
[null,"",null,{"$f":"IF(ISERROR(VLOOKUP(#REF!,localizacao,2,FALSE)),\"\",VLOOKUP(#REF!,localizacao,2,FALSE))","v":""},null,"",null,""]
[null,"",null,{"$f":"IF(ISERROR(VLOOKUP(#REF!,localizacao,2,FALSE)),\"\",VLOOKUP(#REF!,localizacao,2,FALSE))","v":""},null,"",null,""]
[null,"",null,{"$f":"IF(ISERROR(VLOOKUP(#REF!,localizacao,2,FALSE)),\"\",VLOOKUP(#REF!,localizacao,2,FALSE))","v":""},null,"",null,""]
[null,"",null,{"$f":"IF(ISERROR(VLOOKUP(#REF!,localizacao,2,FALSE)),\"\",VLOOKUP(#REF!,localizacao,2,FALSE))","v":""},null,"",null,""]
[null,"",null,{"$f":"IF(ISERROR(VLOOKUP(#REF!,localizacao,2,FALSE)),\"\",VLOOKUP(#REF!,localizacao,2,FALSE))","v":""},null,"",null,""]
[null,"",null,{"$f":"IF(ISERROR(VLOOKUP(#REF!,localizacao,2,FALSE)),\"\",VLOOKUP(#REF!,localizacao,2,FALSE))","v":""},null,"",null,""]
[null,"",null,{"$f":"IF(ISERROR(VLOOKUP(#REF!,localizacao,2,FALSE)),\"\",VLOOKUP(#REF!,localizacao,2,FALSE))","v":""},null,"",null,""]
[null,"",null,{"$f":"IF(ISERROR(VLOOKUP(#REF!,localizacao,2,FALSE)),\"\",VLOOKUP(#REF!,localizacao,2,FALSE))","v":""},null,{"$f":"IF(ISERROR(VLOOKUP(G4742,componentes,2,FALSE)),\"\",VLOOKUP(G4742,componentes,2,FALSE))","v":""},null,{"$f":"IF(ISERROR(VLOOKUP(I4742,rubricas,2,FALSE)),\"\",VLOOKUP(I4742,rubricas,2,FALSE))","v":""}]
[null,{"$f":"IF(C4743<>\"\",+B4742+1,\"\")","v":""},null,{"$f":"IF(ISERROR(VLOOKUP(#REF!,localizacao,2,FALSE)),\"\",VLOOKUP(#REF!,localizacao,2,FALSE))","v":""},null,"",null,""]
[null,"",null,{"$f":"IF(ISERROR(VLOOKUP(#REF!,localizacao,2,FALSE)),\"\",VLOOKUP(#REF!,localizacao,2,FALSE))","v":""},null,"",null,""]
[null,"",null,{"$f":"IF(ISERROR(VLOOKUP(#REF!,localizacao,2,FALSE)),\"\",VLOOKUP(#REF!,localizacao,2,FALSE))","v":""},null,"",null,""]
[null,"",null,{"$f":"IF(ISERROR(VLOOKUP(#REF!,localizacao,2,FALSE)),\"\",VLOOKUP(#REF!,localizacao,2,FALSE))","v":""},null,"",null,""]
[null,"",null,{"$f":"IF(ISERROR(VLOOKUP(#REF!,localizacao,2,FALSE)),\"\",VLOOKUP(#REF!,localizacao,2,FALSE))","v":""},null,"",null,""]
[null,"",null,{"$f":"IF(ISERROR(VLOOKUP(#REF!,localizacao,2,FALSE)),\"\",VLOOKUP(#REF!,localizacao,2,FALSE))","v":""},null,"",null,""]
[null,"",null,{"$f":"IF(ISERROR(VLOOKUP(#REF!,localizacao,2,FALSE)),\"\",VLOOKUP(#REF!,localizacao,2,FALSE))","v":""},null,"",null,""]
[null,"",null,{"$f":"IF(ISERROR(VLOOKUP(#REF!,localizacao,2,FALSE)),\"\",VLOOKUP(#REF!,localizacao,2,FALSE))","v":""},null,"",null,""]
[null,"",null,{"$f":"IF(ISERROR(VLOOKUP(#REF!,localizacao,2,FALSE)),\"\",VLOOKUP(#REF!,localizacao,2,FALSE))","v":""},null,"",null,""]
[null,"",null,{"$f":"IF(ISERROR(VLOOKUP(#REF!,localizacao,2,FALSE)),\"\",VLOOKUP(#REF!,localizacao,2,FALSE))","v":""},null,"",null,""]
[null,"",null,{"$f":"IF(ISERROR(VLOOKUP(#REF!,localizacao,2,FALSE)),\"\",VLOOKUP(#REF!,localizacao,2,FALSE))","v":""},null,"",null,""]
[null,"",null,{"$f":"IF(ISERROR(VLOOKUP(#REF!,localizacao,2,FALSE)),\"\",VLOOKUP(#REF!,localizacao,2,FALSE))","v":""},null,"",null,""]
[null,"",null,{"$f":"IF(ISERROR(VLOOKUP(#REF!,localizacao,2,FALSE)),\"\",VLOOKUP(#REF!,localizacao,2,FALSE))","v":""},null,"",null,""]
[null,"",null,{"$f":"IF(ISERROR(VLOOKUP(#REF!,localizacao,2,FALSE)),\"\",VLOOKUP(#REF!,localizacao,2,FALSE))","v":""},null,"",null,""]
[null,"",null,{"$f":"IF(ISERROR(VLOOKUP(#REF!,localizacao,2,FALSE)),\"\",VLOOKUP(#REF!,localizacao,2,FALSE))","v":""},null,"",null,""]
[null,"",null,{"$f":"IF(ISERROR(VLOOKUP(#REF!,localizacao,2,FALSE)),\"\",VLOOKUP(#REF!,localizacao,2,FALSE))","v":""},null,"",null,""]
[null,"",null,{"$f":"IF(ISERROR(VLOOKUP(#REF!,localizacao,2,FALSE)),\"\",VLOOKUP(#REF!,localizacao,2,FALSE))","v":""},null,"",null,""]
[null,"",null,{"$f":"IF(ISERROR(VLOOKUP(#REF!,localizacao,2,FALSE)),\"\",VLOOKUP(#REF!,localizacao,2,FALSE))","v":""},null,"",null,""]
[null,"",null,{"$f":"IF(ISERROR(VLOOKUP(#REF!,localizacao,2,FALSE)),\"\",VLOOKUP(#REF!,localizacao,2,FALSE))","v":""},null,"",null,""]
[null,"",null,{"$f":"IF(ISERROR(VLOOKUP(#REF!,localizacao,2,FALSE)),\"\",VLOOKUP(#REF!,localizacao,2,FALSE))","v":""},null,"",null,""]
[null,"",null,{"$f":"IF(ISERROR(VLOOKUP(#REF!,localizacao,2,FALSE)),\"\",VLOOKUP(#REF!,localizacao,2,FALSE))","v":""},null,"",null,""]
[null,"",null,{"$f":"IF(ISERROR(VLOOKUP(#REF!,localizacao,2,FALSE)),\"\",VLOOKUP(#REF!,localizacao,2,FALSE))","v":""},null,"",null,""]
[null,"",null,{"$f":"IF(ISERROR(VLOOKUP(#REF!,localizacao,2,FALSE)),\"\",VLOOKUP(#REF!,localizacao,2,FALSE))","v":""},null,"",null,""]
[null,"",null,{"$f":"IF(ISERROR(VLOOKUP(#REF!,localizacao,2,FALSE)),\"\",VLOOKUP(#REF!,localizacao,2,FALSE))","v":""},null,"",null,""]
[null,"",null,{"$f":"IF(ISERROR(VLOOKUP(#REF!,localizacao,2,FALSE)),\"\",VLOOKUP(#REF!,localizacao,2,FALSE))","v":""},null,"",null,""]
[null,"",null,{"$f":"IF(ISERROR(VLOOKUP(#REF!,localizacao,2,FALSE)),\"\",VLOOKUP(#REF!,localizacao,2,FALSE))","v":""},null,"",null,""]
[null,"",null,{"$f":"IF(ISERROR(VLOOKUP(#REF!,localizacao,2,FALSE)),\"\",VLOOKUP(#REF!,localizacao,2,FALSE))","v":""},null,"",null,""]
[null,"",null,{"$f":"IF(ISERROR(VLOOKUP(#REF!,localizacao,2,FALSE)),\"\",VLOOKUP(#REF!,localizacao,2,FALSE))","v":""},null,"",null,""]
[null,"",null,{"$f":"IF(ISERROR(VLOOKUP(#REF!,localizacao,2,FALSE)),\"\",VLOOKUP(#REF!,localizacao,2,FALSE))","v":""},null,"",null,""]
[null,"",null,{"$f":"IF(ISERROR(VLOOKUP(#REF!,localizacao,2,FALSE)),\"\",VLOOKUP(#REF!,localizacao,2,FALSE))","v":""},null,"",null,""]
[null,"",null,{"$f":"IF(ISERROR(VLOOKUP(#REF!,localizacao,2,FALSE)),\"\",VLOOKUP(#REF!,localizacao,2,FALSE))","v":""},null,"",null,""]
[null,"",null,{"$f":"IF(ISERROR(VLOOKUP(#REF!,localizacao,2,FALSE)),\"\",VLOOKUP(#REF!,localizacao,2,FALSE))","v":""},null,"",null,""]
[null,"",null,{"$f":"IF(ISERROR(VLOOKUP(#REF!,localizacao,2,FALSE)),\"\",VLOOKUP(#REF!,localizacao,2,FALSE))","v":""},null,"",null,""]
[null,"",null,{"$f":"IF(ISERROR(VLOOKUP(#REF!,localizacao,2,FALSE)),\"\",VLOOKUP(#REF!,localizacao,2,FALSE))","v":""},null,"",null,""]
[null,"",null,{"$f":"IF(ISERROR(VLOOKUP(#REF!,localizacao,2,FALSE)),\"\",VLOOKUP(#REF!,localizacao,2,FALSE))","v":""},null,"",null,""]
[null,"",null,{"$f":"IF(ISERROR(VLOOKUP(#REF!,localizacao,2,FALSE)),\"\",VLOOKUP(#REF!,localizacao,2,FALSE))","v":""},null,"",null,""]
[null,"",null,{"$f":"IF(ISERROR(VLOOKUP(#REF!,localizacao,2,FALSE)),\"\",VLOOKUP(#REF!,localizacao,2,FALSE))","v":""},null,"",null,""]
[null,"",null,{"$f":"IF(ISERROR(VLOOKUP(#REF!,localizacao,2,FALSE)),\"\",VLOOKUP(#REF!,localizacao,2,FALSE))","v":""},null,"",null,""]
[null,"",null,{"$f":"IF(ISERROR(VLOOKUP(#REF!,localizacao,2,FALSE)),\"\",VLOOKUP(#REF!,localizacao,2,FALSE))","v":""},null,"",null,""]
[null,"",null,{"$f":"IF(ISERROR(VLOOKUP(#REF!,localizacao,2,FALSE)),\"\",VLOOKUP(#REF!,localizacao,2,FALSE))","v":""},null,"",null,""]
[null,"",null,{"$f":"IF(ISERROR(VLOOKUP(#REF!,localizacao,2,FALSE)),\"\",VLOOKUP(#REF!,localizacao,2,FALSE))","v":""},null,"",null,""]
[null,"",null,{"$f":"IF(ISERROR(VLOOKUP(#REF!,localizacao,2,FALSE)),\"\",VLOOKUP(#REF!,localizacao,2,FALSE))","v":""},null,"",null,""]
[null,"",null,{"$f":"IF(ISERROR(VLOOKUP(#REF!,localizacao,2,FALSE)),\"\",VLOOKUP(#REF!,localizacao,2,FALSE))","v":""},null,"",null,""]
[null,"",null,{"$f":"IF(ISERROR(VLOOKUP(#REF!,localizacao,2,FALSE)),\"\",VLOOKUP(#REF!,localizacao,2,FALSE))","v":""},null,"",null,""]
[null,"",null,{"$f":"IF(ISERROR(VLOOKUP(#REF!,localizacao,2,FALSE)),\"\",VLOOKUP(#REF!,localizacao,2,FALSE))","v":""},null,"",null,""]
[null,"",null,{"$f":"IF(ISERROR(VLOOKUP(#REF!,localizacao,2,FALSE)),\"\",VLOOKUP(#REF!,localizacao,2,FALSE))","v":""},null,"",null,""]
[null,"",null,{"$f":"IF(ISERROR(VLOOKUP(#REF!,localizacao,2,FALSE)),\"\",VLOOKUP(#REF!,localizacao,2,FALSE))","v":""},null,"",null,""]
[null,"",null,{"$f":"IF(ISERROR(VLOOKUP(#REF!,localizacao,2,FALSE)),\"\",VLOOKUP(#REF!,localizacao,2,FALSE))","v":""},null,"",null,""]
[null,"",null,{"$f":"IF(ISERROR(VLOOKUP(#REF!,localizacao,2,FALSE)),\"\",VLOOKUP(#REF!,localizacao,2,FALSE))","v":""},null,"",null,""]
[null,"",null,{"$f":"IF(ISERROR(VLOOKUP(#REF!,localizacao,2,FALSE)),\"\",VLOOKUP(#REF!,localizacao,2,FALSE))","v":""},null,"",null,""]
[null,"",null,{"$f":"IF(ISERROR(VLOOKUP(#REF!,localizacao,2,FALSE)),\"\",VLOOKUP(#REF!,localizacao,2,FALSE))","v":""},null,"",null,""]
[null,"",null,{"$f":"IF(ISERROR(VLOOKUP(#REF!,localizacao,2,FALSE)),\"\",VLOOKUP(#REF!,localizacao,2,FALSE))","v":""},null,"",null,""]
[null,"",null,{"$f":"IF(ISERROR(VLOOKUP(#REF!,localizacao,2,FALSE)),\"\",VLOOKUP(#REF!,localizacao,2,FALSE))","v":""},null,"",null,""]
[null,"",null,{"$f":"IF(ISERROR(VLOOKUP(#REF!,localizacao,2,FALSE)),\"\",VLOOKUP(#REF!,localizacao,2,FALSE))","v":""},null,"",null,""]
[null,"",null,{"$f":"IF(ISERROR(VLOOKUP(#REF!,localizacao,2,FALSE)),\"\",VLOOKUP(#REF!,localizacao,2,FALSE))","v":""},null,"",null,""]
[null,"",null,{"$f":"IF(ISERROR(VLOOKUP(#REF!,localizacao,2,FALSE)),\"\",VLOOKUP(#REF!,localizacao,2,FALSE))","v":""},null,"",null,""]
[null,"",null,{"$f":"IF(ISERROR(VLOOKUP(#REF!,localizacao,2,FALSE)),\"\",VLOOKUP(#REF!,localizacao,2,FALSE))","v":""},null,"",null,""]
[null,"",null,{"$f":"IF(ISERROR(VLOOKUP(#REF!,localizacao,2,FALSE)),\"\",VLOOKUP(#REF!,localizacao,2,FALSE))","v":""},null,"",null,""]
[null,"",null,{"$f":"IF(ISERROR(VLOOKUP(#REF!,localizacao,2,FALSE)),\"\",VLOOKUP(#REF!,localizacao,2,FALSE))","v":""},null,"",null,""]
[null,"",null,{"$f":"IF(ISERROR(VLOOKUP(#REF!,localizacao,2,FALSE)),\"\",VLOOKUP(#REF!,localizacao,2,FALSE))","v":""},null,"",null,""]
[null,"",null,{"$f":"IF(ISERROR(VLOOKUP(#REF!,localizacao,2,FALSE)),\"\",VLOOKUP(#REF!,localizacao,2,FALSE))","v":""},null,"",null,""]
[null,"",null,{"$f":"IF(ISERROR(VLOOKUP(#REF!,localizacao,2,FALSE)),\"\",VLOOKUP(#REF!,localizacao,2,FALSE))","v":""},null,"",null,""]
[null,"",null,{"$f":"IF(ISERROR(VLOOKUP(#REF!,localizacao,2,FALSE)),\"\",VLOOKUP(#REF!,localizacao,2,FALSE))","v":""},null,"",null,""]
[null,"",null,{"$f":"IF(ISERROR(VLOOKUP(#REF!,localizacao,2,FALSE)),\"\",VLOOKUP(#REF!,localizacao,2,FALSE))","v":""},null,{"$f":"IF(ISERROR(VLOOKUP(G4806,componentes,2,FALSE)),\"\",VLOOKUP(G4806,componentes,2,FALSE))","v":""},null,{"$f":"IF(ISERROR(VLOOKUP(I4806,rubricas,2,FALSE)),\"\",VLOOKUP(I4806,rubricas,2,FALSE))","v":""}]
[null,{"$f":"IF(C4807<>\"\",+B4806+1,\"\")","v":""},null,{"$f":"IF(ISERROR(VLOOKUP(#REF!,localizacao,2,FALSE)),\"\",VLOOKUP(#REF!,localizacao,2,FALSE))","v":""},null,"",null,""]
[null,"",null,{"$f":"IF(ISERROR(VLOOKUP(#REF!,localizacao,2,FALSE)),\"\",VLOOKUP(#REF!,localizacao,2,FALSE))","v":""},null,"",null,""]
[null,"",null,{"$f":"IF(ISERROR(VLOOKUP(#REF!,localizacao,2,FALSE)),\"\",VLOOKUP(#REF!,localizacao,2,FALSE))","v":""},null,"",null,""]
[null,"",null,{"$f":"IF(ISERROR(VLOOKUP(#REF!,localizacao,2,FALSE)),\"\",VLOOKUP(#REF!,localizacao,2,FALSE))","v":""},null,"",null,""]
[null,"",null,{"$f":"IF(ISERROR(VLOOKUP(#REF!,localizacao,2,FALSE)),\"\",VLOOKUP(#REF!,localizacao,2,FALSE))","v":""},null,"",null,""]
[null,"",null,{"$f":"IF(ISERROR(VLOOKUP(#REF!,localizacao,2,FALSE)),\"\",VLOOKUP(#REF!,localizacao,2,FALSE))","v":""},null,"",null,""]
[null,"",null,{"$f":"IF(ISERROR(VLOOKUP(#REF!,localizacao,2,FALSE)),\"\",VLOOKUP(#REF!,localizacao,2,FALSE))","v":""},null,"",null,""]
[null,"",null,{"$f":"IF(ISERROR(VLOOKUP(#REF!,localizacao,2,FALSE)),\"\",VLOOKUP(#REF!,localizacao,2,FALSE))","v":""},null,"",null,""]
[null,"",null,{"$f":"IF(ISERROR(VLOOKUP(#REF!,localizacao,2,FALSE)),\"\",VLOOKUP(#REF!,localizacao,2,FALSE))","v":""},null,"",null,""]
[null,"",null,{"$f":"IF(ISERROR(VLOOKUP(#REF!,localizacao,2,FALSE)),\"\",VLOOKUP(#REF!,localizacao,2,FALSE))","v":""},null,"",null,""]
[null,"",null,{"$f":"IF(ISERROR(VLOOKUP(#REF!,localizacao,2,FALSE)),\"\",VLOOKUP(#REF!,localizacao,2,FALSE))","v":""},null,"",null,""]
[null,"",null,{"$f":"IF(ISERROR(VLOOKUP(#REF!,localizacao,2,FALSE)),\"\",VLOOKUP(#REF!,localizacao,2,FALSE))","v":""},null,"",null,""]
[null,"",null,{"$f":"IF(ISERROR(VLOOKUP(#REF!,localizacao,2,FALSE)),\"\",VLOOKUP(#REF!,localizacao,2,FALSE))","v":""},null,"",null,""]
[null,"",null,{"$f":"IF(ISERROR(VLOOKUP(#REF!,localizacao,2,FALSE)),\"\",VLOOKUP(#REF!,localizacao,2,FALSE))","v":""},null,"",null,""]
[null,"",null,{"$f":"IF(ISERROR(VLOOKUP(#REF!,localizacao,2,FALSE)),\"\",VLOOKUP(#REF!,localizacao,2,FALSE))","v":""},null,"",null,""]
[null,"",null,{"$f":"IF(ISERROR(VLOOKUP(#REF!,localizacao,2,FALSE)),\"\",VLOOKUP(#REF!,localizacao,2,FALSE))","v":""},null,"",null,""]
[null,"",null,{"$f":"IF(ISERROR(VLOOKUP(#REF!,localizacao,2,FALSE)),\"\",VLOOKUP(#REF!,localizacao,2,FALSE))","v":""},null,"",null,""]
[null,"",null,{"$f":"IF(ISERROR(VLOOKUP(#REF!,localizacao,2,FALSE)),\"\",VLOOKUP(#REF!,localizacao,2,FALSE))","v":""},null,"",null,""]
[null,"",null,{"$f":"IF(ISERROR(VLOOKUP(#REF!,localizacao,2,FALSE)),\"\",VLOOKUP(#REF!,localizacao,2,FALSE))","v":""},null,"",null,""]
[null,"",null,{"$f":"IF(ISERROR(VLOOKUP(#REF!,localizacao,2,FALSE)),\"\",VLOOKUP(#REF!,localizacao,2,FALSE))","v":""},null,"",null,""]
[null,"",null,{"$f":"IF(ISERROR(VLOOKUP(#REF!,localizacao,2,FALSE)),\"\",VLOOKUP(#REF!,localizacao,2,FALSE))","v":""},null,"",null,""]
[null,"",null,{"$f":"IF(ISERROR(VLOOKUP(#REF!,localizacao,2,FALSE)),\"\",VLOOKUP(#REF!,localizacao,2,FALSE))","v":""},null,"",null,""]
[null,"",null,{"$f":"IF(ISERROR(VLOOKUP(#REF!,localizacao,2,FALSE)),\"\",VLOOKUP(#REF!,localizacao,2,FALSE))","v":""},null,"",null,""]
[null,"",null,{"$f":"IF(ISERROR(VLOOKUP(#REF!,localizacao,2,FALSE)),\"\",VLOOKUP(#REF!,localizacao,2,FALSE))","v":""},null,"",null,""]
[null,"",null,{"$f":"IF(ISERROR(VLOOKUP(#REF!,localizacao,2,FALSE)),\"\",VLOOKUP(#REF!,localizacao,2,FALSE))","v":""},null,"",null,""]
[null,"",null,{"$f":"IF(ISERROR(VLOOKUP(#REF!,localizacao,2,FALSE)),\"\",VLOOKUP(#REF!,localizacao,2,FALSE))","v":""},null,"",null,""]
[null,"",null,{"$f":"IF(ISERROR(VLOOKUP(#REF!,localizacao,2,FALSE)),\"\",VLOOKUP(#REF!,localizacao,2,FALSE))","v":""},null,"",null,""]
[null,"",null,{"$f":"IF(ISERROR(VLOOKUP(#REF!,localizacao,2,FALSE)),\"\",VLOOKUP(#REF!,localizacao,2,FALSE))","v":""},null,"",null,""]
[null,"",null,{"$f":"IF(ISERROR(VLOOKUP(#REF!,localizacao,2,FALSE)),\"\",VLOOKUP(#REF!,localizacao,2,FALSE))","v":""},null,"",null,""]
[null,"",null,{"$f":"IF(ISERROR(VLOOKUP(#REF!,localizacao,2,FALSE)),\"\",VLOOKUP(#REF!,localizacao,2,FALSE))","v":""},null,"",null,""]
[null,"",null,{"$f":"IF(ISERROR(VLOOKUP(#REF!,localizacao,2,FALSE)),\"\",VLOOKUP(#REF!,localizacao,2,FALSE))","v":""},null,"",null,""]
[null,"",null,{"$f":"IF(ISERROR(VLOOKUP(#REF!,localizacao,2,FALSE)),\"\",VLOOKUP(#REF!,localizacao,2,FALSE))","v":""},null,"",null,""]
[null,"",null,{"$f":"IF(ISERROR(VLOOKUP(#REF!,localizacao,2,FALSE)),\"\",VLOOKUP(#REF!,localizacao,2,FALSE))","v":""},null,"",null,""]
[null,"",null,{"$f":"IF(ISERROR(VLOOKUP(#REF!,localizacao,2,FALSE)),\"\",VLOOKUP(#REF!,localizacao,2,FALSE))","v":""},null,"",null,""]
[null,"",null,{"$f":"IF(ISERROR(VLOOKUP(#REF!,localizacao,2,FALSE)),\"\",VLOOKUP(#REF!,localizacao,2,FALSE))","v":""},null,"",null,""]
[null,"",null,{"$f":"IF(ISERROR(VLOOKUP(#REF!,localizacao,2,FALSE)),\"\",VLOOKUP(#REF!,localizacao,2,FALSE))","v":""},null,"",null,""]
[null,"",null,{"$f":"IF(ISERROR(VLOOKUP(#REF!,localizacao,2,FALSE)),\"\",VLOOKUP(#REF!,localizacao,2,FALSE))","v":""},null,"",null,""]
[null,"",null,{"$f":"IF(ISERROR(VLOOKUP(#REF!,localizacao,2,FALSE)),\"\",VLOOKUP(#REF!,localizacao,2,FALSE))","v":""},null,"",null,""]
[null,"",null,{"$f":"IF(ISERROR(VLOOKUP(#REF!,localizacao,2,FALSE)),\"\",VLOOKUP(#REF!,localizacao,2,FALSE))","v":""},null,"",null,""]
[null,"",null,{"$f":"IF(ISERROR(VLOOKUP(#REF!,localizacao,2,FALSE)),\"\",VLOOKUP(#REF!,localizacao,2,FALSE))","v":""},null,"",null,""]
[null,"",null,{"$f":"IF(ISERROR(VLOOKUP(#REF!,localizacao,2,FALSE)),\"\",VLOOKUP(#REF!,localizacao,2,FALSE))","v":""},null,"",null,""]
[null,"",null,{"$f":"IF(ISERROR(VLOOKUP(#REF!,localizacao,2,FALSE)),\"\",VLOOKUP(#REF!,localizacao,2,FALSE))","v":""},null,"",null,""]
[null,"",null,{"$f":"IF(ISERROR(VLOOKUP(#REF!,localizacao,2,FALSE)),\"\",VLOOKUP(#REF!,localizacao,2,FALSE))","v":""},null,"",null,""]
[null,"",null,{"$f":"IF(ISERROR(VLOOKUP(#REF!,localizacao,2,FALSE)),\"\",VLOOKUP(#REF!,localizacao,2,FALSE))","v":""},null,"",null,""]
[null,"",null,{"$f":"IF(ISERROR(VLOOKUP(#REF!,localizacao,2,FALSE)),\"\",VLOOKUP(#REF!,localizacao,2,FALSE))","v":""},null,"",null,""]
[null,"",null,{"$f":"IF(ISERROR(VLOOKUP(#REF!,localizacao,2,FALSE)),\"\",VLOOKUP(#REF!,localizacao,2,FALSE))","v":""},null,"",null,""]
[null,"",null,{"$f":"IF(ISERROR(VLOOKUP(#REF!,localizacao,2,FALSE)),\"\",VLOOKUP(#REF!,localizacao,2,FALSE))","v":""},null,"",null,""]
[null,"",null,{"$f":"IF(ISERROR(VLOOKUP(#REF!,localizacao,2,FALSE)),\"\",VLOOKUP(#REF!,localizacao,2,FALSE))","v":""},null,"",null,""]
[null,"",null,{"$f":"IF(ISERROR(VLOOKUP(#REF!,localizacao,2,FALSE)),\"\",VLOOKUP(#REF!,localizacao,2,FALSE))","v":""},null,"",null,""]
[null,"",null,{"$f":"IF(ISERROR(VLOOKUP(#REF!,localizacao,2,FALSE)),\"\",VLOOKUP(#REF!,localizacao,2,FALSE))","v":""},null,"",null,""]
[null,"",null,{"$f":"IF(ISERROR(VLOOKUP(#REF!,localizacao,2,FALSE)),\"\",VLOOKUP(#REF!,localizacao,2,FALSE))","v":""},null,"",null,""]
[null,"",null,{"$f":"IF(ISERROR(VLOOKUP(#REF!,localizacao,2,FALSE)),\"\",VLOOKUP(#REF!,localizacao,2,FALSE))","v":""},null,"",null,""]
[null,"",null,{"$f":"IF(ISERROR(VLOOKUP(#REF!,localizacao,2,FALSE)),\"\",VLOOKUP(#REF!,localizacao,2,FALSE))","v":""},null,"",null,""]
[null,"",null,{"$f":"IF(ISERROR(VLOOKUP(#REF!,localizacao,2,FALSE)),\"\",VLOOKUP(#REF!,localizacao,2,FALSE))","v":""},null,"",null,""]
[null,"",null,{"$f":"IF(ISERROR(VLOOKUP(#REF!,localizacao,2,FALSE)),\"\",VLOOKUP(#REF!,localizacao,2,FALSE))","v":""},null,"",null,""]
[null,"",null,{"$f":"IF(ISERROR(VLOOKUP(#REF!,localizacao,2,FALSE)),\"\",VLOOKUP(#REF!,localizacao,2,FALSE))","v":""},null,"",null,""]
[null,"",null,{"$f":"IF(ISERROR(VLOOKUP(#REF!,localizacao,2,FALSE)),\"\",VLOOKUP(#REF!,localizacao,2,FALSE))","v":""},null,"",null,""]
[null,"",null,{"$f":"IF(ISERROR(VLOOKUP(#REF!,localizacao,2,FALSE)),\"\",VLOOKUP(#REF!,localizacao,2,FALSE))","v":""},null,"",null,""]
[null,"",null,{"$f":"IF(ISERROR(VLOOKUP(#REF!,localizacao,2,FALSE)),\"\",VLOOKUP(#REF!,localizacao,2,FALSE))","v":""},null,"",null,""]
[null,"",null,{"$f":"IF(ISERROR(VLOOKUP(#REF!,localizacao,2,FALSE)),\"\",VLOOKUP(#REF!,localizacao,2,FALSE))","v":""},null,"",null,""]
[null,"",null,{"$f":"IF(ISERROR(VLOOKUP(#REF!,localizacao,2,FALSE)),\"\",VLOOKUP(#REF!,localizacao,2,FALSE))","v":""},null,"",null,""]
[null,"",null,{"$f":"IF(ISERROR(VLOOKUP(#REF!,localizacao,2,FALSE)),\"\",VLOOKUP(#REF!,localizacao,2,FALSE))","v":""},null,"",null,""]
[null,"",null,{"$f":"IF(ISERROR(VLOOKUP(#REF!,localizacao,2,FALSE)),\"\",VLOOKUP(#REF!,localizacao,2,FALSE))","v":""},null,"",null,""]
[null,"",null,{"$f":"IF(ISERROR(VLOOKUP(#REF!,localizacao,2,FALSE)),\"\",VLOOKUP(#REF!,localizacao,2,FALSE))","v":""},null,{"$f":"IF(ISERROR(VLOOKUP(G4870,componentes,2,FALSE)),\"\",VLOOKUP(G4870,componentes,2,FALSE))","v":""},null,{"$f":"IF(ISERROR(VLOOKUP(I4870,rubricas,2,FALSE)),\"\",VLOOKUP(I4870,rubricas,2,FALSE))","v":""}]
[null,{"$f":"IF(C4871<>\"\",+B4870+1,\"\")","v":""},null,{"$f":"IF(ISERROR(VLOOKUP(#REF!,localizacao,2,FALSE)),\"\",VLOOKUP(#REF!,localizacao,2,FALSE))","v":""},null,"",null,""]
[null,"",null,{"$f":"IF(ISERROR(VLOOKUP(#REF!,localizacao,2,FALSE)),\"\",VLOOKUP(#REF!,localizacao,2,FALSE))","v":""},null,"",null,""]
[null,"",null,{"$f":"IF(ISERROR(VLOOKUP(#REF!,localizacao,2,FALSE)),\"\",VLOOKUP(#REF!,localizacao,2,FALSE))","v":""},null,"",null,""]
[null,"",null,{"$f":"IF(ISERROR(VLOOKUP(#REF!,localizacao,2,FALSE)),\"\",VLOOKUP(#REF!,localizacao,2,FALSE))","v":""},null,"",null,""]
[null,"",null,{"$f":"IF(ISERROR(VLOOKUP(#REF!,localizacao,2,FALSE)),\"\",VLOOKUP(#REF!,localizacao,2,FALSE))","v":""},null,"",null,""]
[null,"",null,{"$f":"IF(ISERROR(VLOOKUP(#REF!,localizacao,2,FALSE)),\"\",VLOOKUP(#REF!,localizacao,2,FALSE))","v":""},null,"",null,""]
[null,"",null,{"$f":"IF(ISERROR(VLOOKUP(#REF!,localizacao,2,FALSE)),\"\",VLOOKUP(#REF!,localizacao,2,FALSE))","v":""},null,"",null,""]
[null,"",null,{"$f":"IF(ISERROR(VLOOKUP(#REF!,localizacao,2,FALSE)),\"\",VLOOKUP(#REF!,localizacao,2,FALSE))","v":""},null,"",null,""]
[null,"",null,{"$f":"IF(ISERROR(VLOOKUP(#REF!,localizacao,2,FALSE)),\"\",VLOOKUP(#REF!,localizacao,2,FALSE))","v":""},null,"",null,""]
[null,"",null,{"$f":"IF(ISERROR(VLOOKUP(#REF!,localizacao,2,FALSE)),\"\",VLOOKUP(#REF!,localizacao,2,FALSE))","v":""},null,"",null,""]
[null,"",null,{"$f":"IF(ISERROR(VLOOKUP(#REF!,localizacao,2,FALSE)),\"\",VLOOKUP(#REF!,localizacao,2,FALSE))","v":""},null,"",null,""]
[null,"",null,{"$f":"IF(ISERROR(VLOOKUP(#REF!,localizacao,2,FALSE)),\"\",VLOOKUP(#REF!,localizacao,2,FALSE))","v":""},null,"",null,""]
[null,"",null,{"$f":"IF(ISERROR(VLOOKUP(#REF!,localizacao,2,FALSE)),\"\",VLOOKUP(#REF!,localizacao,2,FALSE))","v":""},null,"",null,""]
[null,"",null,{"$f":"IF(ISERROR(VLOOKUP(#REF!,localizacao,2,FALSE)),\"\",VLOOKUP(#REF!,localizacao,2,FALSE))","v":""},null,"",null,""]
[null,"",null,{"$f":"IF(ISERROR(VLOOKUP(#REF!,localizacao,2,FALSE)),\"\",VLOOKUP(#REF!,localizacao,2,FALSE))","v":""},null,"",null,""]
[null,"",null,{"$f":"IF(ISERROR(VLOOKUP(#REF!,localizacao,2,FALSE)),\"\",VLOOKUP(#REF!,localizacao,2,FALSE))","v":""},null,"",null,""]
[null,"",null,{"$f":"IF(ISERROR(VLOOKUP(#REF!,localizacao,2,FALSE)),\"\",VLOOKUP(#REF!,localizacao,2,FALSE))","v":""},null,"",null,""]
[null,"",null,{"$f":"IF(ISERROR(VLOOKUP(#REF!,localizacao,2,FALSE)),\"\",VLOOKUP(#REF!,localizacao,2,FALSE))","v":""},null,"",null,""]
[null,"",null,{"$f":"IF(ISERROR(VLOOKUP(#REF!,localizacao,2,FALSE)),\"\",VLOOKUP(#REF!,localizacao,2,FALSE))","v":""},null,"",null,""]
[null,"",null,{"$f":"IF(ISERROR(VLOOKUP(#REF!,localizacao,2,FALSE)),\"\",VLOOKUP(#REF!,localizacao,2,FALSE))","v":""},null,"",null,""]
[null,"",null,{"$f":"IF(ISERROR(VLOOKUP(#REF!,localizacao,2,FALSE)),\"\",VLOOKUP(#REF!,localizacao,2,FALSE))","v":""},null,"",null,""]
[null,"",null,{"$f":"IF(ISERROR(VLOOKUP(#REF!,localizacao,2,FALSE)),\"\",VLOOKUP(#REF!,localizacao,2,FALSE))","v":""},null,"",null,""]
[null,"",null,{"$f":"IF(ISERROR(VLOOKUP(#REF!,localizacao,2,FALSE)),\"\",VLOOKUP(#REF!,localizacao,2,FALSE))","v":""},null,"",null,""]
[null,"",null,{"$f":"IF(ISERROR(VLOOKUP(#REF!,localizacao,2,FALSE)),\"\",VLOOKUP(#REF!,localizacao,2,FALSE))","v":""},null,"",null,""]
[null,"",null,{"$f":"IF(ISERROR(VLOOKUP(#REF!,localizacao,2,FALSE)),\"\",VLOOKUP(#REF!,localizacao,2,FALSE))","v":""},null,"",null,""]
[null,"",null,{"$f":"IF(ISERROR(VLOOKUP(#REF!,localizacao,2,FALSE)),\"\",VLOOKUP(#REF!,localizacao,2,FALSE))","v":""},null,"",null,""]
[null,"",null,{"$f":"IF(ISERROR(VLOOKUP(#REF!,localizacao,2,FALSE)),\"\",VLOOKUP(#REF!,localizacao,2,FALSE))","v":""},null,"",null,""]
[null,"",null,{"$f":"IF(ISERROR(VLOOKUP(#REF!,localizacao,2,FALSE)),\"\",VLOOKUP(#REF!,localizacao,2,FALSE))","v":""},null,"",null,""]
[null,"",null,{"$f":"IF(ISERROR(VLOOKUP(#REF!,localizacao,2,FALSE)),\"\",VLOOKUP(#REF!,localizacao,2,FALSE))","v":""},null,"",null,""]
[null,"",null,{"$f":"IF(ISERROR(VLOOKUP(#REF!,localizacao,2,FALSE)),\"\",VLOOKUP(#REF!,localizacao,2,FALSE))","v":""},null,"",null,""]
[null,"",null,{"$f":"IF(ISERROR(VLOOKUP(#REF!,localizacao,2,FALSE)),\"\",VLOOKUP(#REF!,localizacao,2,FALSE))","v":""},null,"",null,""]
[null,"",null,{"$f":"IF(ISERROR(VLOOKUP(#REF!,localizacao,2,FALSE)),\"\",VLOOKUP(#REF!,localizacao,2,FALSE))","v":""},null,"",null,""]
[null,"",null,{"$f":"IF(ISERROR(VLOOKUP(#REF!,localizacao,2,FALSE)),\"\",VLOOKUP(#REF!,localizacao,2,FALSE))","v":""},null,"",null,""]
[null,"",null,{"$f":"IF(ISERROR(VLOOKUP(#REF!,localizacao,2,FALSE)),\"\",VLOOKUP(#REF!,localizacao,2,FALSE))","v":""},null,"",null,""]
[null,"",null,{"$f":"IF(ISERROR(VLOOKUP(#REF!,localizacao,2,FALSE)),\"\",VLOOKUP(#REF!,localizacao,2,FALSE))","v":""},null,"",null,""]
[null,"",null,{"$f":"IF(ISERROR(VLOOKUP(#REF!,localizacao,2,FALSE)),\"\",VLOOKUP(#REF!,localizacao,2,FALSE))","v":""},null,"",null,""]
[null,"",null,{"$f":"IF(ISERROR(VLOOKUP(#REF!,localizacao,2,FALSE)),\"\",VLOOKUP(#REF!,localizacao,2,FALSE))","v":""},null,"",null,""]
[null,"",null,{"$f":"IF(ISERROR(VLOOKUP(#REF!,localizacao,2,FALSE)),\"\",VLOOKUP(#REF!,localizacao,2,FALSE))","v":""},null,"",null,""]
[null,"",null,{"$f":"IF(ISERROR(VLOOKUP(#REF!,localizacao,2,FALSE)),\"\",VLOOKUP(#REF!,localizacao,2,FALSE))","v":""},null,"",null,""]
[null,"",null,{"$f":"IF(ISERROR(VLOOKUP(#REF!,localizacao,2,FALSE)),\"\",VLOOKUP(#REF!,localizacao,2,FALSE))","v":""},null,"",null,""]
[null,"",null,{"$f":"IF(ISERROR(VLOOKUP(#REF!,localizacao,2,FALSE)),\"\",VLOOKUP(#REF!,localizacao,2,FALSE))","v":""},null,"",null,""]
[null,"",null,{"$f":"IF(ISERROR(VLOOKUP(#REF!,localizacao,2,FALSE)),\"\",VLOOKUP(#REF!,localizacao,2,FALSE))","v":""},null,"",null,""]
[null,"",null,{"$f":"IF(ISERROR(VLOOKUP(#REF!,localizacao,2,FALSE)),\"\",VLOOKUP(#REF!,localizacao,2,FALSE))","v":""},null,"",null,""]
[null,"",null,{"$f":"IF(ISERROR(VLOOKUP(#REF!,localizacao,2,FALSE)),\"\",VLOOKUP(#REF!,localizacao,2,FALSE))","v":""},null,"",null,""]
[null,"",null,{"$f":"IF(ISERROR(VLOOKUP(#REF!,localizacao,2,FALSE)),\"\",VLOOKUP(#REF!,localizacao,2,FALSE))","v":""},null,"",null,""]
[null,"",null,{"$f":"IF(ISERROR(VLOOKUP(#REF!,localizacao,2,FALSE)),\"\",VLOOKUP(#REF!,localizacao,2,FALSE))","v":""},null,"",null,""]
[null,"",null,{"$f":"IF(ISERROR(VLOOKUP(#REF!,localizacao,2,FALSE)),\"\",VLOOKUP(#REF!,localizacao,2,FALSE))","v":""},null,"",null,""]
[null,"",null,{"$f":"IF(ISERROR(VLOOKUP(#REF!,localizacao,2,FALSE)),\"\",VLOOKUP(#REF!,localizacao,2,FALSE))","v":""},null,"",null,""]
[null,"",null,{"$f":"IF(ISERROR(VLOOKUP(#REF!,localizacao,2,FALSE)),\"\",VLOOKUP(#REF!,localizacao,2,FALSE))","v":""},null,"",null,""]
[null,"",null,{"$f":"IF(ISERROR(VLOOKUP(#REF!,localizacao,2,FALSE)),\"\",VLOOKUP(#REF!,localizacao,2,FALSE))","v":""},null,"",null,""]
[null,"",null,{"$f":"IF(ISERROR(VLOOKUP(#REF!,localizacao,2,FALSE)),\"\",VLOOKUP(#REF!,localizacao,2,FALSE))","v":""},null,"",null,""]
[null,"",null,{"$f":"IF(ISERROR(VLOOKUP(#REF!,localizacao,2,FALSE)),\"\",VLOOKUP(#REF!,localizacao,2,FALSE))","v":""},null,"",null,""]
[null,"",null,{"$f":"IF(ISERROR(VLOOKUP(#REF!,localizacao,2,FALSE)),\"\",VLOOKUP(#REF!,localizacao,2,FALSE))","v":""},null,"",null,""]
[null,"",null,{"$f":"IF(ISERROR(VLOOKUP(#REF!,localizacao,2,FALSE)),\"\",VLOOKUP(#REF!,localizacao,2,FALSE))","v":""},null,"",null,""]
[null,"",null,{"$f":"IF(ISERROR(VLOOKUP(#REF!,localizacao,2,FALSE)),\"\",VLOOKUP(#REF!,localizacao,2,FALSE))","v":""},null,"",null,""]
[null,"",null,{"$f":"IF(ISERROR(VLOOKUP(#REF!,localizacao,2,FALSE)),\"\",VLOOKUP(#REF!,localizacao,2,FALSE))","v":""},null,"",null,""]
[null,"",null,{"$f":"IF(ISERROR(VLOOKUP(#REF!,localizacao,2,FALSE)),\"\",VLOOKUP(#REF!,localizacao,2,FALSE))","v":""},null,"",null,""]
[null,"",null,{"$f":"IF(ISERROR(VLOOKUP(#REF!,localizacao,2,FALSE)),\"\",VLOOKUP(#REF!,localizacao,2,FALSE))","v":""},null,"",null,""]
[null,"",null,{"$f":"IF(ISERROR(VLOOKUP(#REF!,localizacao,2,FALSE)),\"\",VLOOKUP(#REF!,localizacao,2,FALSE))","v":""},null,"",null,""]
[null,"",null,{"$f":"IF(ISERROR(VLOOKUP(#REF!,localizacao,2,FALSE)),\"\",VLOOKUP(#REF!,localizacao,2,FALSE))","v":""},null,"",null,""]
[null,"",null,{"$f":"IF(ISERROR(VLOOKUP(#REF!,localizacao,2,FALSE)),\"\",VLOOKUP(#REF!,localizacao,2,FALSE))","v":""},null,"",null,""]
[null,"",null,{"$f":"IF(ISERROR(VLOOKUP(#REF!,localizacao,2,FALSE)),\"\",VLOOKUP(#REF!,localizacao,2,FALSE))","v":""},null,"",null,""]
[null,"",null,{"$f":"IF(ISERROR(VLOOKUP(#REF!,localizacao,2,FALSE)),\"\",VLOOKUP(#REF!,localizacao,2,FALSE))","v":""},null,"",null,""]
[null,"",null,{"$f":"IF(ISERROR(VLOOKUP(#REF!,localizacao,2,FALSE)),\"\",VLOOKUP(#REF!,localizacao,2,FALSE))","v":""},null,{"$f":"IF(ISERROR(VLOOKUP(G4934,componentes,2,FALSE)),\"\",VLOOKUP(G4934,componentes,2,FALSE))","v":""},null,{"$f":"IF(ISERROR(VLOOKUP(I4934,rubricas,2,FALSE)),\"\",VLOOKUP(I4934,rubricas,2,FALSE))","v":""}]
[null,{"$f":"IF(C4935<>\"\",+B4934+1,\"\")","v":""},null,{"$f":"IF(ISERROR(VLOOKUP(#REF!,localizacao,2,FALSE)),\"\",VLOOKUP(#REF!,localizacao,2,FALSE))","v":""},null,"",null,""]
[null,"",null,{"$f":"IF(ISERROR(VLOOKUP(#REF!,localizacao,2,FALSE)),\"\",VLOOKUP(#REF!,localizacao,2,FALSE))","v":""},null,"",null,""]
[null,"",null,{"$f":"IF(ISERROR(VLOOKUP(#REF!,localizacao,2,FALSE)),\"\",VLOOKUP(#REF!,localizacao,2,FALSE))","v":""},null,"",null,""]
[null,"",null,{"$f":"IF(ISERROR(VLOOKUP(#REF!,localizacao,2,FALSE)),\"\",VLOOKUP(#REF!,localizacao,2,FALSE))","v":""},null,"",null,""]
[null,"",null,{"$f":"IF(ISERROR(VLOOKUP(#REF!,localizacao,2,FALSE)),\"\",VLOOKUP(#REF!,localizacao,2,FALSE))","v":""},null,"",null,""]
[null,"",null,{"$f":"IF(ISERROR(VLOOKUP(#REF!,localizacao,2,FALSE)),\"\",VLOOKUP(#REF!,localizacao,2,FALSE))","v":""},null,"",null,""]
[null,"",null,{"$f":"IF(ISERROR(VLOOKUP(#REF!,localizacao,2,FALSE)),\"\",VLOOKUP(#REF!,localizacao,2,FALSE))","v":""},null,"",null,""]
[null,"",null,{"$f":"IF(ISERROR(VLOOKUP(#REF!,localizacao,2,FALSE)),\"\",VLOOKUP(#REF!,localizacao,2,FALSE))","v":""},null,"",null,""]
[null,"",null,{"$f":"IF(ISERROR(VLOOKUP(#REF!,localizacao,2,FALSE)),\"\",VLOOKUP(#REF!,localizacao,2,FALSE))","v":""},null,"",null,""]
[null,"",null,{"$f":"IF(ISERROR(VLOOKUP(#REF!,localizacao,2,FALSE)),\"\",VLOOKUP(#REF!,localizacao,2,FALSE))","v":""},null,"",null,""]
[null,"",null,{"$f":"IF(ISERROR(VLOOKUP(#REF!,localizacao,2,FALSE)),\"\",VLOOKUP(#REF!,localizacao,2,FALSE))","v":""},null,"",null,""]
[null,"",null,{"$f":"IF(ISERROR(VLOOKUP(#REF!,localizacao,2,FALSE)),\"\",VLOOKUP(#REF!,localizacao,2,FALSE))","v":""},null,"",null,""]
[null,"",null,{"$f":"IF(ISERROR(VLOOKUP(#REF!,localizacao,2,FALSE)),\"\",VLOOKUP(#REF!,localizacao,2,FALSE))","v":""},null,"",null,""]
[null,"",null,{"$f":"IF(ISERROR(VLOOKUP(#REF!,localizacao,2,FALSE)),\"\",VLOOKUP(#REF!,localizacao,2,FALSE))","v":""},null,"",null,""]
[null,"",null,{"$f":"IF(ISERROR(VLOOKUP(#REF!,localizacao,2,FALSE)),\"\",VLOOKUP(#REF!,localizacao,2,FALSE))","v":""},null,"",null,""]
[null,"",null,{"$f":"IF(ISERROR(VLOOKUP(#REF!,localizacao,2,FALSE)),\"\",VLOOKUP(#REF!,localizacao,2,FALSE))","v":""},null,"",null,""]
[null,"",null,{"$f":"IF(ISERROR(VLOOKUP(#REF!,localizacao,2,FALSE)),\"\",VLOOKUP(#REF!,localizacao,2,FALSE))","v":""},null,"",null,""]
[null,"",null,{"$f":"IF(ISERROR(VLOOKUP(#REF!,localizacao,2,FALSE)),\"\",VLOOKUP(#REF!,localizacao,2,FALSE))","v":""},null,"",null,""]
[null,"",null,{"$f":"IF(ISERROR(VLOOKUP(#REF!,localizacao,2,FALSE)),\"\",VLOOKUP(#REF!,localizacao,2,FALSE))","v":""},null,"",null,""]
[null,"",null,{"$f":"IF(ISERROR(VLOOKUP(#REF!,localizacao,2,FALSE)),\"\",VLOOKUP(#REF!,localizacao,2,FALSE))","v":""},null,"",null,""]
[null,"",null,{"$f":"IF(ISERROR(VLOOKUP(#REF!,localizacao,2,FALSE)),\"\",VLOOKUP(#REF!,localizacao,2,FALSE))","v":""},null,"",null,""]
[null,"",null,{"$f":"IF(ISERROR(VLOOKUP(#REF!,localizacao,2,FALSE)),\"\",VLOOKUP(#REF!,localizacao,2,FALSE))","v":""},null,"",null,""]
[null,"",null,{"$f":"IF(ISERROR(VLOOKUP(#REF!,localizacao,2,FALSE)),\"\",VLOOKUP(#REF!,localizacao,2,FALSE))","v":""},null,"",null,""]
[null,"",null,{"$f":"IF(ISERROR(VLOOKUP(#REF!,localizacao,2,FALSE)),\"\",VLOOKUP(#REF!,localizacao,2,FALSE))","v":""},null,"",null,""]
[null,"",null,{"$f":"IF(ISERROR(VLOOKUP(#REF!,localizacao,2,FALSE)),\"\",VLOOKUP(#REF!,localizacao,2,FALSE))","v":""},null,"",null,""]
[null,"",null,{"$f":"IF(ISERROR(VLOOKUP(#REF!,localizacao,2,FALSE)),\"\",VLOOKUP(#REF!,localizacao,2,FALSE))","v":""},null,"",null,""]
[null,"",null,{"$f":"IF(ISERROR(VLOOKUP(#REF!,localizacao,2,FALSE)),\"\",VLOOKUP(#REF!,localizacao,2,FALSE))","v":""},null,"",null,""]
[null,"",null,{"$f":"IF(ISERROR(VLOOKUP(#REF!,localizacao,2,FALSE)),\"\",VLOOKUP(#REF!,localizacao,2,FALSE))","v":""},null,"",null,""]
[null,"",null,{"$f":"IF(ISERROR(VLOOKUP(#REF!,localizacao,2,FALSE)),\"\",VLOOKUP(#REF!,localizacao,2,FALSE))","v":""},null,"",null,""]
[null,"",null,{"$f":"IF(ISERROR(VLOOKUP(#REF!,localizacao,2,FALSE)),\"\",VLOOKUP(#REF!,localizacao,2,FALSE))","v":""},null,"",null,""]
[null,"",null,{"$f":"IF(ISERROR(VLOOKUP(#REF!,localizacao,2,FALSE)),\"\",VLOOKUP(#REF!,localizacao,2,FALSE))","v":""},null,"",null,""]
[null,"",null,{"$f":"IF(ISERROR(VLOOKUP(#REF!,localizacao,2,FALSE)),\"\",VLOOKUP(#REF!,localizacao,2,FALSE))","v":""},null,"",null,""]
[null,"",null,{"$f":"IF(ISERROR(VLOOKUP(#REF!,localizacao,2,FALSE)),\"\",VLOOKUP(#REF!,localizacao,2,FALSE))","v":""},null,"",null,""]
[null,"",null,{"$f":"IF(ISERROR(VLOOKUP(#REF!,localizacao,2,FALSE)),\"\",VLOOKUP(#REF!,localizacao,2,FALSE))","v":""},null,"",null,""]
[null,"",null,{"$f":"IF(ISERROR(VLOOKUP(#REF!,localizacao,2,FALSE)),\"\",VLOOKUP(#REF!,localizacao,2,FALSE))","v":""},null,"",null,""]
[null,"",null,{"$f":"IF(ISERROR(VLOOKUP(#REF!,localizacao,2,FALSE)),\"\",VLOOKUP(#REF!,localizacao,2,FALSE))","v":""},null,"",null,""]
[null,"",null,{"$f":"IF(ISERROR(VLOOKUP(#REF!,localizacao,2,FALSE)),\"\",VLOOKUP(#REF!,localizacao,2,FALSE))","v":""},null,"",null,""]
[null,"",null,{"$f":"IF(ISERROR(VLOOKUP(#REF!,localizacao,2,FALSE)),\"\",VLOOKUP(#REF!,localizacao,2,FALSE))","v":""},null,"",null,""]
[null,"",null,{"$f":"IF(ISERROR(VLOOKUP(#REF!,localizacao,2,FALSE)),\"\",VLOOKUP(#REF!,localizacao,2,FALSE))","v":""},null,"",null,""]
[null,"",null,{"$f":"IF(ISERROR(VLOOKUP(#REF!,localizacao,2,FALSE)),\"\",VLOOKUP(#REF!,localizacao,2,FALSE))","v":""},null,"",null,""]
[null,"",null,{"$f":"IF(ISERROR(VLOOKUP(#REF!,localizacao,2,FALSE)),\"\",VLOOKUP(#REF!,localizacao,2,FALSE))","v":""},null,"",null,""]
[null,"",null,{"$f":"IF(ISERROR(VLOOKUP(#REF!,localizacao,2,FALSE)),\"\",VLOOKUP(#REF!,localizacao,2,FALSE))","v":""},null,"",null,""]
[null,"",null,{"$f":"IF(ISERROR(VLOOKUP(#REF!,localizacao,2,FALSE)),\"\",VLOOKUP(#REF!,localizacao,2,FALSE))","v":""},null,"",null,""]
[null,"",null,{"$f":"IF(ISERROR(VLOOKUP(#REF!,localizacao,2,FALSE)),\"\",VLOOKUP(#REF!,localizacao,2,FALSE))","v":""},null,"",null,""]
[null,"",null,{"$f":"IF(ISERROR(VLOOKUP(#REF!,localizacao,2,FALSE)),\"\",VLOOKUP(#REF!,localizacao,2,FALSE))","v":""},null,"",null,""]
[null,"",null,{"$f":"IF(ISERROR(VLOOKUP(#REF!,localizacao,2,FALSE)),\"\",VLOOKUP(#REF!,localizacao,2,FALSE))","v":""},null,"",null,""]
[null,"",null,{"$f":"IF(ISERROR(VLOOKUP(#REF!,localizacao,2,FALSE)),\"\",VLOOKUP(#REF!,localizacao,2,FALSE))","v":""},null,"",null,""]
[null,"",null,{"$f":"IF(ISERROR(VLOOKUP(#REF!,localizacao,2,FALSE)),\"\",VLOOKUP(#REF!,localizacao,2,FALSE))","v":""},null,"",null,""]
[null,"",null,{"$f":"IF(ISERROR(VLOOKUP(#REF!,localizacao,2,FALSE)),\"\",VLOOKUP(#REF!,localizacao,2,FALSE))","v":""},null,"",null,""]
[null,"",null,{"$f":"IF(ISERROR(VLOOKUP(#REF!,localizacao,2,FALSE)),\"\",VLOOKUP(#REF!,localizacao,2,FALSE))","v":""},null,"",null,""]
[null,"",null,{"$f":"IF(ISERROR(VLOOKUP(#REF!,localizacao,2,FALSE)),\"\",VLOOKUP(#REF!,localizacao,2,FALSE))","v":""},null,"",null,""]
[null,"",null,{"$f":"IF(ISERROR(VLOOKUP(#REF!,localizacao,2,FALSE)),\"\",VLOOKUP(#REF!,localizacao,2,FALSE))","v":""},null,"",null,""]
[null,"",null,{"$f":"IF(ISERROR(VLOOKUP(#REF!,localizacao,2,FALSE)),\"\",VLOOKUP(#REF!,localizacao,2,FALSE))","v":""},null,"",null,""]
[null,"",null,{"$f":"IF(ISERROR(VLOOKUP(#REF!,localizacao,2,FALSE)),\"\",VLOOKUP(#REF!,localizacao,2,FALSE))","v":""},null,"",null,""]
[null,"",null,{"$f":"IF(ISERROR(VLOOKUP(#REF!,localizacao,2,FALSE)),\"\",VLOOKUP(#REF!,localizacao,2,FALSE))","v":""},null,"",null,""]
[null,"",null,{"$f":"IF(ISERROR(VLOOKUP(#REF!,localizacao,2,FALSE)),\"\",VLOOKUP(#REF!,localizacao,2,FALSE))","v":""},null,"",null,""]
[null,"",null,{"$f":"IF(ISERROR(VLOOKUP(#REF!,localizacao,2,FALSE)),\"\",VLOOKUP(#REF!,localizacao,2,FALSE))","v":""},null,"",null,""]
[null,"",null,{"$f":"IF(ISERROR(VLOOKUP(#REF!,localizacao,2,FALSE)),\"\",VLOOKUP(#REF!,localizacao,2,FALSE))","v":""},null,"",null,""]
[null,"",null,{"$f":"IF(ISERROR(VLOOKUP(#REF!,localizacao,2,FALSE)),\"\",VLOOKUP(#REF!,localizacao,2,FALSE))","v":""},null,"",null,""]
[null,"",null,{"$f":"IF(ISERROR(VLOOKUP(#REF!,localizacao,2,FALSE)),\"\",VLOOKUP(#REF!,localizacao,2,FALSE))","v":""},null,"",null,""]
[null,"",null,{"$f":"IF(ISERROR(VLOOKUP(#REF!,localizacao,2,FALSE)),\"\",VLOOKUP(#REF!,localizacao,2,FALSE))","v":""},null,"",null,""]
[null,"",null,{"$f":"IF(ISERROR(VLOOKUP(#REF!,localizacao,2,FALSE)),\"\",VLOOKUP(#REF!,localizacao,2,FALSE))","v":""},null,"",null,""]
[null,"",null,{"$f":"IF(ISERROR(VLOOKUP(#REF!,localizacao,2,FALSE)),\"\",VLOOKUP(#REF!,localizacao,2,FALSE))","v":""},null,"",null,""]
[null,"",null,{"$f":"IF(ISERROR(VLOOKUP(#REF!,localizacao,2,FALSE)),\"\",VLOOKUP(#REF!,localizacao,2,FALSE))","v":""},null,{"$f":"IF(ISERROR(VLOOKUP(G4998,componentes,2,FALSE)),\"\",VLOOKUP(G4998,componentes,2,FALSE))","v":""},null,{"$f":"IF(ISERROR(VLOOKUP(I4998,rubricas,2,FALSE)),\"\",VLOOKUP(I4998,rubricas,2,FALSE))","v":""}]
[null,{"$f":"IF(C4999<>\"\",+B4998+1,\"\")","v":""},null,{"$f":"IF(ISERROR(VLOOKUP(#REF!,localizacao,2,FALSE)),\"\",VLOOKUP(#REF!,localizacao,2,FALSE))","v":""},null,"",null,""]
[null,"",null,{"$f":"IF(ISERROR(VLOOKUP(#REF!,localizacao,2,FALSE)),\"\",VLOOKUP(#REF!,localizacao,2,FALSE))","v":""},null,"",null,""]
[null,"",null,{"$f":"IF(ISERROR(VLOOKUP(#REF!,localizacao,2,FALSE)),\"\",VLOOKUP(#REF!,localizacao,2,FALSE))","v":""},null,"",null,""]
[null,"",null,{"$f":"IF(ISERROR(VLOOKUP(#REF!,localizacao,2,FALSE)),\"\",VLOOKUP(#REF!,localizacao,2,FALSE))","v":""},null,"",null,""]
[null,"",null,{"$f":"IF(ISERROR(VLOOKUP(#REF!,localizacao,2,FALSE)),\"\",VLOOKUP(#REF!,localizacao,2,FALSE))","v":""},null,"",null,""]
[null,"",null,{"$f":"IF(ISERROR(VLOOKUP(#REF!,localizacao,2,FALSE)),\"\",VLOOKUP(#REF!,localizacao,2,FALSE))","v":""},null,"",null,""]
[null,"",null,{"$f":"IF(ISERROR(VLOOKUP(#REF!,localizacao,2,FALSE)),\"\",VLOOKUP(#REF!,localizacao,2,FALSE))","v":""},null,"",null,""]

{"sheet":"Despesas","index":2,"n_rows":47,"n_cols":2,"rows_kept":47,"cut":false,"hidden":false,"merged":[]}
[]
[null,"Despesas DIGITAL Madeira"]
[]
[null,"Elegiveis"]
[null,"a)    Ativos corpóreos, incluindo a aquisição de máquinas e equipamentos diretamente relacionados com o investimento na transição digital, bem como a aquisição de equipamento informático, incluindo o software necessário para o seu funcionamento, diretamente relacionado com o desenvolvimento do projeto;"]
[null,"b)\tAtivos incorpóreos, incluindo:"]
[null,"b.1)\t a transferência de tecnologia através da aquisição de direitos de patente e software normalizado ou especificamente desenvolvido."]
[null,"b.2)\tSoftware Standard ou desenvolvido especificamente para determinado fim;"]
[null,"c)\tImplementação de processos associados ao comércio eletrónico, nomeadamente:"]
[null,"c.1)Desenho e implementação de estratégias aplicadas a canais digitais para gestão de mercados, canais, produtos ou segmentos de cliente"]
[null,"c.2)User-Centered Design (UX): desenho, implementação e otimização de estratégias digitais centradas na experiência do cliente que maximizem a respetiva atração, interação e conversão"]
[null,"c.3)Desenho, implementação, otimização de plataformas de Web Content Management (WCM), Campaign Management, Customer Relationship Management e E-Commerce"]
[null,"c.4)Inscrição e otimização da presença em marketplaces eletrónicos"]
[null,"c.5)Search Engine Optimization (SEO) e Search Engine Advertising (SEA): melhoria da presença e ranking dos sítios de comércio eletrónico nos resultados da pesquisa em motores de busca por palavras-chave relevantes para a notoriedade e tráfego de cada sítio"]
[null,"c.6)Social Media Marketing: desenho, implementação e otimização da presença e interação com clientes via redes sociais"]
[null,"c.7)Content Marketing: criação e distribuição de conteúdos digitais (texto curto, texto longo, imagens, animações ou vídeos) dirigidos a captar a atenção e atrair os clientes-alvo para as ofertas comercializadas pela empresa"]
[null,"c.8)Display Advertising: colocação de anúncios à oferta da empresa em sítios de terceiros, incluindo páginas de resultados de motor de busca"]
[null,"c.9)Mobile Marketing: tradução das estratégias inscritas nos pontos anteriores para visualização e interação de clientes em dispositivos móveis, nomeadamente smartphones e tablets"]
[null,"c.10)Web Analytics: recolha, tratamento, análise e visualização de grandes volumes de dados gerados a partir da navegação e interação de clientes em ambiente digital, por forma a identificar padrões, correlações e conhecimento relevante que robusteçam os processos de gestão e tomada de decisão"]
[null,"d)\tCustos com a implementação de infraestruturas e serviços de telecomunicação e acesso à internet;"]
[null,"e)\tSoftware para desmaterialização da Faturação;"]
[null,"f)\tChave Móvel Digital;"]
[null,"g)\tCustos iniciais associados à domiciliação de aplicações, adesão inicial a plataformas eletrónicas, subscrição inicial de aplicações em regimes de “software as a service”, criação e publicação inicial de novos conteúdos eletrónicos, bem como a inclusão ou catalogação em diretórios ou motores de busca;"]
[null,"h)\tImplementação de outros processos, tais como:"]
[null,"h.1)Sistemas de interconexão; sensores (Smart sensors e sensing entreprise);"]
[null,"h.2)Big data; realidade aumentada;"]
[null,"h.3)Fabricação aditiva (additive manufacturing/Impressão 3D); cloud (informação na nuvem); inteligência artificial; sistemas ciber-físicos (tecnologias de informação e comunicação; sensorização e sistemas mecatrónicos para monitorizar e controlar processos e toda a cadeia de valor, mecatrónica; robótica; cibersegurança;"]
[null,"h.4)Machine-to-Machine (M2M) e Human-to-Machine interfaces; Ferramentas para Manufacturing as a Service (MaaS) e Apps for manufacturing; Sistemas para Produção Inteligente e Flexível."]
[null,"i)\tDespesas com relatório no âmbito do alinhamento do projeto com o princípio «Não prejudicar significativamente” até ao limite de € 500,00 e para os efeitos previstos no n.º 2, do artigo 9.º do presente Regulamento."]
[null,"j)\tDespesas com a elaboração, preparação e acompanhamento da candidatura diretamente relacionadas com a conceção, implementação e avaliação do projeto até ao limite de € 1. 000,00, para os efeitos previstos na alínea d), do artigo 11.º do presente Regulamento;"]
[null,"k)\tDespesas com a intervenção de contabilistas certificados ou revisores oficiais de contas, por projeto, no âmbito da validação da despesa dos pedidos de pagamento, até ao limite de € 1.000,00 e para os efeitos previstos no n.º 10 do artigo 25.º do presente Regulamento."]
[null,"Não elegiveis"]
[null,"a)\tCustos normais de funcionamento do beneficiário, bem como custos de manutenção e substituição e custos relacionados com atividades de tipo periódico ou contínuo como publicidade corrente, despesas de consultoria fiscal de rotina e serviços jurídicos e administrativos;"]
[null,"b)\tAquisição de bens em estado de uso ou em segunda mão;"]
[null,"c)\tImposto sobre o valor acrescentado (IVA), recuperável ou não pelo beneficiário;"]
[null,"d)\tJuros e encargos financeiros durante o período de realização do investimento;"]
[null,"e)\tFundo de maneio;"]
[null,"f)\tTrabalhos da empresa para si própria;"]
[null,"g)\tPagamentos em numerário efetuados pelos beneficiários aos seus fornecedores, exceto nas situações em que se revele ser este o meio de pagamento mais frequente, em função da natureza das despesas, e desde que num quantitativo unitário inferior a € 250,00;"]
[null,"h)\tDespesas pagas no âmbito de contratos efetuados através de intermediários ou consultores, em que o montante a pagar é expresso em percentagem do montante financiado pelas despesas elegíveis do projeto;"]
[null,"i)\tAções de formação;"]
[null,"j)\tDespesas pagas diretamente pelos sócios ou outros elementos pertencentes ou não à entidade beneficiária;"]
[null,"k)\tOs equipamentos adquiridos para posteriormente serem objeto de aluguer;"]
[null,"l)\tAs despesas pagas com recurso ao leasing;"]
[null,"m)\tPublicidade corrente;"]
[null,"n)\tDespesas associadas a registos, autorizações, licenciamentos e taxas;"]
[null,"o)\tDespesas previstas no PRR que tenham sido objeto de financiamento por outros fundos comunitários."]

{"sheet":"Financiamento","index":3,"n_rows":50,"n_cols":23,"rows_kept":50,"cut":false,"hidden":false,"merged":[[21,9,21,12],[21,13,21,17],[21,18,21,22],[23,3,23,8],[23,9,23,12],[23,13,23,17],[23,18,23,22],[22,3,22,8],[22,9,22,12],[22,13,22,17],[22,18,22,22],[7,2,7,5],[14,2,14,23],[19,3,19,8],[19,9,19,12],[19,13,19,17],[19,18,19,22],[20,3,20,22],[21,3,21,8],[27,3,27,8],[27,9,27,12],[27,13,27,17],[27,18,27,22],[26,3,26,8],[26,9,26,12],[26,13,26,17],[26,18,26,22],[25,3,25,8],[25,9,25,12],[25,13,25,17],[25,18,25,22],[24,3,24,8],[24,9,24,12],[24,13,24,17],[24,18,24,22],[30,3,30,8],[30,9,30,12],[30,13,30,17],[30,18,30,22],[28,3,28,22],[29,3,29,8],[29,9,29,12],[29,13,29,17],[29,18,29,22],[31,9,31,12],[31,13,31,17],[31,18,31,22],[32,3,32,8],[32,9,32,12],[32,13,32,17],[32,18,32,22],[45,9,45,15],[33,3,33,8],[33,9,33,12],[33,13,33,17],[33,18,33,22],[34,3,34,8],[34,9,34,12],[34,13,34,17],[34,18,34,22],[35,3,35,8],[35,9,35,12],[35,13,35,17],[35,18,35,22],[38,9,38,12],[38,13,38,17],[38,18,38,22],[37,3,37,8],[37,9,37,12],[37,13,37,17],[37,18,37,22],[36,3,36,8],[36,9,36,12],[36,13,36,17],[36,18,36,22],[4,2,4,23],[11,2,11,23],[48,19,48,20],[46,17,46,21],[46,9,46,14],[44,3,44,8],[44,9,44,15],[44,17,44,21],[45,17,45,21],[40,3,40,8],[40,9,40,12],[40,13,40,17],[40,18,40,22],[45,3,45,8],[46,5,46,7],[38,3,38,8]]}
[]
[]
[null,null,"BENEFICIÁRIO:"]
[]
[null,null,{"$f":"+Capa!C9","v":0}]
[]
[null,null,"NIF:"]
[null,null,{"$f":"+Capa!C12","v":0}]
[]
[null,null,"SISTEMA DE INCENTIVOS:"]
[]
[null,null,{"$f":"+Capa!C16","v":"+ DIGITAL"}]
[]
[]
[null,null,"FINANCIAMENTO DO PROJECTO"]
[]
[]
[null,null,null," Estrutura de Financiamento (Recursos Financeiros)    "]
[]
[null,null,null,"Fontes",null,null,null,null,null,"Total",null,null,null,"Total",null,null,null,null,"% Investimento"]
[null,null,null,"1. Capitais Próprios (1)"]
[null,null,null,"Capital",null,null,null,null,null,null,null,null,null,{"$f":"SUM(J22:M22)","v":0},null,null,null,null,{"$f":"IF(ISERROR(N22/$N$41),\"0%\",N22/$N$41)","v":"0%"}]
[null,null,null,"Prestações Suplementares de Capital",null,null,null,null,null,null,null,null,null,0,null,null,null,null,"0%"]
[null,null,null,"Suprimentos Consolidados",null,null,null,null,null,null,null,null,null,0,null,null,null,null,"0%"]
[null,null,null,"Sub-Total 1",null,null,null,null,null,{"$f":"+J24+J23+J22","v":0},null,null,null,{"$f":"SUM(J25:M25)","v":0},null,null,null,null,"0%"]
[null,null,null,"2. Autofinanciamento (3)",null,null,null,null,null,null,null,null,null,0,null,null,null,null,"0%"]
[null,null,null,"3. Outros",null,null,null,null,null,null,null,null,null,0,null,null,null,null,"0%"]
[null,null,null,"Sub-Total 2",null,null,null,null,null,{"$f":"+J26+J27","v":0},null,null,null,{"$f":"SUM(J28:M28)","v":0},null,null,null,null,"0%"]
[null,null,null,"4. Capitais Alheios"]
[null,null,null,"Dívidas a Instituições de Crédito",null,null,null,null,null,null,null,null,null,{"$f":"SUM(J30:M30)","v":0},null,null,null,null,{"$f":"IF(ISERROR(N30/$N$41),\"0%\",N30/$N$41)","v":"0%"}]
[null,null,null,"Empréstimos Obrigacionistas",null,null,null,null,null,null,null,null,null,0,null,null,null,null,"0%"]
[null,null,null,"Outras dívidas a Sócios/ acionistas",null,null,null,null,null,null,null,null,null,0,null,null,null,null,"0%"]
[null,null,null,"Fornecedores de Imobilizado",null,null,null,null,null,null,null,null,null,0,null,null,null,null,"0%"]
[null,null,null,"Locação Financeira",null,null,null,null,null,null,null,null,null,0,null,null,null,null,"0%"]
[null,null,null,"Outros",null,null,null,null,null,null,null,null,null,0,null,null,null,null,"0%"]
[null,null,null,"Sub-Total 3",null,null,null,null,null,{"$f":"+J35+J34+J33+J32+J31+J30","v":0},null,null,null,{"$f":"SUM(J36:M36)","v":0},null,null,null,null,"0%"]
[null,null,null,"Incentivo Não Reembolsável (INR)",null,null,null,null,null,null,null,null,null,{"$f":"SUM(J37:M37)","v":0},null,null,null,null,"0%"]
[null,null,null,"Sub-Total 4",null,null,null,null,null,{"$f":"+J37","v":0},null,null,null,0,null,null,null,null,"0%"]
[null,null,null,"FINANCIAMENTO TOTAL",null,null,null,null,null,{"$f":"+J38+J36+J25+J28","v":0},null,null,null,0,null,null,null,null,"0%"]
[]
[null,null,null,"INVESTIMENTO TOTAL Inserir",null,null,null,null,null,null,null,null,null,{"$f":"+J41","v":0},null,null,null,null,{"$f":"IF(ISERROR(N41/$N$41),\"0%\",N41/$N$41)","v":"0%"}]
[null,null,null,"(1) Novos capitais próprios"]
[null,null,null,"(3) Resultado líquido do exercício + imparidades + provisões + gastos/ reversões de depreciação e amortização, do ano pré-projecto"]
[null,null,null,null,null,null,null,null,null,null,null,null,null,null,null,null,null,"Capital Próprio Projeto - CPp"]
[null,null,null,"Fontes de financiamento",null,null,null,null,null,null,null,null,null,null,null,null,null,{"$f":"+J25","v":0}]
[null,null,null,"(CPp/DEp) ≥ 10% ",null,null,null,null,null,null,null,null,null,null,null,null,null,"Despesa elegível projeto - Dep"]
[null,null,null,null,null,{"$f":"IF(ISERROR(+R45/R47),\"\",R45/R47)","v":""},null,null,null,null,null,null,null,null,null,null,null,null,null,null,null,null,"(inserir)"]
[]
[]
[null,null,null,"Demonstração das Fontes de Financiamento: O beneficiário deverá justificar os valores e fontes indicadas na tabela, através de uma breve descrição."]

{"sheet":"Postos Trabalho","index":4,"n_rows":62,"n_cols":15,"rows_kept":62,"cut":false,"hidden":false,"merged":[[33,3,33,4],[55,3,56,25],[11,2,11,29],[4,2,4,29],[30,3,31,4],[30,5,30,6],[30,10,31,11],[30,12,30,13],[32,3,32,4],[32,10,32,11],[7,2,7,3],[20,3,21,3],[20,4,20,5],[20,6,20,7],[20,8,20,9]]}
[]
[]
[null,null,"BENEFICIÁRIO:"]
[]
[null,null,{"$f":"+Capa!C9","v":0}]
[]
[null,null,"NIF:"]
[null,null,{"$f":"+Capa!C12","v":0}]
[]
[null,null,"SISTEMA DE INCENTIVOS:"]
[]
[null,null,{"$f":"+Capa!C16","v":"+ DIGITAL"}]
[]
[]
[null,null,"POSTOS DE TRABALHO"]
[]
[null,null,"  "]
[]
[null,null,null,"Postos de trabalho existentes na empresa"]
[null,null,null,"O número de postos de trabalho existentes no mês anterior à data de apresentação do pedido de pagamento final e no mês anterior à data da apresentação da candidatura"]
[null,null,null,"Postos de trabalho","Mês de dezembro do ano pré-projeto",null,"e",null,"Mês anterior à data a apresentação da candidatura"]
[null,null,null,null,"H","M",null,null,"H","M"]
[null,null,null,"Não qualificado",null,null,null,null,null,null,"(inserir)"]
[null,null,null,"Qualificado*",null,null,null,null,null,null,"(inserir)"]
[null,null,null,"* Nivel de qualificação igual ou superior ao Nível VI"]
[]
[]
[]
[null,null,null,"Postos de trabalho a criar com o projeto"]
[]
[null,null,null,"Postos de trabalho",null,"Total",null,null,null,null,"Postos de trabalho",null,"Total"]
[null,null,null,null,null,"H","M",null,null,null,null,null,"H","M"]
[null,null,null,"Não qualificado",null,null,null,"(inserir)",null,null,"Jovem",null,null,null,"(inserir)"]
[null,null,null,"Qualificado*",null,null,null,"(inserir)"]
[null,null,null,"* Nivel de qualificação igual ou superior ao Nível VI"]
[]
[null,null,null,"Fundamentação: "]
[null,null,null," - Se os meios humanos são adequados ao desenvolvimento do projeto."]
[null,null,null," - Qual a formação dos postos de trabalho e se a mesma é adequada ao desenvolvimento do projeto."]
[]
[]
[]
[]
[]
[]
[]
[]
[]
[]
[]
[]
[]
[]
[]
[null,null,null,"Nota:"]
[null,null,null,"«Criação líquida de postos de trabalho», o aumento líquido do número de trabalhadores diretamente empregados na empresa, validado pela diferença entre o número de postos de trabalho existentes no mês anterior à data de apresentação do pedido de pagamento final e o valor mais alto apurado relativamente ao mês de dezembro do ano pré-projeto ou ao mês anterior à data da apresentação da candidatura\n"]
[]
[]
[null,null,null,"Nos termos da Portaria n.º 782/2009 de 23 de julho, os níveis de qualificação de emprego a considerar são:"]
[null,null,null,"• Nível 6 - Licenciatura\n"]
[null,null,null,"• Nível 7 - Mestrado"]
[null,null,null,"• Nível 8 - Doutoramento"]

{"sheet":"Criterios_Selecao_Autoaval","index":5,"n_rows":110,"n_cols":10,"rows_kept":110,"cut":false,"hidden":false,"merged":[[104,3,104,8],[103,3,103,10],[74,3,74,11],[75,3,75,11],[36,3,36,7],[76,3,76,8],[19,3,19,11],[44,3,44,10],[45,3,45,10],[48,5,48,9],[47,3,47,10],[111,3,111,10],[112,3,112,10],[113,3,113,10],[3,2,3,12],[6,2,6,5],[12,2,12,12],[49,3,49,11],[39,3,39,10],[105,3,105,8],[20,3,20,11],[37,3,37,10],[38,3,38,10],[40,3,40,10],[41,3,41,10],[42,3,42,10],[43,3,43,10]]}
[]
[null,null,"BENEFICIÁRIO:"]
[]
[null,null,{"$f":"+Capa!C9","v":0}]
[]
[null,null,"NIF:"]
[null,null,{"$f":"+Capa!C12","v":0}]
[]
[null,null,"SISTEMA DE INCENTIVOS:"]
[]
[null,null,{"$f":"+Capa!C16","v":"+ DIGITAL"}]
[]
[null,null,"Critérios de Seleção – Autoavaliação do Beneficiário"]
[]
[null,null,"  "]
[]
[null,null,null,"CRITÉRIO DE SELEÇÃO A - Qualidade do projeto"]
[]
[]
[null,null,null,"Fundamentação: Fundamentar o contributo do projeto na estratégia da empresa, nomeadamente se a coerência e pertinência do plano de investimento contribuem para uma melhoria da eficiência da atividade e organização interna do beneficiário, isto é, se os investimentos a realizar contribuem positivamente para a estratégia da transição digital da empresa e respetiva capacitação da mesma."]
[null,null,null," -"]
[]
[]
[]
[]
[]
[]
[]
[]
[]
[]
[]
[]
[]
[]
[]
[null,null,null,"A pontuação neste critério terá em conta os segunites fatores de valorização:"]
[null,null,null,"a)   Identificação clara da estratégia para uma transição digital;"]
[null,null,null,"b)  Identificação clara dos objetivos estratégicos, nomeadamente quanto à coerência e pertinência do plano de investimentos necessário à transição digital da empresa;"]
[null,null,null,"c)  Efeitos na organização interna do beneficiário, traduzindo-se em melhorias esperadas ao nível de:"]
[null,null,null,"i)        Modelo organizacional; "]
[null,null,null,"ii)       Modelo funcional;"]
[null,null,null,"iii)      Grau de simplificação dos processos;"]
[null,null,null,"iv)      Reengenharia e desmaterialização de processos;"]
[null,null,null,"v)       Intensidade de utilização das tecnologias de informação;"]
[null,null,null,"vi)      Intensidade de utilização das tecnologias de comunicação."]
[]
[null,null,null,"CRITÉRIO DE SELEÇÃO B - Contributo do projeto para a competitividade da empresa e convergência socioeconómica regional"]
[null,null,null,null,null,"B = 0,50 B1 + 0,50 B2"]
[null,null,null,"B1 - Sustentabilidade financeira do projeto: será tida em consideração a credibilidade da proposta face ao plano de negócios da empresa e a forma de financiamento do projeto"]
[]
[null,null,null,"Fundamentação:"]
[]
[]
[]
[]
[]
[]
[]
[]
[]
[]
[]
[]
[]
[]
[]
[]
[]
[null,null,null,"Apresentar os valores apurados para:"]
[]
[null,null,null,"Despesa elegível do projeto",null,"(inserir)",null,null,null,"Pontuação B1"]
[null,null,null,"Capitais próprios do projeto",null,"(inserir)"]
[]
[null,null,null,"Capitais próprios do projeto = capitais próprios incluídos no projeto -integrando apenas novas entradas de capital: capital social, prestações suplementares e suprimentos desde que venham a ser incorporados em capital próprio até à data da conclusão do projeto"]
[null,null,null,"Despesa elegível do projeto - investimento toal elegivel"]
[null,null,null,"A pontuação no subcritério B1 será atribuida considerando as seguintes notações:"]
[null,null,null,"FP < 10%",0,"Fraco "]
[null,null,null,"10% ≤ FP < 15%",50,"Médio"]
[null,null,null,"15% ≤ FP < 25%",80,"Forte"]
[null,null,null,"FP ≥ 25%",100,"Muito Forte"]
[]
[]
[null,null,null,"B2 - Contributo do projeto para a criação de um ambiente socioeconómico mais favorável na Região (RAM) "]
[null,null,null,"Fundamentação (avaliar a manutenção e/ou criação líquida de emprego):"]
[]
[]
[]
[]
[]
[]
[]
[]
[]
[]
[]
[]
[]
[]
[]
[]
[]
[]
[]
[]
[null,null,null,"A pontuação no subcritério B2 será atribuida considerando as seguintes notações:"]
[null,null,null,"Redução",0,"Fraco "]
[null,null,null,"Manutenção",50,"Médio"]
[null,null,null,"Criação ≤ 2",80,"Forte"]
[null,null,null,"Criação ≥ 3",100,"Muito Forte"]

{"sheet":"SIT ECO-FIN E FONTES FINANCIAM","index":6,"n_rows":12,"n_cols":1,"rows_kept":12,"cut":false,"hidden":true,"merged":[[2,0,2,9],[5,0,5,3],[11,0,11,9]]}
["BENEFICIÁRIO:"]
[]
[{"$f":"+Capa!C9","v":0}]
[]
["NIF:"]
[{"$f":"++Capa!C12","v":0}]
[]
["SISTEMA DE INCENTIVOS:"]
[]
[{"$f":"+Capa!C16","v":"+ DIGITAL"}]
[]
["Situação económico-financeira do beneficiário e fontes de financiamento"]

{"sheet":"Balanço da empresa","index":7,"n_rows":84,"n_cols":28,"rows_kept":84,"cut":false,"hidden":false,"merged":[[29,14,29,15],[71,14,71,15],[83,14,83,15],[72,14,72,15],[73,14,73,15],[74,14,74,15],[75,14,75,15],[76,14,76,15],[77,14,77,15],[78,14,78,15],[79,14,79,15],[80,14,80,15],[81,14,81,15],[82,14,82,15],[68,14,68,15],[69,14,69,15],[59,14,59,15],[60,14,60,15],[62,14,62,15],[63,14,63,15],[64,14,64,15],[70,14,70,15],[58,14,58,15],[47,14,47,15],[48,14,48,15],[49,14,49,15],[50,14,50,15],[51,14,51,15],[52,14,52,15],[53,14,53,15],[54,14,54,15],[55,14,55,15],[56,14,56,15],[57,14,57,15],[65,14,65,15],[66,14,66,15],[67,14,67,15],[41,14,41,15],[42,14,42,15],[43,14,43,15],[44,14,44,15],[46,3,46,13],[46,14,46,15],[40,14,40,15],[30,3,30,13],[30,14,30,15],[31,14,31,15],[32,14,32,15],[33,14,33,15],[34,14,34,15],[35,14,35,15],[36,14,36,15],[37,14,37,15],[38,14,38,15],[39,14,39,15],[26,3,26,13],[26,14,26,15],[27,3,27,13],[27,14,27,15],[28,3,28,13],[28,14,28,15],[23,3,23,13],[23,14,23,15],[24,3,24,13],[24,14,24,15],[25,3,25,13],[25,14,25,15],[20,3,20,13],[20,14,20,15],[21,3,21,13],[21,14,21,15],[22,3,22,13],[22,14,22,15],[17,3,17,13],[17,14,17,15],[18,3,18,13],[18,14,18,15],[19,3,19,13],[19,14,19,15],[3,2,3,28],[16,3,16,4],[16,17,16,27],[12,2,12,28],[14,2,14,7],[14,8,14,10],[10,2,10,28],[6,2,6,5]]}
[]
[null,null,"BENEFICIÁRIO:"]
[]
[null,null,{"$f":"+Capa!C9","v":0}]
[]
[null,null,"NIF:"]
[null,null,{"$f":"+Capa!C12","v":0}]
[]
[null,null,"SISTEMA DE INCENTIVOS:"]
[]
[null,null,{"$f":"+Capa!C16","v":"+ DIGITAL"}]
[]
[null,null,"BALANÇO DA EMPRESA PÓS PROJECTO"]
[]
[null,null,{"$f":"+'D. Result da empresa'!C15","v":"data candidatura"}]
[]
[null,null,null,"(euros)",null,null,null,null,null,null,null,null,null,null,null,null,"PRÉ-PROJETO","EMPRESA PÓS PROJETO"]
[null,null,null,"ACTIVO",null,null,null,null,null,null,null,null,null,null,"Notas",null,{"$f":"+IF(YEAR($I$15)=\"\",\"\",YEAR($I$15)-1)","v":1899},{"$f":"IF(YEAR($I$15)=\"\",\"\",YEAR($I$15))","v":1900},{"$f":"IF(YEAR($I$15)=\"\",\"\",YEAR($I$15)+1)","v":1901},{"$f":"IF(YEAR($I$15)=\"\",\"\",YEAR($I$15)+2)","v":1902},{"$f":"IF(YEAR($I$15)=\"\",\"\",YEAR($I$15)+3)","v":1903},{"$f":"IF(YEAR($I$15)=\"\",\"\",YEAR($I$15)+4)","v":1904},{"$f":"IF(YEAR($I$15)=\"\",\"\",YEAR($I$15)+4)","v":1904},{"$f":"IF(YEAR($I$15)=\"\",\"\",YEAR($I$15)+5)","v":1905},{"$f":"IF(YEAR($I$15)=\"\",\"\",YEAR($I$15)+6)","v":1906},{"$f":"IF(YEAR($I$15)=\"\",\"\",YEAR($I$15)+7)","v":1907},{"$f":"IF(YEAR($I$15)=\"\",\"\",YEAR($I$15)+8)","v":1908},{"$f":"IF(YEAR($I$15)=\"\",\"\",YEAR($I$15)+9)","v":1909}]
[null,null,null,"Ativo não corrente"]
[null,null,null,"Ativos fixos tangíveis"]
[null,null,null,"Propriedades de investimento"]
[null,null,null,"Goodwill"]
[null,null,null,"Ativos Intangíveis"]
[null,null,null,"Ativos biológicos"]
[null,null,null,"Participações financeiras - método da equivalência patrimonial"]
[null,null,null,"Participações financeiras - outros métodos"]
[null,null,null,"Acionistas/ sócios"]
[null,null,null,"Outros ativos financeiros"]
[null,null,null,"Ativos por impostos diferidos"]
[null,null,null,null,null,null,null,null,null,null,null,null,null,null,null,null,{"$f":"+Q20+Q21+Q22+Q23+Q24+Q25+Q26+Q27+Q28+Q29","v":0},{"$f":"+R20+R21+R22+R23+R24+R25+R26+R27+R28+R29","v":0},{"$f":"+S20+S21+S22+S23+S24+S25+S26+S27+S28+S29","v":0},0,0,0,0,0,0,0,0,0]
[null,null,null,"Ativo corrente"]
[null,null,null,"Inventários "]
[null,null,null,"Ativos biológicos"]
[null,null,null,"Clientes"]
[null,null,null,"Adiantamentos a fornecedores"]
[null,null,null,"Estado e outros entes públicos"]
[null,null,null,"Acionistas/ sócios"]
[null,null,null,"Outras contas a receber"]
[null,null,null,"Diferimentos"]
[null,null,null,"Ativos financeiros detidos para negociação"]
[null,null,null,"Outros ativos financeiros"]
[null,null,null,"Ativos não correntes detidos para venda"]
[null,null,null,"Caixa e depósitos bancários"]
[null,null,null,null,null,null,null,null,null,null,null,null,null,null,null,null,{"$f":"+Q32+Q33+Q34+Q35+Q36+Q37+Q38+Q39+Q40+Q41+Q42+Q43","v":0},{"$f":"+R32+R33+R34+R35+R36+R37+R38+R39+R40+R41+R42+R43","v":0},{"$f":"+S32+S33+S34+S35+S36+S37+S38+S39+S40+S41+S42+S43","v":0},0,0,0,0,0,0,0,0,0]
[null,null,null,"TOTAL DO ATIVO",null,null,null,null,null,null,null,null,null,null,null,null,{"$f":"+Q30+Q44","v":0},{"$f":"+R30+R44","v":0},0,0,0,0,0,0,0,0,0,0]
[]
[null,null,null,"CAPITAL PRÓPRIO E PASSIVO"]
[null,null,null,"CAPITAL PRÓPRIO  "]
[null,null,null,"Capital realizado"]
[null,null,null,"Acções (quotas) próprias "]
[null,null,null,"Outros instrumentos de capital próprio"]
[null,null,null,"Prémios de emissão"]
[null,null,null,"Reservas legais"]
[null,null,null,"Outras reservas"]
[null,null,null,"Resultados transitados"]
[null,null,null,"Ajustamentos em activos financeiros"]
[null,null,null,"Excedentes de revalorização"]
[null,null,null,"Outras variações no capital próprio"]
[null,null,null,"Resultado líquido do período "]
[null,null,null,"Interesses minoritários"]
[null,null,null,"Total do capital próprio",null,null,null,null,null,null,null,null,null,null,null,null,{"$f":"+Q48+Q49+Q50+Q51+Q52+Q53+Q54+Q55+Q56+Q57+Q58+Q59+Q60","v":0},0,0,0,0,0,0,0,0,0,0,0]
[]
[null,null,null,"Passivo"]
[null,null,null,"Passivo não corrente"]
[null,null,null,"Provisões"]
[null,null,null,"Financiamentos obtidos"]
[null,null,null,"Responsabilidades por belefícios pós-emprego"]
[null,null,null,"Passivos por impostos diferidos"]
[null,null,null,"Outras contas a pagar"]
[null,null,null,null,null,null,null,null,null,null,null,null,null,null,null,null,{"$f":"++Q65+Q66+Q67+Q68+Q69","v":0},{"$f":"++R65+R66+R67+R68+R69","v":0},{"$f":"+S63+S64+S65+S66+S67+S68+S69","v":0},0,0,0,0,0,0,0,0,0]
[null,null,null,"Passivo corrente"]
[null,null,null,"Fornecedores"]
[null,null,null,"Adiantamento de clientes"]
[null,null,null,"Estado e outros entes públicos"]
[null,null,null,"Accionistas/ sócios"]
[null,null,null,"Financiamentos obtidos"]
[null,null,null,"Outras contas a pagar"]
[null,null,null,"Diferimentos"]
[null,null,null,"Passivos financeiros detidos para negociação"]
[null,null,null,"Outros passivos financeiros"]
[null,null,null,"Passivos não correntes detidos para venda"]
[null,null,null,null,null,null,null,null,null,null,null,null,null,null,null,null,{"$f":"+Q72+Q73+Q74+Q75+Q76+Q77+Q78+Q79+Q80+Q81","v":0},{"$f":"+R72+R73+R74+R75+R76+R77+R78+R79+R80+R81","v":0},{"$f":"+S72+S73+S74+S75+S76+S77+S78+S79+S80+S81","v":0},0,{"$f":"+U72+U73+U74+U75+U76+U77+U78+U79+U80+U81","v":0},0,0,0,0,0,0,0]
[null,null,null,"Total do passivo",null,null,null,null,null,null,null,null,null,null,null,null,{"$f":"+Q70+Q82","v":0},{"$f":"+R70+R82","v":0},0,0,{"$f":"+U70+U82","v":0},0,0,0,0,0,0,0]
[null,null,null,"Total do capital próprio e do passivo",null,null,null,null,null,null,null,null,null,null,null,null,{"$f":"+Q61+Q83","v":0},{"$f":"+R61+R83","v":0},0,0,{"$f":"+U61+U83","v":0},0,0,0,0,0,0,0]

{"sheet":"D. Result da empresa","index":8,"n_rows":55,"n_cols":28,"rows_kept":55,"cut":false,"hidden":false,"merged":[[52,3,52,13],[52,14,52,15],[53,3,53,13],[53,14,53,15],[54,3,54,13],[54,14,54,15],[50,3,50,13],[50,14,50,15],[47,3,47,13],[47,14,47,15],[48,3,48,13],[48,14,48,15],[42,3,42,13],[44,3,44,13],[44,14,44,15],[46,3,46,13],[46,14,46,15],[39,3,39,13],[40,3,40,13],[41,3,41,13],[36,3,36,13],[37,3,37,13],[38,3,38,13],[33,3,33,13],[34,3,34,13],[35,3,35,13],[30,3,30,13],[31,3,31,13],[32,3,32,13],[27,3,27,13],[28,3,28,13],[29,3,29,13],[24,3,24,13],[25,3,25,13],[26,3,26,13],[3,2,3,28],[20,3,20,13],[23,3,23,13],[17,3,17,13],[18,3,18,13],[19,3,19,13],[6,2,6,5],[12,2,12,28],[16,17,16,27],[14,17,14,28],[10,2,10,28],[14,2,14,7],[14,8,14,10]]}
[]
[null,null,"BENEFICIÁRIO:"]
[]
[null,null,{"$f":"+Capa!C9","v":0}]
[]
[null,null,"NIF:"]
[null,null,{"$f":"+Capa!C12","v":0}]
[]
[null,null,"SISTEMA DE INCENTIVOS:"]
[]
[null,null,{"$f":"+Capa!C16","v":"+ DIGITAL"}]
[]
[null,null,"DEMONSTRAÇÃO DE RESULTADOS DA EMPRESA PÓS PROJECTO"]
[]
[null,null,"data candidatura"]
[null,null,null,null,null,null,null,null,{"$f":"+'Balanço da empresa'!I15:K15","v":"00:00:00"}]
[null,null,null,null,null,null,null,null,null,null,null,null,null,null,null,null,"PRÉ-PROJETO","EMPRESA PÓS PROJETO"]
[null,null,null,null,null,null,null,null,null,null,null,null,null,null,"Notas",null,{"$f":"+IF(YEAR($I$15)=\"\",\"\",YEAR($I$15)-1)","v":1899},{"$f":"IF(YEAR($I$15)=\"\",\"\",YEAR($I$15))","v":1900},{"$f":"IF(YEAR($I$15)=\"\",\"\",YEAR($I$15)+1)","v":1901},{"$f":"IF(YEAR($I$15)=\"\",\"\",YEAR($I$15)+2)","v":1902},{"$f":"+'Balanço da empresa'!U18","v":1903},{"$f":"+'Balanço da empresa'!V18","v":1904},{"$f":"IF(YEAR($I$16)=\"\",\"\",YEAR($I$16)+4)","v":1904},{"$f":"IF(YEAR($I$16)=\"\",\"\",YEAR($I$16)+5)","v":1905},{"$f":"IF(YEAR($I$16)=\"\",\"\",YEAR($I$16)+6)","v":1906},{"$f":"IF(YEAR($I$16)=\"\",\"\",YEAR($I$16)+7)","v":1907},{"$f":"IF(YEAR($I$16)=\"\",\"\",YEAR($I$16)+8)","v":1908},{"$f":"IF(YEAR($I$16)=\"\",\"\",YEAR($I$16)+9)","v":1909}]
[null,null,null,"RENDIMENTOS E GASTOS"]
[null,null,null,"Vendas e serviços prestados",null,null,null,null,null,null,null,null,null,null,null,"+"]
[null,null,null,"Subsídios à exploração",null,null,null,null,null,null,null,null,null,null,null,"+"]
[null,null,null,"Ganhos/perdas imputados de subsidiárias, associadas e empreendimentos conjuntos",null,null,null,null,null,null,null,null,null,null,null,"+/-"]
[null,null,null,"Variação nos inventários da produção",null,null,null,null,null,null,null,null,null,null,null,"+/-"]
[null,null,null,"Trabalhos para a própria entidade",null,null,null,null,null,null,null,null,null,null,null,"+"]
[null,null,null,"Custo das mercadorias vendidas e das matérias consumidas",null,null,null,null,null,null,null,null,null,null,null,"-"]
[null,null,null,"Fornecimentos e serviços externos",null,null,null,null,null,null,null,null,null,null,null,"-"]
[null,null,null,"Gastos com o pessoal",null,null,null,null,null,null,null,null,null,null,null,"-"]
[null,null,null,"Imparidade de inventários (perdas/ reversões)",null,null,null,null,null,null,null,null,null,null,null,"-/+"]
[null,null,null,"Imparidade de dívidas a receber (perdas/ reversões)",null,null,null,null,null,null,null,null,null,null,null,"-/+"]
[null,null,null,"Provisões (perdas/ reduções)",null,null,null,null,null,null,null,null,null,null,null,"-/+"]
[null,null,null,"Imparidade de investimentos não depreciáveis/ amortizações (perdas/ reversões)",null,null,null,null,null,null,null,null,null,null,null,"-/+"]
[null,null,null,"Aumentos/reduções de justo valor",null,null,null,null,null,null,null,null,null,null,null,"+/-"]
[null,null,null,"Outros rendimentos e ganhos",null,null,null,null,null,null,null,null,null,null,null,"+"]
[null,null,null,"Outros gastos e perdas",null,null,null,null,null,null,null,null,null,null,null,"-"]
[null,null,null,"Resultados antes de depreciações, gastos de financiamento e impostos",null,null,null,null,null,null,null,null,null,null,null,"=",{"$f":"SUM(Q20:Q34)","v":0},{"$f":"SUM(R20:R34)","v":0},{"$f":"SUM(S20:S34)","v":0},0,null,0,{"$f":"SUM(W19:W34)","v":0},0,0,0,0,0]
[null,null,null,"Gastos/ reversões de depreciação e de amortização",null,null,null,null,null,null,null,null,null,null,null,"-/+"]
[null,null,null,"Imparidade de investimentos depreciáveis/ amorizáveis (perdas/ reversões)",null,null,null,null,null,null,null,null,null,null,null,"-/+"]
[null,null,null,"Resultado operacional (antes de gastos de financiamento e impostos)",null,null,null,null,null,null,null,null,null,null,null,"=",{"$f":"+Q35+Q36+Q37","v":0},0,0,0,null,0,0,0,0,0,0,0]
[null,null,null,"Juros e rendimentos similares obtidos",null,null,null,null,null,null,null,null,null,null,null,"+"]
[null,null,null,"Juros e gastos similares suportados",null,null,null,null,null,null,null,null,null,null,null,"-"]
[null,null,null,"Resultado antes de impostos",null,null,null,null,null,null,null,null,null,null,null,"=",{"$f":"+Q38+Q39+Q40","v":0},0,0,0,null,0,0,0,0,0,0,0]
[null,null,null,"Imposto sobre o rendimento do período",null,null,null,null,null,null,null,null,null,null,null,"-/+"]
[null,null,null,"Resultado líquido do período",null,null,null,null,null,null,null,null,null,null,null,"=",{"$f":"+Q41+Q42","v":0},0,0,0,null,0,0,0,0,0,0,0]
[]
[null,null,null,"Resultado das atividades descontinuadas (líquido de impostos) incluido no resultado líquido do período"]
[]
[null,null,null,"Resultado líquido do período atribuível a: (2)"]
[null,null,null,"Detentores do capital da empresa-mãe"]
[null,null,null,"Interesses minoritários"]
[null,null,null,null,null,null,null,null,null,null,null,null,null,null,null,"=",{"$f":"+Q48+Q49","v":0},0,0,0,null,0,0,0,0,0,0,0]
[null,null,null,"Resultado por ação básico"]
[]
[null,null,null,"Outros Dados"]
[null,null,null,"Gastos de Amortização"]
[null,null,null,"Volume de Negócios Internacional "]

{"sheet":"Metas","index":9,"n_rows":86,"n_cols":29,"rows_kept":86,"cut":false,"hidden":false,"merged":[[75,2,75,23],[77,2,77,23],[3,2,3,24],[9,4,9,11],[9,12,9,14],[9,15,9,17],[9,18,9,20],[10,4,10,11],[23,8,23,18],[23,19,23,20],[26,4,26,11],[26,12,26,14],[26,15,26,17],[26,18,26,20],[25,4,25,6],[25,8,25,18],[11,4,11,11],[11,12,11,14],[11,15,11,17],[11,18,11,20],[12,4,12,11],[12,12,12,20],[10,12,10,14],[10,15,10,17],[10,18,10,20],[13,18,13,20],[23,4,23,6],[18,4,18,11],[18,12,18,14],[18,15,18,17],[18,18,18,20],[13,4,13,11],[13,12,13,14],[13,15,13,17],[17,18,17,20],[17,15,17,17],[17,12,17,14],[17,4,17,11],[20,4,20,20],[19,4,19,20],[27,4,27,11],[27,12,27,14],[27,15,27,17],[27,18,27,20],[21,19,21,20],[22,19,22,20],[25,19,25,20]]}
[]
[]
[]
[null,null,"Metas"]
[]
[]
[]
[]
[]
[]
[null,null,null,null,null,null,null,null,null,null,null,null,null,null,null,null,null,null,null,null,null,{"$f":"IF(P11=S11,0,IF(P11>S11,-1,2))","v":0}]
[null,null,null,null,null,null,null,null,null,null,null,null,null,null,null,null,null,null,null,null,null,{"$f":"IF(P12=S12,0,IF(P12>S12,-1,2))","v":0}]
[null,null,null,null,null,null,null,null,null,null,null,null,null,null,null,null,null,null,null,null,null,{"$f":"IF(M13=0,0,IF(M13<0,-1,2))","v":0}]
[]
[]
[]
[]
[]
[]
[null,null,null,null,"Metas do projeto"]
[null,null,null,null,"Prosseguindo uma orientação para os resultados, os projetos a financiar neste sistema de incentivos devem contribuir para os objetivos da Medida de Investimento TD-C16-i06-RAM: Empresas 4.0, assim como, para as seguintes metas:"]
[]
[null,null,null,null,null,null,null,null,null,null,null,null,null,null,null,null,null,null,null,"n.º"]
[null,null,null,null,"TD-C16-i06-RAM",null,null,null,"Número de PME diretamente apoiadas nos modelos de digitalização"]
[]
[null,null,null,null,"TD-C16-i06-RAM",null,null,null,"Número de processos internos desmaterializados"]
[]
[]
[null,null,null,null,"Exemplos de processos internos:"]
[null,null,null,null,"·         digitalização de documentos;"]
[null,null,null,null,"·         organização de processo;"]
[null,null,null,null,"·         consultas eletrónicas;"]
[null,null,null,null,"·         incorporação de TIC na gestão de rede;"]
[null,null,null,null,"·         simplificação de processo produtivo;"]
[null,null,null,null,"·         gestão documental;"]
[null,null,null,null,"·         ferramentas colaborativas;"]
[null,null,null,null,"·         gestão de conteúdos;"]
[null,null,null,null,"·         entre outros."]
[]
[]
[]
[]
[]
[]
[]
[]
[]
[]
[]
[]
[]
[]
[]
[]
[]
[]
[]
[]
[]
[]
[]
[]
[]
[]
[]
[]
[]
[]
[]
[]
[]
[]
[]
[]
[]
[]
[]
[]
[]
[]
[]
[]
[]
[]
[]
[null,null,null,null,null,null,null,null,null,null,null,null,null,null,null,null,null,null,null,null,null,null,null,null,null,null,null,null,{"$f":"+Metas!S380","v":0}]

{"sheet":"Folha2","index":10,"n_rows":8,"n_cols":3,"rows_kept":8,"cut":false,"hidden":true,"merged":[]}
[]
[]
[null,null,"Sistemas de Incentivos"]
[null,null,"----- Escolha -----"]
[null,null,"INOVAR 2020"]
[null,null,"EMPREENDER 2020"]
[null,null,"INTERNACIONALIZAR 2020"]
[null,null,"PROCiência 2020"]